{"text_format":"1","workbook":"xlsx","n_sheets":13,"sheets":["設定","1月","2月","3月","4月","5月","6月","7月","8月","9月","10月","11月","12月"],"not_rendered":{"charts":12,"images":0,"macros":1,"external_links":0,"defined_names":19,"comments":0,"pivot_tables":0},"unopened":[],"bounds":{"document_bytes":16777216,"sheet_cells":100000,"rows_first":2000,"rows_last":500,"rows_between":2000,"halvings":0,"cell_chars":16384,"cell_head_chars":4096},"cells_cut":0,"cells_raw":0,"read":"whole","date_system":"1900"}

{"sheet":"設定","index":0,"n_rows":133,"n_cols":24,"rows_kept":133,"cut":false,"hidden":false,"merged":[[33,14,33,17],[46,14,46,17],[47,14,47,17],[48,14,48,17],[49,14,49,17],[37,14,37,17],[34,14,34,17],[35,14,35,17],[36,14,36,17],[43,14,43,17],[41,14,41,17],[42,14,42,17],[40,14,40,17],[0,5,0,8],[9,20,9,23],[45,14,45,17],[0,21,0,24],[39,14,39,17],[44,14,44,17],[38,14,38,17],[10,14,10,17],[32,14,32,17],[38,10,38,11],[39,10,39,11],[42,4,42,5],[41,4,41,5],[36,4,36,5],[35,4,35,5],[38,4,38,5],[37,4,37,5],[33,4,33,5],[34,4,34,5],[44,4,44,5],[43,4,43,5],[22,10,22,11],[23,10,23,11],[24,10,24,11],[48,10,48,11],[49,10,49,11],[12,14,12,17],[11,14,11,17],[44,10,44,11],[45,10,45,11],[46,10,46,11],[47,10,47,11],[40,10,40,11],[41,10,41,11],[20,14,20,17],[29,14,29,17],[30,14,30,17],[21,14,21,17],[23,14,23,17],[25,14,25,17],[26,14,26,17],[24,14,24,17],[18,10,18,11],[19,10,19,11],[27,14,27,17],[28,14,28,17],[20,10,20,11],[21,10,21,11],[20,8,20,9],[46,4,46,5],[45,4,45,5],[40,4,40,5],[39,4,39,5],[10,10,10,11],[11,10,11,11],[12,10,12,11],[13,10,13,11],[14,10,14,11],[15,10,15,11],[16,10,16,11],[17,10,17,11],[26,10,26,11],[27,10,27,11],[28,10,28,11],[33,10,33,11],[32,10,32,11],[31,10,31,11],[30,10,30,11],[29,10,29,11],[42,10,42,11],[43,10,43,11],[36,10,36,11],[9,14,9,17],[13,14,13,17],[14,14,14,17],[15,14,15,17],[16,14,16,17],[17,14,17,17],[18,14,18,17],[19,14,19,17],[10,8,10,9],[11,8,11,9],[12,8,12,9],[13,8,13,9],[16,8,19,9],[14,8,14,9],[15,8,15,9],[42,8,42,9],[25,10,25,11],[36,8,36,9],[31,8,31,9],[32,8,32,9],[39,8,39,9],[40,8,40,9],[37,8,37,9],[38,8,38,9],[37,10,37,11],[49,2,49,3],[49,4,49,5],[47,2,47,3],[48,2,48,3],[45,2,45,3],[46,2,46,3],[48,4,48,5],[47,4,47,5],[22,8,22,9],[23,8,23,9],[44,2,44,3],[41,2,41,3],[42,2,42,3],[39,2,39,3],[40,2,40,3],[43,2,43,3],[49,8,49,9],[47,8,47,9],[48,8,48,9],[45,8,45,9],[46,8,46,9],[43,8,43,9],[44,8,44,9],[41,8,41,9],[21,8,21,9],[29,8,29,9],[30,8,30,9],[24,8,24,9],[25,8,28,9],[33,8,33,9],[37,2,37,3],[38,2,38,3],[35,2,35,3],[36,2,36,3],[24,4,24,5],[23,4,23,5],[26,4,26,5],[29,2,29,3],[30,2,30,3],[27,2,27,3],[28,2,28,3],[33,2,33,3],[34,2,34,3],[31,2,31,3],[32,2,32,3],[25,4,25,5],[10,2,14,5],[18,2,18,5],[17,2,17,5],[16,2,16,5],[15,2,15,5],[6,5,6,7],[9,2,9,5],[20,2,20,5],[35,8,35,11],[9,8,9,11],[28,4,28,5],[27,4,27,5],[30,4,30,5],[29,4,29,5],[32,4,32,5],[31,4,31,5],[21,4,21,5],[22,2,22,3],[22,4,22,5],[21,2,21,3],[25,2,25,3],[26,2,26,3],[23,2,23,3],[24,2,24,3]]}
[null,"伊都の丘病院",null,null,null,{"$f":"$F$7","v":2016},null,null,null,null,null,"入力項目の設定",null,null,null,null,null,null,null,null,"更新","2015-02-13T20:02:42"]
[]
[null,"年始に備えて新しい体温表を配置する前に、以下の □ にあてはまる項目を設定しておいて下さい。(変更があれば)"]
[null,"新しい主治医を編集する際なども、こちらで編集してください。設定した項目は、当体温表の1月から12月に設定されます。"]
[]
[]
[null,"①","この体温表は",null,null,2016,null,null,"　  年分です。",null,null,null,null,"②","9：00～10:59は開いてすぐ入力ポイントへ移動",null,null,null,null,null,null,null,null,"YES"]
[]
[]
[null,"③","備考欄",null,null,null,null,"⑤","食事箋",null,null,null,null,"⑦","主治医"]
[]
[null,null,null,null,null,null,null,null,"常食",null,"常食",null,null,null,"Dr船津"]
[null,null,null,null,null,null,null,null,"心臓",null,"心臓",null,null,null,"Dr高木"]
[null,null,null,null,null,null,null,null,"すい臓",null,"膵臓",null,null,null,"Dr橋本"]
[null,null,null,null,null,null,null,null,"じん臓",null,"腎臓",null,null,null,"Dr"]
[null,null,null,null,null,null,null,null,"高血圧",null,"高血"]
[null,null,null,null,null,null,null,null,"糖尿",1200,"糖1200"]
[null,null,null,null,null,null,null,null,null,1440,"糖1440"]
[null,null,null,null,null,null,null,null,null,1600,"糖1600"]
[null,null,null,null,null,null,null,null,null,1800,"糖1800"]
[null,"④","面会",null,null,null,null,null,"肝臓A",null,"肝Ａ"]
[null,null,null,null,null,null,null,null,"肝臓B",null,"肝Ｂ"]
[null,null,"両親",null,"両親",null,null,null,"潰瘍",null,"潰瘍"]
[null,null,"父",null,"父",null,null,null,"低残渣食",null,"低残",null,null,"⑧","入院形態"]
[null,null,"母",null,"母",null,null,null,"貧血",null,"貧血"]
[null,null,"主人",null,"夫",null,null,null,"脂質異常",1200,"脂1200",null,null,null,"任意"]
[null,null,"奥方",null,"妻",null,null,null,null,1440,"脂1440",null,null,null,"医保"]
[null,null,"息子",null,"息子",null,null,null,null,1600,"脂1600",null,null,null,"措置"]
[null,null,"娘",null,"娘",null,null,null,null,1800,"脂1800",null,null,null,"緊急措置"]
[null,null,"兄",null,"兄",null,null,null,"検査食",null,"検査",null,null,null,"応急"]
[null,null,"弟",null,"弟",null,null,null,"絶食",null,"絶食"]
[null,null,"姉",null,"姉"]
[null,null,"妹",null,"妹",null,null,null,null,null,null,null,null,"⑨","入退院等"]
[null,null,"孫",null,"孫"]
[null,null,"友人知人",null,"知人",null,null,null,null,null,null,null,null,null,"外出"]
[null,null,"子の夫",null,"子夫",null,null,"⑥","食事形態",null,null,null,null,null,"外泊"]
[null,null,"子の妻",null,"子妻",null,null,null,null,null,null,null,null,null,"帰院"]
[null,null,"祖母",null,"祖母",null,null,null,"普通食",null,"普通",null,null,null,"2転棟"]
[null,null,"祖父",null,"祖父",null,null,null,"普+一口大",null,"一口",null,null,null,"3転棟"]
[null,null,"従兄弟の父",null,"叔父",null,null,null,"普+キザミ",null,"普キ",null,null,null,"4転棟"]
[null,null,"従兄弟の母",null,"叔母",null,null,null,"軟飯",null,"軟飯",null,null,null,"入院"]
[null,null,"従兄弟",null,"ｲﾄｺ",null,null,null,"軟+キザミ",null,"軟キ",null,null,null,"退院"]
[null,null,"義理の母",null,"義母",null,null,null,"粥食",null,"粥",null,null,null,"仮退院"]
[null,null,"義理の父",null,"義父",null,null,null,"粥+キザミ",null,"粥キ",null,null,null,"無断退去"]
[null,null,"その他親類",null,"親類",null,null,null,"ミキサ－",null,"ミキ",null,null,null,"死亡"]
[null,null,"福祉職員",null,"福祉",null,null,null,"普通流動",null,"普流"]
[null,null,"施設職員",null,"施設",null,null,{"$f":"TODAY()","v":"2015-02-24"},"濃厚流動",null,"濃流"]
[]
[]
[]
[]
[]
[]
[]
[]
[]
[]
[]
[]
[]
[]
[]
[]
[]
[]
[]
[]
[]
[]
[]
[]
[]
[]
[]
[]
[]
[]
[]
[]
[]
[]
[]
[]
[]
[]
[]
[]
[]
[]
[]
[]
[]
[]
[]
[]
[]
[]
[]
[]
[]
[]
[]
[]
[]
[]
[]
[]
[]
[]
[]
[]
[]
[]
[]
[]
[]
[]
[]
[]
[]
[]
[]
[]
[]
[]
[]
[]
[]
[]
[]
[]
[]
[null,null,null,null,null,null,null,{"$f":"MONTH(V1)","v":2}]

{"sheet":"1月","index":1,"n_rows":161,"n_cols":45,"rows_kept":161,"cut":false,"hidden":false,"merged":[[5,44,5,45],[6,44,6,45],[1,32,1,34],[108,28,108,29],[42,44,42,45],[43,44,43,45],[44,44,44,45],[42,42,42,43],[43,42,43,43],[38,44,38,45],[35,42,35,43],[36,42,36,43],[37,42,37,43],[38,42,38,43],[2,32,3,34],[3,25,3,30],[26,44,26,45],[9,44,9,45],[10,44,10,45],[11,44,11,45],[27,44,27,45],[28,44,28,45],[31,42,31,43],[31,44,31,45],[28,42,28,43],[27,42,27,43],[36,44,36,45],[37,44,37,45],[7,44,7,45],[8,44,8,45],[14,44,14,45],[24,44,24,45],[25,44,25,45],[32,44,32,45],[33,44,33,45],[34,44,34,45],[35,44,35,45],[12,44,12,45],[16,44,16,45],[17,44,17,45],[18,44,18,45],[22,44,22,45],[23,44,23,45],[15,44,15,45],[19,44,19,45],[20,44,20,45],[21,44,21,45],[13,44,13,45],[39,44,39,45],[40,44,40,45],[41,44,41,45],[40,37,40,38],[39,42,39,43],[40,42,40,43],[41,42,41,43],[39,39,39,40],[40,39,40,40],[39,37,39,38],[25,42,25,43],[26,42,26,43],[5,42,5,43],[6,42,6,43],[7,42,7,43],[8,42,8,43],[16,42,16,43],[17,42,17,43],[13,37,13,40],[10,37,10,40],[24,42,24,43],[20,42,23,43],[18,42,18,43],[19,42,19,43],[15,42,15,43],[9,42,9,43],[10,42,10,43],[26,39,26,40],[21,39,21,40],[22,39,22,40],[112,30,112,31],[112,22,112,23],[112,12,112,13],[111,12,111,13],[33,37,33,38],[34,37,34,38],[34,42,34,43],[44,37,44,38],[42,39,42,40],[43,39,43,40],[44,39,44,40],[43,37,43,38],[42,37,42,38],[44,42,44,43],[102,12,102,13],[102,22,102,23],[103,12,103,13],[109,17,109,18],[41,39,41,40],[37,39,37,40],[38,39,38,40],[33,39,33,40],[34,39,34,40],[41,37,41,38],[106,20,106,21],[106,22,106,23],[107,30,107,31],[107,25,107,26],[105,30,105,31],[109,20,109,21],[109,22,109,23],[109,25,109,26],[108,30,108,31],[105,28,105,29],[109,28,109,29],[109,30,109,31],[111,14,111,15],[106,14,106,15],[106,17,106,18],[105,17,105,18],[106,28,106,29],[106,30,106,31],[108,17,108,18],[108,20,108,21],[106,25,106,26],[107,20,107,21],[107,22,107,23],[107,28,107,29],[107,17,107,18],[108,14,108,15],[105,19,112,19],[109,14,109,15],[112,25,112,26],[112,28,112,29],[111,28,111,29],[111,30,111,31],[110,17,110,18],[110,20,110,21],[110,28,110,29],[110,30,110,31],[100,38,100,39],[130,0,132,0],[130,2,130,4],[130,7,130,8],[105,11,112,11],[105,12,105,13],[107,12,107,13],[108,12,108,13],[110,12,110,13],[109,12,109,13],[106,12,106,13],[129,10,129,12],[131,10,131,11],[131,13,131,14],[129,2,129,4],[132,10,132,11],[132,13,132,14],[107,14,107,15],[105,14,105,15],[130,13,130,14],[129,6,129,8],[110,14,110,15],[112,14,112,15],[112,17,112,18],[111,17,111,18],[111,20,111,21],[111,22,111,23],[111,25,111,26],[105,27,112,27],[103,41,103,42],[104,41,104,42],[102,41,102,42],[109,33,109,34],[110,33,110,34],[104,28,104,29],[110,22,110,23],[110,25,110,26],[103,38,103,39],[102,25,102,26],[102,28,102,29],[102,30,102,31],[104,38,104,39],[112,20,112,21],[108,22,108,23],[108,25,108,26],[105,20,105,21],[105,22,105,23],[105,25,105,26],[100,41,100,42],[97,19,104,19],[97,20,97,21],[97,22,97,23],[97,25,97,26],[98,20,98,21],[98,22,98,23],[98,25,98,26],[99,20,99,21],[99,22,99,23],[97,41,97,42],[98,38,98,39],[98,41,98,42],[104,20,104,21],[104,22,104,23],[104,25,104,26],[103,25,103,26],[104,30,104,31],[97,35,104,35],[99,28,99,29],[98,30,98,31],[99,25,99,26],[99,38,99,39],[101,28,101,29],[100,14,100,15],[100,17,100,18],[97,38,97,39],[103,22,103,23],[102,38,102,39],[103,20,103,21],[102,20,102,21],[103,28,103,29],[103,30,103,31],[100,30,100,31],[97,27,104,27],[97,28,97,29],[97,30,97,31],[101,22,101,23],[101,25,101,26],[101,38,101,39],[100,20,100,21],[100,22,100,23],[100,25,100,26],[101,20,101,21],[98,36,98,37],[102,17,102,18],[101,30,101,31],[99,30,99,31],[95,14,95,15],[95,17,95,18],[101,41,101,42],[98,28,98,29],[97,11,104,11],[97,12,97,13],[97,14,97,15],[97,17,97,18],[98,12,98,13],[98,14,98,15],[98,17,98,18],[99,14,99,15],[99,17,99,18],[104,12,104,13],[101,12,101,13],[101,14,101,15],[101,17,101,18],[104,14,104,15],[104,17,104,18],[103,14,103,15],[103,17,103,18],[102,14,102,15],[99,41,99,42],[100,12,100,13],[99,12,99,13],[100,28,100,29],[90,41,90,42],[92,28,92,29],[92,30,92,31],[96,28,96,29],[96,30,96,31],[96,38,96,39],[96,41,96,42],[89,27,96,27],[89,28,89,29],[93,38,93,39],[93,41,93,42],[94,12,94,13],[94,14,94,15],[94,17,94,18],[94,20,94,21],[94,22,94,23],[94,25,94,26],[93,12,93,13],[94,41,94,42],[95,12,95,13],[89,20,89,21],[90,22,90,23],[90,25,90,26],[91,20,91,21],[91,22,91,23],[95,20,95,21],[95,22,95,23],[95,28,95,29],[95,30,95,31],[94,30,94,31],[91,30,91,31],[93,28,93,29],[93,30,93,31],[94,28,94,29],[92,38,92,39],[92,41,92,42],[89,35,96,35],[89,38,89,39],[89,41,89,42],[90,38,90,39],[90,36,90,37],[90,28,90,29],[90,30,90,31],[91,38,91,39],[91,41,91,42],[95,38,95,39],[94,38,94,39],[95,41,95,42],[96,14,96,15],[96,17,96,18],[96,20,96,21],[96,22,96,23],[96,25,96,26],[95,25,95,26],[96,12,96,13],[86,41,86,42],[87,12,87,13],[87,14,87,15],[87,17,87,18],[87,20,87,21],[87,22,87,23],[87,25,87,26],[87,38,87,39],[87,41,87,42],[86,12,86,13],[86,14,86,15],[86,17,86,18],[86,20,86,21],[86,22,86,23],[86,25,86,26],[89,30,89,31],[91,28,91,29],[89,12,89,13],[89,14,89,15],[89,17,89,18],[90,12,90,13],[90,14,90,15],[89,22,89,23],[89,25,89,26],[90,20,90,21],[93,14,93,15],[93,17,93,18],[93,20,93,21],[93,22,93,23],[93,25,93,26],[91,25,91,26],[92,12,92,13],[92,14,92,15],[92,17,92,18],[92,20,92,21],[92,22,92,23],[92,25,92,26],[91,12,91,13],[91,14,91,15],[91,17,91,18],[89,19,96,19],[88,41,88,42],[90,17,90,18],[83,28,83,29],[83,30,83,31],[83,41,83,42],[84,12,84,13],[84,14,84,15],[84,17,84,18],[84,20,84,21],[84,41,84,42],[85,12,85,13],[85,14,85,15],[85,17,85,18],[85,20,85,21],[85,22,85,23],[85,25,85,26],[85,28,85,29],[85,30,85,31],[84,38,84,39],[85,38,85,39],[85,41,85,42],[81,27,88,27],[84,22,84,23],[84,25,84,26],[81,28,81,29],[81,30,81,31],[86,30,86,31],[87,28,87,29],[87,30,87,31],[88,28,88,29],[88,30,88,31],[81,38,81,39],[82,38,82,39],[83,38,83,39],[84,28,84,29],[84,30,84,31],[86,28,86,29],[86,38,86,39],[88,38,88,39],[82,36,82,37],[85,33,85,34],[86,33,86,34],[87,33,87,34],[88,33,88,34],[81,41,81,42],[82,12,82,13],[82,14,82,15],[82,17,82,18],[82,20,82,21],[82,22,82,23],[82,25,82,26],[82,28,82,29],[82,30,82,31],[81,35,88,35],[82,41,82,42],[83,12,83,13],[83,14,83,15],[83,17,83,18],[83,20,83,21],[83,22,83,23],[83,25,83,26],[81,12,81,13],[81,14,81,15],[81,17,81,18],[81,19,88,19],[81,20,81,21],[81,22,81,23],[81,25,81,26],[88,12,88,13],[88,14,88,15],[88,17,88,18],[88,20,88,21],[88,22,88,23],[88,25,88,26],[78,22,78,23],[79,3,79,4],[77,3,77,4],[77,25,77,26],[78,12,78,13],[78,14,78,15],[78,17,78,18],[78,20,78,21],[73,19,80,19],[73,20,73,21],[73,22,73,23],[76,14,76,15],[80,12,80,13],[80,14,80,15],[80,17,80,18],[80,20,80,21],[80,22,80,23],[79,22,79,23],[80,38,80,39],[80,41,80,42],[75,41,75,42],[73,28,73,29],[76,41,76,42],[73,38,73,39],[74,38,74,39],[73,41,73,42],[74,28,74,29],[74,41,74,42],[73,35,80,35],[76,30,76,31],[77,28,77,29],[77,30,77,31],[77,33,77,34],[78,33,78,34],[79,33,79,34],[80,33,80,34],[78,38,78,39],[78,25,78,26],[78,6,78,7],[78,41,78,42],[73,27,80,27],[78,28,78,29],[79,38,79,39],[77,38,77,39],[77,41,77,42],[79,25,79,26],[79,28,79,29],[77,22,77,23],[79,30,79,31],[73,25,73,26],[78,30,78,31],[73,30,73,31],[74,30,74,31],[79,41,79,42],[80,25,80,26],[76,38,76,39],[73,6,73,7],[75,30,75,31],[80,28,80,29],[80,30,80,31],[76,22,76,23],[76,25,76,26],[76,28,76,29],[75,38,75,39],[75,6,75,7],[75,12,75,13],[75,14,75,15],[75,17,75,18],[75,20,75,21],[75,22,75,23],[75,28,75,29],[75,25,75,26],[76,20,76,21],[76,6,76,7],[79,17,79,18],[77,6,77,7],[77,12,77,13],[77,14,77,15],[73,11,80,11],[73,12,73,13],[73,14,73,15],[76,12,76,13],[76,17,76,18],[73,17,73,18],[65,41,65,42],[68,41,68,42],[72,6,72,7],[72,12,72,13],[72,14,72,15],[66,6,66,7],[66,12,66,13],[67,6,67,7],[67,12,67,13],[67,17,67,18],[68,6,68,7],[68,12,68,13],[68,14,68,15],[68,17,68,18],[65,11,72,11],[69,6,69,7],[69,12,69,13],[69,14,69,15],[69,17,69,18],[69,20,69,21],[66,20,66,21],[65,12,65,13],[71,12,71,13],[71,14,71,15],[67,41,67,42],[65,38,65,39],[66,38,66,39],[65,35,72,35],[69,25,69,26],[70,25,70,26],[71,25,71,26],[65,30,65,31],[72,22,72,23],[72,25,72,26],[65,22,65,23],[70,28,70,29],[66,41,66,42],[67,38,67,39],[72,38,72,39],[69,41,69,42],[71,38,71,39],[71,41,71,42],[72,30,72,31],[70,41,70,42],[70,38,70,39],[68,38,68,39],[72,41,72,42],[71,30,71,31],[57,38,57,39],[62,41,62,42],[64,41,64,42],[60,41,60,42],[64,25,64,26],[64,30,64,31],[64,38,64,39],[64,28,64,29],[61,41,61,42],[60,25,60,26],[57,41,57,42],[59,41,59,42],[59,38,59,39],[58,41,58,42],[60,38,60,39],[58,38,58,39],[57,30,57,31],[58,30,58,31],[59,30,59,31],[60,30,60,31],[59,25,59,26],[63,41,63,42],[63,38,63,39],[63,28,63,29],[69,38,69,39],[69,22,69,23],[57,12,57,13],[62,17,62,18],[60,12,60,13],[60,14,60,15],[63,17,63,18],[62,38,62,39],[58,25,58,26],[57,25,57,26],[57,27,64,27],[57,28,57,29],[61,28,61,29],[61,25,61,26],[62,25,62,26],[63,25,63,26],[62,28,62,29],[60,28,60,29],[63,30,63,31],[61,38,61,39],[67,25,67,26],[64,20,64,21],[58,28,58,29],[59,28,59,29],[56,12,56,13],[56,14,56,15],[56,17,56,18],[59,22,59,23],[58,12,58,13],[58,14,58,15],[57,19,64,19],[57,20,57,21],[59,12,59,13],[57,22,57,23],[60,17,60,18],[60,20,60,21],[64,14,64,15],[60,22,60,23],[61,12,61,13],[61,14,61,15],[62,12,62,13],[58,17,58,18],[58,20,58,21],[58,22,58,23],[57,14,57,15],[57,17,57,18],[61,22,61,23],[63,20,63,21],[54,6,54,7],[54,12,54,13],[54,14,54,15],[49,11,56,11],[53,6,53,7],[53,12,53,13],[49,12,49,13],[54,20,54,21],[54,22,54,23],[52,22,52,23],[52,6,52,7],[52,12,52,13],[52,14,52,15],[56,20,56,21],[50,20,50,21],[55,6,55,7],[55,12,55,13],[49,14,49,15],[49,17,49,18],[49,19,56,19],[54,17,54,18],[51,17,51,18],[52,17,52,18],[52,20,52,21],[51,12,51,13],[51,14,51,15],[51,20,51,21],[51,22,51,23],[50,38,50,39],[51,3,51,4],[51,6,51,7],[49,22,49,23],[51,28,51,29],[50,28,50,29],[50,25,50,26],[49,3,49,4],[49,6,49,7],[49,20,49,21],[51,30,51,31],[50,3,50,4],[50,6,50,7],[50,12,50,13],[50,14,50,15],[50,17,50,18],[50,22,50,23],[0,1,0,2],[0,5,0,6],[1,4,1,6],[1,1,1,3],[28,1,30,2],[24,1,26,2],[42,1,42,2],[47,1,47,9],[47,11,47,18],[47,19,47,26],[19,1,19,2],[20,1,20,2],[21,1,22,2],[23,1,23,2],[39,1,39,2],[43,1,43,2],[44,1,44,2],[46,1,46,5],[0,12,0,26],[1,13,1,14],[2,15,3,20],[1,15,1,19],[1,25,1,31],[2,25,2,30],[40,1,40,2],[41,1,41,2],[48,12,48,13],[46,6,46,7],[48,22,48,23],[48,14,48,15],[48,17,48,18],[48,20,48,21],[48,6,48,7],[31,1,34,2],[35,1,35,2],[36,1,36,2],[37,1,37,2],[38,1,38,2],[48,3,48,4],[27,37,27,38],[19,37,19,38],[27,39,27,40],[22,37,22,38],[23,37,23,38],[24,37,24,38],[25,37,25,38],[26,37,26,38],[19,39,19,40],[20,37,20,38],[21,37,21,38],[28,37,28,38],[29,37,29,38],[30,37,30,38],[29,39,29,40],[30,39,30,40],[35,39,35,40],[36,39,36,40],[36,37,36,38],[37,37,37,38],[32,39,32,40],[1,7,1,9],[1,10,1,12],[16,1,16,2],[11,37,11,40],[12,37,12,40],[17,1,17,2],[2,1,3,3],[2,10,3,12],[18,1,18,2],[1,23,1,24],[2,23,3,24],[4,37,4,40],[5,37,9,40],[16,39,16,40],[17,39,17,40],[18,39,18,40],[56,41,56,42],[55,38,55,39],[55,41,55,42],[54,28,54,29],[52,41,52,42],[49,41,49,42],[53,41,53,42],[54,25,54,26],[56,28,56,29],[56,30,56,31],[49,30,49,31],[50,30,50,31],[56,38,56,39],[54,41,54,42],[52,25,52,26],[51,25,51,26],[49,25,49,26],[51,38,51,39],[52,38,52,39],[52,28,52,29],[50,41,50,42],[49,38,49,39],[51,41,51,42],[55,28,55,29],[4,42,4,45],[15,37,15,40],[30,42,30,45],[16,37,16,38],[17,37,17,38],[18,37,18,38],[48,41,48,42],[48,30,48,31],[48,25,48,26],[48,28,48,29],[48,38,48,39],[32,42,32,43],[38,37,38,38],[35,37,35,38],[31,39,31,40],[33,42,33,43],[31,37,31,38],[32,37,32,38],[28,39,28,40],[11,42,14,43],[23,39,23,40],[24,39,24,40],[25,39,25,40],[20,39,20,40],[53,17,53,18],[53,20,53,21],[53,22,53,23],[53,25,53,26],[56,25,56,26],[55,22,55,23],[55,25,55,26],[53,38,53,39],[55,14,55,15],[55,17,55,18],[55,20,55,21],[56,22,56,23],[53,28,53,29],[54,38,54,39],[54,30,54,31],[53,30,53,31],[49,27,56,27],[49,28,49,29],[52,30,52,31],[55,30,55,31],[50,36,50,37],[62,20,62,21],[62,22,62,23],[65,27,72,27],[65,28,65,29],[70,3,70,4],[69,3,69,4],[61,30,61,31],[62,14,62,15],[66,22,66,23],[64,22,64,23],[68,20,68,21],[65,17,65,18],[67,20,67,21],[70,12,70,13],[70,14,70,15],[70,17,70,18],[66,14,66,15],[70,20,70,21],[66,17,66,18],[67,14,67,15],[65,14,65,15],[65,19,72,19],[70,6,70,7],[71,3,71,4],[71,6,71,7],[65,3,65,4],[65,6,65,7],[63,6,63,7],[76,3,76,4],[89,11,96,11],[81,11,88,11],[74,3,74,4],[73,3,73,4],[72,3,72,4],[78,3,78,4],[75,3,75,4],[64,6,64,7],[74,6,74,7],[79,6,79,7],[64,12,64,13],[69,30,69,31],[68,22,68,23],[67,28,67,29],[71,17,71,18],[71,20,71,21],[63,22,63,23],[64,17,64,18],[66,28,66,29],[67,22,67,23],[68,30,68,31],[65,25,65,26],[71,22,71,23],[71,28,71,29],[70,22,70,23],[69,28,69,29],[66,25,66,26],[65,20,65,21],[133,10,133,11],[133,13,133,14],[134,13,134,14],[68,25,68,26],[68,28,68,29],[72,28,72,29],[70,30,70,31],[66,30,66,31],[67,30,67,31],[72,17,72,18],[72,20,72,21],[134,10,134,11],[130,10,130,11],[74,12,74,13],[74,14,74,15],[74,17,74,18],[74,20,74,21],[74,22,74,23],[74,25,74,26],[79,12,79,13],[79,14,79,15],[79,20,79,21],[77,17,77,18],[77,20,77,21],[147,10,147,11],[147,13,147,14],[139,10,139,11],[139,13,139,14],[61,17,61,18],[61,20,61,21],[58,3,58,4],[68,3,68,4],[67,3,67,4],[66,3,66,4],[64,3,64,4],[63,3,63,4],[62,3,62,4],[59,14,59,15],[59,17,59,18],[59,20,59,21],[137,10,137,11],[137,13,137,14],[138,10,138,11],[138,13,138,14],[135,10,135,11],[135,13,135,14],[136,10,136,11],[136,13,136,14],[63,33,63,34],[53,33,53,34],[54,33,54,34],[56,3,56,4],[55,3,55,4],[54,3,54,4],[53,3,53,4],[53,14,53,15],[52,3,52,4],[63,12,63,13],[63,14,63,15],[57,3,57,4],[60,3,60,4],[59,3,59,4],[56,6,56,7],[58,6,58,7],[59,6,59,7],[57,6,57,7],[57,11,64,11],[60,6,60,7],[61,6,61,7],[61,3,61,4],[62,6,62,7],[62,30,62,31],[66,36,66,37],[58,36,58,37],[55,33,55,34],[56,33,56,34],[111,33,111,34],[112,33,112,34],[101,33,101,34],[102,33,102,34],[103,33,103,34],[104,33,104,34],[93,33,93,34],[94,33,94,34],[95,33,95,34],[96,33,96,34],[49,35,56,35],[64,33,64,34],[57,35,64,35],[74,36,74,37],[69,33,69,34],[70,33,70,34],[71,33,71,34],[72,33,72,34],[61,33,61,34],[62,33,62,34]]}
[null,"体温表",null,null,null,{"$f":"設定!$F$7","v":2016},null,"年",null,1,"月",null,"       ★項目に改めてご記入ください。"]
[null,"★カルテ番号",null,null,"★病棟",null,null,"★入院形態",null,null,"★主治医",null,null,"　★姓名",null,null,null,null,null,null,null,null,null,"★性別",null,"★生年月日　",null,null,null,null,null,null,"★担当Ns"]
[null,null,null,null,null,null,null,null,null,null,null,null,null,null,null,null,null,null,null,null,null,null,null,null,null,null,null,null,null,null,null,{"$f":"DATEDIF(Z3,TODAY(),\"Y\")","v":115}]
[null,null,null,null,"/","/","/","/","/","/",null,null,null,null,null,null,null,null,null,null,null,null,null,null,null,{"$f":"Z3","v":"00:00:00"},null,null,null,null,null,"歳"]
[null,null,null,null,null,null,null,null,null,null,null,null,null,null,null,null,null,null,null,null,null,null,null,null,null,null,null,null,null,null,null,null,null,null,null,null,null,{"$f":"設定!C10","v":"備考欄"},null,null,null,null,{"$f":"設定!I10","v":"食事箋"}]
[null,null,null,null,null,null,null,null,null,null,null,null,null,null,null,null,null,null,null,null,null,null,null,null,null,null,null,null,null,null,null,null,null,null,null,null,null,{"$f":"設定!C11","v":0},null,null,null,null,{"$f":"設定!I11","v":0},null,{"$f":"設定!K11","v":0}]
[null,null,null,null,null,null,null,null,null,null,null,null,null,null,null,null,null,null,null,null,null,null,null,null,null,null,null,null,null,null,null,null,null,null,null,null,null,null,null,null,null,null,{"$f":"設定!I12","v":"常食"},null,{"$f":"設定!K12","v":"常食"}]
[null,null,null,null,null,null,null,null,null,null,null,null,null,null,null,null,null,null,null,null,null,null,null,null,null,null,null,null,null,null,null,null,null,null,null,null,null,null,null,null,null,null,{"$f":"設定!I13","v":"心臓"},null,{"$f":"設定!K13","v":"心臓"}]
[null,null,null,null,null,null,null,null,null,null,null,null,null,null,null,null,null,null,null,null,null,null,null,null,null,null,null,null,null,null,null,null,null,null,null,null,null,null,null,null,null,null,{"$f":"設定!I14","v":"すい臓"},null,{"$f":"設定!K14","v":"膵臓"}]
[null,null,null,null,null,null,null,null,null,null,null,null,null,null,null,null,null,null,null,null,null,null,null,null,null,null,null,null,null,null,null,null,null,null,null,null,null,null,null,null,null,null,{"$f":"設定!I15","v":"じん臓"},null,{"$f":"設定!K15","v":"腎臓"}]
[null,null,null,null,null,null,null,null,null,null,null,null,null,null,null,null,null,null,null,null,null,null,null,null,null,null,null,null,null,null,null,null,null,null,null,null,null,{"$f":"設定!C15","v":0},null,null,null,null,{"$f":"設定!I16","v":"高血圧"},null,{"$f":"設定!K16","v":"高血"}]
[null,null,null,null,null,null,null,null,null,null,null,null,null,null,null,null,null,null,null,null,null,null,null,null,null,null,null,null,null,null,null,null,null,null,null,null,null,{"$f":"設定!C16","v":0},null,null,null,null,{"$f":"設定!I17","v":"糖尿"},null,{"$f":"設定!K17","v":"糖1200"}]
[null,null,null,null,null,null,null,null,null,null,null,null,null,null,null,null,null,null,null,null,null,null,null,null,null,null,null,null,null,null,null,null,null,null,null,null,null,{"$f":"設定!C17","v":0},null,null,null,null,null,null,{"$f":"設定!K18","v":"糖1440"}]
[null,null,null,null,null,null,null,null,null,null,null,null,null,null,null,null,null,null,null,null,null,null,null,null,null,null,null,null,null,null,null,null,null,null,null,null,null,{"$f":"設定!C18","v":0},null,null,null,null,null,null,{"$f":"設定!K19","v":"糖1600"}]
[null,null,null,null,null,null,null,null,null,null,null,null,null,null,null,null,null,null,null,null,null,null,null,null,null,null,null,null,null,null,null,null,null,null,null,null,null,null,null,null,null,null,null,null,{"$f":"設定!K20","v":"糖1800"}]
[null,null,null,null,null,null,null,null,null,null,null,null,null,null,null,null,null,null,null,null,null,null,null,null,null,null,null,null,null,null,null,null,null,null,null,null,null,{"$f":"設定!C21","v":"面会"},null,null,null,null,{"$f":"設定!I21","v":"肝臓A"},null,{"$f":"設定!K21","v":"肝Ａ"}]
[null,"日　付",null,1,2,3,4,5,6,7,8,9,10,11,12,13,14,15,16,17,18,19,20,21,22,23,24,25,26,27,28,29,30,31,"統計",null,null,{"$f":"設定!C22","v":0},null,{"$f":"設定!E22","v":0},null,null,{"$f":"設定!I22","v":"肝臓B"},null,{"$f":"設定!K22","v":"肝Ｂ"}]
[null,"行　動",null,null,null,null,null,null,null,null,null,null,null,null,null,null,null,null,null,null,null,null,null,null,null,null,null,null,null,null,null,null,null,null,null,null,null,{"$f":"設定!C23","v":"両親"},null,{"$f":"設定!E23","v":"両親"},null,null,{"$f":"設定!I23","v":"潰瘍"},null,{"$f":"設定!K23","v":"潰瘍"}]
[null,"時　間",null,null,null,null,null,null,null,null,null,null,null,null,null,null,null,null,null,null,null,null,null,null,null,null,null,null,null,null,null,null,null,null,null,null,null,{"$f":"設定!C24","v":"父"},null,{"$f":"設定!E24","v":"父"},null,null,{"$f":"設定!I24","v":"低残渣食"},null,{"$f":"設定!K24","v":"低残"}]
[null,"行　動",null,null,null,null,null,null,null,null,null,null,null,null,null,null,null,null,null,null,null,null,null,null,null,null,null,null,null,null,null,null,null,null,null,null,null,{"$f":"設定!C25","v":"母"},null,{"$f":"設定!E25","v":"母"},null,null,{"$f":"設定!I25","v":"貧血"},null,{"$f":"設定!K25","v":"貧血"}]
[null,"時　間",null,null,null,null,null,null,null,null,null,null,null,null,null,null,null,null,null,null,null,null,null,null,null,null,null,null,null,null,null,null,null,null,{"$f":"IF(COUNTIF(D18:AH21,\"外出\")+COUNTIF(D18:AH21,\"外泊\")=0,\"回数\",COUNTIF(D18:AH21,\"外出\")+COUNTIF(D18:AH21,\"外泊\"))","v":"回数"},null,null,{"$f":"設定!C26","v":"主人"},null,{"$f":"設定!E26","v":"夫"},null,null,{"$f":"設定!I26","v":"脂質異常"},null,{"$f":"設定!K26","v":"脂1200"}]
[null,"面　会",null,null,null,null,null,null,null,null,null,null,null,null,null,null,null,null,null,null,null,null,null,null,null,null,null,null,null,null,null,null,null,null,null,null,null,{"$f":"設定!C27","v":"奥方"},null,{"$f":"設定!E27","v":"妻"},null,null,null,null,{"$f":"設定!K27","v":"脂1440"}]
[null,null,null,null,null,null,null,null,null,null,null,null,null,null,null,null,null,null,null,null,null,null,null,null,null,null,null,null,null,null,null,null,null,null,{"$f":"IF(COUNTA(D22:AH23)=0,\"回数\",COUNTA(D22:AH23))","v":"回数"},null,null,{"$f":"設定!C28","v":"息子"},null,{"$f":"設定!E28","v":"息子"},null,null,null,null,{"$f":"設定!K28","v":"脂1600"}]
[null,"入　浴",null,null,null,null,null,null,null,null,null,null,null,null,null,null,null,null,null,null,null,null,null,null,null,null,null,null,null,null,null,null,null,null,{"$f":"IF(COUNTA(D24:AH24)=0,\"回数\",COUNTA(D24:AH24))","v":"回数"},null,null,{"$f":"設定!C29","v":"娘"},null,{"$f":"設定!E29","v":"娘"},null,null,null,null,{"$f":"設定!K29","v":"脂1800"}]
[null,"食　事",null,null,null,null,null,null,null,null,null,null,null,null,null,null,null,null,null,null,null,null,null,null,null,null,null,null,null,null,null,null,null,null,null,null,null,{"$f":"設定!C30","v":"兄"},null,{"$f":"設定!E30","v":"兄"},null,null,{"$f":"設定!I30","v":"検査食"},null,{"$f":"設定!K30","v":"検査"}]
[null,null,null,null,null,null,null,null,null,null,null,null,null,null,null,null,null,null,null,null,null,null,null,null,null,null,null,null,null,null,null,null,null,null,null,null,null,{"$f":"設定!C31","v":"弟"},null,{"$f":"設定!E31","v":"弟"},null,null,{"$f":"設定!I31","v":"絶食"},null,{"$f":"設定!K31","v":"絶食"}]
[null,null,null,null,null,null,null,null,null,null,null,null,null,null,null,null,null,null,null,null,null,null,null,null,null,null,null,null,null,null,null,null,null,null,{"$f":"IFERROR(INT(AVERAGE(D141:AH143))& \".\"&INT(AVERAGE(D144:AH146)),\"平均\")","v":"平均"},null,null,{"$f":"設定!C32","v":"姉"},null,{"$f":"設定!E32","v":"姉"},null,null,{"$f":"設定!I32","v":0},null,{"$f":"設定!K32","v":0}]
[null,"便通",null,{"$f":"IF(ISBLANK(I51),\"\",I51)","v":""},{"$f":"IF(ISBLANK(I52),\"\",I52)","v":""},{"$f":"IF(ISBLANK(I53),\"\",I53)","v":""},{"$f":"IF(ISBLANK(I54),\"\",I54)","v":""},{"$f":"IF(ISBLANK(I55),\"\",I55)","v":""},{"$f":"IF(ISBLANK(I56),\"\",I56)","v":""},{"$f":"IF(ISBLANK(I57),\"\",I57)","v":""},{"$f":"IF(ISBLANK(I58),\"\",I58)","v":""},{"$f":"IF(ISBLANK(I59),\"\",I59)","v":""},{"$f":"IF(ISBLANK(I60),\"\",I60)","v":""},{"$f":"IF(ISBLANK(I61),\"\",I61)","v":""},{"$f":"IF(ISBLANK(I62),\"\",I62)","v":""},{"$f":"IF(ISBLANK(I63),\"\",I63)","v":""},{"$f":"IF(ISBLANK(I64),\"\",I64)","v":""},{"$f":"IF(ISBLANK(I65),\"\",I65)","v":""},{"$f":"IF(ISBLANK(I66),\"\",I66)","v":""},{"$f":"IF(ISBLANK(I67),\"\",I67)","v":""},{"$f":"IF(ISBLANK(I68),\"\",I68)","v":""},{"$f":"IF(ISBLANK(I69),\"\",I69)","v":""},{"$f":"IF(ISBLANK(I70),\"\",I70)","v":""},{"$f":"IF(ISBLANK(I71),\"\",I71)","v":""},{"$f":"IF(ISBLANK(I72),\"\",I72)","v":""},{"$f":"IF(ISBLANK(I73),\"\",I73)","v":""},{"$f":"IF(ISBLANK(I74),\"\",I74)","v":""},{"$f":"IF(ISBLANK(I75),\"\",I75)","v":""},{"$f":"IF(ISBLANK(I76),\"\",I76)","v":""},{"$f":"IF(ISBLANK(I77),\"\",I77)","v":""},{"$f":"IF(ISBLANK(I78),\"\",I78)","v":""},{"$f":"IF(ISBLANK(I79),\"\",I79)","v":""},{"$f":"IF(ISBLANK(I80),\"\",I80)","v":""},{"$f":"IF(ISBLANK('2月'!I50),\"\",'2月'!I50)","v":""},{"$f":"IF(COUNTIF(D28:AH28,0)=0,\"回数\",COUNTIF(D28:AH28,0))","v":"回数"},null,null,{"$f":"設定!C33","v":"妹"},null,{"$f":"設定!E33","v":"妹"},null,null,{"$f":"設定!I33","v":0},null,{"$f":"設定!K33","v":0}]
[null,"便処置",null,null,null,null,null,null,null,null,null,null,null,null,null,null,null,null,null,null,null,null,null,null,null,null,null,null,null,null,null,null,null,null,null,null,null,{"$f":"設定!C34","v":"孫"},null,{"$f":"設定!E34","v":"孫"},null,null,{"$f":"設定!I34","v":0},null,{"$f":"設定!K34","v":0}]
[null,null,null,null,null,null,null,null,null,null,null,null,null,null,null,null,null,null,null,null,null,null,null,null,null,null,null,null,null,null,null,null,null,null,{"$f":"IF(SUM(D29:AH31)=0,\"滴数\",SUM(D29:AH31))","v":"滴数"},null,null,{"$f":"設定!C35","v":"友人知人"},null,{"$f":"設定!E35","v":"知人"}]
[null,null,null,null,null,null,null,null,null,null,null,null,null,null,null,null,null,null,null,null,null,null,null,null,null,null,null,null,null,null,null,null,null,null,{"$f":"IF(AI30=\"滴数\",\"本数\",AI30/150)","v":"本数"},null,null,{"$f":"設定!C36","v":"子の夫"},null,{"$f":"設定!E36","v":"子夫"},null,null,{"$f":"設定!I36","v":"食事形態"}]
[null,"血　圧",null,{"$f":"$R$50","v":0},{"$f":"$R$58","v":0},{"$f":"R66","v":0},{"$f":"R74","v":0},{"$f":"R82","v":0},{"$f":"R90","v":0},{"$f":"R98","v":0},{"$f":"R106","v":0},{"$f":"Z50","v":0},{"$f":"Z58","v":0},{"$f":"Z66","v":0},{"$f":"Z74","v":0},{"$f":"Z82","v":0},{"$f":"Z90","v":0},{"$f":"Z98","v":0},{"$f":"Z106","v":0},{"$f":"AH50","v":0},{"$f":"AH58","v":0},{"$f":"AH66","v":0},{"$f":"AH74","v":0},{"$f":"AH82","v":0},{"$f":"AH90","v":0},{"$f":"AH98","v":0},{"$f":"AH106","v":0},{"$f":"AP50","v":0},{"$f":"AP58","v":0},{"$f":"AP66","v":0},{"$f":"AP74","v":0},{"$f":"AP82","v":0},{"$f":"AP90","v":0},{"$f":"AP98","v":0},null,null,null,{"$f":"設定!C37","v":"子の妻"},null,{"$f":"設定!E37","v":"子妻"},null,null,{"$f":"設定!I37","v":0},null,{"$f":"設定!K37","v":0}]
[null,null,null,{"$f":"$R$51","v":{"$error":"#N/A"}},{"$f":"$R$59","v":{"$error":"#N/A"}},{"$f":"R67","v":{"$error":"#N/A"}},{"$f":"R75","v":{"$error":"#N/A"}},{"$f":"R83","v":{"$error":"#N/A"}},{"$f":"R91","v":{"$error":"#N/A"}},{"$f":"R99","v":{"$error":"#N/A"}},{"$f":"R107","v":{"$error":"#N/A"}},{"$f":"Z51","v":{"$error":"#N/A"}},{"$f":"Z59","v":{"$error":"#N/A"}},{"$f":"Z67","v":{"$error":"#N/A"}},{"$f":"Z75","v":{"$error":"#N/A"}},{"$f":"Z83","v":{"$error":"#N/A"}},{"$f":"Z91","v":{"$error":"#N/A"}},{"$f":"Z99","v":{"$error":"#N/A"}},{"$f":"Z107","v":{"$error":"#N/A"}},{"$f":"AH51","v":{"$error":"#N/A"}},{"$f":"AH59","v":{"$error":"#N/A"}},{"$f":"AH67","v":{"$error":"#N/A"}},{"$f":"AH75","v":{"$error":"#N/A"}},{"$f":"AH83","v":{"$error":"#N/A"}},{"$f":"AH91","v":{"$error":"#N/A"}},{"$f":"AH99","v":{"$error":"#N/A"}},{"$f":"AH107","v":{"$error":"#N/A"}},{"$f":"AP51","v":{"$error":"#N/A"}},{"$f":"AP59","v":{"$error":"#N/A"}},{"$f":"AP67","v":{"$error":"#N/A"}},{"$f":"AP75","v":{"$error":"#N/A"}},{"$f":"AP83","v":{"$error":"#N/A"}},{"$f":"AP91","v":{"$error":"#N/A"}},{"$f":"AP99","v":{"$error":"#N/A"}},null,null,null,{"$f":"設定!C38","v":"祖母"},null,{"$f":"設定!E38","v":"祖母"},null,null,{"$f":"設定!I38","v":"普通食"},null,{"$f":"設定!K38","v":"普通"}]
[null,null,null,{"$f":"$R$52","v":0},{"$f":"$R$60","v":0},{"$f":"R68","v":0},{"$f":"R76","v":0},{"$f":"R84","v":0},{"$f":"R92","v":0},{"$f":"R100","v":0},{"$f":"R108","v":0},{"$f":"Z52","v":0},{"$f":"Z60","v":0},{"$f":"Z68","v":0},{"$f":"Z76","v":0},{"$f":"Z84","v":0},{"$f":"Z92","v":0},{"$f":"Z100","v":0},{"$f":"Z108","v":0},{"$f":"AH52","v":0},{"$f":"AH60","v":0},{"$f":"AH68","v":0},{"$f":"AH76","v":0},{"$f":"AH84","v":0},{"$f":"AH92","v":0},{"$f":"AH100","v":0},{"$f":"AH108","v":0},{"$f":"AP52","v":0},{"$f":"AP60","v":0},{"$f":"AP68","v":0},{"$f":"AP76","v":0},{"$f":"AP84","v":0},{"$f":"AP92","v":0},{"$f":"AP100","v":0},null,null,null,{"$f":"設定!C39","v":"祖父"},null,{"$f":"設定!E39","v":"祖父"},null,null,{"$f":"設定!I39","v":"普+一口大"},null,{"$f":"設定!K39","v":"一口"}]
[null,null,null,{"$f":"$R$53","v":0},{"$f":"$R$61","v":0},{"$f":"R69","v":0},{"$f":"R77","v":0},{"$f":"R85","v":0},{"$f":"R93","v":0},{"$f":"R101","v":0},{"$f":"R109","v":0},{"$f":"Z53","v":0},{"$f":"Z61","v":0},{"$f":"Z69","v":0},{"$f":"Z77","v":0},{"$f":"Z85","v":0},{"$f":"Z93","v":0},{"$f":"Z101","v":0},{"$f":"Z109","v":0},{"$f":"AH53","v":0},{"$f":"AH61","v":0},{"$f":"AH69","v":0},{"$f":"AH77","v":0},{"$f":"AH85","v":0},{"$f":"AH93","v":0},{"$f":"AH101","v":0},{"$f":"AH109","v":0},{"$f":"AP53","v":0},{"$f":"AP61","v":0},{"$f":"AP69","v":0},{"$f":"AP77","v":0},{"$f":"AP85","v":0},{"$f":"AP93","v":0},{"$f":"AP101","v":0},{"$f":"IFERROR(INT(AVERAGE(D149:AH152))& \"/\"&INT(AVERAGE(D153:AH156)),\"平均\")","v":"平均"},null,null,{"$f":"設定!C40","v":"従兄弟の父"},null,{"$f":"設定!E40","v":"叔父"},null,null,{"$f":"設定!I40","v":"普+キザミ"},null,{"$f":"設定!K40","v":"普キ"}]
[null,"食事箋",null,null,null,null,null,null,null,null,null,null,null,null,null,null,null,null,null,null,null,null,null,null,null,null,null,null,null,null,null,null,null,null,null,null,null,{"$f":"設定!C41","v":"従兄弟の母"},null,{"$f":"設定!E41","v":"叔母"},null,null,{"$f":"設定!I41","v":"軟飯"},null,{"$f":"設定!K41","v":"軟飯"}]
[null,"形　態",null,null,null,null,null,null,null,null,null,null,null,null,null,null,null,null,null,null,null,null,null,null,null,null,null,null,null,null,null,null,null,null,null,null,null,{"$f":"設定!C42","v":"従兄弟"},null,{"$f":"設定!E42","v":"ｲﾄｺ"},null,null,{"$f":"設定!I42","v":"軟+キザミ"},null,{"$f":"設定!K42","v":"軟キ"}]
[null,"身　長",null,null,null,null,null,null,null,null,null,null,null,null,null,null,null,null,null,null,null,null,null,null,null,null,null,null,null,null,null,null,null,null,"BMI",null,null,{"$f":"設定!C43","v":"義理の母"},null,{"$f":"設定!E43","v":"義母"},null,null,{"$f":"設定!I43","v":"粥食"},null,{"$f":"設定!K43","v":"粥"}]
[null,"体　重",null,null,null,null,null,null,null,null,null,null,null,null,null,null,null,null,null,null,null,null,null,null,null,null,null,null,null,null,null,null,null,null,{"$f":"IF(ISERROR(INDEX(D39:AH39,MATCH(307,D39:AH39))/(INDEX(D38:AH38,MATCH(9E+307,D38:AH38))/100)^2)=TRUE,\"\",INDEX(D39:AH39,MATCH(307,D39:AH39))/(INDEX(D38:AH38,MATCH(9E+307,D38:AH38))/100)^2)","v":""},null,null,{"$f":"設定!C44","v":"義理の父"},null,{"$f":"設定!E44","v":"義父"},null,null,{"$f":"設定!I44","v":"粥+キザミ"},null,{"$f":"設定!K44","v":"粥キ"}]
[null,"Ｉ　Ｎ",null,null,null,null,null,null,null,null,null,null,null,null,null,null,null,null,null,null,null,null,null,null,null,null,null,null,null,null,null,null,null,null,{"$f":"IFERROR(INT(AVERAGE(D40:AH40)),\"平均\")","v":"平均"},null,null,{"$f":"設定!C45","v":"その他親類"},null,{"$f":"設定!E45","v":"親類"},null,null,{"$f":"設定!I45","v":"ミキサ－"},null,{"$f":"設定!K45","v":"ミキ"}]
[null,"ＯＵＴ",null,null,null,null,null,null,null,null,null,null,null,null,null,null,null,null,null,null,null,null,null,null,null,null,null,null,null,null,null,null,null,null,{"$f":"IFERROR(INT(AVERAGE(D41:AH41)),\"平均\")","v":"平均"},null,null,{"$f":"設定!C46","v":"福祉職員"},null,{"$f":"設定!E46","v":"福祉"},null,null,{"$f":"設定!I46","v":"普通流動"},null,{"$f":"設定!K46","v":"普流"}]
[null,"生　理",null,null,null,null,null,null,null,null,null,null,null,null,null,null,null,null,null,null,null,null,null,null,null,null,null,null,null,null,null,null,null,null,{"$f":"IF(ISERROR(AVERAGE(D42:AH42)),\" \",AVERAGE(D42:AH42))","v":" "},null,null,{"$f":"設定!C47","v":"施設職員"},null,{"$f":"設定!E47","v":"施設"},null,null,{"$f":"設定!I47","v":"濃厚流動"},null,{"$f":"設定!K47","v":"濃流"}]
[null,null,null,null,null,null,null,null,null,null,null,null,null,null,null,null,null,null,null,null,null,null,null,null,null,null,null,null,null,null,null,null,null,null,{"$f":"IF(ISERROR(AVERAGE(D43:AH43)),\" \",AVERAGE(D43:AH43))","v":" "},null,null,{"$f":"設定!C48","v":0},null,{"$f":"設定!E48","v":0},null,null,{"$f":"設定!H48","v":0},null,{"$f":"設定!J48","v":0}]
[null,null,null,null,null,null,null,null,null,null,null,null,null,null,null,null,null,null,null,null,null,null,null,null,null,null,null,null,null,null,null,null,null,null,{"$f":"COUNTA(D44:AH44)","v":0},null,null,{"$f":"設定!C49","v":0},null,{"$f":"設定!E49","v":0},null,null,{"$f":"設定!H49","v":0},null,{"$f":"設定!J49","v":0}]
[null,"日　付",null,1,2,3,4,5,6,7,8,9,10,11,12,13,14,15,16,17,18,19,20,21,22,23,24,25,26,27,28,29,30,31,null,null,null,{"$f":"設定!C50","v":0},null,{"$f":"設定!E50","v":0},null,null,{"$f":"設定!H50","v":0},null,{"$f":"設定!J50","v":0}]
[]
[null,{"$f":"$P$3","v":0},null,null,null,null,{"$f":"YEAR(I47)","v":2015},null,{"$f":"TODAY()","v":"2015-02-24"},{"$f":"TODAY()","v":42059}]
[null,"平常時記入",null,null,null,null,null,null,null,null,null,"熱発時記入"]
[null,"日","時間","T",null," P","BP",null,"便",null,null,"日","時間",null,"T",null,"P","BP",null,"日","時間",null,"T",null,"P","BP",null,"日","時間",null,"T",null,"P","BP",null,"日","時間",null,"T",null,"P","BP"]
[null,1,"10:00:00",null,null,null,null,null,null,null,null,1,null,null,null,null,null,null,null,9,null,null,null,null,null,null,null,17,null,null,null,null,null,null,null,25]
[null,2,"10:00:00",null,null,null,null,null,null,null,null,null,"10:00:00",null,{"$f":"IF($D$50=\"\",NA(),$D$50)","v":{"$error":"#N/A"}},null,{"$f":"IF($F$50=\"\",NA(),$F$50)","v":{"$error":"#N/A"}},{"$f":"IF($G$50=\"\",NA(),$G$50)","v":{"$error":"#N/A"}},null,null,"10:00:00",null,{"$f":"IF($D$58=\"\",NA(),$D$58)","v":{"$error":"#N/A"}},null,{"$f":"IF($F$58=\"\",NA(),$F$58)","v":{"$error":"#N/A"}},{"$f":"IF($G$58=\"\",NA(),$G$58)","v":{"$error":"#N/A"}},null,null,"10:00:00",null,{"$f":"IF($D$66=\"\",NA(),$D$66)","v":{"$error":"#N/A"}},null,{"$f":"IF($F$66=\"\",NA(),$F$66)","v":{"$error":"#N/A"}},{"$f":"IF($G$66=\"\",NA(),$G$66)","v":{"$error":"#N/A"}},null,null,"10:00:00",null,{"$f":"IF($D$74=\"\",NA(),$D$74)","v":{"$error":"#N/A"}},null,{"$f":"IF($F$74=\"\",NA(),$F$74)","v":{"$error":"#N/A"}},{"$f":"IF($G$74=\"\",NA(),$G$74)","v":{"$error":"#N/A"}}]
[null,3,"10:00:00",null,null,null,null,null,null,"☆"]
[null,4,"10:00:00"]
[null,5,"10:00:00",null,null,null,null,null,null,"コ"]
[null,6,"10:00:00",null,null,null,null,null,null,"ス"]
[null,7,"10:00:00",null,null,null,null,null,null,"モ"]
[null,8,"10:00:00",null,null,null,null,null,null,"ス"]
[null,9,"10:00:00",null,null,null,null,null,null,"へ",null,2,null,null,null,null,null,null,null,10,null,null,null,null,null,null,null,18,null,null,null,null,null,null,null,26]
[null,10,"10:00:00",null,null,null,null,null,null,"戻",null,null,"10:00:00",null,{"$f":"IF($D$51=\"\",NA(),$D$51)","v":{"$error":"#N/A"}},null,{"$f":"IF($F$51=\"\",NA(),$F$51)","v":{"$error":"#N/A"}},{"$f":"IF($G$51=\"\",NA(),$G$51)","v":{"$error":"#N/A"}},null,null,"10:00:00",null,{"$f":"IF($D$59=\"\",NA(),$D$59)","v":{"$error":"#N/A"}},null,{"$f":"IF($F$59=\"\",NA(),$F$59)","v":{"$error":"#N/A"}},{"$f":"IF($G$59=\"\",NA(),$G$59)","v":{"$error":"#N/A"}},null,null,"10:00:00",null,{"$f":"IF($D$67=\"\",NA(),$D$67)","v":{"$error":"#N/A"}},null,{"$f":"IF($F$67=\"\",NA(),$F$67)","v":{"$error":"#N/A"}},{"$f":"IF($G$67=\"\",NA(),$G$67)","v":{"$error":"#N/A"}},null,null,"10:00:00",null,{"$f":"IF($D$75=\"\",NA(),$D$75)","v":{"$error":"#N/A"}},null,{"$f":"IF($F$75=\"\",NA(),$F$75)","v":{"$error":"#N/A"}},{"$f":"IF($G$75=\"\",NA(),$G$75)","v":{"$error":"#N/A"}}]
[null,11,"10:00:00",null,null,null,null,null,null,"る"]
[null,12,"10:00:00"]
[null,13,"10:00:00"]
[null,14,"10:00:00",null,null,null,null,null,null,"（"]
[null,15,"10:00:00",null,null,null,null,null,null,"選"]
[null,16,"10:00:00",null,null,null,null,null,null,"択"]
[null,17,"10:00:00",null,null,null,null,null,null,"す",null,3,null,null,null,null,null,null,null,11,null,null,null,null,null,null,null,19,null,null,null,null,null,null,null,27]
[null,18,"10:00:00",null,null,null,null,null,null,"る",null,null,"10:00:00",null,{"$f":"IF($D$52=\"\",NA(),$D$52)","v":{"$error":"#N/A"}},null,{"$f":"IF($F$52=\"\",NA(),$F$52)","v":{"$error":"#N/A"}},{"$f":"IF($G$52=\"\",NA(),$G$52)","v":{"$error":"#N/A"}},null,null,"10:00:00",null,{"$f":"IF($D$60=\"\",NA(),$D$60)","v":{"$error":"#N/A"}},null,{"$f":"IF($F$60=\"\",NA(),$F$60)","v":{"$error":"#N/A"}},{"$f":"IF($G$60=\"\",NA(),$G$60)","v":{"$error":"#N/A"}},null,null,"10:00:00",null,{"$f":"IF($D$68=\"\",NA(),$D$68)","v":{"$error":"#N/A"}},null,{"$f":"IF($F$68=\"\",NA(),$F$68)","v":{"$error":"#N/A"}},{"$f":"IF($G$68=\"\",NA(),$G$68)","v":{"$error":"#N/A"}},null,null,"10:00:00",null,{"$f":"IF($D$76=\"\",NA(),$D$76)","v":{"$error":"#N/A"}},null,{"$f":"IF($F$76=\"\",NA(),$F$76)","v":{"$error":"#N/A"}},{"$f":"IF($G$76=\"\",NA(),$G$76)","v":{"$error":"#N/A"}}]
[null,19,"10:00:00",null,null,null,null,null,null,"だ"]
[null,20,"10:00:00",null,null,null,null,null,null,"け"]
[null,21,"10:00:00",null,null,null,null,null,null,"で"]
[null,22,"10:00:00",null,null,null,null,null,null,"移"]
[null,23,"10:00:00",null,null,null,null,null,null,"動"]
[null,24,"10:00:00",null,null,null,null,null,null,"し"]
[null,25,"10:00:00",null,null,null,null,null,null,"ま",null,4,null,null,null,null,null,null,null,12,null,null,null,null,null,null,null,20,null,null,null,null,null,null,null,28]
[null,26,"10:00:00",null,null,null,null,null,null,"す",null,null,"10:00:00",null,{"$f":"IF($D$53=\"\",NA(),$D$53)","v":{"$error":"#N/A"}},null,{"$f":"IF($F$53=\"\",NA(),$F$53)","v":{"$error":"#N/A"}},{"$f":"IF($G$53=\"\",NA(),$G$53)","v":{"$error":"#N/A"}},null,null,"10:00:00",null,{"$f":"IF($D$61=\"\",NA(),$D$61)","v":{"$error":"#N/A"}},null,{"$f":"IF($F$61=\"\",NA(),$F$61)","v":{"$error":"#N/A"}},{"$f":"IF($G$61=\"\",NA(),$G$61)","v":{"$error":"#N/A"}},null,null,"10:00:00",null,{"$f":"IF($D$69=\"\",NA(),$D$69)","v":{"$error":"#N/A"}},null,{"$f":"IF($F$69=\"\",NA(),$F$69)","v":{"$error":"#N/A"}},{"$f":"IF($G$69=\"\",NA(),$G$69)","v":{"$error":"#N/A"}},null,null,"10:00:00",null,{"$f":"IF($D$77=\"\",NA(),$D$77)","v":{"$error":"#N/A"}},null,{"$f":"IF($F$77=\"\",NA(),$F$77)","v":{"$error":"#N/A"}},{"$f":"IF($G$77=\"\",NA(),$G$77)","v":{"$error":"#N/A"}}]
[null,27,"10:00:00",null,null,null,null,null,null,"）"]
[null,28,"10:00:00"]
[null,29,"10:00:00"]
[null,30,"10:00:00"]
[null,31,"10:00:00"]
[]
[null,null,null,null,null,null,null,null,null,null,null,5,null,null,null,null,null,null,null,13,null,null,null,null,null,null,null,21,null,null,null,null,null,null,null,29]
[null,null,null,null,null,null,null,null,null,null,null,null,"10:00:00",null,{"$f":"IF($D$54=\"\",NA(),$D$54)","v":{"$error":"#N/A"}},null,{"$f":"IF($F$54=\"\",NA(),$F$54)","v":{"$error":"#N/A"}},{"$f":"IF($G$54=\"\",NA(),$G$54)","v":{"$error":"#N/A"}},null,null,"10:00:00",null,{"$f":"IF($D$62=\"\",NA(),$D$62)","v":{"$error":"#N/A"}},null,{"$f":"IF($F$62=\"\",NA(),$F$62)","v":{"$error":"#N/A"}},{"$f":"IF($G$62=\"\",NA(),$G$62)","v":{"$error":"#N/A"}},null,null,"10:00:00",null,{"$f":"IF($D$70=\"\",NA(),$D$70)","v":{"$error":"#N/A"}},null,{"$f":"IF($F$70=\"\",NA(),$F$70)","v":{"$error":"#N/A"}},{"$f":"IF($G$70=\"\",NA(),$G$70)","v":{"$error":"#N/A"}},null,null,"10:00:00",null,{"$f":"IF($D$78=\"\",NA(),$D$78)","v":{"$error":"#N/A"}},null,{"$f":"IF($F$78=\"\",NA(),$F$78)","v":{"$error":"#N/A"}},{"$f":"IF($G$78=\"\",NA(),$G$78)","v":{"$error":"#N/A"}}]
[]
[]
[]
[]
[]
[]
[null,null,null,null,null,null,null,null,null,null,null,6,null,null,null,null,null,null,null,14,null,null,null,null,null,null,null,22,null,null,null,null,null,null,null,30]
[null,null,null,null,null,null,null,null,null,null,null,null,"10:00:00",null,{"$f":"IF($D$55=\"\",NA(),$D$55)","v":{"$error":"#N/A"}},null,{"$f":"IF($F$55=\"\",NA(),$F$55)","v":{"$error":"#N/A"}},{"$f":"IF($G$55=\"\",NA(),$G$55)","v":{"$error":"#N/A"}},null,null,"10:00:00",null,{"$f":"IF($D$63=\"\",NA(),$D$63)","v":{"$error":"#N/A"}},null,{"$f":"IF($F$63=\"\",NA(),$F$63)","v":{"$error":"#N/A"}},{"$f":"IF($G$63=\"\",NA(),$G$63)","v":{"$error":"#N/A"}},null,null,"10:00:00",null,{"$f":"IF($D$71=\"\",NA(),$D$71)","v":{"$error":"#N/A"}},null,{"$f":"IF($F$71=\"\",NA(),$F$71)","v":{"$error":"#N/A"}},{"$f":"IF($G$71=\"\",NA(),$G$71)","v":{"$error":"#N/A"}},null,null,"10:00:00",null,{"$f":"IF($D$79=\"\",NA(),$D$79)","v":{"$error":"#N/A"}},null,{"$f":"IF($F$79=\"\",NA(),$F$79)","v":{"$error":"#N/A"}},{"$f":"IF($G$79=\"\",NA(),$G$79)","v":{"$error":"#N/A"}}]
[]
[]
[]
[]
[]
[]
[null,null,null,null,null,null,null,null,null,null,null,7,null,null,null,null,null,null,null,15,null,null,null,null,null,null,null,23,null,null,null,null,null,null,null,31]
[null,null,null,null,null,null,null,null,null,null,null,null,"10:00:00",null,{"$f":"IF($D$56=\"\",NA(),$D$56)","v":{"$error":"#N/A"}},null,{"$f":"IF($F$56=\"\",NA(),$F$56)","v":{"$error":"#N/A"}},{"$f":"IF($G$56=\"\",NA(),$G$56)","v":{"$error":"#N/A"}},null,null,"10:00:00",null,{"$f":"IF($D$64=\"\",NA(),$D$64)","v":{"$error":"#N/A"}},null,{"$f":"IF($F$64=\"\",NA(),$F$64)","v":{"$error":"#N/A"}},{"$f":"IF($G$64=\"\",NA(),$G$64)","v":{"$error":"#N/A"}},null,null,"10:00:00",null,{"$f":"IF($D$72=\"\",NA(),$D$72)","v":{"$error":"#N/A"}},null,{"$f":"IF($F$72=\"\",NA(),$F$72)","v":{"$error":"#N/A"}},{"$f":"IF($G$72=\"\",NA(),$G$72)","v":{"$error":"#N/A"}},null,null,"10:00:00",null,{"$f":"IF($D$80=\"\",NA(),$D$80)","v":{"$error":"#N/A"}},null,{"$f":"IF($F$80=\"\",NA(),$F$80)","v":{"$error":"#N/A"}},{"$f":"IF($G$80=\"\",NA(),$G$80)","v":{"$error":"#N/A"}}]
[]
[]
[]
[]
[]
[]
[null,null,null,null,null,null,null,null,null,null,null,8,null,null,null,null,null,null,null,16,null,null,null,null,null,null,null,24]
[null,null,null,null,null,null,null,null,null,null,null,null,"10:00:00",null,{"$f":"IF($D$57=\"\",NA(),$D$57)","v":{"$error":"#N/A"}},null,{"$f":"IF($F$57=\"\",NA(),$F$57)","v":{"$error":"#N/A"}},{"$f":"IF($G$57=\"\",NA(),$G$57)","v":{"$error":"#N/A"}},null,null,"10:00:00",null,{"$f":"IF($D$65=\"\",NA(),$D$65)","v":{"$error":"#N/A"}},null,{"$f":"IF($F$65=\"\",NA(),$F$65)","v":{"$error":"#N/A"}},{"$f":"IF($G$65=\"\",NA(),$G$65)","v":{"$error":"#N/A"}},null,null,"10:00:00",null,{"$f":"IF($D$73=\"\",NA(),$D$73)","v":{"$error":"#N/A"}},null,{"$f":"IF($F$73=\"\",NA(),$F$73)","v":{"$error":"#N/A"}},{"$f":"IF($G$73=\"\",NA(),$G$73)","v":{"$error":"#N/A"}}]
[]
[]
[]
[]
[]
[]
[]
[]
[]
[]
[]
[]
[]
[]
[]
[]
[]
[]
[]
[]
[]
[null,null,"Enterで入力画面へ"]
[null,null,"ｶｰｿﾙ初期位置",null,null,null,"日付チェック",null,null,null,"バイタルコピー"]
["管理欄",null,"入力に入る",null,null,null,"今日",{"$f":"NOW()","v":"2015-02-24T03:11:52.510"},null,null,"T=未測定",null," P=未測定"," BP=未測定",null,{"$f":"K131&M131&N131","v":"T=未測定 P=未測定 BP=未測定"},"   "]
[null,null,null,null,null,null,"日",{"$f":"DAY(H131)","v":24},null,null,null,null,null,null,null,""]
[null,null,null,null,null,null,"月",{"$f":"MONTH(H131)","v":2},null,null,null,null,null,null,null,""]
[null,null,null,null,null,null,null,null,null,null,null,null,null,null,null,""]
[null,null,null,null,null,null,"時",{"$f":"HOUR(H131)","v":3},null,null,null,null,null,null,null,""]
[null,null,null,null,null,null,null,null,null,null,null,null,null,null,null,""]
[null,null,null,null,null,null,null,null,null,null,null,null,null,null,null,""]
[null,null,null,null,null,null,null,null,null,null,null,null,null,null,null,""]
[null,null,null,null,null,null,null,null,null,null,null,null,null,null,null,""]
[null,null,"食事平均",null,null,null,null,null,null,null,null,null,null,null,null,""]
[null,null,"左",{"$f":"IF(D25=\"\", \"\", LEFT(D25,SEARCH(\".\",D25,1)-1)*1)","v":""},{"$f":"IF(E25=\"\", \"\", LEFT(E25,SEARCH(\".\",E25,1)-1)*1)","v":""},"","","","","",null,null,null,null,null,"",null,"","","","","","","","","","","","","","","","",""]
[null,null,null,{"$f":"IF(D26=\"\", \"\", LEFT(D26,SEARCH(\".\",D26,1)-1)*1)","v":""},"","","","","","",null,null,null,null,null,"",null,"","","","","","","","","","","","","","","","",""]
[null,null,null,"","","","","","","",null,null,null,null,null,"",null,"","","","","","","","","","","","","","","","",""]
[null,null,"右",{"$f":"IF(D25=\"\", \"\", RIGHT(D25,LEN(D25)-FIND(\".\",D25,1))*1)","v":""},{"$f":"IF(E25=\"\", \"\", RIGHT(E25,LEN(E25)-FIND(\".\",E25,1))*1)","v":""},"","","","","",null,null,null,null,null,"",null,"","","","","","","","","","","","","","","","",""]
[null,null,null,{"$f":"IF(D26=\"\", \"\", RIGHT(D26,LEN(D26)-FIND(\".\",D26,1))*1)","v":""},"","","","","","",null,null,null,null,null,"",null,"","","","","","","","","","","","","","","","",""]
[null,null,null,{"$f":"IF(D27=\"\", \"\", RIGHT(D27,LEN(D27)-FIND(\".\",D27,1))*1)","v":""},{"$f":"IF(E27=\"\", \"\", RIGHT(E27,LEN(E27)-FIND(\".\",E27,1))*1)","v":""},"","","","","",null,null,null,null,null,"",null,"","","","","","","","","","","","","","","","",""]
[null,null,null,null,null,null,null,null,null,null,null,null,null,null,null,""]
[null,null,"BP平均",null,null,null,null,null,null,null,null,null,null,null,null,""]
[null,null,"左",{"$f":"IF(ISERROR(LEFT(D32,SEARCH(\"/\",D32,1)-1)*1),\"\",LEFT(D32,SEARCH(\"/\",D32,1)-1)*1)","v":""},{"$f":"IF(ISERROR(LEFT(E32,SEARCH(\"/\",E32,1)-1)*1),\"\",LEFT(E32,SEARCH(\"/\",E32,1)-1)*1)","v":""},"","","","","","","","","","","","","","","","","","","","","","","","","","","","",""]
[null,null,null,{"$f":"IF(ISERROR(LEFT(D33,SEARCH(\"/\",D33,1)-1)*1),\"\",LEFT(D33,SEARCH(\"/\",D33,1)-1)*1)","v":""},"","","","","","","","","","","","","","","","","","","","","","","","","","","","","",""]
[null,null,null,{"$f":"IF(ISERROR(LEFT(D34,SEARCH(\"/\",D34,1)-1)*1),\"\",LEFT(D34,SEARCH(\"/\",D34,1)-1)*1)","v":""},"","","","","","","","","","","","","","","","","","","","","","","","","","","","","",""]
[null,null,null,{"$f":"IF(ISERROR(LEFT(D35,SEARCH(\"/\",D35,1)-1)*1),\"\",LEFT(D35,SEARCH(\"/\",D35,1)-1)*1)","v":""},"","","","","","","","","","","","","","","","","","","","","","","","","","","","","",""]
[null,null,"右",{"$f":"IF(ISERROR(RIGHT(D32,LEN(D32)-FIND(\"/\",D32,1))*1),\"\",RIGHT(D32,LEN(D32)-FIND(\"/\",D32,1))*1)","v":""},{"$f":"IF(ISERROR(RIGHT(E32,LEN(E32)-FIND(\"/\",E32,1))*1),\"\",RIGHT(E32,LEN(E32)-FIND(\"/\",E32,1))*1)","v":""},{"$f":"IF(ISERROR(RIGHT(F32,LEN(F32)-FIND(\"/\",F32,1))*1),\"\",RIGHT(F32,LEN(F32)-FIND(\"/\",F32,1))*1)","v":""},"","","","","","","","","","","","","","","","","","","","","","","","","","","",""]
[null,null,null,{"$f":"IF(ISERROR(RIGHT(D33,LEN(D33)-FIND(\"/\",D33,1))*1),\"\",RIGHT(D33,LEN(D33)-FIND(\"/\",D33,1))*1)","v":""},"","","","","","","","","","","","","","","",{"$f":"IF(ISERROR(RIGHT(T33,LEN(T33)-FIND(\"/\",T33,1))*1),\"\",RIGHT(T33,LEN(T33)-FIND(\"/\",T33,1))*1)","v":""},"","","","","","","","","","","","","",""]
[null,null,null,"","","","","","","","","","","","","","","","",{"$f":"IF(ISERROR(RIGHT(T34,LEN(T34)-FIND(\"/\",T34,1))*1),\"\",RIGHT(T34,LEN(T34)-FIND(\"/\",T34,1))*1)","v":""},"","","","","","","","","","","","","",""]
[null,null,null,"","","","","","","","","","","","","","","","",{"$f":"IF(ISERROR(RIGHT(T35,LEN(T35)-FIND(\"/\",T35,1))*1),\"\",RIGHT(T35,LEN(T35)-FIND(\"/\",T35,1))*1)","v":""},"","","","","","","","","","","","","",""]
[null,null,null,null,null,null,null,null,null,null,null,null,null,null,null,""]
[null,null,null,null,null,null,null,null,null,null,null,null,null,null,null,""]
[null,null,null,null,null,null,null,null,null,null,null,null,null,null,null,""]
[null,null,null,null,null,null,null,null,null,null,null,null,null,null,null,""]
[null,null,null,null,null,null,null,null,null,null,null,null,null,null,null,""]

{"sheet":"2月","index":2,"n_rows":161,"n_cols":45,"rows_kept":161,"cut":false,"hidden":false,"merged":[[138,10,138,11],[138,13,138,14],[139,10,139,11],[147,10,147,11],[147,13,147,14],[139,13,139,14],[48,12,48,13],[48,14,48,15],[131,10,131,11],[131,13,131,14],[132,10,132,11],[132,13,132,14],[133,10,133,11],[133,13,133,14],[134,10,134,11],[134,13,134,14],[135,10,135,11],[135,13,135,14],[136,10,136,11],[136,13,136,14],[137,10,137,11],[137,13,137,14],[55,12,55,13],[55,14,55,15],[87,12,87,13],[87,14,87,15],[90,12,90,13],[90,14,90,15],[96,12,96,13],[89,11,96,11],[100,12,100,13],[100,14,100,15],[52,33,52,34],[50,20,50,21],[50,22,50,23],[50,25,50,26],[52,22,52,23],[52,25,52,26],[52,28,52,29],[54,33,54,34],[52,30,52,31],[53,28,53,29],[53,30,53,31],[50,28,50,29],[23,1,23,2],[27,1,27,2],[28,1,30,2],[18,1,18,2],[19,1,19,2],[20,1,20,2],[21,1,22,2],[51,33,51,34],[49,25,49,26],[49,27,56,27],[49,28,49,29],[49,30,49,31],[50,30,50,31],[51,30,51,31],[49,20,49,21],[49,22,49,23],[53,20,53,21],[53,33,53,34],[55,3,55,4],[55,6,55,7],[2,10,3,12],[1,7,1,9],[1,10,1,12],[13,37,13,40],[0,1,0,2],[0,5,0,6],[1,4,1,6],[1,1,1,3],[4,37,4,40],[5,37,9,40],[10,37,10,40],[11,37,11,40],[12,37,12,40],[29,37,29,38],[16,39,16,40],[17,39,17,40],[18,39,18,40],[2,25,2,30],[3,25,3,30],[1,23,1,24],[2,23,3,24],[24,1,26,2],[1,32,1,34],[2,32,3,34],[1,13,1,14],[2,15,3,20],[1,15,1,19],[1,25,1,31],[16,1,16,2],[17,1,17,2],[2,1,3,3],[20,39,20,40],[47,1,47,9],[47,11,47,18],[47,19,47,26],[47,27,47,34],[48,17,48,18],[48,20,48,21],[48,30,48,31],[48,33,48,34],[38,1,38,2],[40,1,40,2],[44,1,44,2],[46,1,46,5],[31,1,34,2],[35,1,35,2],[36,1,36,2],[37,1,37,2],[39,1,39,2],[41,1,41,2],[42,1,42,2],[43,1,43,2],[48,25,48,26],[48,28,48,29],[48,3,48,4],[48,6,48,7],[48,22,48,23],[53,38,53,39],[53,41,53,42],[55,41,55,42],[56,41,56,42],[48,38,48,39],[52,3,52,4],[52,6,52,7],[52,12,52,13],[52,14,52,15],[52,17,52,18],[52,20,52,21],[51,3,51,4],[51,6,51,7],[51,12,51,13],[51,14,51,15],[49,41,49,42],[50,3,50,4],[50,6,50,7],[50,12,50,13],[50,14,50,15],[50,17,50,18],[50,41,50,42],[49,38,49,39],[50,33,50,34],[50,38,50,39],[49,33,49,34],[49,35,56,35],[51,41,51,42],[52,41,52,42],[54,38,54,39],[51,38,51,39],[54,41,54,42],[55,17,55,18],[55,20,55,21],[55,22,55,23],[55,25,55,26],[55,38,55,39],[54,20,54,21],[54,22,54,23],[54,25,54,26],[54,30,54,31],[54,28,54,29],[54,3,54,4],[54,6,54,7],[54,12,54,13],[54,14,54,15],[49,11,56,11],[53,3,53,4],[53,6,53,7],[53,12,53,13],[53,14,53,15],[49,12,49,13],[52,38,52,39],[51,20,51,21],[51,22,51,23],[51,25,51,26],[51,28,51,29],[53,22,53,23],[53,25,53,26],[56,38,56,39],[55,33,55,34],[56,33,56,34],[49,3,49,4],[49,6,49,7],[57,3,57,4],[57,6,57,7],[57,11,64,11],[57,12,57,13],[57,14,57,15],[57,17,57,18],[57,19,64,19],[56,3,56,4],[56,6,56,7],[56,12,56,13],[56,14,56,15],[56,17,56,18],[56,20,56,21],[56,22,56,23],[56,25,56,26],[55,28,55,29],[55,30,55,31],[56,28,56,29],[56,30,56,31],[49,19,56,19],[54,17,54,18],[51,17,51,18],[53,17,53,18],[61,30,61,31],[58,28,58,29],[59,3,59,4],[59,6,59,7],[59,12,59,13],[59,14,59,15],[62,17,62,18],[62,20,62,21],[59,17,59,18],[61,41,61,42],[62,22,62,23],[59,33,59,34],[58,41,58,42],[59,20,59,21],[59,22,59,23],[64,33,64,34],[64,38,64,39],[64,17,64,18],[61,38,61,39],[62,30,62,31],[57,33,57,34],[61,33,61,34],[62,33,62,34],[57,30,57,31],[58,30,58,31],[59,30,59,31],[60,30,60,31],[57,22,57,23],[57,25,57,26],[57,27,64,27],[57,28,57,29],[61,28,61,29],[61,25,61,26],[62,25,62,26],[63,25,63,26],[63,28,63,29],[62,28,62,29],[62,38,62,39],[61,22,61,23],[60,22,60,23],[60,25,60,26],[58,33,58,34],[63,3,63,4],[63,6,63,7],[63,12,63,13],[63,14,63,15],[62,3,62,4],[62,6,62,7],[62,12,62,13],[62,14,62,15],[61,3,61,4],[61,6,61,7],[61,12,61,13],[60,20,60,21],[60,28,60,29],[57,41,57,42],[58,3,58,4],[58,6,58,7],[58,12,58,13],[58,14,58,15],[58,17,58,18],[58,20,58,21],[58,22,58,23],[58,25,58,26],[57,20,57,21],[60,38,60,39],[63,41,63,42],[63,38,63,39],[57,35,64,35],[57,38,57,39],[62,41,62,42],[60,41,60,42],[64,41,64,42],[65,17,65,18],[71,3,71,4],[71,6,71,7],[71,12,71,13],[71,14,71,15],[64,30,64,31],[72,33,72,34],[61,17,61,18],[61,20,61,21],[60,17,60,18],[64,20,64,21],[64,22,64,23],[64,25,64,26],[64,28,64,29],[64,3,64,4],[64,6,64,7],[64,12,64,13],[64,14,64,15],[63,17,63,18],[63,20,63,21],[63,22,63,23],[63,30,63,31],[63,33,63,34],[66,28,66,29],[69,25,69,26],[70,25,70,26],[68,30,68,31],[69,33,69,34],[70,30,70,31],[65,19,72,19],[65,20,65,21],[67,25,67,26],[67,41,67,42],[68,3,68,4],[59,41,59,42],[58,38,58,39],[59,38,59,39],[59,28,59,29],[61,14,61,15],[60,3,60,4],[60,6,60,7],[60,12,60,13],[60,14,60,15],[59,25,59,26],[60,33,60,34],[65,22,65,23],[65,25,65,26],[65,27,72,27],[65,28,65,29],[69,28,69,29],[66,25,66,26],[65,3,65,4],[65,6,65,7],[65,11,72,11],[65,12,65,13],[65,14,65,15],[66,41,66,42],[67,3,67,4],[67,6,67,7],[67,12,67,13],[67,14,67,15],[67,17,67,18],[67,20,67,21],[67,22,67,23],[67,28,67,29],[67,38,67,39],[65,41,65,42],[66,3,66,4],[66,6,66,7],[66,12,66,13],[66,14,66,15],[66,17,66,18],[66,20,66,21],[66,22,66,23],[65,30,65,31],[65,38,65,39],[66,33,66,34],[66,38,66,39],[65,33,65,34],[65,35,72,35],[67,33,67,34],[68,33,68,34],[69,30,69,31],[66,30,66,31],[67,30,67,31],[71,25,71,26],[71,28,71,29],[69,38,69,39],[69,41,69,42],[70,3,70,4],[70,6,70,7],[70,12,70,13],[70,14,70,15],[70,17,70,18],[70,20,70,21],[70,22,70,23],[68,38,68,39],[68,41,68,42],[69,3,69,4],[69,6,69,7],[69,12,69,13],[69,14,69,15],[69,17,69,18],[69,20,69,21],[69,22,69,23],[68,6,68,7],[68,12,68,13],[68,14,68,15],[68,17,68,18],[68,20,68,21],[68,22,68,23],[68,25,68,26],[68,28,68,29],[70,28,70,29],[77,41,77,42],[73,3,73,4],[73,6,73,7],[73,11,80,11],[73,12,73,13],[73,14,73,15],[73,17,73,18],[78,3,78,4],[78,6,78,7],[78,12,78,13],[78,14,78,15],[75,12,75,13],[75,14,75,15],[70,38,70,39],[70,41,70,42],[71,33,71,34],[70,33,70,34],[72,38,72,39],[71,41,71,42],[72,3,72,4],[72,6,72,7],[72,12,72,13],[72,14,72,15],[72,17,72,18],[72,41,72,42],[71,17,71,18],[72,20,72,21],[72,22,72,23],[72,25,72,26],[72,28,72,29],[71,30,71,31],[71,20,71,21],[71,22,71,23],[72,30,72,31],[71,38,71,39],[73,19,80,19],[73,20,73,21],[76,38,76,39],[75,17,75,18],[75,20,75,21],[76,3,76,4],[76,6,76,7],[76,12,76,13],[76,14,76,15],[75,3,75,4],[75,6,75,7],[74,3,74,4],[74,6,74,7],[74,12,74,13],[74,14,74,15],[74,17,74,18],[77,3,77,4],[77,6,77,7],[77,12,77,13],[77,14,77,15],[77,17,77,18],[76,25,76,26],[76,28,76,29],[73,38,73,39],[74,33,74,34],[74,38,74,39],[75,33,75,34],[75,38,75,39],[73,33,73,34],[73,35,80,35],[73,22,73,23],[78,38,78,39],[78,22,78,23],[78,25,78,26],[77,38,77,39],[77,20,77,21],[77,22,77,23],[77,25,77,26],[77,33,77,34],[76,41,76,42],[75,41,75,42],[76,17,76,18],[76,20,76,21],[80,41,80,42],[73,41,73,42],[74,30,74,31],[75,30,75,31],[76,30,76,31],[77,28,77,29],[77,30,77,31],[74,25,74,26],[74,28,74,29],[73,25,73,26],[80,28,80,29],[80,30,80,31],[80,33,80,34],[80,38,80,39],[73,27,80,27],[74,20,74,21],[74,22,74,23],[74,41,74,42],[78,17,78,18],[78,20,78,21],[73,28,73,29],[73,30,73,31],[76,33,76,34],[78,28,78,29],[75,22,75,23],[75,25,75,26],[75,28,75,29],[76,22,76,23],[81,11,88,11],[81,12,81,13],[81,14,81,15],[81,17,81,18],[81,19,88,19],[80,12,80,13],[80,14,80,15],[80,17,80,18],[80,20,80,21],[80,22,80,23],[80,25,80,26],[79,38,79,39],[78,41,78,42],[83,41,83,42],[84,12,84,13],[84,14,84,15],[84,17,84,18],[84,20,84,21],[84,22,84,23],[84,25,84,26],[84,28,84,29],[79,3,79,4],[79,6,79,7],[79,12,79,13],[79,14,79,15],[79,17,79,18],[79,41,79,42],[79,20,79,21],[79,22,79,23],[79,25,79,26],[79,28,79,29],[78,30,78,31],[78,33,78,34],[79,30,79,31],[79,33,79,34],[81,41,81,42],[82,12,82,13],[82,14,82,15],[82,17,82,18],[81,33,81,34],[84,30,84,31],[82,33,82,34],[82,41,82,42],[83,12,83,13],[83,14,83,15],[83,17,83,18],[83,20,83,21],[83,22,83,23],[83,25,83,26],[83,28,83,29],[83,30,83,31],[84,38,84,39],[82,20,82,21],[82,22,82,23],[82,25,82,26],[82,28,82,29],[82,30,82,31],[81,35,88,35],[81,38,81,39],[82,38,82,39],[83,38,83,39],[81,20,81,21],[81,22,81,23],[81,25,81,26],[86,41,86,42],[85,38,85,39],[85,41,85,42],[85,33,85,34],[86,12,86,13],[86,14,86,15],[86,17,86,18],[86,20,86,21],[86,22,86,23],[86,25,86,26],[84,33,84,34],[86,28,86,29],[84,41,84,42],[85,12,85,13],[85,14,85,15],[85,17,85,18],[85,20,85,21],[85,22,85,23],[85,25,85,26],[85,28,85,29],[81,27,88,27],[81,28,81,29],[81,30,81,31],[86,30,86,31],[85,30,85,31],[83,33,83,34],[86,33,86,34],[86,38,86,39],[88,33,88,34],[88,38,88,39],[88,41,88,42],[88,22,88,23],[88,25,88,26],[88,28,88,29],[88,30,88,31],[88,12,88,13],[88,14,88,15],[88,17,88,18],[88,20,88,21],[87,33,87,34],[87,17,87,18],[87,20,87,21],[87,38,87,39],[87,41,87,42],[87,22,87,23],[87,25,87,26],[87,28,87,29],[87,30,87,31],[92,12,92,13],[92,14,92,15],[92,17,92,18],[92,20,92,21],[90,41,90,42],[91,38,91,39],[91,41,91,42],[90,22,90,23],[90,25,90,26],[89,33,89,34],[90,28,90,29],[90,30,90,31],[90,33,90,34],[91,33,91,34],[89,19,96,19],[89,20,89,21],[89,22,89,23],[89,25,89,26],[90,20,90,21],[91,20,91,21],[91,22,91,23],[89,12,89,13],[89,14,89,15],[89,17,89,18],[90,17,90,18],[91,12,91,13],[91,14,91,15],[91,17,91,18],[93,33,93,34],[93,12,93,13],[92,33,92,34],[92,38,92,39],[92,41,92,42],[89,35,96,35],[89,38,89,39],[89,41,89,42],[90,38,90,39],[92,22,92,23],[92,25,92,26],[92,28,92,29],[92,30,92,31],[89,27,96,27],[89,28,89,29],[89,30,89,31],[91,28,91,29],[91,30,91,31],[91,25,91,26],[95,33,95,34],[94,38,94,39],[94,41,94,42],[94,22,94,23],[94,25,94,26],[94,28,94,29],[94,30,94,31],[94,12,94,13],[94,14,94,15],[94,17,94,18],[94,20,94,21],[93,14,93,15],[93,17,93,18],[93,20,93,21],[93,38,93,39],[93,41,93,42],[93,22,93,23],[93,25,93,26],[93,28,93,29],[93,30,93,31],[96,38,96,39],[96,41,96,42],[96,22,96,23],[96,25,96,26],[96,28,96,29],[96,30,96,31],[96,14,96,15],[96,17,96,18],[96,20,96,21],[94,33,94,34],[101,12,101,13],[101,14,101,15],[101,17,101,18],[101,20,101,21],[95,12,95,13],[95,14,95,15],[95,17,95,18],[95,20,95,21],[95,38,95,39],[95,41,95,42],[95,22,95,23],[95,25,95,26],[95,28,95,29],[95,30,95,31],[98,20,98,21],[98,22,98,23],[98,25,98,26],[99,20,99,21],[99,22,99,23],[99,25,99,26],[97,33,97,34],[98,28,98,29],[98,30,98,31],[98,33,98,34],[99,33,99,34],[97,30,97,31],[99,28,99,29],[99,30,99,31],[97,22,97,23],[97,25,97,26],[97,11,104,11],[97,12,97,13],[97,14,97,15],[97,17,97,18],[98,12,98,13],[98,14,98,15],[98,17,98,18],[99,12,99,13],[99,14,99,15],[99,17,99,18],[96,33,96,34],[102,25,102,26],[102,28,102,29],[102,30,102,31],[101,33,101,34],[101,38,101,39],[101,41,101,42],[101,22,101,23],[101,25,101,26],[101,28,101,29],[101,30,101,31],[97,27,104,27],[97,28,97,29],[100,33,100,34],[100,22,100,23],[100,25,100,26],[100,28,100,29],[100,30,100,31],[100,38,100,39],[100,41,100,42],[99,38,99,39],[99,41,99,42],[104,14,104,15],[104,17,104,18],[104,20,104,21],[104,22,104,23],[104,25,104,26],[104,28,104,29],[104,30,104,31],[104,38,104,39],[104,33,104,34],[103,41,103,42],[104,41,104,42],[103,30,103,31],[103,33,103,34],[103,38,103,39],[103,14,103,15],[103,17,103,18],[103,20,103,21],[97,35,104,35],[97,38,97,39],[97,41,97,42],[98,38,98,39],[98,41,98,42],[102,33,102,34],[102,14,102,15],[102,17,102,18],[102,20,102,21],[100,17,100,18],[100,20,100,21],[97,19,104,19],[97,20,97,21],[108,30,108,31],[107,28,107,29],[110,14,110,15],[110,17,110,18],[110,20,110,21],[107,17,107,18],[108,22,108,23],[108,25,108,26],[108,28,108,29],[106,25,106,26],[107,20,107,21],[107,22,107,23],[105,33,105,34],[106,28,106,29],[106,30,106,31],[106,33,106,34],[106,20,106,21],[106,22,106,23],[107,30,107,31],[106,14,106,15],[106,17,106,18],[107,14,107,15],[105,14,105,15],[105,17,105,18],[107,33,107,34],[105,19,112,19],[130,0,132,0],[130,2,130,4],[130,7,130,8],[105,11,112,11],[105,12,105,13],[107,12,107,13],[108,12,108,13],[108,14,108,15],[129,10,129,12],[112,22,112,23],[112,12,112,13],[112,14,112,15],[112,17,112,18],[112,20,112,21],[111,17,111,18],[111,20,111,21],[111,22,111,23],[110,22,110,23],[109,17,109,18],[109,20,109,21],[109,22,109,23],[108,17,108,18],[108,20,108,21],[130,10,130,11],[130,13,130,14],[109,14,109,15],[110,12,110,13],[109,12,109,13],[106,12,106,13],[105,20,105,21],[105,22,105,23],[33,42,33,43],[112,33,112,34],[129,2,129,4],[129,6,129,8],[112,25,112,26],[112,28,112,29],[112,30,112,31],[111,12,111,13],[111,14,111,15],[111,25,111,26],[111,28,111,29],[111,30,111,31],[111,33,111,34],[110,25,110,26],[110,28,110,29],[110,30,110,31],[110,33,110,34],[109,25,109,26],[109,28,109,29],[109,30,109,31],[105,27,112,27],[105,28,105,29],[109,33,109,34],[105,25,105,26],[107,25,107,26],[105,30,105,31],[108,33,108,34],[103,22,103,23],[103,25,103,26],[103,28,103,29],[102,38,102,39],[102,41,102,42],[30,37,30,38],[29,39,29,40],[30,39,30,40],[4,42,4,45],[15,37,15,40],[16,37,16,38],[17,37,17,38],[18,37,18,38],[21,39,21,40],[22,39,22,40],[27,37,27,38],[28,37,28,38],[14,44,14,45],[15,44,15,45],[16,44,16,45],[17,44,17,45],[28,42,28,43],[5,42,5,43],[6,42,6,43],[7,42,7,43],[8,42,8,43],[9,42,9,43],[10,42,10,43],[11,42,14,43],[30,42,30,45],[19,42,19,43],[32,42,32,43],[5,44,5,45],[6,44,6,45],[7,44,7,45],[8,44,8,45],[9,44,9,45],[10,44,10,45],[11,44,11,45],[12,44,12,45],[13,44,13,45],[24,42,24,43],[25,42,25,43],[26,42,26,43],[20,42,23,43],[16,42,16,43],[17,42,17,43],[18,42,18,43],[103,12,103,13],[104,12,104,13],[42,44,42,45],[43,44,43,45],[44,44,44,45],[42,42,42,43],[43,42,43,43],[42,37,42,38],[44,37,44,38],[42,39,42,40],[44,42,44,43],[39,42,39,43],[40,42,40,43],[41,42,41,43],[39,39,39,40],[40,39,40,40],[43,39,43,40],[44,39,44,40],[43,37,43,38],[41,37,41,38],[39,44,39,45],[40,44,40,45],[41,44,41,45],[40,37,40,38],[41,39,41,40],[39,37,39,38],[102,22,102,23],[49,14,49,15],[49,17,49,18],[48,41,48,42],[90,36,90,37],[82,36,82,37],[35,44,35,45],[36,44,36,45],[37,44,37,45],[37,39,37,40],[38,39,38,40],[33,39,33,40],[34,39,34,40],[20,44,20,45],[102,12,102,13],[21,44,21,45],[35,39,35,40],[36,39,36,40],[36,37,36,38],[37,37,37,38],[38,37,38,38],[35,37,35,38],[31,37,31,38],[32,37,32,38],[33,37,33,38],[34,37,34,38],[25,39,25,40],[26,39,26,40],[31,39,31,40],[32,39,32,40],[58,36,58,37],[50,36,50,37],[98,36,98,37],[34,42,34,43],[27,39,27,40],[28,39,28,40],[23,39,23,40],[24,39,24,40],[74,36,74,37],[66,36,66,37],[26,44,26,45],[27,44,27,45],[28,44,28,45],[31,42,31,43],[31,44,31,45],[32,44,32,45],[15,42,15,43],[27,42,27,43],[22,44,22,45],[23,44,23,45],[24,44,24,45],[25,44,25,45],[37,42,37,43],[38,42,38,43],[18,44,18,45],[19,44,19,45],[19,39,19,40],[19,37,19,38],[20,37,20,38],[21,37,21,38]],"merged_total":1010,"flags":["merged_cut"]}
[null,"体温表",null,null,null,{"$f":"設定!$F$7","v":2016},null,"年",null,2,"月"]
[null,"カルテ番号",null,null,"病棟",null,null,"入院形態",null,null,"主治医",null,null,"　姓名",null,{"$f":"'1月'!P2","v":0},null,null,null,null,null,null,null,"性別",null,"生年月日　",null,null,null,null,null,null,"担当Ns"]
[null,{"$f":"'1月'!B3:D4","v":0},null,null,{"$f":"IF(COUNTIF('1月'!E3:G3,\"*\"),INDEX('1月'!E3:G3,MATCH(\"\",'1月'!E3:G3,-1)),\"\")","v":""},null,null,{"$f":"IF(COUNTIF('1月'!H3:J3,\"*\"),INDEX('1月'!H3:J3,MATCH(\"\",'1月'!H3:J3,-1)),\"\")","v":""},null,null,{"$f":"'1月'!K3","v":0},null,null,null,null,{"$f":"'1月'!$P$3","v":0},null,null,null,null,null,null,null,{"$f":"'1月'!$X$3","v":0},null,{"$f":"'1月'!$Z$3","v":"00:00:00"},null,null,null,null,null,{"$f":"DATEDIF(Z3,TODAY(),\"Y\")","v":115},{"$f":"'1月'!$AG$3","v":0}]
[null,null,null,null,"/","/","/","/","/","/",null,null,null,null,null,null,null,null,null,null,null,null,null,null,null,{"$f":"Z3","v":"00:00:00"},null,null,null,null,null,"歳"]
[null,null,null,null,null,null,null,null,null,null,null,null,null,null,null,null,null,null,null,null,null,null,null,null,null,null,null,null,null,null,null,null,null,null,null,null,null,{"$f":"設定!C10","v":"備考欄"},null,null,null,null,{"$f":"設定!I10","v":"食事箋"}]
[null,null,null,null,null,null,null,null,null,null,null,null,null,null,null,null,null,null,null,null,null,null,null,null,null,null,null,null,null,null,null,null,null,null,null,null,null,{"$f":"設定!C11","v":0},null,null,null,null,{"$f":"設定!I11","v":0},null,{"$f":"設定!K11","v":0}]
[null,null,null,null,null,null,null,null,null,null,null,null,null,null,null,null,null,null,null,null,null,null,null,null,null,null,null,null,null,null,null,null,null,null,null,null,null,null,null,null,null,null,{"$f":"設定!I12","v":"常食"},null,{"$f":"設定!K12","v":"常食"}]
[null,null,null,null,null,null,null,null,null,null,null,null,null,null,null,null,null,null,null,null,null,null,null,null,null,null,null,null,null,null,null,null,null,null,null,null,null,null,null,null,null,null,{"$f":"設定!I13","v":"心臓"},null,{"$f":"設定!K13","v":"心臓"}]
[null,null,null,null,null,null,null,null,null,null,null,null,null,null,null,null,null,null,null,null,null,null,null,null,null,null,null,null,null,null,null,null,null,null,null,null,null,null,null,null,null,null,{"$f":"設定!I14","v":"すい臓"},null,{"$f":"設定!K14","v":"膵臓"}]
[null,null,null,null,null,null,null,null,null,null,null,null,null,null,null,null,null,null,null,null,null,null,null,null,null,null,null,null,null,null,null,null,null,null,null,null,null,null,null,null,null,null,{"$f":"設定!I15","v":"じん臓"},null,{"$f":"設定!K15","v":"腎臓"}]
[null,null,null,null,null,null,null,null,null,null,null,null,null,null,null,null,null,null,null,null,null,null,null,null,null,null,null,null,null,null,null,null,null,null,null,null,null,{"$f":"'1月'!AL11","v":0},null,null,null,null,{"$f":"設定!I16","v":"高血圧"},null,{"$f":"設定!K16","v":"高血"}]
[null,null,null,null,null,null,null,null,null,null,null,null,null,null,null,null,null,null,null,null,null,null,null,null,null,null,null,null,null,null,null,null,null,null,null,null,null,{"$f":"'1月'!AL12","v":0},null,null,null,null,{"$f":"設定!I17","v":"糖尿"},null,{"$f":"設定!K17","v":"糖1200"}]
[null,null,null,null,null,null,null,null,null,null,null,null,null,null,null,null,null,null,null,null,null,null,null,null,null,null,null,null,null,null,null,null,null,null,null,null,null,{"$f":"'1月'!AL13","v":0},null,null,null,null,null,null,{"$f":"設定!K18","v":"糖1440"}]
[null,null,null,null,null,null,null,null,null,null,null,null,null,null,null,null,null,null,null,null,null,null,null,null,null,null,null,null,null,null,null,null,null,null,null,null,null,{"$f":"'1月'!AL14","v":0},null,null,null,null,null,null,{"$f":"設定!K19","v":"糖1600"}]
[null,null,null,null,null,null,null,null,null,null,null,null,null,null,null,null,null,null,null,null,null,null,null,null,null,null,null,null,null,null,null,null,null,null,null,null,null,null,null,null,null,null,null,null,{"$f":"設定!K20","v":"糖1800"}]
[null,null,null,null,null,null,null,null,null,null,null,null,null,null,null,null,null,null,null,null,null,null,null,null,null,null,null,null,null,null,null,null,null,null,null,null,null,{"$f":"設定!C21","v":"面会"},null,null,null,null,{"$f":"設定!I21","v":"肝臓A"},null,{"$f":"設定!K21","v":"肝Ａ"}]
[null,"日　付",null,1,2,3,4,5,6,7,8,9,10,11,12,13,14,15,16,17,18,19,20,21,22,23,24,25,26,27,28,29,30,31,"統計",null,null,{"$f":"設定!C22","v":0},null,{"$f":"設定!E22","v":0},null,null,{"$f":"設定!I22","v":"肝臓B"},null,{"$f":"設定!K22","v":"肝Ｂ"}]
[null,"行　動",null,null,null,null,null,null,null,null,null,null,null,null,null,null,null,null,null,null,null,null,null,null,null,null,null,null,null,null,null,null,null,null,null,null,null,{"$f":"設定!C23","v":"両親"},null,{"$f":"設定!E23","v":"両親"},null,null,{"$f":"設定!I23","v":"潰瘍"},null,{"$f":"設定!K23","v":"潰瘍"}]
[null,"時　間",null,null,null,null,null,null,null,null,null,null,null,null,null,null,null,null,null,null,null,null,null,null,null,null,null,null,null,null,null,null,null,null,null,null,null,{"$f":"設定!C24","v":"父"},null,{"$f":"設定!E24","v":"父"},null,null,{"$f":"設定!I24","v":"低残渣食"},null,{"$f":"設定!K24","v":"低残"}]
[null,"行　動",null,null,null,null,null,null,null,null,null,null,null,null,null,null,null,null,null,null,null,null,null,null,null,null,null,null,null,null,null,null,null,null,null,null,null,{"$f":"設定!C25","v":"母"},null,{"$f":"設定!E25","v":"母"},null,null,{"$f":"設定!I25","v":"貧血"},null,{"$f":"設定!K25","v":"貧血"}]
[null,"時　間",null,null,null,null,null,null,null,null,null,null,null,null,null,null,null,null,null,null,null,null,null,null,null,null,null,null,null,null,null,null,null,null,{"$f":"IF(COUNTIF(D18:AH21,\"外出\")+COUNTIF(D18:AH21,\"外泊\")=0,\"回数\",COUNTIF(D18:AH21,\"外出\")+COUNTIF(D18:AH21,\"外泊\"))","v":"回数"},null,null,{"$f":"設定!C26","v":"主人"},null,{"$f":"設定!E26","v":"夫"},null,null,{"$f":"設定!I26","v":"脂質異常"},null,{"$f":"設定!K26","v":"脂1200"}]
[null,"面　会",null,null,null,null,null,null,null,null,null,null,null,null,null,null,null,null,null,null,null,null,null,null,null,null,null,null,null,null,null,null,null,null,null,null,null,{"$f":"設定!C27","v":"奥方"},null,{"$f":"設定!E27","v":"妻"},null,null,null,null,{"$f":"設定!K27","v":"脂1440"}]
[null,null,null,null,null,null,null,null,null,null,null,null,null,null,null,null,null,null,null,null,null,null,null,null,null,null,null,null,null,null,null,null,null,null,{"$f":"IF(COUNTA(D22:AH23)=0,\"回数\",COUNTA(D22:AH23))","v":"回数"},null,null,{"$f":"設定!C28","v":"息子"},null,{"$f":"設定!E28","v":"息子"},null,null,null,null,{"$f":"設定!K28","v":"脂1600"}]
[null,"入　浴",null,null,null,null,null,null,null,null,null,null,null,null,null,null,null,null,null,null,null,null,null,null,null,null,null,null,null,null,null,null,null,null,{"$f":"IF(COUNTA(D24:AH24)=0,\"回数\",COUNTA(D24:AH24))","v":"回数"},null,null,{"$f":"設定!C29","v":"娘"},null,{"$f":"設定!E29","v":"娘"},null,null,null,null,{"$f":"設定!K29","v":"脂1800"}]
[null,"食　事",null,null,null,null,null,null,null,null,null,null,null,null,null,null,null,null,null,null,null,null,null,null,null,null,null,null,null,null,null,null,null,null,null,null,null,{"$f":"設定!C30","v":"兄"},null,{"$f":"設定!E30","v":"兄"},null,null,{"$f":"設定!I30","v":"検査食"},null,{"$f":"設定!K30","v":"検査"}]
[null,null,null,null,null,null,null,null,null,null,null,null,null,null,null,null,null,null,null,null,null,null,null,null,null,null,null,null,null,null,null,null,null,null,null,null,null,{"$f":"設定!C31","v":"弟"},null,{"$f":"設定!E31","v":"弟"},null,null,{"$f":"設定!I31","v":"絶食"},null,{"$f":"設定!K31","v":"絶食"}]
[null,null,null,null,null,null,null,null,null,null,null,null,null,null,null,null,null,null,null,null,null,null,null,null,null,null,null,null,null,null,null,null,null,null,{"$f":"IFERROR(INT(AVERAGE(D141:AH143))& \".\"&INT(AVERAGE(D144:AH146)),\"平均\")","v":"平均"},null,null,{"$f":"設定!C32","v":"姉"},null,{"$f":"設定!E32","v":"姉"},null,null,{"$f":"設定!I32","v":0},null,{"$f":"設定!K32","v":0}]
[null,"便　通",null,{"$f":"IF(ISBLANK(I51),\"\",I51)","v":""},{"$f":"IF(ISBLANK(I52),\"\",I52)","v":""},{"$f":"IF(ISBLANK(I53),\"\",I53)","v":""},{"$f":"IF(ISBLANK(I54),\"\",I54)","v":""},{"$f":"IF(ISBLANK(I55),\"\",I55)","v":""},{"$f":"IF(ISBLANK(I56),\"\",I56)","v":""},{"$f":"IF(ISBLANK(I57),\"\",I57)","v":""},{"$f":"IF(ISBLANK(I58),\"\",I58)","v":""},{"$f":"IF(ISBLANK(I59),\"\",I59)","v":""},{"$f":"IF(ISBLANK(I60),\"\",I60)","v":""},{"$f":"IF(ISBLANK(I61),\"\",I61)","v":""},{"$f":"IF(ISBLANK(I62),\"\",I62)","v":""},{"$f":"IF(ISBLANK(I63),\"\",I63)","v":""},{"$f":"IF(ISBLANK(I64),\"\",I64)","v":""},{"$f":"IF(ISBLANK(I65),\"\",I65)","v":""},{"$f":"IF(ISBLANK(I66),\"\",I66)","v":""},{"$f":"IF(ISBLANK(I67),\"\",I67)","v":""},{"$f":"IF(ISBLANK(I68),\"\",I68)","v":""},{"$f":"IF(ISBLANK(I69),\"\",I69)","v":""},{"$f":"IF(ISBLANK(I70),\"\",I70)","v":""},{"$f":"IF(ISBLANK(I71),\"\",I71)","v":""},{"$f":"IF(ISBLANK(I72),\"\",I72)","v":""},{"$f":"IF(ISBLANK(I73),\"\",I73)","v":""},{"$f":"IF(ISBLANK(I74),\"\",I74)","v":""},{"$f":"IF(ISBLANK(I75),\"\",I75)","v":""},{"$f":"IF(ISBLANK(I76),\"\",I76)","v":""},{"$f":"IF(ISBLANK(I77),\"\",I77)","v":""},{"$f":"IF(ISBLANK(I78),\"\",I78)","v":""},{"$f":"IF(ISBLANK(I79),\"\",I79)","v":""},{"$f":"IF(ISBLANK(I80),\"\",I80)","v":""},{"$f":"IF(ISBLANK('3月'!I50),\"\",'3月'!I50)","v":""},{"$f":"IF(COUNTIF(D28:AH28,0)=0,\"回数\",COUNTIF(D28:AH28,0))","v":"回数"},null,null,{"$f":"設定!C33","v":"妹"},null,{"$f":"設定!E33","v":"妹"},null,null,{"$f":"設定!I33","v":0},null,{"$f":"設定!K33","v":0}]
[null,"便処置",null,null,null,null,null,null,null,null,null,null,null,null,null,null,null,null,null,null,null,null,null,null,null,null,null,null,null,null,null,null,null,null,null,null,null,{"$f":"設定!C34","v":"孫"},null,{"$f":"設定!E34","v":"孫"},null,null,{"$f":"設定!I34","v":0},null,{"$f":"設定!K34","v":0}]
[null,null,null,null,null,null,null,null,null,null,null,null,null,null,null,null,null,null,null,null,null,null,null,null,null,null,null,null,null,null,null,null,null,null,{"$f":"IF(SUM(D29:AH31)=0,\"滴数\",SUM(D29:AH31))","v":"滴数"},null,null,{"$f":"設定!C35","v":"友人知人"},null,{"$f":"設定!E35","v":"知人"}]
[null,null,null,null,null,null,null,null,null,null,null,null,null,null,null,null,null,null,null,null,null,null,null,null,null,null,null,null,null,null,null,null,null,null,{"$f":"IF(AI30=\"滴数\",\"本数\",AI30/150)","v":"本数"},null,null,{"$f":"設定!C36","v":"子の夫"},null,{"$f":"設定!E36","v":"子夫"},null,null,{"$f":"設定!I36","v":"食事形態"}]
[null,"血　圧",null,{"$f":"$R$50","v":0},{"$f":"$R$58","v":0},{"$f":"R66","v":0},{"$f":"R74","v":0},{"$f":"R82","v":0},{"$f":"R90","v":0},{"$f":"R98","v":0},{"$f":"R106","v":0},{"$f":"Z50","v":0},{"$f":"Z58","v":0},{"$f":"Z66","v":0},{"$f":"Z74","v":0},{"$f":"Z82","v":0},{"$f":"Z90","v":0},{"$f":"Z98","v":0},{"$f":"Z106","v":0},{"$f":"AH50","v":0},{"$f":"AH58","v":0},{"$f":"AH66","v":0},{"$f":"AH74","v":0},{"$f":"AH82","v":0},{"$f":"AH90","v":0},{"$f":"AH98","v":0},{"$f":"AH106","v":0},{"$f":"AP50","v":0},{"$f":"AP58","v":0},{"$f":"AP66","v":0},{"$f":"AP74","v":0},{"$f":"AP82","v":0},{"$f":"AP90","v":0},{"$f":"AP98","v":0},null,null,null,{"$f":"設定!C37","v":"子の妻"},null,{"$f":"設定!E37","v":"子妻"},null,null,{"$f":"設定!I37","v":0},null,{"$f":"設定!K37","v":0}]
[null,null,null,{"$f":"$R$51","v":{"$error":"#N/A"}},{"$f":"$R$59","v":{"$error":"#N/A"}},{"$f":"R67","v":{"$error":"#N/A"}},{"$f":"R75","v":{"$error":"#N/A"}},{"$f":"R83","v":{"$error":"#N/A"}},{"$f":"R91","v":{"$error":"#N/A"}},{"$f":"R99","v":{"$error":"#N/A"}},{"$f":"R107","v":{"$error":"#N/A"}},{"$f":"Z51","v":{"$error":"#N/A"}},{"$f":"Z59","v":{"$error":"#N/A"}},{"$f":"Z67","v":{"$error":"#N/A"}},{"$f":"Z75","v":{"$error":"#N/A"}},{"$f":"Z83","v":{"$error":"#N/A"}},{"$f":"Z91","v":{"$error":"#N/A"}},{"$f":"Z99","v":{"$error":"#N/A"}},{"$f":"Z107","v":{"$error":"#N/A"}},{"$f":"AH51","v":{"$error":"#N/A"}},{"$f":"AH59","v":{"$error":"#N/A"}},{"$f":"AH67","v":{"$error":"#N/A"}},{"$f":"AH75","v":{"$error":"#N/A"}},{"$f":"AH83","v":{"$error":"#N/A"}},{"$f":"AH91","v":{"$error":"#N/A"}},{"$f":"AH99","v":{"$error":"#N/A"}},{"$f":"AH107","v":{"$error":"#N/A"}},{"$f":"AP51","v":{"$error":"#N/A"}},{"$f":"AP59","v":{"$error":"#N/A"}},{"$f":"AP67","v":{"$error":"#N/A"}},{"$f":"AP75","v":{"$error":"#N/A"}},{"$f":"AP83","v":{"$error":"#N/A"}},{"$f":"AP91","v":{"$error":"#N/A"}},{"$f":"AP99","v":{"$error":"#N/A"}},null,null,null,{"$f":"設定!C38","v":"祖母"},null,{"$f":"設定!E38","v":"祖母"},null,null,{"$f":"設定!I38","v":"普通食"},null,{"$f":"設定!K38","v":"普通"}]
[null,null,null,{"$f":"$R$52","v":0},{"$f":"$R$60","v":0},{"$f":"R68","v":0},{"$f":"R76","v":0},{"$f":"R84","v":0},{"$f":"R92","v":0},{"$f":"R100","v":0},{"$f":"R108","v":0},{"$f":"Z52","v":0},{"$f":"Z60","v":0},{"$f":"Z68","v":0},{"$f":"Z76","v":0},{"$f":"Z84","v":0},{"$f":"Z92","v":0},{"$f":"Z100","v":0},{"$f":"Z108","v":0},{"$f":"AH52","v":0},{"$f":"AH60","v":0},{"$f":"AH68","v":0},{"$f":"AH76","v":0},{"$f":"AH84","v":0},{"$f":"AH92","v":0},{"$f":"AH100","v":0},{"$f":"AH108","v":0},{"$f":"AP52","v":0},{"$f":"AP60","v":0},{"$f":"AP68","v":0},{"$f":"AP76","v":0},{"$f":"AP84","v":0},{"$f":"AP92","v":0},{"$f":"AP100","v":0},null,null,null,{"$f":"設定!C39","v":"祖父"},null,{"$f":"設定!E39","v":"祖父"},null,null,{"$f":"設定!I39","v":"普+一口大"},null,{"$f":"設定!K39","v":"一口"}]
[null,null,null,{"$f":"$R$53","v":0},{"$f":"$R$61","v":0},{"$f":"R69","v":0},{"$f":"R77","v":0},{"$f":"R85","v":0},{"$f":"R93","v":0},{"$f":"R101","v":0},{"$f":"R109","v":0},{"$f":"Z53","v":0},{"$f":"Z61","v":0},{"$f":"Z69","v":0},{"$f":"Z77","v":0},{"$f":"Z85","v":0},{"$f":"Z93","v":0},{"$f":"Z101","v":0},{"$f":"Z109","v":0},{"$f":"AH53","v":0},{"$f":"AH61","v":0},{"$f":"AH69","v":0},{"$f":"AH77","v":0},{"$f":"AH85","v":0},{"$f":"AH93","v":0},{"$f":"AH101","v":0},{"$f":"AH109","v":0},{"$f":"AP53","v":0},{"$f":"AP61","v":0},{"$f":"AP69","v":0},{"$f":"AP77","v":0},{"$f":"AP85","v":0},{"$f":"AP93","v":0},{"$f":"AP101","v":0},{"$f":"IFERROR(INT(AVERAGE(D149:AH152))& \"/\"&INT(AVERAGE(D153:AH156)),\"平均\")","v":"平均"},null,null,{"$f":"設定!C40","v":"従兄弟の父"},null,{"$f":"設定!E40","v":"叔父"},null,null,{"$f":"設定!I40","v":"普+キザミ"},null,{"$f":"設定!K40","v":"普キ"}]
[null,"食事箋",null,{"$f":"IF(COUNTIF('1月'!D40:AH40,\"*\"),INDEX('1月'!D40:AH40,MATCH(\"\",'1月'!D40:AH40,-1)),\"\")","v":""},null,null,null,null,null,null,null,null,null,null,null,null,null,null,null,null,null,null,null,null,null,null,null,null,null,null,null,null,null,null,null,null,null,{"$f":"設定!C41","v":"従兄弟の母"},null,{"$f":"設定!E41","v":"叔母"},null,null,{"$f":"設定!I41","v":"軟飯"},null,{"$f":"設定!K41","v":"軟飯"}]
[null,"形　態",null,{"$f":"IF(COUNTIF('1月'!D41:AH41,\"*\"),INDEX('1月'!D41:AH41,MATCH(\"\",'1月'!D41:AH41,-1)),\"\")","v":""},null,null,null,null,null,null,null,null,null,null,null,null,null,null,null,null,null,null,null,null,null,null,null,null,null,null,null,null,null,null,null,null,null,{"$f":"設定!C42","v":"従兄弟"},null,{"$f":"設定!E42","v":"ｲﾄｺ"},null,null,{"$f":"設定!I42","v":"軟+キザミ"},null,{"$f":"設定!K42","v":"軟キ"}]
[null,"身　長",null,{"$f":"IF(COUNT('1月'!D42:AH42),LOOKUP(MAX('1月'!D42:AH42)+1,'1月'!D42:AH42),\"\")","v":""},null,null,null,null,null,null,null,null,null,null,null,null,null,null,null,null,null,null,null,null,null,null,null,null,null,null,null,null,null,null,"BMI",null,null,{"$f":"設定!C43","v":"義理の母"},null,{"$f":"設定!E43","v":"義母"},null,null,{"$f":"設定!I43","v":"粥食"},null,{"$f":"設定!K43","v":"粥"}]
[null,"体　重",null,null,null,null,null,null,null,null,null,null,null,null,null,null,null,null,null,null,null,null,null,null,null,null,null,null,null,null,null,null,null,null,{"$f":"IF(ISERROR(INDEX(D39:AH39,MATCH(307,D39:AH39))/(INDEX(D38:AH38,MATCH(9E+307,D38:AH38))/100)^2)=TRUE,\"\",INDEX(D39:AH39,MATCH(307,D39:AH39))/(INDEX(D38:AH38,MATCH(9E+307,D38:AH38))/100)^2)","v":""},null,null,{"$f":"設定!C44","v":"義理の父"},null,{"$f":"設定!E44","v":"義父"},null,null,{"$f":"設定!I44","v":"粥+キザミ"},null,{"$f":"設定!K44","v":"粥キ"}]
[null,"Ｉ　Ｎ",null,null,null,null,null,null,null,null,null,null,null,null,null,null,null,null,null,null,null,null,null,null,null,null,null,null,null,null,null,null,null,null,{"$f":"IFERROR(INT(AVERAGE(D40:AH40)),\"平均\")","v":"平均"},null,null,{"$f":"設定!C45","v":"その他親類"},null,{"$f":"設定!E45","v":"親類"},null,null,{"$f":"設定!I45","v":"ミキサ－"},null,{"$f":"設定!K45","v":"ミキ"}]
[null,"ＯＵＴ",null,null,null,null,null,null,null,null,null,null,null,null,null,null,null,null,null,null,null,null,null,null,null,null,null,null,null,null,null,null,null,null,{"$f":"IFERROR(INT(AVERAGE(D41:AH41)),\"平均\")","v":"平均"},null,null,{"$f":"設定!C46","v":"福祉職員"},null,{"$f":"設定!E46","v":"福祉"},null,null,{"$f":"設定!I46","v":"普通流動"},null,{"$f":"設定!K46","v":"普流"}]
[null,"生　理",null,null,null,null,null,null,null,null,null,null,null,null,null,null,null,null,null,null,null,null,null,null,null,null,null,null,null,null,null,null,null,null,{"$f":"IF(ISERROR(AVERAGE(D42:AH42)),\" \",AVERAGE(D42:AH42))","v":" "},null,null,{"$f":"設定!C47","v":"施設職員"},null,{"$f":"設定!E47","v":"施設"},null,null,{"$f":"設定!I47","v":"濃厚流動"},null,{"$f":"設定!K47","v":"濃流"}]
[null,null,null,null,null,null,null,null,null,null,null,null,null,null,null,null,null,null,null,null,null,null,null,null,null,null,null,null,null,null,null,null,null,null,{"$f":"IF(ISERROR(AVERAGE(D43:AH43)),\" \",AVERAGE(D43:AH43))","v":" "},null,null,{"$f":"設定!C48","v":0},null,{"$f":"設定!E48","v":0},null,null,{"$f":"設定!H48","v":0},null,{"$f":"設定!J48","v":0}]
[null,null,null,null,null,null,null,null,null,null,null,null,null,null,null,null,null,null,null,null,null,null,null,null,null,null,null,null,null,null,null,null,null,null,{"$f":"COUNTA(D44:AH44)","v":0},null,null,{"$f":"設定!C49","v":0},null,{"$f":"設定!E49","v":0},null,null,{"$f":"設定!H49","v":0},null,{"$f":"設定!J49","v":0}]
[null,"日　付",null,1,2,3,4,5,6,7,8,9,10,11,12,13,14,15,16,17,18,19,20,21,22,23,24,25,26,27,28,29,30,31,null,null,null,{"$f":"設定!C50","v":0},null,{"$f":"設定!E50","v":0},null,null,{"$f":"設定!H50","v":0},null,{"$f":"設定!J50","v":0}]
[]
[null,{"$f":"$P$3","v":0},null,null,null,null,null,{"$f":"YEAR(I47)","v":2015},{"$f":"TODAY()","v":"2015-02-24"},{"$f":"TODAY()","v":42059}]
[null,"平常時記入",null,null,null,null,null,null,null,null,null,"熱発時記入"]
[null,"日","時間","T",null," P","BP",null,"便",null,null,"日","時間",null,"T",null,"P","BP",null,"日","時間",null,"T",null,"P","BP",null,"日","時間",null,"T",null,"P","BP",null,"日","時間",null,"T",null,"P","BP"]
[null,1,"10:00:00",null,null,null,null,null,null,null,null,1,null,null,null,null,null,null,null,9,null,null,null,null,null,null,null,17,null,null,null,null,null,null,null,25]
[null,2,"10:00:00",null,null,null,null,null,null,null,null,null,"10:00:00",null,{"$f":"IF($D$50=\"\",NA(),$D$50)","v":{"$error":"#N/A"}},null,{"$f":"IF($F$50=\"\",NA(),$F$50)","v":{"$error":"#N/A"}},{"$f":"IF($G$50=\"\",NA(),$G$50)","v":{"$error":"#N/A"}},null,null,"10:00:00",null,{"$f":"IF($D$58=\"\",NA(),$D$58)","v":{"$error":"#N/A"}},null,{"$f":"IF($F$58=\"\",NA(),$F$58)","v":{"$error":"#N/A"}},{"$f":"IF($G$58=\"\",NA(),$G$58)","v":{"$error":"#N/A"}},null,null,"10:00:00",null,{"$f":"IF($D$66=\"\",NA(),$D$66)","v":{"$error":"#N/A"}},null,{"$f":"IF($F$66=\"\",NA(),$F$66)","v":{"$error":"#N/A"}},{"$f":"IF($G$66=\"\",NA(),$G$66)","v":{"$error":"#N/A"}},null,null,"10:00:00",null,{"$f":"IF($D$74=\"\",NA(),$D$74)","v":{"$error":"#N/A"}},null,{"$f":"IF($F$74=\"\",NA(),$F$74)","v":{"$error":"#N/A"}},{"$f":"IF($G$74=\"\",NA(),$G$74)","v":{"$error":"#N/A"}}]
[null,3,"10:00:00",null,null,null,null,null,null,"☆"]
[null,4,"10:00:00"]
[null,5,"10:00:00",null,null,null,null,null,null,"コ"]
[null,6,"10:00:00",null,null,null,null,null,null,"ス"]
[null,7,"10:00:00",null,null,null,null,null,null,"モ"]
[null,8,"10:00:00",null,null,null,null,null,null,"ス"]
[null,9,"10:00:00",null,null,null,null,null,null,"へ",null,2,null,null,null,null,null,null,null,10,null,null,null,null,null,null,null,18,null,null,null,null,null,null,null,26]
[null,10,"10:00:00",null,null,null,null,null,null,"戻",null,null,"10:00:00",null,{"$f":"IF($D$51=\"\",NA(),$D$51)","v":{"$error":"#N/A"}},null,{"$f":"IF($F$51=\"\",NA(),$F$51)","v":{"$error":"#N/A"}},{"$f":"IF($G$51=\"\",NA(),$G$51)","v":{"$error":"#N/A"}},null,null,"10:00:00",null,{"$f":"IF($D$59=\"\",NA(),$D$59)","v":{"$error":"#N/A"}},null,{"$f":"IF($F$59=\"\",NA(),$F$59)","v":{"$error":"#N/A"}},{"$f":"IF($G$59=\"\",NA(),$G$59)","v":{"$error":"#N/A"}},null,null,"10:00:00",null,{"$f":"IF($D$67=\"\",NA(),$D$67)","v":{"$error":"#N/A"}},null,{"$f":"IF($F$67=\"\",NA(),$F$67)","v":{"$error":"#N/A"}},{"$f":"IF($G$67=\"\",NA(),$G$67)","v":{"$error":"#N/A"}},null,null,"10:00:00",null,{"$f":"IF($D$75=\"\",NA(),$D$75)","v":{"$error":"#N/A"}},null,{"$f":"IF($F$75=\"\",NA(),$F$75)","v":{"$error":"#N/A"}},{"$f":"IF($G$75=\"\",NA(),$G$75)","v":{"$error":"#N/A"}}]
[null,11,"10:00:00",null,null,null,null,null,null,"る"]
[null,12,"10:00:00"]
[null,13,"10:00:00"]
[null,14,"10:00:00",null,null,null,null,null,null,"（"]
[null,15,"10:00:00",null,null,null,null,null,null,"選"]
[null,16,"10:00:00",null,null,null,null,null,null,"択"]
[null,17,"10:00:00",null,null,null,null,null,null,"す",null,3,null,null,null,null,null,null,null,11,null,null,null,null,null,null,null,19,null,null,null,null,null,null,null,27]
[null,18,"10:00:00",null,null,null,null,null,null,"る",null,null,"10:00:00",null,{"$f":"IF($D$52=\"\",NA(),$D$52)","v":{"$error":"#N/A"}},null,{"$f":"IF($F$52=\"\",NA(),$F$52)","v":{"$error":"#N/A"}},{"$f":"IF($G$52=\"\",NA(),$G$52)","v":{"$error":"#N/A"}},null,null,"10:00:00",null,{"$f":"IF($D$60=\"\",NA(),$D$60)","v":{"$error":"#N/A"}},null,{"$f":"IF($F$60=\"\",NA(),$F$60)","v":{"$error":"#N/A"}},{"$f":"IF($G$60=\"\",NA(),$G$60)","v":{"$error":"#N/A"}},null,null,"10:00:00",null,{"$f":"IF($D$68=\"\",NA(),$D$68)","v":{"$error":"#N/A"}},null,{"$f":"IF($F$68=\"\",NA(),$F$68)","v":{"$error":"#N/A"}},{"$f":"IF($G$68=\"\",NA(),$G$68)","v":{"$error":"#N/A"}},null,null,"10:00:00",null,{"$f":"IF($D$76=\"\",NA(),$D$76)","v":{"$error":"#N/A"}},null,{"$f":"IF($F$76=\"\",NA(),$F$76)","v":{"$error":"#N/A"}},{"$f":"IF($G$76=\"\",NA(),$G$76)","v":{"$error":"#N/A"}}]
[null,19,"10:00:00",null,null,null,null,null,null,"だ"]
[null,20,"10:00:00",null,null,null,null,null,null,"け"]
[null,21,"10:00:00",null,null,null,null,null,null,"で"]
[null,22,"10:00:00",null,null,null,null,null,null,"移"]
[null,23,"10:00:00",null,null,null,null,null,null,"動"]
[null,24,"10:00:00",null,null,null,null,null,null,"し"]
[null,25,"10:00:00",null,null,null,null,null,null,"ま",null,4,null,null,null,null,null,null,null,12,null,null,null,null,null,null,null,20,null,null,null,null,null,null,null,28]
[null,26,"10:00:00",null,null,null,null,null,null,"す",null,null,"10:00:00",null,{"$f":"IF($D$53=\"\",NA(),$D$53)","v":{"$error":"#N/A"}},null,{"$f":"IF($F$53=\"\",NA(),$F$53)","v":{"$error":"#N/A"}},{"$f":"IF($G$53=\"\",NA(),$G$53)","v":{"$error":"#N/A"}},null,null,"10:00:00",null,{"$f":"IF($D$61=\"\",NA(),$D$61)","v":{"$error":"#N/A"}},null,{"$f":"IF($F$61=\"\",NA(),$F$61)","v":{"$error":"#N/A"}},{"$f":"IF($G$61=\"\",NA(),$G$61)","v":{"$error":"#N/A"}},null,null,"10:00:00",null,{"$f":"IF($D$69=\"\",NA(),$D$69)","v":{"$error":"#N/A"}},null,{"$f":"IF($F$69=\"\",NA(),$F$69)","v":{"$error":"#N/A"}},{"$f":"IF($G$69=\"\",NA(),$G$69)","v":{"$error":"#N/A"}},null,null,"10:00:00",null,{"$f":"IF($D$77=\"\",NA(),$D$77)","v":{"$error":"#N/A"}},null,{"$f":"IF($F$77=\"\",NA(),$F$77)","v":{"$error":"#N/A"}},{"$f":"IF($G$77=\"\",NA(),$G$77)","v":{"$error":"#N/A"}}]
[null,27,"10:00:00",null,null,null,null,null,null,"）"]
[null,28,"10:00:00"]
[null,29,"10:00:00"]
[null,30,"10:00:00"]
[null,31,"10:00:00"]
[]
[null,null,null,null,null,null,null,null,null,null,null,5,null,null,null,null,null,null,null,13,null,null,null,null,null,null,null,21,null,null,null,null,null,null,null,29]
[null,null,null,null,null,null,null,null,null,null,null,null,"10:00:00",null,{"$f":"IF($D$54=\"\",NA(),$D$54)","v":{"$error":"#N/A"}},null,{"$f":"IF($F$54=\"\",NA(),$F$54)","v":{"$error":"#N/A"}},{"$f":"IF($G$54=\"\",NA(),$G$54)","v":{"$error":"#N/A"}},null,null,"10:00:00",null,{"$f":"IF($D$62=\"\",NA(),$D$62)","v":{"$error":"#N/A"}},null,{"$f":"IF($F$62=\"\",NA(),$F$62)","v":{"$error":"#N/A"}},{"$f":"IF($G$62=\"\",NA(),$G$62)","v":{"$error":"#N/A"}},null,null,"10:00:00",null,{"$f":"IF($D$70=\"\",NA(),$D$70)","v":{"$error":"#N/A"}},null,{"$f":"IF($F$70=\"\",NA(),$F$70)","v":{"$error":"#N/A"}},{"$f":"IF($G$70=\"\",NA(),$G$70)","v":{"$error":"#N/A"}},null,null,"10:00:00",null,{"$f":"IF($D$78=\"\",NA(),$D$78)","v":{"$error":"#N/A"}},null,{"$f":"IF($F$78=\"\",NA(),$F$78)","v":{"$error":"#N/A"}},{"$f":"IF($G$78=\"\",NA(),$G$78)","v":{"$error":"#N/A"}}]
[]
[]
[]
[]
[]
[]
[null,null,null,null,null,null,null,null,null,null,null,6,null,null,null,null,null,null,null,14,null,null,null,null,null,null,null,22,null,null,null,null,null,null,null,30]
[null,null,null,null,null,null,null,null,null,null,null,null,"10:00:00",null,{"$f":"IF($D$55=\"\",NA(),$D$55)","v":{"$error":"#N/A"}},null,{"$f":"IF($F$55=\"\",NA(),$F$55)","v":{"$error":"#N/A"}},{"$f":"IF($G$55=\"\",NA(),$G$55)","v":{"$error":"#N/A"}},null,null,"10:00:00",null,{"$f":"IF($D$63=\"\",NA(),$D$63)","v":{"$error":"#N/A"}},null,{"$f":"IF($F$63=\"\",NA(),$F$63)","v":{"$error":"#N/A"}},{"$f":"IF($G$63=\"\",NA(),$G$63)","v":{"$error":"#N/A"}},null,null,"10:00:00",null,{"$f":"IF($D$71=\"\",NA(),$D$71)","v":{"$error":"#N/A"}},null,{"$f":"IF($F$71=\"\",NA(),$F$71)","v":{"$error":"#N/A"}},{"$f":"IF($G$71=\"\",NA(),$G$71)","v":{"$error":"#N/A"}},null,null,"10:00:00",null,{"$f":"IF($D$79=\"\",NA(),$D$79)","v":{"$error":"#N/A"}},null,{"$f":"IF($F$79=\"\",NA(),$F$79)","v":{"$error":"#N/A"}},{"$f":"IF($G$79=\"\",NA(),$G$79)","v":{"$error":"#N/A"}}]
[]
[]
[]
[]
[]
[]
[null,null,null,null,null,null,null,null,null,null,null,7,null,null,null,null,null,null,null,15,null,null,null,null,null,null,null,23,null,null,null,null,null,null,null,31]
[null,null,null,null,null,null,null,null,null,null,null,null,"10:00:00",null,{"$f":"IF($D$56=\"\",NA(),$D$56)","v":{"$error":"#N/A"}},null,{"$f":"IF($F$56=\"\",NA(),$F$56)","v":{"$error":"#N/A"}},{"$f":"IF($G$56=\"\",NA(),$G$56)","v":{"$error":"#N/A"}},null,null,"10:00:00",null,{"$f":"IF($D$64=\"\",NA(),$D$64)","v":{"$error":"#N/A"}},null,{"$f":"IF($F$64=\"\",NA(),$F$64)","v":{"$error":"#N/A"}},{"$f":"IF($G$64=\"\",NA(),$G$64)","v":{"$error":"#N/A"}},null,null,"10:00:00",null,{"$f":"IF($D$72=\"\",NA(),$D$72)","v":{"$error":"#N/A"}},null,{"$f":"IF($F$72=\"\",NA(),$F$72)","v":{"$error":"#N/A"}},{"$f":"IF($G$72=\"\",NA(),$G$72)","v":{"$error":"#N/A"}},null,null,"10:00:00",null,{"$f":"IF($D$80=\"\",NA(),$D$80)","v":{"$error":"#N/A"}},null,{"$f":"IF($F$80=\"\",NA(),$F$80)","v":{"$error":"#N/A"}},{"$f":"IF($G$80=\"\",NA(),$G$80)","v":{"$error":"#N/A"}}]
[]
[]
[]
[]
[]
[]
[null,null,null,null,null,null,null,null,null,null,null,8,null,null,null,null,null,null,null,16,null,null,null,null,null,null,null,24]
[null,null,null,null,null,null,null,null,null,null,null,null,"10:00:00",null,{"$f":"IF($D$57=\"\",NA(),$D$57)","v":{"$error":"#N/A"}},null,{"$f":"IF($F$57=\"\",NA(),$F$57)","v":{"$error":"#N/A"}},{"$f":"IF($G$57=\"\",NA(),$G$57)","v":{"$error":"#N/A"}},null,null,"10:00:00",null,{"$f":"IF($D$65=\"\",NA(),$D$65)","v":{"$error":"#N/A"}},null,{"$f":"IF($F$65=\"\",NA(),$F$65)","v":{"$error":"#N/A"}},{"$f":"IF($G$65=\"\",NA(),$G$65)","v":{"$error":"#N/A"}},null,null,"10:00:00",null,{"$f":"IF($D$73=\"\",NA(),$D$73)","v":{"$error":"#N/A"}},null,{"$f":"IF($F$73=\"\",NA(),$F$73)","v":{"$error":"#N/A"}},{"$f":"IF($G$73=\"\",NA(),$G$73)","v":{"$error":"#N/A"}}]
[]
[]
[]
[]
[]
[]
[]
[]
[]
[]
[]
[]
[]
[]
[]
[]
[]
[]
[]
[]
[]
[null,null,"Enterで入力画面へ"]
[null,null,"ｶｰｿﾙ初期位置",null,null,null,"日付チェック",null,null,null,"バイタルコピー"]
["管理欄",null,"入力に入る",null,null,null,"今日",{"$f":"NOW()","v":"2015-02-24T03:11:52.510"},null,null,"T=未測定",null," P=未測定"," BP=未測定",null,{"$f":"K131&M131&N131","v":"T=未測定 P=未測定 BP=未測定"},"   "]
[null,null,null,null,null,null,"日",{"$f":"DAY(H131)","v":24},null,null,null,null,null,null,null,""]
[null,null,null,null,null,null,"月",{"$f":"MONTH(H131)","v":2},null,null,null,null,null,null,null,""]
[null,null,null,null,null,null,null,null,null,null,null,null,null,null,null,""]
[null,null,null,null,null,null,"時",{"$f":"HOUR(H131)","v":3},null,null,null,null,null,null,null,""]
[null,null,null,null,null,null,null,null,null,null,null,null,null,null,null,""]
[null,null,null,null,null,null,null,null,null,null,null,null,null,null,null,""]
[null,null,null,null,null,null,null,null,null,null,null,null,null,null,null,""]
[null,null,null,null,null,null,null,null,null,null,null,null,null,null,null,""]
[null,null,"食事平均",null,null,null,null,null,null,null,null,null,null,null,null,""]
[null,null,"左",{"$f":"IF(D25=\"\", \"\", LEFT(D25,SEARCH(\".\",D25,1)-1)*1)","v":""},"","","","","","",null,null,null,null,null,{"$f":"IF(P25=\"\", \"\", LEFT(P25,SEARCH(\".\",P25,1)-1)*1)","v":""},null,{"$f":"IF(R25=\"\", \"\", LEFT(R25,SEARCH(\".\",R25,1)-1)*1)","v":""},"","","","","","","","","","","","","","","",""]
[null,null,null,"","","","","","","",null,null,null,null,null,{"$f":"IF(P26=\"\", \"\", LEFT(P26,SEARCH(\".\",P26,1)-1)*1)","v":""},null,{"$f":"IF(R26=\"\", \"\", LEFT(R26,SEARCH(\".\",R26,1)-1)*1)","v":""},"","","","","","","","","","","","","","","",""]
[null,null,null,"","","","","","","",null,null,null,null,null,{"$f":"IF(P27=\"\", \"\", LEFT(P27,SEARCH(\".\",P27,1)-1)*1)","v":""},null,{"$f":"IF(R27=\"\", \"\", LEFT(R27,SEARCH(\".\",R27,1)-1)*1)","v":""},"","","","","","","","","","","","","","","",""]
[null,null,"右",{"$f":"IF(D25=\"\", \"\", RIGHT(D25,LEN(D25)-FIND(\".\",D25,1))*1)","v":""},"","","","","","",null,null,null,null,null,{"$f":"IF(P25=\"\", \"\", RIGHT(P25,LEN(P25)-FIND(\".\",P25,1))*1)","v":""},null,{"$f":"IF(R25=\"\", \"\", RIGHT(R25,LEN(R25)-FIND(\".\",R25,1))*1)","v":""},"","","","","","","","","","","","","","","",""]
[null,null,null,"","","","","","","",null,null,null,null,null,{"$f":"IF(P26=\"\", \"\", RIGHT(P26,LEN(P26)-FIND(\".\",P26,1))*1)","v":""},null,{"$f":"IF(R26=\"\", \"\", RIGHT(R26,LEN(R26)-FIND(\".\",R26,1))*1)","v":""},"","","","","","","","","","","","","","","",""]
[null,null,null,"","","","","","","",null,null,null,null,null,{"$f":"IF(P27=\"\", \"\", RIGHT(P27,LEN(P27)-FIND(\".\",P27,1))*1)","v":""},null,{"$f":"IF(R27=\"\", \"\", RIGHT(R27,LEN(R27)-FIND(\".\",R27,1))*1)","v":""},"","","","","","","","","","","","","","","",""]
[null,null,null,null,null,null,null,null,null,null,null,null,null,null,null,""]
[null,null,"BP平均",null,null,null,null,null,null,null,null,null,null,null,null,{"$f":"K148&M148&N148","v":""}]
[null,null,"左",{"$f":"IF(ISERROR(LEFT(D32,SEARCH(\"/\",D32,1)-1)*1),\"\",LEFT(D32,SEARCH(\"/\",D32,1)-1)*1)","v":""},{"$f":"IF(ISERROR(LEFT(E32,SEARCH(\"/\",E32,1)-1)*1),\"\",LEFT(E32,SEARCH(\"/\",E32,1)-1)*1)","v":""},"","","","","","","","","","","","","","","","","","","","","","","","","","","","",""]
[null,null,null,{"$f":"IF(ISERROR(LEFT(D33,SEARCH(\"/\",D33,1)-1)*1),\"\",LEFT(D33,SEARCH(\"/\",D33,1)-1)*1)","v":""},"","","","","","","","","","","","","","","","","","","","","","","","","","","","","",""]
[null,null,null,"","","","","","","","","","","","","","","","","","","","","","","","","","","","","","",""]
[null,null,null,"","","","","","","","","","","","","","","","","","","","","","","","","","","","","","",""]
[null,null,"右",{"$f":"IF(ISERROR(RIGHT(D32,LEN(D32)-FIND(\"/\",D32,1))*1),\"\",RIGHT(D32,LEN(D32)-FIND(\"/\",D32,1))*1)","v":""},{"$f":"IF(ISERROR(RIGHT(E32,LEN(E32)-FIND(\"/\",E32,1))*1),\"\",RIGHT(E32,LEN(E32)-FIND(\"/\",E32,1))*1)","v":""},{"$f":"IF(ISERROR(RIGHT(F32,LEN(F32)-FIND(\"/\",F32,1))*1),\"\",RIGHT(F32,LEN(F32)-FIND(\"/\",F32,1))*1)","v":""},"","","","","","","","","","","","","","","","","","","","","","","","","","","",""]
[null,null,null,{"$f":"IF(ISERROR(RIGHT(D33,LEN(D33)-FIND(\"/\",D33,1))*1),\"\",RIGHT(D33,LEN(D33)-FIND(\"/\",D33,1))*1)","v":""},"","","","","","","","","","","","","","","","","","","","","","","","","","","","","",""]
[null,null,null,"","","","","","","","","","","","","","","","","","","","","","","","","","","","","","",""]
[null,null,null,"","","","","","","","","","","","","","","","","","","","","","","","","","","","","","",""]
[null,null,null,null,null,null,null,null,null,null,null,null,null,null,null,""]
[null,null,null,null,null,null,null,null,null,null,null,null,null,null,null,""]
[null,null,null,null,null,null,null,null,null,null,null,null,null,null,null,""]
[null,null,null,null,null,null,null,null,null,null,null,null,null,null,null,""]
[null,null,null,null,null,null,null,null,null,null,null,null,null,null,null,""]

{"sheet":"3月","index":3,"n_rows":161,"n_cols":45,"rows_kept":161,"cut":false,"hidden":false,"merged":[[31,1,34,2],[35,1,35,2],[36,1,36,2],[37,1,37,2],[38,1,38,2],[24,1,26,2],[49,3,49,4],[49,6,49,7],[1,32,1,34],[2,32,3,34],[102,12,102,13],[1,23,1,24],[2,23,3,24],[102,22,102,23],[102,25,102,26],[103,12,103,13],[104,12,104,13],[100,12,100,13],[100,14,100,15],[100,17,100,18],[100,20,100,21],[100,22,100,23],[100,25,100,26],[100,28,100,29],[100,30,100,31],[96,12,96,13],[96,14,96,15],[96,30,96,31],[96,33,96,34],[93,30,93,31],[94,28,94,29],[92,33,92,34],[108,33,108,34],[109,14,109,15],[1,13,1,14],[2,15,3,20],[1,15,1,19],[1,25,1,31],[2,25,2,30],[3,25,3,30],[105,14,105,15],[105,33,105,34],[106,33,106,34],[107,33,107,34],[97,11,104,11],[97,12,97,13],[97,14,97,15],[97,17,97,18],[98,12,98,13],[98,14,98,15],[98,17,98,18],[99,12,99,13],[99,14,99,15],[108,22,108,23],[108,25,108,26],[109,22,109,23],[109,25,109,26],[109,30,109,31],[109,33,109,34],[108,30,108,31],[101,25,101,26],[101,33,101,34],[93,12,93,13],[93,14,93,15],[96,17,96,18],[96,20,96,21],[96,22,96,23],[96,25,96,26],[96,28,96,29],[41,37,41,38],[39,44,39,45],[40,44,40,45],[41,44,41,45],[40,37,40,38],[39,42,39,43],[40,42,40,43],[41,42,41,43],[39,39,39,40],[40,39,40,40],[44,37,44,38],[42,39,42,40],[43,39,43,40],[44,39,44,40],[43,37,43,38],[42,37,42,38],[44,42,44,43],[42,44,42,45],[43,44,43,45],[44,44,44,45],[42,42,42,43],[43,42,43,43],[41,39,41,40],[39,37,39,38],[95,17,95,18],[95,20,95,21],[95,22,95,23],[36,44,36,45],[37,44,37,45],[38,44,38,45],[35,42,35,43],[36,42,36,43],[37,42,37,43],[38,42,38,43],[32,44,32,45],[33,44,33,45],[34,44,34,45],[35,44,35,45],[32,39,32,40],[93,17,93,18],[93,20,93,21],[93,22,93,23],[34,42,34,43],[16,44,16,45],[17,44,17,45],[33,42,33,43],[5,44,5,45],[6,44,6,45],[7,44,7,45],[8,44,8,45],[14,44,14,45],[15,44,15,45],[9,44,9,45],[10,44,10,45],[11,44,11,45],[12,44,12,45],[20,44,20,45],[21,44,21,45],[22,44,22,45],[23,44,23,45],[24,44,24,45],[25,44,25,45],[7,42,7,43],[8,42,8,43],[16,42,16,43],[17,42,17,43],[9,42,9,43],[10,42,10,43],[11,42,14,43],[18,44,18,45],[27,39,27,40],[29,37,29,38],[30,37,30,38],[29,39,29,40],[30,39,30,40],[25,37,25,38],[26,37,26,38],[20,39,20,40],[11,37,11,40],[12,37,12,40],[33,39,33,40],[34,39,34,40],[23,39,23,40],[24,39,24,40],[28,37,28,38],[13,44,13,45],[24,42,24,43],[25,42,25,43],[26,42,26,43],[20,42,23,43],[18,42,18,43],[19,42,19,43],[15,42,15,43],[16,39,16,40],[27,44,27,45],[28,44,28,45],[31,42,31,43],[31,44,31,45],[28,42,28,43],[27,42,27,43],[19,44,19,45],[26,44,26,45],[112,30,112,31],[4,42,4,45],[15,37,15,40],[30,42,30,45],[16,37,16,38],[17,37,17,38],[18,37,18,38],[21,39,21,40],[22,39,22,40],[27,37,27,38],[28,39,28,40],[32,42,32,43],[19,37,19,38],[20,37,20,38],[21,37,21,38],[22,37,22,38],[23,37,23,38],[24,37,24,38],[17,39,17,40],[18,39,18,40],[19,39,19,40],[5,42,5,43],[6,42,6,43],[31,37,31,38],[32,37,32,38],[33,37,33,38],[13,37,13,40],[10,37,10,40],[34,37,34,38],[25,39,25,40],[26,39,26,40],[31,39,31,40],[112,14,112,15],[112,17,112,18],[112,20,112,21],[111,14,111,15],[111,12,111,13],[130,0,132,0],[130,2,130,4],[130,7,130,8],[105,11,112,11],[105,12,105,13],[107,12,107,13],[108,12,108,13],[110,12,110,13],[109,12,109,13],[106,12,106,13],[108,14,108,15],[129,10,129,12],[110,14,110,15],[110,17,110,18],[110,20,110,21],[107,17,107,18],[130,10,130,11],[130,13,130,14],[129,2,129,4],[129,6,129,8],[112,12,112,13],[109,17,109,18],[109,20,109,21],[111,28,111,29],[111,30,111,31],[111,33,111,34],[110,33,110,34],[110,22,110,23],[110,25,110,26],[110,28,110,29],[36,37,36,38],[110,30,110,31],[111,17,111,18],[111,20,111,21],[111,22,111,23],[111,25,111,26],[105,19,112,19],[105,20,105,21],[112,22,112,23],[108,17,108,18],[108,20,108,21],[106,25,106,26],[107,20,107,21],[107,22,107,23],[107,28,107,29],[108,28,108,29],[105,27,112,27],[105,28,105,29],[109,28,109,29],[105,17,105,18],[106,28,106,29],[106,30,106,31],[112,33,112,34],[112,25,112,26],[112,28,112,29],[103,41,103,42],[104,41,104,42],[104,14,104,15],[104,17,104,18],[104,20,104,21],[104,36,104,37],[104,22,104,23],[104,25,104,26],[104,28,104,29],[104,30,104,31],[105,22,105,23],[105,25,105,26],[106,20,106,21],[106,22,106,23],[107,30,107,31],[107,25,107,26],[105,30,105,31],[106,14,106,15],[106,17,106,18],[107,14,107,15],[97,27,104,27],[97,28,97,29],[97,30,97,31],[98,41,98,42],[99,36,99,37],[99,38,99,39],[99,41,99,42],[99,17,99,18],[99,33,99,34],[98,30,98,31],[98,33,98,34],[99,25,99,26],[102,17,102,18],[102,20,102,21],[103,22,103,23],[103,25,103,26],[103,28,103,29],[103,30,103,31],[103,33,103,34],[103,36,103,37],[103,38,103,39],[97,19,104,19],[97,20,97,21],[97,22,97,23],[97,25,97,26],[98,20,98,21],[98,22,98,23],[98,25,98,26],[99,20,99,21],[99,22,99,23],[97,33,97,34],[98,28,98,29],[104,38,104,39],[104,33,104,34],[100,36,100,37],[100,38,100,39],[100,41,100,42],[97,35,104,35],[97,36,97,37],[97,38,97,39],[97,41,97,42],[98,36,98,37],[98,38,98,39],[101,12,101,13],[101,14,101,15],[99,28,99,29],[99,30,99,31],[101,28,101,29],[101,30,101,31],[102,28,102,29],[100,33,100,34],[101,17,101,18],[101,20,101,21],[101,22,101,23],[101,36,101,37],[101,38,101,39],[101,41,101,42],[102,36,102,37],[102,38,102,39],[102,41,102,42],[102,33,102,34],[102,30,102,31],[103,14,103,15],[103,17,103,18],[103,20,103,21],[102,14,102,15],[92,36,92,37],[92,38,92,39],[92,41,92,42],[89,35,96,35],[89,36,89,37],[89,38,89,39],[89,41,89,42],[90,36,90,37],[90,38,90,39],[90,30,90,31],[90,33,90,34],[91,25,91,26],[90,41,90,42],[91,36,91,37],[91,38,91,39],[95,25,95,26],[95,28,95,29],[95,30,95,31],[95,33,95,34],[95,36,95,37],[95,38,95,39],[95,41,95,42],[91,41,91,42],[96,36,96,37],[96,38,96,39],[96,41,96,42],[88,12,88,13],[88,14,88,15],[88,17,88,18],[88,20,88,21],[88,22,88,23],[88,25,88,26],[88,33,88,34],[88,36,88,37],[88,38,88,39],[88,41,88,42],[93,25,93,26],[93,33,93,34],[93,36,93,37],[93,38,93,39],[93,41,93,42],[94,12,94,13],[94,14,94,15],[94,17,94,18],[94,36,94,37],[94,38,94,39],[94,41,94,42],[92,20,92,21],[92,22,92,23],[92,25,92,26],[92,28,92,29],[92,30,92,31],[89,27,96,27],[89,28,89,29],[89,30,89,31],[91,28,91,29],[91,30,91,31],[93,28,93,29],[89,11,96,11],[89,12,89,13],[89,14,89,15],[89,17,89,18],[90,12,90,13],[90,14,90,15],[90,17,90,18],[91,12,91,13],[91,14,91,15],[91,17,91,18],[91,33,91,34],[89,19,96,19],[89,20,89,21],[89,22,89,23],[89,25,89,26],[90,20,90,21],[90,22,90,23],[90,25,90,26],[91,20,91,21],[91,22,91,23],[89,33,89,34],[90,28,90,29],[94,20,94,21],[94,22,94,23],[94,25,94,26],[94,30,94,31],[94,33,94,34],[92,12,92,13],[92,14,92,15],[92,17,92,18],[95,12,95,13],[95,14,95,15],[86,12,86,13],[86,14,86,15],[86,17,86,18],[86,20,86,21],[86,22,86,23],[86,25,86,26],[86,28,86,29],[86,33,86,34],[86,36,86,37],[86,38,86,39],[86,41,86,42],[87,12,87,13],[87,14,87,15],[87,17,87,18],[87,20,87,21],[87,22,87,23],[87,25,87,26],[87,33,87,34],[87,36,87,37],[87,38,87,39],[87,41,87,42],[84,22,84,23],[84,25,84,26],[84,28,84,29],[84,30,84,31],[84,33,84,34],[84,41,84,42],[85,12,85,13],[85,14,85,15],[85,17,85,18],[85,20,85,21],[85,22,85,23],[85,25,85,26],[85,28,85,29],[85,30,85,31],[85,33,85,34],[85,36,85,37],[85,38,85,39],[85,41,85,42],[81,38,81,39],[82,36,82,37],[82,38,82,39],[83,36,83,37],[83,38,83,39],[84,36,84,37],[84,38,84,39],[81,41,81,42],[82,12,82,13],[82,14,82,15],[82,17,82,18],[82,20,82,21],[82,22,82,23],[82,25,82,26],[82,28,82,29],[82,30,82,31],[82,33,82,34],[82,41,82,42],[83,12,83,13],[83,14,83,15],[83,17,83,18],[83,20,83,21],[83,22,83,23],[83,25,83,26],[83,28,83,29],[83,30,83,31],[83,33,83,34],[83,41,83,42],[84,12,84,13],[84,14,84,15],[84,17,84,18],[84,20,84,21],[79,41,79,42],[80,12,80,13],[80,14,80,15],[80,17,80,18],[80,20,80,21],[80,22,80,23],[80,25,80,26],[80,28,80,29],[80,30,80,31],[80,33,80,34],[80,36,80,37],[80,38,80,39],[80,41,80,42],[81,11,88,11],[81,12,81,13],[81,14,81,15],[81,17,81,18],[81,19,88,19],[81,20,81,21],[81,22,81,23],[81,25,81,26],[81,27,88,27],[81,28,81,29],[81,30,81,31],[86,30,86,31],[87,28,87,29],[87,30,87,31],[88,28,88,29],[88,30,88,31],[81,33,81,34],[81,35,88,35],[81,36,81,37],[76,38,76,39],[76,41,76,42],[77,3,77,4],[77,6,77,7],[77,12,77,13],[77,14,77,15],[77,17,77,18],[77,20,77,21],[77,36,77,37],[77,38,77,39],[77,41,77,42],[78,3,78,4],[78,6,78,7],[78,12,78,13],[78,14,78,15],[78,17,78,18],[78,20,78,21],[78,33,78,34],[78,36,78,37],[78,38,78,39],[78,41,78,42],[73,27,80,27],[78,28,78,29],[79,33,79,34],[79,36,79,37],[79,38,79,39],[77,33,77,34],[79,22,79,23],[79,25,79,26],[79,28,79,29],[79,30,79,31],[73,19,80,19],[73,38,73,39],[74,33,74,34],[74,36,74,37],[74,38,74,39],[75,33,75,34],[75,36,75,37],[75,38,75,39],[73,41,73,42],[74,3,74,4],[74,6,74,7],[74,12,74,13],[74,14,74,15],[74,17,74,18],[74,20,74,21],[74,22,74,23],[74,25,74,26],[74,28,74,29],[74,41,74,42],[75,3,75,4],[75,6,75,7],[75,12,75,13],[75,14,75,15],[75,17,75,18],[75,20,75,21],[75,22,75,23],[75,25,75,26],[75,28,75,29],[75,41,75,42],[73,20,73,21],[73,22,73,23],[73,25,73,26],[73,30,73,31],[73,3,73,4],[73,6,73,7],[73,11,80,11],[73,12,73,13],[73,14,73,15],[73,17,73,18],[79,3,79,4],[79,17,79,18],[74,30,74,31],[75,30,75,31],[76,30,76,31],[77,28,77,29],[77,30,77,31],[73,28,73,29],[73,33,73,34],[73,35,80,35],[73,36,73,37],[76,3,76,4],[76,6,76,7],[76,12,76,13],[76,14,76,15],[76,17,76,18],[76,20,76,21],[76,22,76,23],[76,25,76,26],[76,28,76,29],[76,33,76,34],[76,36,76,37],[78,30,78,31],[72,17,72,18],[72,20,72,21],[65,11,72,11],[79,6,79,7],[79,12,79,13],[79,14,79,15],[79,20,79,21],[69,20,69,21],[65,19,72,19],[65,20,65,21],[72,22,72,23],[72,25,72,26],[72,28,72,29],[77,22,77,23],[77,25,77,26],[78,22,78,23],[78,25,78,26],[69,3,69,4],[69,6,69,7],[69,12,69,13],[69,14,69,15],[69,17,69,18],[65,3,65,4],[65,6,65,7],[69,22,69,23],[72,3,72,4],[72,6,72,7],[72,12,72,13],[72,14,72,15],[68,22,68,23],[67,22,67,23],[66,20,66,21],[69,41,69,42],[70,3,70,4],[70,6,70,7],[70,12,70,13],[70,14,70,15],[70,17,70,18],[70,20,70,21],[70,22,70,23],[70,36,70,37],[70,38,70,39],[70,41,70,42],[71,3,71,4],[71,6,71,7],[71,12,71,13],[71,14,71,15],[71,17,71,18],[71,20,71,21],[67,3,67,4],[67,6,67,7],[67,12,67,13],[67,14,67,15],[67,17,67,18],[67,20,67,21],[67,38,67,39],[67,25,67,26],[67,28,67,29],[67,41,67,42],[68,3,68,4],[68,6,68,7],[68,12,68,13],[68,14,68,15],[68,17,68,18],[68,20,68,21],[68,25,68,26],[68,28,68,29],[68,36,68,37],[68,38,68,39],[68,30,68,31],[69,30,69,31],[65,38,65,39],[66,33,66,34],[66,36,66,37],[66,38,66,39],[67,36,67,37],[65,33,65,34],[65,35,72,35],[67,33,67,34],[72,38,72,39],[65,41,65,42],[68,41,68,42],[72,41,72,42],[69,36,69,37],[69,38,69,39],[66,22,66,23],[66,41,66,42],[65,36,65,37],[71,22,71,23],[71,30,71,31],[71,33,71,34],[71,36,71,37],[71,38,71,39],[71,41,71,42],[72,30,72,31],[72,33,72,34],[72,36,72,37],[64,30,64,31],[64,33,64,34],[64,36,64,37],[64,38,64,39],[64,28,64,29],[65,12,65,13],[65,14,65,15],[65,17,65,18],[66,3,66,4],[66,6,66,7],[66,12,66,13],[66,14,66,15],[66,17,66,18],[65,22,65,23],[70,28,70,29],[65,25,65,26],[65,27,72,27],[65,28,65,29],[69,28,69,29],[66,25,66,26],[69,25,69,26],[70,25,70,26],[71,25,71,26],[71,28,71,29],[66,28,66,29],[68,33,68,34],[69,33,69,34],[70,30,70,31],[70,33,70,34],[65,30,65,31],[66,30,66,31],[67,30,67,31],[63,33,63,34],[61,41,61,42],[62,3,62,4],[62,6,62,7],[62,12,62,13],[62,14,62,15],[62,17,62,18],[62,20,62,21],[62,22,62,23],[62,36,62,37],[63,17,63,18],[63,20,63,21],[63,22,63,23],[63,30,63,31],[63,3,63,4],[63,6,63,7],[63,12,63,13],[63,14,63,15],[63,28,63,29],[63,41,63,42],[63,36,63,37],[63,38,63,39],[57,35,64,35],[57,36,57,37],[57,38,57,39],[62,41,62,42],[64,41,64,42],[60,41,60,42],[58,41,58,42],[64,3,64,4],[64,6,64,7],[64,12,64,13],[62,38,62,39],[58,25,58,26],[60,28,60,29],[61,38,61,39],[60,30,60,31],[60,33,60,34],[59,25,59,26],[60,38,60,39],[61,30,61,31],[59,33,59,34],[61,22,61,23],[61,36,61,37],[60,17,60,18],[60,20,60,21],[60,22,60,23],[60,25,60,26],[60,36,60,37],[61,17,61,18],[61,20,61,21],[57,33,57,34],[61,33,61,34],[62,33,62,34],[57,30,57,31],[58,30,58,31],[59,30,59,31],[59,36,59,37],[59,38,59,39],[59,28,59,29],[58,36,58,37],[58,38,58,39],[62,30,62,31],[57,41,57,42],[58,3,58,4],[58,6,58,7],[58,12,58,13],[58,14,58,15],[58,17,58,18],[58,20,58,21],[58,22,58,23],[57,19,64,19],[57,20,57,21],[59,3,59,4],[59,6,59,7],[59,12,59,13],[59,14,59,15],[59,41,59,42],[58,33,58,34],[59,17,59,18],[59,20,59,21],[59,22,59,23],[58,28,58,29],[57,3,57,4],[57,6,57,7],[57,11,64,11],[57,12,57,13],[57,14,57,15],[57,17,57,18],[60,3,60,4],[60,6,60,7],[60,12,60,13],[60,14,60,15],[57,22,57,23],[57,25,57,26],[57,27,64,27],[57,28,57,29],[61,28,61,29],[61,25,61,26],[62,25,62,26],[63,25,63,26],[62,28,62,29],[64,22,64,23],[61,3,61,4],[61,6,61,7],[61,12,61,13],[61,14,61,15],[64,14,64,15],[64,17,64,18],[64,20,64,21],[64,25,64,26],[54,3,54,4],[54,6,54,7],[54,12,54,13],[54,14,54,15],[49,11,56,11],[53,3,53,4],[53,6,53,7],[53,12,53,13],[49,12,49,13],[54,20,54,21],[54,22,54,23],[54,25,54,26],[52,22,52,23],[52,6,52,7],[52,12,52,13],[52,14,52,15],[50,25,50,26],[49,22,49,23],[55,3,55,4],[55,6,55,7],[55,12,55,13],[55,14,55,15],[55,17,55,18],[55,20,55,21],[55,22,55,23],[55,25,55,26],[56,3,56,4],[56,6,56,7],[56,12,56,13],[56,14,56,15],[56,17,56,18],[56,20,56,21],[50,3,50,4],[50,6,50,7],[50,12,50,13],[50,14,50,15],[50,17,50,18],[50,22,50,23],[50,41,50,42],[49,38,49,39],[52,17,52,18],[52,20,52,21],[51,12,51,13],[51,14,51,15],[51,20,51,21],[51,22,51,23],[52,30,52,31],[50,38,50,39],[51,3,51,4],[51,6,51,7],[52,38,52,39],[52,41,52,42],[52,3,52,4],[51,28,51,29],[52,33,52,34],[51,30,51,31],[49,14,49,15],[49,17,49,18],[49,19,56,19],[54,17,54,18],[51,17,51,18],[49,20,49,21],[53,14,53,15],[50,20,50,21],[54,33,54,34],[54,36,54,37],[50,33,50,34],[50,36,50,37],[54,30,54,31],[53,30,53,31],[49,33,49,34],[49,35,56,35],[51,41,51,42],[49,36,49,37],[51,33,51,34],[51,36,51,37],[51,38,51,39],[49,41,49,42],[53,36,53,37],[52,36,52,37],[53,33,53,34],[53,38,53,39],[53,41,53,42],[54,38,54,39],[54,41,54,42],[55,30,55,31],[55,33,55,34],[55,36,55,37],[55,38,55,39],[55,41,55,42],[56,30,56,31],[56,33,56,34],[56,36,56,37],[56,38,56,39],[56,41,56,42],[49,25,49,26],[49,27,56,27],[49,28,49,29],[49,30,49,31],[50,30,50,31],[50,28,50,29],[54,28,54,29],[52,25,52,26],[52,28,52,29],[51,25,51,26],[53,17,53,18],[53,20,53,21],[53,22,53,23],[53,25,53,26],[53,28,53,29],[55,28,55,29],[56,22,56,23],[56,25,56,26],[56,28,56,29],[48,25,48,26],[48,28,48,29],[48,6,48,7],[48,41,48,42],[48,36,48,37],[48,30,48,31],[48,33,48,34],[35,37,35,38],[35,39,35,40],[36,39,36,40],[37,37,37,38]],"merged_total":1060,"flags":["merged_cut"]}
[null,"体温表",null,null,null,{"$f":"設定!$F$7","v":2016},null,"年",null,3,"月"]
[null,"カルテ番号",null,null,"病棟",null,null,"入院形態",null,null,"主治医",null,null,"　姓名",null,{"$f":"'2月'!$P$2","v":0},null,null,null,null,null,null,null,"性別",null,"生年月日　",null,null,null,null,null,null,"担当Ns"]
[null,{"$f":"'2月'!B3:D4","v":0},null,null,{"$f":"IF(COUNTIF('2月'!E3:G3,\"*\"),INDEX('2月'!E3:G3,MATCH(\"\",'2月'!E3:G3,-1)),\"\")","v":""},null,null,{"$f":"IF(COUNTIF('2月'!H3:J3,\"*\"),INDEX('2月'!H3:J3,MATCH(\"\",'2月'!H3:J3,-1)),\"\")","v":""},null,null,{"$f":"'2月'!K3","v":0},null,null,null,null,{"$f":"'2月'!$P$3","v":0},null,null,null,null,null,null,null,{"$f":"'2月'!$X$3","v":0},null,{"$f":"'2月'!$Z$3","v":"00:00:00"},null,null,null,null,null,{"$f":"DATEDIF(Z3,TODAY(),\"Y\")","v":115},{"$f":"'2月'!$AG$3","v":0}]
[null,null,null,null,"/","/","/","/","/","/",null,null,null,null,null,null,null,null,null,null,null,null,null,null,null,{"$f":"Z3","v":"00:00:00"},null,null,null,null,null,"歳"]
[null,null,null,null,null,null,null,null,null,null,null,null,null,null,null,null,null,null,null,null,null,null,null,null,null,null,null,null,null,null,null,null,null,null,null,null,null,{"$f":"設定!C10","v":"備考欄"},null,null,null,null,{"$f":"設定!I10","v":"食事箋"}]
[null,null,null,null,null,null,null,null,null,null,null,null,null,null,null,null,null,null,null,null,null,null,null,null,null,null,null,null,null,null,null,null,null,null,null,null,null,{"$f":"設定!C11","v":0},null,null,null,null,{"$f":"設定!I11","v":0},null,{"$f":"設定!K11","v":0}]
[null,null,null,null,null,null,null,null,null,null,null,null,null,null,null,null,null,null,null,null,null,null,null,null,null,null,null,null,null,null,null,null,null,null,null,null,null,null,null,null,null,null,{"$f":"設定!I12","v":"常食"},null,{"$f":"設定!K12","v":"常食"}]
[null,null,null,null,null,null,null,null,null,null,null,null,null,null,null,null,null,null,null,null,null,null,null,null,null,null,null,null,null,null,null,null,null,null,null,null,null,null,null,null,null,null,{"$f":"設定!I13","v":"心臓"},null,{"$f":"設定!K13","v":"心臓"}]
[null,null,null,null,null,null,null,null,null,null,null,null,null,null,null,null,null,null,null,null,null,null,null,null,null,null,null,null,null,null,null,null,null,null,null,null,null,null,null,null,null,null,{"$f":"設定!I14","v":"すい臓"},null,{"$f":"設定!K14","v":"膵臓"}]
[null,null,null,null,null,null,null,null,null,null,null,null,null,null,null,null,null,null,null,null,null,null,null,null,null,null,null,null,null,null,null,null,null,null,null,null,null,null,null,null,null,null,{"$f":"設定!I15","v":"じん臓"},null,{"$f":"設定!K15","v":"腎臓"}]
[null,null,null,null,null,null,null,null,null,null,null,null,null,null,null,null,null,null,null,null,null,null,null,null,null,null,null,null,null,null,null,null,null,null,null,null,null,{"$f":"'2月'!AL11","v":0},null,null,null,null,{"$f":"設定!I16","v":"高血圧"},null,{"$f":"設定!K16","v":"高血"}]
[null,null,null,null,null,null,null,null,null,null,null,null,null,null,null,null,null,null,null,null,null,null,null,null,null,null,null,null,null,null,null,null,null,null,null,null,null,{"$f":"'2月'!AL12","v":0},null,null,null,null,{"$f":"設定!I17","v":"糖尿"},null,{"$f":"設定!K17","v":"糖1200"}]
[null,null,null,null,null,null,null,null,null,null,null,null,null,null,null,null,null,null,null,null,null,null,null,null,null,null,null,null,null,null,null,null,null,null,null,null,null,{"$f":"'2月'!AL13","v":0},null,null,null,null,null,null,{"$f":"設定!K18","v":"糖1440"}]
[null,null,null,null,null,null,null,null,null,null,null,null,null,null,null,null,null,null,null,null,null,null,null,null,null,null,null,null,null,null,null,null,null,null,null,null,null,{"$f":"'2月'!AL14","v":0},null,null,null,null,null,null,{"$f":"設定!K19","v":"糖1600"}]
[null,null,null,null,null,null,null,null,null,null,null,null,null,null,null,null,null,null,null,null,null,null,null,null,null,null,null,null,null,null,null,null,null,null,null,null,null,null,null,null,null,null,null,null,{"$f":"設定!K20","v":"糖1800"}]
[null,null,null,null,null,null,null,null,null,null,null,null,null,null,null,null,null,null,null,null,null,null,null,null,null,null,null,null,null,null,null,null,null,null,null,null,null,{"$f":"設定!C21","v":"面会"},null,null,null,null,{"$f":"設定!I21","v":"肝臓A"},null,{"$f":"設定!K21","v":"肝Ａ"}]
[null,"日　付",null,1,2,3,4,5,6,7,8,9,10,11,12,13,14,15,16,17,18,19,20,21,22,23,24,25,26,27,28,29,30,31,"統計",null,null,{"$f":"設定!C22","v":0},null,{"$f":"設定!E22","v":0},null,null,{"$f":"設定!I22","v":"肝臓B"},null,{"$f":"設定!K22","v":"肝Ｂ"}]
[null,"行　動",null,null,null,null,null,null,null,null,null,null,null,null,null,null,null,null,null,null,null,null,null,null,null,null,null,null,null,null,null,null,null,null,null,null,null,{"$f":"設定!C23","v":"両親"},null,{"$f":"設定!E23","v":"両親"},null,null,{"$f":"設定!I23","v":"潰瘍"},null,{"$f":"設定!K23","v":"潰瘍"}]
[null,"時　間",null,null,null,null,null,null,null,null,null,null,null,null,null,null,null,null,null,null,null,null,null,null,null,null,null,null,null,null,null,null,null,null,null,null,null,{"$f":"設定!C24","v":"父"},null,{"$f":"設定!E24","v":"父"},null,null,{"$f":"設定!I24","v":"低残渣食"},null,{"$f":"設定!K24","v":"低残"}]
[null,"行　動",null,null,null,null,null,null,null,null,null,null,null,null,null,null,null,null,null,null,null,null,null,null,null,null,null,null,null,null,null,null,null,null,null,null,null,{"$f":"設定!C25","v":"母"},null,{"$f":"設定!E25","v":"母"},null,null,{"$f":"設定!I25","v":"貧血"},null,{"$f":"設定!K25","v":"貧血"}]
[null,"時　間",null,null,null,null,null,null,null,null,null,null,null,null,null,null,null,null,null,null,null,null,null,null,null,null,null,null,null,null,null,null,null,null,{"$f":"IF(COUNTIF(D18:AH21,\"外出\")+COUNTIF(D18:AH21,\"外泊\")=0,\"回数\",COUNTIF(D18:AH21,\"外出\")+COUNTIF(D18:AH21,\"外泊\"))","v":"回数"},null,null,{"$f":"設定!C26","v":"主人"},null,{"$f":"設定!E26","v":"夫"},null,null,{"$f":"設定!I26","v":"脂質異常"},null,{"$f":"設定!K26","v":"脂1200"}]
[null,"面　会",null,null,null,null,null,null,null,null,null,null,null,null,null,null,null,null,null,null,null,null,null,null,null,null,null,null,null,null,null,null,null,null,null,null,null,{"$f":"設定!C27","v":"奥方"},null,{"$f":"設定!E27","v":"妻"},null,null,null,null,{"$f":"設定!K27","v":"脂1440"}]
[null,null,null,null,null,null,null,null,null,null,null,null,null,null,null,null,null,null,null,null,null,null,null,null,null,null,null,null,null,null,null,null,null,null,{"$f":"IF(COUNTA(D22:AH23)=0,\"回数\",COUNTA(D22:AH23))","v":"回数"},null,null,{"$f":"設定!C28","v":"息子"},null,{"$f":"設定!E28","v":"息子"},null,null,null,null,{"$f":"設定!K28","v":"脂1600"}]
[null,"入　浴",null,null,null,null,null,null,null,null,null,null,null,null,null,null,null,null,null,null,null,null,null,null,null,null,null,null,null,null,null,null,null,null,{"$f":"IF(COUNTA(D24:AH24)=0,\"回数\",COUNTA(D24:AH24))","v":"回数"},null,null,{"$f":"設定!C29","v":"娘"},null,{"$f":"設定!E29","v":"娘"},null,null,null,null,{"$f":"設定!K29","v":"脂1800"}]
[null,"食　事",null,null,null,null,null,null,null,null,null,null,null,null,null,null,null,null,null,null,null,null,null,null,null,null,null,null,null,null,null,null,null,null,null,null,null,{"$f":"設定!C30","v":"兄"},null,{"$f":"設定!E30","v":"兄"},null,null,{"$f":"設定!I30","v":"検査食"},null,{"$f":"設定!K30","v":"検査"}]
[null,null,null,null,null,null,null,null,null,null,null,null,null,null,null,null,null,null,null,null,null,null,null,null,null,null,null,null,null,null,null,null,null,null,null,null,null,{"$f":"設定!C31","v":"弟"},null,{"$f":"設定!E31","v":"弟"},null,null,{"$f":"設定!I31","v":"絶食"},null,{"$f":"設定!K31","v":"絶食"}]
[null,null,null,null,null,null,null,null,null,null,null,null,null,null,null,null,null,null,null,null,null,null,null,null,null,null,null,null,null,null,null,null,null,null,{"$f":"IFERROR(INT(AVERAGE(D141:AH143))& \".\"&INT(AVERAGE(D144:AH146)),\"平均\")","v":"平均"},null,null,{"$f":"設定!C32","v":"姉"},null,{"$f":"設定!E32","v":"姉"},null,null,{"$f":"設定!I32","v":0},null,{"$f":"設定!K32","v":0}]
[null,"便　通",null,{"$f":"IF(ISBLANK(I51),\"\",I51)","v":""},{"$f":"IF(ISBLANK(I52),\"\",I52)","v":""},{"$f":"IF(ISBLANK(I53),\"\",I53)","v":""},{"$f":"IF(ISBLANK(I54),\"\",I54)","v":""},{"$f":"IF(ISBLANK(I55),\"\",I55)","v":""},{"$f":"IF(ISBLANK(I56),\"\",I56)","v":""},{"$f":"IF(ISBLANK(I57),\"\",I57)","v":""},{"$f":"IF(ISBLANK(I58),\"\",I58)","v":""},{"$f":"IF(ISBLANK(I59),\"\",I59)","v":""},{"$f":"IF(ISBLANK(I60),\"\",I60)","v":""},{"$f":"IF(ISBLANK(I61),\"\",I61)","v":""},{"$f":"IF(ISBLANK(I62),\"\",I62)","v":""},{"$f":"IF(ISBLANK(I63),\"\",I63)","v":""},{"$f":"IF(ISBLANK(I64),\"\",I64)","v":""},{"$f":"IF(ISBLANK(I65),\"\",I65)","v":""},{"$f":"IF(ISBLANK(I66),\"\",I66)","v":""},{"$f":"IF(ISBLANK(I67),\"\",I67)","v":""},{"$f":"IF(ISBLANK(I68),\"\",I68)","v":""},{"$f":"IF(ISBLANK(I69),\"\",I69)","v":""},{"$f":"IF(ISBLANK(I70),\"\",I70)","v":""},{"$f":"IF(ISBLANK(I71),\"\",I71)","v":""},{"$f":"IF(ISBLANK(I72),\"\",I72)","v":""},{"$f":"IF(ISBLANK(I73),\"\",I73)","v":""},{"$f":"IF(ISBLANK(I74),\"\",I74)","v":""},{"$f":"IF(ISBLANK(I75),\"\",I75)","v":""},{"$f":"IF(ISBLANK(I76),\"\",I76)","v":""},{"$f":"IF(ISBLANK(I77),\"\",I77)","v":""},{"$f":"IF(ISBLANK(I78),\"\",I78)","v":""},{"$f":"IF(ISBLANK(I79),\"\",I79)","v":""},{"$f":"IF(ISBLANK(I80),\"\",I80)","v":""},{"$f":"IF(ISBLANK('3月'!I50),\"\",'3月'!I50)","v":""},{"$f":"IF(COUNTIF(D28:AH28,0)=0,\"回数\",COUNTIF(D28:AH28,0))","v":"回数"},null,null,{"$f":"設定!C33","v":"妹"},null,{"$f":"設定!E33","v":"妹"},null,null,{"$f":"設定!I33","v":0},null,{"$f":"設定!K33","v":0}]
[null,"便処置",null,null,null,null,null,null,null,null,null,null,null,null,null,null,null,null,null,null,null,null,null,null,null,null,null,null,null,null,null,null,null,null,null,null,null,{"$f":"設定!C34","v":"孫"},null,{"$f":"設定!E34","v":"孫"},null,null,{"$f":"設定!I34","v":0},null,{"$f":"設定!K34","v":0}]
[null,null,null,null,null,null,null,null,null,null,null,null,null,null,null,null,null,null,null,null,null,null,null,null,null,null,null,null,null,null,null,null,null,null,{"$f":"IF(SUM(D29:AH31)=0,\"滴数\",SUM(D29:AH31))","v":"滴数"},null,null,{"$f":"設定!C35","v":"友人知人"},null,{"$f":"設定!E35","v":"知人"}]
[null,null,null,null,null,null,null,null,null,null,null,null,null,null,null,null,null,null,null,null,null,null,null,null,null,null,null,null,null,null,null,null,null,null,{"$f":"IF(AI30=\"滴数\",\"本数\",AI30/150)","v":"本数"},null,null,{"$f":"設定!C36","v":"子の夫"},null,{"$f":"設定!E36","v":"子夫"},null,null,{"$f":"設定!I36","v":"食事形態"}]
[null,"血　圧",null,{"$f":"$R$50","v":0},{"$f":"$R$58","v":0},{"$f":"R66","v":0},{"$f":"R74","v":0},{"$f":"R82","v":0},{"$f":"R90","v":0},{"$f":"R98","v":0},{"$f":"R106","v":0},{"$f":"Z50","v":0},{"$f":"Z58","v":0},{"$f":"Z66","v":0},{"$f":"Z74","v":0},{"$f":"Z82","v":0},{"$f":"Z90","v":0},{"$f":"Z98","v":0},{"$f":"Z106","v":0},{"$f":"AH50","v":0},{"$f":"AH58","v":0},{"$f":"AH66","v":0},{"$f":"AH74","v":0},{"$f":"AH82","v":0},{"$f":"AH90","v":0},{"$f":"AH98","v":0},{"$f":"AH106","v":0},{"$f":"AP50","v":0},{"$f":"AP58","v":0},{"$f":"AP66","v":0},{"$f":"AP74","v":0},{"$f":"AP82","v":0},{"$f":"AP90","v":0},{"$f":"AP98","v":0},null,null,null,{"$f":"設定!C37","v":"子の妻"},null,{"$f":"設定!E37","v":"子妻"},null,null,{"$f":"設定!I37","v":0},null,{"$f":"設定!K37","v":0}]
[null,null,null,{"$f":"$R$51","v":{"$error":"#N/A"}},{"$f":"$R$59","v":{"$error":"#N/A"}},{"$f":"R67","v":{"$error":"#N/A"}},{"$f":"R75","v":{"$error":"#N/A"}},{"$f":"R83","v":{"$error":"#N/A"}},{"$f":"R91","v":{"$error":"#N/A"}},{"$f":"R99","v":{"$error":"#N/A"}},{"$f":"R107","v":{"$error":"#N/A"}},{"$f":"Z51","v":{"$error":"#N/A"}},{"$f":"Z59","v":{"$error":"#N/A"}},{"$f":"Z67","v":{"$error":"#N/A"}},{"$f":"Z75","v":{"$error":"#N/A"}},{"$f":"Z83","v":{"$error":"#N/A"}},{"$f":"Z91","v":{"$error":"#N/A"}},{"$f":"Z99","v":{"$error":"#N/A"}},{"$f":"Z107","v":{"$error":"#N/A"}},{"$f":"AH51","v":{"$error":"#N/A"}},{"$f":"AH59","v":{"$error":"#N/A"}},{"$f":"AH67","v":{"$error":"#N/A"}},{"$f":"AH75","v":{"$error":"#N/A"}},{"$f":"AH83","v":{"$error":"#N/A"}},{"$f":"AH91","v":{"$error":"#N/A"}},{"$f":"AH99","v":{"$error":"#N/A"}},{"$f":"AH107","v":{"$error":"#N/A"}},{"$f":"AP51","v":{"$error":"#N/A"}},{"$f":"AP59","v":{"$error":"#N/A"}},{"$f":"AP67","v":{"$error":"#N/A"}},{"$f":"AP75","v":{"$error":"#N/A"}},{"$f":"AP83","v":{"$error":"#N/A"}},{"$f":"AP91","v":{"$error":"#N/A"}},{"$f":"AP99","v":{"$error":"#N/A"}},null,null,null,{"$f":"設定!C38","v":"祖母"},null,{"$f":"設定!E38","v":"祖母"},null,null,{"$f":"設定!I38","v":"普通食"},null,{"$f":"設定!K38","v":"普通"}]
[null,null,null,{"$f":"$R$52","v":0},{"$f":"$R$60","v":0},{"$f":"R68","v":0},{"$f":"R76","v":0},{"$f":"R84","v":0},{"$f":"R92","v":0},{"$f":"R100","v":0},{"$f":"R108","v":0},{"$f":"Z52","v":0},{"$f":"Z60","v":0},{"$f":"Z68","v":0},{"$f":"Z76","v":0},{"$f":"Z84","v":0},{"$f":"Z92","v":0},{"$f":"Z100","v":0},{"$f":"Z108","v":0},{"$f":"AH52","v":0},{"$f":"AH60","v":0},{"$f":"AH68","v":0},{"$f":"AH76","v":0},{"$f":"AH84","v":0},{"$f":"AH92","v":0},{"$f":"AH100","v":0},{"$f":"AH108","v":0},{"$f":"AP52","v":0},{"$f":"AP60","v":0},{"$f":"AP68","v":0},{"$f":"AP76","v":0},{"$f":"AP84","v":0},{"$f":"AP92","v":0},{"$f":"AP100","v":0},null,null,null,{"$f":"設定!C39","v":"祖父"},null,{"$f":"設定!E39","v":"祖父"},null,null,{"$f":"設定!I39","v":"普+一口大"},null,{"$f":"設定!K39","v":"一口"}]
[null,null,null,{"$f":"$R$53","v":0},{"$f":"$R$61","v":0},{"$f":"R69","v":0},{"$f":"R77","v":0},{"$f":"R85","v":0},{"$f":"R93","v":0},{"$f":"R101","v":0},{"$f":"R109","v":0},{"$f":"Z53","v":0},{"$f":"Z61","v":0},{"$f":"Z69","v":0},{"$f":"Z77","v":0},{"$f":"Z85","v":0},{"$f":"Z93","v":0},{"$f":"Z101","v":0},{"$f":"Z109","v":0},{"$f":"AH53","v":0},{"$f":"AH61","v":0},{"$f":"AH69","v":0},{"$f":"AH77","v":0},{"$f":"AH85","v":0},{"$f":"AH93","v":0},{"$f":"AH101","v":0},{"$f":"AH109","v":0},{"$f":"AP53","v":0},{"$f":"AP61","v":0},{"$f":"AP69","v":0},{"$f":"AP77","v":0},{"$f":"AP85","v":0},{"$f":"AP93","v":0},{"$f":"AP101","v":0},{"$f":"IFERROR(INT(AVERAGE(D149:AH152))& \"/\"&INT(AVERAGE(D153:AH156)),\"平均\")","v":"平均"},null,null,{"$f":"設定!C40","v":"従兄弟の父"},null,{"$f":"設定!E40","v":"叔父"},null,null,{"$f":"設定!I40","v":"普+キザミ"},null,{"$f":"設定!K40","v":"普キ"}]
[null,"食事箋",null,{"$f":"IF(COUNTIF('2月'!D40:AH40,\"*\"),INDEX('2月'!D40:AH40,MATCH(\"\",'2月'!D40:AH40,-1)),\"\")","v":""},null,null,null,null,null,null,null,null,null,null,null,null,null,null,null,null,null,null,null,null,null,null,null,null,null,null,null,null,null,null,null,null,null,{"$f":"設定!C41","v":"従兄弟の母"},null,{"$f":"設定!E41","v":"叔母"},null,null,{"$f":"設定!I41","v":"軟飯"},null,{"$f":"設定!K41","v":"軟飯"}]
[null,"形　態",null,{"$f":"IF(COUNTIF('2月'!D41:AH41,\"*\"),INDEX('2月'!D41:AH41,MATCH(\"\",'2月'!D41:AH41,-1)),\"\")","v":""},null,null,null,null,null,null,null,null,null,null,null,null,null,null,null,null,null,null,null,null,null,null,null,null,null,null,null,null,null,null,null,null,null,{"$f":"設定!C42","v":"従兄弟"},null,{"$f":"設定!E42","v":"ｲﾄｺ"},null,null,{"$f":"設定!I42","v":"軟+キザミ"},null,{"$f":"設定!K42","v":"軟キ"}]
[null,"身　長",null,{"$f":"IF(COUNT('2月'!D42:AH42),LOOKUP(MAX('2月'!D42:AH42)+1,'2月'!D42:AH42),\"\")","v":""},null,null,null,null,null,null,null,null,null,null,null,null,null,null,null,null,null,null,null,null,null,null,null,null,null,null,null,null,null,null,"BMI",null,null,{"$f":"設定!C43","v":"義理の母"},null,{"$f":"設定!E43","v":"義母"},null,null,{"$f":"設定!I43","v":"粥食"},null,{"$f":"設定!K43","v":"粥"}]
[null,"体　重",null,null,null,null,null,null,null,null,null,null,null,null,null,null,null,null,null,null,null,null,null,null,null,null,null,null,null,null,null,null,null,null,{"$f":"IF(ISERROR(INDEX(D39:AH39,MATCH(307,D39:AH39))/(INDEX(D38:AH38,MATCH(9E+307,D38:AH38))/100)^2)=TRUE,\"\",INDEX(D39:AH39,MATCH(307,D39:AH39))/(INDEX(D38:AH38,MATCH(9E+307,D38:AH38))/100)^2)","v":""},null,null,{"$f":"設定!C44","v":"義理の父"},null,{"$f":"設定!E44","v":"義父"},null,null,{"$f":"設定!I44","v":"粥+キザミ"},null,{"$f":"設定!K44","v":"粥キ"}]
[null,"Ｉ　Ｎ",null,null,null,null,null,null,null,null,null,null,null,null,null,null,null,null,null,null,null,null,null,null,null,null,null,null,null,null,null,null,null,null,{"$f":"IFERROR(INT(AVERAGE(D40:AH40)),\"平均\")","v":"平均"},null,null,{"$f":"設定!C45","v":"その他親類"},null,{"$f":"設定!E45","v":"親類"},null,null,{"$f":"設定!I45","v":"ミキサ－"},null,{"$f":"設定!K45","v":"ミキ"}]
[null,"ＯＵＴ",null,null,null,null,null,null,null,null,null,null,null,null,null,null,null,null,null,null,null,null,null,null,null,null,null,null,null,null,null,null,null,null,{"$f":"IFERROR(INT(AVERAGE(D41:AH41)),\"平均\")","v":"平均"},null,null,{"$f":"設定!C46","v":"福祉職員"},null,{"$f":"設定!E46","v":"福祉"},null,null,{"$f":"設定!I46","v":"普通流動"},null,{"$f":"設定!K46","v":"普流"}]
[null,"生　理",null,null,null,null,null,null,null,null,null,null,null,null,null,null,null,null,null,null,null,null,null,null,null,null,null,null,null,null,null,null,null,null,{"$f":"IF(ISERROR(AVERAGE(D42:AH42)),\" \",AVERAGE(D42:AH42))","v":" "},null,null,{"$f":"設定!C47","v":"施設職員"},null,{"$f":"設定!E47","v":"施設"},null,null,{"$f":"設定!I47","v":"濃厚流動"},null,{"$f":"設定!K47","v":"濃流"}]
[null,null,null,null,null,null,null,null,null,null,null,null,null,null,null,null,null,null,null,null,null,null,null,null,null,null,null,null,null,null,null,null,null,null,{"$f":"IF(ISERROR(AVERAGE(D43:AH43)),\" \",AVERAGE(D43:AH43))","v":" "},null,null,{"$f":"設定!C48","v":0},null,{"$f":"設定!E48","v":0},null,null,{"$f":"設定!H48","v":0},null,{"$f":"設定!J48","v":0}]
[null,null,null,null,null,null,null,null,null,null,null,null,null,null,null,null,null,null,null,null,null,null,null,null,null,null,null,null,null,null,null,null,null,null,{"$f":"COUNTA(D44:AH44)","v":0},null,null,{"$f":"設定!C49","v":0},null,{"$f":"設定!E49","v":0},null,null,{"$f":"設定!H49","v":0},null,{"$f":"設定!J49","v":0}]
[null,"日　付",null,1,2,3,4,5,6,7,8,9,10,11,12,13,14,15,16,17,18,19,20,21,22,23,24,25,26,27,28,29,30,31,null,null,null,{"$f":"設定!C50","v":0},null,{"$f":"設定!E50","v":0},null,null,{"$f":"設定!H50","v":0},null,{"$f":"設定!J50","v":0}]
[]
[null,{"$f":"$P$3","v":0},null,null,null,null,null,{"$f":"YEAR(I47)","v":2015},{"$f":"TODAY()","v":"2015-02-24"},{"$f":"TODAY()","v":42059}]
[null,"平常時記入",null,null,null,null,null,null,null,null,null,"熱発時記入"]
[null,"日","時間","T",null," P","BP",null,"便",null,null,"日","時間",null,"T",null,"P","BP",null,"日","時間",null,"T",null,"P","BP",null,"日","時間",null,"T",null,"P","BP",null,"日","時間",null,"T",null,"P","BP"]
[null,1,"10:00:00",null,null,null,null,null,null,null,null,1,null,null,null,null,null,null,null,9,null,null,null,null,null,null,null,17,null,null,null,null,null,null,null,25]
[null,2,"10:00:00",null,null,null,null,null,null,null,null,null,"10:00:00",null,{"$f":"IF($D$50=\"\",NA(),$D$50)","v":{"$error":"#N/A"}},null,{"$f":"IF($F$50=\"\",NA(),$F$50)","v":{"$error":"#N/A"}},{"$f":"IF($G$50=\"\",NA(),$G$50)","v":{"$error":"#N/A"}},null,null,"10:00:00",null,{"$f":"IF($D$58=\"\",NA(),$D$58)","v":{"$error":"#N/A"}},null,{"$f":"IF($F$58=\"\",NA(),$F$58)","v":{"$error":"#N/A"}},{"$f":"IF($G$58=\"\",NA(),$G$58)","v":{"$error":"#N/A"}},null,null,"10:00:00",null,{"$f":"IF($D$66=\"\",NA(),$D$66)","v":{"$error":"#N/A"}},null,{"$f":"IF($F$66=\"\",NA(),$F$66)","v":{"$error":"#N/A"}},{"$f":"IF($G$66=\"\",NA(),$G$66)","v":{"$error":"#N/A"}},null,null,"10:00:00",null,{"$f":"IF($D$74=\"\",NA(),$D$74)","v":{"$error":"#N/A"}},null,{"$f":"IF($F$74=\"\",NA(),$F$74)","v":{"$error":"#N/A"}},{"$f":"IF($G$74=\"\",NA(),$G$74)","v":{"$error":"#N/A"}}]
[null,3,"10:00:00",null,null,null,null,null,null,"☆"]
[null,4,"10:00:00"]
[null,5,"10:00:00",null,null,null,null,null,null,"コ"]
[null,6,"10:00:00",null,null,null,null,null,null,"ス"]
[null,7,"10:00:00",null,null,null,null,null,null,"モ"]
[null,8,"10:00:00",null,null,null,null,null,null,"ス"]
[null,9,"10:00:00",null,null,null,null,null,null,"へ",null,2,null,null,null,null,null,null,null,10,null,null,null,null,null,null,null,18,null,null,null,null,null,null,null,26]
[null,10,"10:00:00",null,null,null,null,null,null,"戻",null,null,"10:00:00",null,{"$f":"IF($D$51=\"\",NA(),$D$51)","v":{"$error":"#N/A"}},null,{"$f":"IF($F$51=\"\",NA(),$F$51)","v":{"$error":"#N/A"}},{"$f":"IF($G$51=\"\",NA(),$G$51)","v":{"$error":"#N/A"}},null,null,"10:00:00",null,{"$f":"IF($D$59=\"\",NA(),$D$59)","v":{"$error":"#N/A"}},null,{"$f":"IF($F$59=\"\",NA(),$F$59)","v":{"$error":"#N/A"}},{"$f":"IF($G$59=\"\",NA(),$G$59)","v":{"$error":"#N/A"}},null,null,"10:00:00",null,{"$f":"IF($D$67=\"\",NA(),$D$67)","v":{"$error":"#N/A"}},null,{"$f":"IF($F$67=\"\",NA(),$F$67)","v":{"$error":"#N/A"}},{"$f":"IF($G$67=\"\",NA(),$G$67)","v":{"$error":"#N/A"}},null,null,"10:00:00",null,{"$f":"IF($D$75=\"\",NA(),$D$75)","v":{"$error":"#N/A"}},null,{"$f":"IF($F$75=\"\",NA(),$F$75)","v":{"$error":"#N/A"}},{"$f":"IF($G$75=\"\",NA(),$G$75)","v":{"$error":"#N/A"}}]
[null,11,"10:00:00",null,null,null,null,null,null,"る"]
[null,12,"10:00:00"]
[null,13,"10:00:00"]
[null,14,"10:00:00",null,null,null,null,null,null,"（"]
[null,15,"10:00:00",null,null,null,null,null,null,"選"]
[null,16,"10:00:00",null,null,null,null,null,null,"択"]
[null,17,"10:00:00",null,null,null,null,null,null,"す",null,3,null,null,null,null,null,null,null,11,null,null,null,null,null,null,null,19,null,null,null,null,null,null,null,27]
[null,18,"10:00:00",null,null,null,null,null,null,"る",null,null,"10:00:00",null,{"$f":"IF($D$52=\"\",NA(),$D$52)","v":{"$error":"#N/A"}},null,{"$f":"IF($F$52=\"\",NA(),$F$52)","v":{"$error":"#N/A"}},{"$f":"IF($G$52=\"\",NA(),$G$52)","v":{"$error":"#N/A"}},null,null,"10:00:00",null,{"$f":"IF($D$60=\"\",NA(),$D$60)","v":{"$error":"#N/A"}},null,{"$f":"IF($F$60=\"\",NA(),$F$60)","v":{"$error":"#N/A"}},{"$f":"IF($G$60=\"\",NA(),$G$60)","v":{"$error":"#N/A"}},null,null,"10:00:00",null,{"$f":"IF($D$68=\"\",NA(),$D$68)","v":{"$error":"#N/A"}},null,{"$f":"IF($F$68=\"\",NA(),$F$68)","v":{"$error":"#N/A"}},{"$f":"IF($G$68=\"\",NA(),$G$68)","v":{"$error":"#N/A"}},null,null,"10:00:00",null,{"$f":"IF($D$76=\"\",NA(),$D$76)","v":{"$error":"#N/A"}},null,{"$f":"IF($F$76=\"\",NA(),$F$76)","v":{"$error":"#N/A"}},{"$f":"IF($G$76=\"\",NA(),$G$76)","v":{"$error":"#N/A"}}]
[null,19,"10:00:00",null,null,null,null,null,null,"だ"]
[null,20,"10:00:00",null,null,null,null,null,null,"け"]
[null,21,"10:00:00",null,null,null,null,null,null,"で"]
[null,22,"10:00:00",null,null,null,null,null,null,"移"]
[null,23,"10:00:00",null,null,null,null,null,null,"動"]
[null,24,"10:00:00",null,null,null,null,null,null,"し"]
[null,25,"10:00:00",null,null,null,null,null,null,"ま",null,4,null,null,null,null,null,null,null,12,null,null,null,null,null,null,null,20,null,null,null,null,null,null,null,28]
[null,26,"10:00:00",null,null,null,null,null,null,"す",null,null,"10:00:00",null,{"$f":"IF($D$53=\"\",NA(),$D$53)","v":{"$error":"#N/A"}},null,{"$f":"IF($F$53=\"\",NA(),$F$53)","v":{"$error":"#N/A"}},{"$f":"IF($G$53=\"\",NA(),$G$53)","v":{"$error":"#N/A"}},null,null,"10:00:00",null,{"$f":"IF($D$61=\"\",NA(),$D$61)","v":{"$error":"#N/A"}},null,{"$f":"IF($F$61=\"\",NA(),$F$61)","v":{"$error":"#N/A"}},{"$f":"IF($G$61=\"\",NA(),$G$61)","v":{"$error":"#N/A"}},null,null,"10:00:00",null,{"$f":"IF($D$69=\"\",NA(),$D$69)","v":{"$error":"#N/A"}},null,{"$f":"IF($F$69=\"\",NA(),$F$69)","v":{"$error":"#N/A"}},{"$f":"IF($G$69=\"\",NA(),$G$69)","v":{"$error":"#N/A"}},null,null,"10:00:00",null,{"$f":"IF($D$77=\"\",NA(),$D$77)","v":{"$error":"#N/A"}},null,{"$f":"IF($F$77=\"\",NA(),$F$77)","v":{"$error":"#N/A"}},{"$f":"IF($G$77=\"\",NA(),$G$77)","v":{"$error":"#N/A"}}]
[null,27,"10:00:00",null,null,null,null,null,null,"）"]
[null,28,"10:00:00"]
[null,29,"10:00:00"]
[null,30,"10:00:00"]
[null,31,"10:00:00"]
[]
[null,null,null,null,null,null,null,null,null,null,null,5,null,null,null,null,null,null,null,13,null,null,null,null,null,null,null,21,null,null,null,null,null,null,null,29]
[null,null,null,null,null,null,null,null,null,null,null,null,"10:00:00",null,{"$f":"IF($D$54=\"\",NA(),$D$54)","v":{"$error":"#N/A"}},null,{"$f":"IF($F$54=\"\",NA(),$F$54)","v":{"$error":"#N/A"}},{"$f":"IF($G$54=\"\",NA(),$G$54)","v":{"$error":"#N/A"}},null,null,"10:00:00",null,{"$f":"IF($D$62=\"\",NA(),$D$62)","v":{"$error":"#N/A"}},null,{"$f":"IF($F$62=\"\",NA(),$F$62)","v":{"$error":"#N/A"}},{"$f":"IF($G$62=\"\",NA(),$G$62)","v":{"$error":"#N/A"}},null,null,"10:00:00",null,{"$f":"IF($D$70=\"\",NA(),$D$70)","v":{"$error":"#N/A"}},null,{"$f":"IF($F$70=\"\",NA(),$F$70)","v":{"$error":"#N/A"}},{"$f":"IF($G$70=\"\",NA(),$G$70)","v":{"$error":"#N/A"}},null,null,"10:00:00",null,{"$f":"IF($D$78=\"\",NA(),$D$78)","v":{"$error":"#N/A"}},null,{"$f":"IF($F$78=\"\",NA(),$F$78)","v":{"$error":"#N/A"}},{"$f":"IF($G$78=\"\",NA(),$G$78)","v":{"$error":"#N/A"}}]
[]
[]
[]
[]
[]
[]
[null,null,null,null,null,null,null,null,null,null,null,6,null,null,null,null,null,null,null,14,null,null,null,null,null,null,null,22,null,null,null,null,null,null,null,30]
[null,null,null,null,null,null,null,null,null,null,null,null,"10:00:00",null,{"$f":"IF($D$55=\"\",NA(),$D$55)","v":{"$error":"#N/A"}},null,{"$f":"IF($F$55=\"\",NA(),$F$55)","v":{"$error":"#N/A"}},{"$f":"IF($G$55=\"\",NA(),$G$55)","v":{"$error":"#N/A"}},null,null,"10:00:00",null,{"$f":"IF($D$63=\"\",NA(),$D$63)","v":{"$error":"#N/A"}},null,{"$f":"IF($F$63=\"\",NA(),$F$63)","v":{"$error":"#N/A"}},{"$f":"IF($G$63=\"\",NA(),$G$63)","v":{"$error":"#N/A"}},null,null,"10:00:00",null,{"$f":"IF($D$71=\"\",NA(),$D$71)","v":{"$error":"#N/A"}},null,{"$f":"IF($F$71=\"\",NA(),$F$71)","v":{"$error":"#N/A"}},{"$f":"IF($G$71=\"\",NA(),$G$71)","v":{"$error":"#N/A"}},null,null,"10:00:00",null,{"$f":"IF($D$79=\"\",NA(),$D$79)","v":{"$error":"#N/A"}},null,{"$f":"IF($F$79=\"\",NA(),$F$79)","v":{"$error":"#N/A"}},{"$f":"IF($G$79=\"\",NA(),$G$79)","v":{"$error":"#N/A"}}]
[]
[]
[]
[]
[]
[]
[null,null,null,null,null,null,null,null,null,null,null,7,null,null,null,null,null,null,null,15,null,null,null,null,null,null,null,23,null,null,null,null,null,null,null,31]
[null,null,null,null,null,null,null,null,null,null,null,null,"10:00:00",null,{"$f":"IF($D$56=\"\",NA(),$D$56)","v":{"$error":"#N/A"}},null,{"$f":"IF($F$56=\"\",NA(),$F$56)","v":{"$error":"#N/A"}},{"$f":"IF($G$56=\"\",NA(),$G$56)","v":{"$error":"#N/A"}},null,null,"10:00:00",null,{"$f":"IF($D$64=\"\",NA(),$D$64)","v":{"$error":"#N/A"}},null,{"$f":"IF($F$64=\"\",NA(),$F$64)","v":{"$error":"#N/A"}},{"$f":"IF($G$64=\"\",NA(),$G$64)","v":{"$error":"#N/A"}},null,null,"10:00:00",null,{"$f":"IF($D$72=\"\",NA(),$D$72)","v":{"$error":"#N/A"}},null,{"$f":"IF($F$72=\"\",NA(),$F$72)","v":{"$error":"#N/A"}},{"$f":"IF($G$72=\"\",NA(),$G$72)","v":{"$error":"#N/A"}},null,null,"10:00:00",null,{"$f":"IF($D$80=\"\",NA(),$D$80)","v":{"$error":"#N/A"}},null,{"$f":"IF($F$80=\"\",NA(),$F$80)","v":{"$error":"#N/A"}},{"$f":"IF($G$80=\"\",NA(),$G$80)","v":{"$error":"#N/A"}}]
[]
[]
[]
[]
[]
[]
[null,null,null,null,null,null,null,null,null,null,null,8,null,null,null,null,null,null,null,16,null,null,null,null,null,null,null,24]
[null,null,null,null,null,null,null,null,null,null,null,null,"10:00:00",null,{"$f":"IF($D$57=\"\",NA(),$D$57)","v":{"$error":"#N/A"}},null,{"$f":"IF($F$57=\"\",NA(),$F$57)","v":{"$error":"#N/A"}},{"$f":"IF($G$57=\"\",NA(),$G$57)","v":{"$error":"#N/A"}},null,null,"10:00:00",null,{"$f":"IF($D$65=\"\",NA(),$D$65)","v":{"$error":"#N/A"}},null,{"$f":"IF($F$65=\"\",NA(),$F$65)","v":{"$error":"#N/A"}},{"$f":"IF($G$65=\"\",NA(),$G$65)","v":{"$error":"#N/A"}},null,null,"10:00:00",null,{"$f":"IF($D$73=\"\",NA(),$D$73)","v":{"$error":"#N/A"}},null,{"$f":"IF($F$73=\"\",NA(),$F$73)","v":{"$error":"#N/A"}},{"$f":"IF($G$73=\"\",NA(),$G$73)","v":{"$error":"#N/A"}}]
[]
[]
[]
[]
[]
[]
[]
[]
[]
[]
[]
[]
[]
[]
[]
[]
[]
[]
[]
[]
[]
[null,null,"Enterで入力画面へ"]
[null,null,"ｶｰｿﾙ初期位置",null,null,null,"日付チェック",null,null,null,"バイタルコピー"]
["管理欄",null,"入力に入る",null,null,null,"今日",{"$f":"NOW()","v":"2015-02-24T03:11:52.510"},null,null,{"$f":"IF($D$74=\"\",NA(),$D$74)","v":{"$error":"#N/A"}},null,{"$f":"IF($F$74=\"\",NA(),$F$74)","v":{"$error":"#N/A"}},{"$f":"IF($G$74=\"\",NA(),$G$74)","v":{"$error":"#N/A"}},null,{"$f":"K131&M131&N131","v":{"$error":"#N/A"}}]
[null,null,null,null,null,null,"日",{"$f":"DAY(H131)","v":24},null,null,null,null,null,null,null,""]
[null,null,null,null,null,null,"月",{"$f":"MONTH(H131)","v":2},null,null,null,null,null,null,null,""]
[null,null,null,null,null,null,null,null,null,null,null,null,null,null,null,""]
[null,null,null,null,null,null,"時",{"$f":"HOUR(H131)","v":3},null,null,null,null,null,null,null,""]
[null,null,null,null,null,null,null,null,null,null,null,null,null,null,null,""]
[null,null,null,null,null,null,null,null,null,null,null,null,null,null,null,""]
[null,null,null,null,null,null,null,null,null,null,null,null,null,null,null,""]
[null,null,null,null,null,null,null,null,null,null,null,null,null,null,null,""]
[null,null,"食事平均",null,null,null,null,null,null,null,null,null,null,null,null,""]
[null,null,"左",{"$f":"IF(D25=\"\", \"\", LEFT(D25,SEARCH(\".\",D25,1)-1)*1)","v":""},{"$f":"IF(E25=\"\", \"\", LEFT(E25,SEARCH(\".\",E25,1)-1)*1)","v":""},"","","","","","","","","","","","","","","","","","","","","","","","","","","","",""]
[null,null,null,{"$f":"IF(D26=\"\", \"\", LEFT(D26,SEARCH(\".\",D26,1)-1)*1)","v":""},"","","","","","","","","","","","","","","","","","","","","","","","","","","","","",""]
[null,null,null,"","","","","","","","","","","","","","","","","","","","","","","","","","","","","","",""]
[null,null,"右",{"$f":"IF(D25=\"\", \"\", RIGHT(D25,LEN(D25)-FIND(\".\",D25,1))*1)","v":""},{"$f":"IF(E25=\"\", \"\", RIGHT(E25,LEN(E25)-FIND(\".\",E25,1))*1)","v":""},"","","","","","","","","","","","","","","","","","","","","","","","","","","","",""]
[null,null,null,{"$f":"IF(D26=\"\", \"\", RIGHT(D26,LEN(D26)-FIND(\".\",D26,1))*1)","v":""},"","","","","","","","","","","","","","","","","","","","","","","","","","","","","",""]
[null,null,null,{"$f":"IF(D27=\"\", \"\", RIGHT(D27,LEN(D27)-FIND(\".\",D27,1))*1)","v":""},"","","","","","","","","","","","","","","","","","","","","","","","","","","","","",""]
[null,null,null,null,null,null,null,null,null,null,null,null,null,null,null,""]
[null,null,"BP平均",null,null,null,null,null,null,null,null,null,null,null,null,""]
[null,null,"左",{"$f":"IF(ISERROR(LEFT(D32,SEARCH(\"/\",D32,1)-1)*1),\"\",LEFT(D32,SEARCH(\"/\",D32,1)-1)*1)","v":""},{"$f":"IF(ISERROR(LEFT(E32,SEARCH(\"/\",E32,1)-1)*1),\"\",LEFT(E32,SEARCH(\"/\",E32,1)-1)*1)","v":""},"","","","","","","","","","","","","","","","","","","","","","","","","","","","",""]
[null,null,null,{"$f":"IF(ISERROR(LEFT(D33,SEARCH(\"/\",D33,1)-1)*1),\"\",LEFT(D33,SEARCH(\"/\",D33,1)-1)*1)","v":""},"","","","","","","","","","","","","","","","","","","","","","","","","","","","","",""]
[null,null,null,"","","","","","","","","","","","","","","","","","","","","","","","","","","","","","",""]
[null,null,null,"","","","","","","","","","","","","","","","","","","","","","","","","","","","","","",""]
[null,null,"右",{"$f":"IF(ISERROR(RIGHT(D32,LEN(D32)-FIND(\"/\",D32,1))*1),\"\",RIGHT(D32,LEN(D32)-FIND(\"/\",D32,1))*1)","v":""},{"$f":"IF(ISERROR(RIGHT(E32,LEN(E32)-FIND(\"/\",E32,1))*1),\"\",RIGHT(E32,LEN(E32)-FIND(\"/\",E32,1))*1)","v":""},{"$f":"IF(ISERROR(RIGHT(F32,LEN(F32)-FIND(\"/\",F32,1))*1),\"\",RIGHT(F32,LEN(F32)-FIND(\"/\",F32,1))*1)","v":""},"","","","","","","","","","","","","","","","","","","","","","","","","","","",""]
[null,null,null,{"$f":"IF(ISERROR(RIGHT(D33,LEN(D33)-FIND(\"/\",D33,1))*1),\"\",RIGHT(D33,LEN(D33)-FIND(\"/\",D33,1))*1)","v":""},"","","","","","","","","","","","","","","","","","","","","","","","","","","","","",""]
[null,null,null,"","","","","","","","","","","","","","","","","","","","","","","","","","","","","","",""]
[null,null,null,"","","","","","","","","","","","","","","","","","","","","","","","","","","","","","",""]
[null,null,null,null,null,null,null,null,null,null,null,null,null,null,null,""]
[null,null,null,null,null,null,null,null,null,null,null,null,null,null,null,""]
[null,null,null,null,null,null,null,null,null,null,null,null,null,null,null,""]
[null,null,null,null,null,null,null,null,null,null,null,null,null,null,null,""]
[null,null,null,null,null,null,null,null,null,null,null,null,null,null,null,""]

{"sheet":"4月","index":4,"n_rows":161,"n_cols":45,"rows_kept":161,"cut":false,"hidden":false,"merged":[[138,10,138,11],[138,13,138,14],[139,10,139,11],[160,10,160,11],[160,13,160,14],[147,10,147,11],[147,13,147,14],[139,13,139,14],[48,12,48,13],[48,14,48,15],[131,10,131,11],[131,13,131,14],[132,10,132,11],[132,13,132,14],[133,10,133,11],[133,13,133,14],[134,10,134,11],[134,13,134,14],[135,10,135,11],[135,13,135,14],[136,10,136,11],[136,13,136,14],[137,10,137,11],[137,13,137,14],[75,12,75,13],[61,12,61,13],[81,11,88,11],[81,12,81,13],[81,14,81,15],[92,12,92,13],[92,14,92,15],[89,12,89,13],[52,33,52,34],[52,36,52,37],[50,20,50,21],[50,22,50,23],[50,25,50,26],[52,22,52,23],[52,25,52,26],[52,28,52,29],[54,33,54,34],[54,36,54,37],[52,30,52,31],[53,28,53,29],[53,30,53,31],[50,28,50,29],[58,28,58,29],[60,25,60,26],[61,14,61,15],[63,36,63,37],[66,28,66,29],[69,25,69,26],[70,25,70,26],[68,30,68,31],[69,33,69,34],[70,30,70,31],[65,19,72,19],[65,20,65,21],[60,33,60,34],[65,22,65,23],[65,25,65,26],[23,1,23,2],[27,1,27,2],[28,1,30,2],[29,37,29,38],[30,37,30,38],[51,33,51,34],[49,25,49,26],[49,27,56,27],[49,28,49,29],[49,30,49,31],[50,30,50,31],[51,30,51,31],[49,20,49,21],[49,22,49,23],[53,20,53,21],[53,33,53,34],[53,36,53,37],[48,22,48,23],[48,36,48,37],[24,1,26,2],[31,1,34,2],[35,1,35,2],[56,33,56,34],[36,1,36,2],[37,1,37,2],[38,1,38,2],[53,41,53,42],[4,42,4,45],[18,1,18,2],[19,1,19,2],[20,1,20,2],[21,1,22,2],[16,1,16,2],[17,1,17,2],[2,10,3,12],[2,1,3,3],[1,7,1,9],[1,10,1,12],[13,37,13,40],[0,1,0,2],[0,5,0,6],[1,1,1,3],[1,4,1,6],[4,37,4,40],[5,37,9,40],[10,37,10,40],[11,37,11,40],[12,37,12,40],[16,39,16,40],[17,39,17,40],[18,39,18,40],[2,25,2,30],[3,25,3,30],[1,23,1,24],[2,23,3,24],[15,37,15,40],[16,37,16,38],[17,37,17,38],[54,38,54,39],[29,39,29,40],[30,39,30,40],[1,13,1,14],[2,15,3,20],[1,15,1,19],[1,25,1,31],[47,1,47,9],[47,11,47,18],[47,19,47,26],[47,27,47,34],[48,17,48,18],[48,20,48,21],[48,30,48,31],[48,33,48,34],[42,1,42,2],[43,1,43,2],[44,1,44,2],[46,1,46,5],[39,1,39,2],[40,1,40,2],[41,1,41,2],[48,25,48,26],[48,28,48,29],[48,3,48,4],[48,6,48,7],[51,25,51,26],[51,28,51,29],[53,38,53,39],[18,37,18,38],[21,39,21,40],[49,36,49,37],[56,41,56,42],[56,36,56,37],[48,38,48,39],[52,3,52,4],[52,6,52,7],[52,12,52,13],[52,14,52,15],[52,17,52,18],[52,20,52,21],[51,3,51,4],[51,6,51,7],[51,12,51,13],[51,14,51,15],[49,41,49,42],[50,3,50,4],[50,6,50,7],[50,12,50,13],[50,14,50,15],[50,17,50,18],[50,41,50,42],[49,38,49,39],[50,33,50,34],[50,36,50,37],[50,38,50,39],[49,33,49,34],[49,35,56,35],[51,41,51,42],[53,25,53,26],[56,38,56,39],[55,33,55,34],[55,36,55,37],[52,41,52,42],[51,36,51,37],[51,38,51,39],[54,41,54,42],[55,3,55,4],[55,6,55,7],[55,12,55,13],[55,14,55,15],[55,17,55,18],[55,20,55,21],[55,22,55,23],[55,25,55,26],[55,38,55,39],[54,20,54,21],[54,22,54,23],[54,25,54,26],[54,30,54,31],[54,28,54,29],[54,3,54,4],[54,6,54,7],[54,12,54,13],[54,14,54,15],[49,11,56,11],[53,3,53,4],[53,6,53,7],[53,12,53,13],[53,14,53,15],[49,12,49,13],[52,38,52,39],[51,20,51,21],[51,22,51,23],[53,22,53,23],[55,41,55,42],[57,3,57,4],[57,6,57,7],[57,11,64,11],[57,12,57,13],[57,14,57,15],[57,17,57,18],[57,19,64,19],[56,3,56,4],[56,6,56,7],[56,12,56,13],[56,14,56,15],[56,17,56,18],[56,20,56,21],[56,22,56,23],[56,25,56,26],[55,28,55,29],[55,30,55,31],[56,28,56,29],[56,30,56,31],[49,19,56,19],[54,17,54,18],[51,17,51,18],[53,17,53,18],[61,30,61,31],[60,17,60,18],[60,20,60,21],[60,28,60,29],[59,25,59,26],[49,14,49,15],[49,17,49,18],[59,3,59,4],[63,38,63,39],[57,35,64,35],[57,36,57,37],[57,38,57,39],[62,41,62,42],[60,41,60,42],[61,36,61,37],[64,41,64,42],[63,17,63,18],[63,20,63,21],[63,22,63,23],[63,30,63,31],[63,33,63,34],[61,41,61,42],[62,22,62,23],[62,36,62,37],[59,33,59,34],[59,36,59,37],[62,17,62,18],[62,20,62,21],[59,17,59,18],[61,38,61,39],[62,30,62,31],[57,33,57,34],[61,33,61,34],[62,33,62,34],[57,30,57,31],[58,30,58,31],[59,30,59,31],[60,30,60,31],[60,22,60,23],[58,38,58,39],[59,38,59,39],[59,28,59,29],[57,41,57,42],[58,3,58,4],[58,6,58,7],[58,12,58,13],[58,14,58,15],[58,17,58,18],[58,20,58,21],[58,22,58,23],[58,25,58,26],[57,20,57,21],[60,36,60,37],[60,38,60,39],[59,6,59,7],[59,12,59,13],[59,14,59,15],[57,22,57,23],[57,25,57,26],[57,27,64,27],[57,28,57,29],[61,28,61,29],[61,25,61,26],[62,25,62,26],[63,25,63,26],[63,28,63,29],[62,28,62,29],[62,38,62,39],[61,22,61,23],[61,17,61,18],[63,41,63,42],[61,20,61,21],[58,41,58,42],[59,20,59,21],[59,22,59,23],[64,33,64,34],[64,36,64,37],[64,38,64,39],[64,17,64,18],[64,20,64,21],[64,22,64,23],[64,25,64,26],[64,28,64,29],[64,3,64,4],[64,6,64,7],[64,12,64,13],[64,14,64,15],[58,33,58,34],[58,36,58,37],[63,3,63,4],[63,6,63,7],[63,12,63,13],[63,14,63,15],[62,3,62,4],[62,6,62,7],[62,12,62,13],[62,14,62,15],[61,3,61,4],[61,6,61,7],[59,41,59,42],[60,3,60,4],[60,6,60,7],[60,12,60,13],[60,14,60,15],[65,3,65,4],[65,6,65,7],[65,11,72,11],[65,12,65,13],[65,14,65,15],[65,17,65,18],[71,3,71,4],[71,6,71,7],[71,12,71,13],[71,14,71,15],[64,30,64,31],[72,33,72,34],[66,41,66,42],[67,3,67,4],[67,6,67,7],[67,12,67,13],[67,14,67,15],[67,17,67,18],[67,20,67,21],[67,22,67,23],[67,25,67,26],[67,28,67,29],[67,36,67,37],[67,38,67,39],[65,41,65,42],[66,3,66,4],[66,6,66,7],[66,12,66,13],[66,14,66,15],[66,17,66,18],[66,20,66,21],[66,22,66,23],[65,30,65,31],[65,36,65,37],[65,38,65,39],[66,33,66,34],[66,36,66,37],[66,38,66,39],[65,33,65,34],[65,35,72,35],[67,33,67,34],[68,33,68,34],[69,30,69,31],[66,30,66,31],[68,36,68,37],[68,38,68,39],[65,27,72,27],[65,28,65,29],[69,28,69,29],[66,25,66,26],[68,41,68,42],[69,3,69,4],[69,6,69,7],[69,12,69,13],[69,14,69,15],[69,17,69,18],[69,20,69,21],[69,22,69,23],[67,41,67,42],[68,3,68,4],[68,6,68,7],[68,12,68,13],[68,14,68,15],[68,17,68,18],[68,20,68,21],[68,22,68,23],[68,25,68,26],[68,28,68,29],[67,30,67,31],[77,41,77,42],[73,3,73,4],[73,6,73,7],[73,11,80,11],[73,12,73,13],[73,14,73,15],[73,17,73,18],[78,3,78,4],[78,6,78,7],[78,12,78,13],[78,14,78,15],[70,36,70,37],[70,38,70,39],[70,41,70,42],[71,33,71,34],[70,33,70,34],[69,36,69,37],[69,38,69,39],[69,41,69,42],[70,3,70,4],[70,6,70,7],[70,12,70,13],[70,14,70,15],[70,17,70,18],[70,20,70,21],[70,22,70,23],[71,25,71,26],[71,28,71,29],[70,28,70,29],[72,36,72,37],[72,38,72,39],[71,41,71,42],[72,3,72,4],[72,6,72,7],[72,12,72,13],[72,14,72,15],[72,17,72,18],[72,41,72,42],[71,17,71,18],[72,20,72,21],[72,22,72,23],[72,25,72,26],[72,28,72,29],[71,30,71,31],[71,20,71,21],[71,22,71,23],[72,30,72,31],[71,36,71,37],[71,38,71,39],[77,20,77,21],[77,22,77,23],[77,25,77,26],[77,33,77,34],[75,14,75,15],[75,17,75,18],[75,20,75,21],[76,3,76,4],[76,6,76,7],[76,12,76,13],[76,14,76,15],[75,3,75,4],[75,6,75,7],[74,3,74,4],[74,6,74,7],[74,12,74,13],[74,14,74,15],[74,17,74,18],[77,3,77,4],[77,6,77,7],[77,12,77,13],[77,14,77,15],[77,17,77,18],[76,33,76,34],[73,19,80,19],[73,20,73,21],[76,25,76,26],[76,28,76,29],[73,36,73,37],[73,38,73,39],[74,33,74,34],[74,36,74,37],[74,38,74,39],[75,33,75,34],[75,36,75,37],[75,38,75,39],[73,33,73,34],[73,35,80,35],[73,22,73,23],[78,36,78,37],[78,38,78,39],[78,22,78,23],[78,25,78,26],[77,38,77,39],[77,36,77,37],[76,36,76,37],[76,38,76,39],[76,41,76,42],[75,41,75,42],[76,17,76,18],[76,20,76,21],[80,41,80,42],[73,41,73,42],[74,30,74,31],[75,30,75,31],[76,30,76,31],[77,28,77,29],[77,30,77,31],[74,25,74,26],[74,28,74,29],[73,25,73,26],[80,36,80,37],[80,28,80,29],[80,30,80,31],[80,33,80,34],[80,38,80,39],[73,27,80,27],[74,20,74,21],[74,22,74,23],[74,41,74,42],[78,17,78,18],[78,20,78,21],[73,28,73,29],[73,30,73,31],[78,28,78,29],[75,22,75,23],[75,25,75,26],[75,28,75,29],[76,22,76,23],[81,17,81,18],[81,19,88,19],[80,12,80,13],[80,14,80,15],[80,17,80,18],[80,20,80,21],[80,22,80,23],[80,25,80,26],[79,36,79,37],[79,38,79,39],[78,41,78,42],[79,3,79,4],[79,6,79,7],[79,12,79,13],[79,14,79,15],[79,17,79,18],[79,41,79,42],[79,20,79,21],[79,22,79,23],[79,25,79,26],[79,28,79,29],[78,30,78,31],[78,33,78,34],[79,30,79,31],[79,33,79,34],[81,41,81,42],[82,12,82,13],[82,14,82,15],[82,17,82,18],[81,33,81,34],[81,35,88,35],[81,36,81,37],[81,38,81,39],[82,36,82,37],[82,38,82,39],[83,36,83,37],[83,38,83,39],[84,36,84,37],[81,20,81,21],[81,22,81,23],[81,25,81,26],[81,27,88,27],[81,28,81,29],[81,30,81,31],[86,30,86,31],[85,30,85,31],[83,33,83,34],[86,33,86,34],[86,36,86,37],[86,38,86,39],[88,33,88,34],[88,36,88,37],[88,38,88,39],[83,41,83,42],[84,12,84,13],[84,14,84,15],[84,17,84,18],[84,20,84,21],[84,22,84,23],[84,25,84,26],[84,28,84,29],[84,30,84,31],[82,33,82,34],[82,41,82,42],[83,12,83,13],[83,14,83,15],[83,17,83,18],[83,20,83,21],[83,22,83,23],[83,25,83,26],[83,28,83,29],[83,30,83,31],[84,38,84,39],[82,20,82,21],[82,22,82,23],[82,25,82,26],[82,28,82,29],[82,30,82,31],[86,41,86,42],[85,36,85,37],[85,38,85,39],[85,41,85,42],[85,33,85,34],[86,12,86,13],[86,14,86,15],[86,17,86,18],[86,20,86,21],[86,22,86,23],[86,25,86,26],[84,33,84,34],[86,28,86,29],[84,41,84,42],[85,12,85,13],[85,14,85,15],[85,17,85,18],[85,20,85,21],[85,22,85,23],[85,25,85,26],[85,28,85,29],[88,41,88,42],[88,22,88,23],[88,25,88,26],[88,28,88,29],[88,30,88,31],[88,12,88,13],[88,14,88,15],[88,17,88,18],[88,20,88,21],[87,33,87,34],[87,36,87,37],[87,12,87,13],[87,14,87,15],[87,17,87,18],[87,20,87,21],[87,38,87,39],[87,41,87,42],[87,22,87,23],[87,25,87,26],[87,28,87,29],[87,30,87,31],[92,17,92,18],[92,20,92,21],[90,41,90,42],[91,36,91,37],[91,38,91,39],[91,41,91,42],[90,22,90,23],[90,25,90,26],[89,33,89,34],[90,28,90,29],[90,30,90,31],[90,33,90,34],[91,33,91,34],[89,19,96,19],[89,20,89,21],[89,22,89,23],[89,25,89,26],[90,20,90,21],[91,20,91,21],[91,22,91,23],[92,28,92,29],[92,30,92,31],[89,27,96,27],[89,28,89,29],[89,30,89,31],[91,28,91,29],[91,30,91,31],[91,25,91,26],[95,33,95,34],[95,36,95,37],[89,14,89,15],[89,17,89,18],[90,12,90,13],[90,14,90,15],[90,17,90,18],[91,12,91,13],[91,14,91,15],[91,17,91,18],[93,33,93,34],[93,36,93,37],[93,12,93,13],[93,14,93,15],[93,17,93,18],[93,20,93,21],[93,38,93,39],[93,41,93,42],[93,22,93,23],[93,25,93,26],[93,28,93,29],[93,30,93,31],[92,33,92,34],[92,36,92,37],[92,38,92,39],[92,41,92,42],[89,35,96,35],[89,36,89,37],[89,38,89,39],[89,41,89,42],[90,36,90,37],[90,38,90,39],[92,22,92,23],[92,25,92,26],[95,12,95,13],[95,14,95,15],[95,17,95,18],[95,20,95,21],[95,38,95,39],[95,41,95,42],[95,22,95,23],[95,25,95,26],[95,28,95,29],[95,30,95,31],[94,33,94,34],[94,36,94,37],[94,38,94,39],[94,41,94,42],[94,22,94,23],[94,25,94,26],[94,28,94,29],[94,30,94,31],[94,12,94,13],[94,14,94,15],[94,17,94,18],[94,20,94,21],[97,11,104,11],[97,12,97,13],[97,14,97,15],[97,17,97,18],[98,12,98,13],[98,14,98,15],[98,17,98,18],[99,12,99,13],[99,14,99,15],[99,17,99,18],[96,33,96,34],[96,36,96,37],[96,38,96,39],[96,41,96,42],[96,22,96,23],[96,25,96,26],[96,28,96,29],[96,30,96,31],[96,12,96,13],[96,14,96,15],[96,17,96,18],[96,20,96,21],[89,11,96,11],[100,12,100,13],[100,14,100,15],[100,17,100,18],[100,20,100,21],[97,19,104,19],[97,20,97,21],[101,12,101,13],[101,14,101,15],[101,17,101,18],[101,20,101,21],[99,38,99,39],[99,41,99,42],[97,33,97,34],[98,28,98,29],[98,30,98,31],[98,33,98,34],[99,33,99,34],[97,30,97,31],[99,28,99,29],[99,30,99,31],[97,22,97,23],[97,25,97,26],[98,20,98,21],[98,22,98,23],[98,25,98,26],[99,20,99,21],[99,22,99,23],[99,25,99,26],[103,25,103,26],[103,28,103,29],[102,36,102,37],[102,38,102,39],[102,41,102,42],[102,22,102,23],[102,25,102,26],[102,28,102,29],[102,30,102,31],[101,33,101,34],[101,36,101,37],[101,38,101,39],[101,41,101,42],[101,22,101,23],[101,25,101,26],[101,28,101,29],[101,30,101,31],[97,27,104,27],[97,28,97,29],[100,33,100,34],[100,36,100,37],[100,22,100,23],[100,25,100,26],[100,28,100,29],[100,30,100,31],[100,38,100,39],[100,41,100,42],[104,14,104,15],[104,17,104,18],[104,20,104,21],[104,36,104,37],[104,22,104,23],[104,25,104,26],[104,28,104,29],[104,30,104,31],[104,38,104,39],[104,33,104,34],[103,41,103,42],[104,41,104,42],[103,30,103,31],[103,33,103,34],[103,36,103,37],[103,38,103,39],[103,14,103,15],[103,17,103,18],[103,20,103,21],[97,35,104,35],[97,36,97,37],[97,38,97,39],[97,41,97,42],[98,36,98,37],[98,38,98,39],[98,41,98,42],[99,36,99,37],[102,33,102,34],[102,14,102,15],[102,17,102,18],[102,20,102,21],[103,22,103,23],[107,28,107,29],[110,14,110,15],[110,17,110,18],[110,20,110,21],[107,17,107,18],[108,22,108,23],[108,25,108,26],[108,28,108,29],[106,25,106,26],[107,20,107,21],[107,22,107,23],[105,33,105,34],[106,28,106,29],[106,30,106,31],[106,33,106,34],[106,20,106,21],[106,22,106,23],[107,30,107,31],[106,14,106,15],[106,17,106,18],[107,14,107,15],[105,14,105,15],[105,17,105,18],[107,33,107,34],[105,19,112,19],[105,20,105,21],[105,22,105,23],[105,25,105,26],[107,25,107,26],[105,30,105,31],[108,33,108,34],[130,0,132,0],[130,2,130,4],[130,7,130,8],[105,11,112,11],[105,12,105,13],[107,12,107,13],[108,12,108,13],[108,14,108,15],[129,10,129,12],[112,22,112,23],[112,12,112,13],[112,14,112,15],[112,17,112,18],[112,20,112,21],[111,17,111,18],[111,20,111,21],[111,22,111,23],[110,22,110,23],[109,17,109,18],[109,20,109,21],[109,22,109,23],[108,17,108,18],[108,20,108,21],[130,10,130,11],[130,13,130,14],[109,14,109,15],[27,37,27,38],[28,37,28,38],[33,42,33,43],[112,33,112,34],[129,2,129,4],[129,6,129,8],[112,25,112,26],[112,28,112,29],[112,30,112,31],[111,12,111,13],[111,14,111,15],[111,25,111,26],[111,28,111,29],[111,30,111,31],[111,33,111,34],[110,25,110,26],[110,28,110,29],[110,30,110,31],[110,33,110,34],[109,25,109,26],[109,28,109,29],[109,30,109,31],[105,27,112,27],[105,28,105,29],[109,33,109,34],[49,3,49,4],[49,6,49,7],[44,42,44,43],[39,42,39,43],[40,42,40,43],[41,42,41,43],[108,30,108,31],[16,42,16,43],[17,42,17,43],[18,42,18,43],[35,39,35,40],[36,39,36,40],[36,37,36,38],[37,37,37,38],[38,37,38,38],[19,39,19,40],[35,37,35,38],[31,37,31,38],[32,37,32,38],[33,37,33,38],[34,37,34,38],[25,39,25,40],[26,39,26,40],[31,39,31,40],[32,39,32,40],[19,37,19,38],[20,37,20,38],[21,37,21,38],[22,37,22,38],[23,37,23,38],[24,37,24,38],[25,37,25,38],[26,37,26,38],[20,39,20,40],[27,39,27,40],[28,39,28,40],[23,39,23,40],[24,39,24,40],[22,39,22,40],[19,44,19,45],[20,44,20,45],[21,44,21,45],[14,44,14,45],[15,44,15,45],[16,44,16,45],[17,44,17,45],[28,42,28,43],[5,42,5,43],[6,42,6,43],[7,42,7,43],[8,42,8,43],[34,42,34,43],[9,42,9,43],[10,42,10,43],[11,42,14,43],[30,42,30,45],[19,42,19,43],[32,42,32,43],[5,44,5,45],[6,44,6,45],[7,44,7,45],[8,44,8,45],[9,44,9,45],[10,44,10,45],[11,44,11,45]],"merged_total":1062,"flags":["merged_cut"]}
[null,"体温表",null,null,null,{"$f":"設定!$F$7","v":2016},null,"年",null,4,"月"]
[null,"カルテ番号",null,null,"病棟",null,null,"入院形態",null,null,"主治医",null,null,"　姓名",null,{"$f":"'3月'!$P$2","v":0},null,null,null,null,null,null,null,"性別",null,"生年月日　",null,null,null,null,null,null,"担当Ns"]
[null,{"$f":"'3月'!B3","v":0},null,null,{"$f":"IF(COUNTIF('3月'!E3:G3,\"*\"),INDEX('3月'!E3:G3,MATCH(\"\",'3月'!E3:G3,-1)),\"\")","v":""},null,null,{"$f":"IF(COUNTIF('3月'!H3:J3,\"*\"),INDEX('3月'!H3:J3,MATCH(\"\",'3月'!H3:J3,-1)),\"\")","v":""},null,null,{"$f":"'3月'!K3","v":0},null,null,null,null,{"$f":"'3月'!$P$3","v":0},null,null,null,null,null,null,null,{"$f":"'3月'!$X$3","v":0},null,{"$f":"'3月'!$Z$3","v":"00:00:00"},null,null,null,null,null,{"$f":"DATEDIF(Z3,TODAY(),\"Y\")","v":115},{"$f":"'3月'!$AG$3","v":0}]
[null,null,null,null,"/","/","/","/","/","/",null,null,null,null,null,null,null,null,null,null,null,null,null,null,null,{"$f":"Z3","v":"00:00:00"},null,null,null,null,null,"歳"]
[null,null,null,null,null,null,null,null,null,null,null,null,null,null,null,null,null,null,null,null,null,null,null,null,null,null,null,null,null,null,null,null,null,null,null,null,null,{"$f":"設定!C10","v":"備考欄"},null,null,null,null,{"$f":"設定!I10","v":"食事箋"}]
[null,null,null,null,null,null,null,null,null,null,null,null,null,null,null,null,null,null,null,null,null,null,null,null,null,null,null,null,null,null,null,null,null,null,null,null,null,{"$f":"設定!C11","v":0},null,null,null,null,{"$f":"設定!I11","v":0},null,{"$f":"設定!K11","v":0}]
[null,null,null,null,null,null,null,null,null,null,null,null,null,null,null,null,null,null,null,null,null,null,null,null,null,null,null,null,null,null,null,null,null,null,null,null,null,null,null,null,null,null,{"$f":"設定!I12","v":"常食"},null,{"$f":"設定!K12","v":"常食"}]
[null,null,null,null,null,null,null,null,null,null,null,null,null,null,null,null,null,null,null,null,null,null,null,null,null,null,null,null,null,null,null,null,null,null,null,null,null,null,null,null,null,null,{"$f":"設定!I13","v":"心臓"},null,{"$f":"設定!K13","v":"心臓"}]
[null,null,null,null,null,null,null,null,null,null,null,null,null,null,null,null,null,null,null,null,null,null,null,null,null,null,null,null,null,null,null,null,null,null,null,null,null,null,null,null,null,null,{"$f":"設定!I14","v":"すい臓"},null,{"$f":"設定!K14","v":"膵臓"}]
[null,null,null,null,null,null,null,null,null,null,null,null,null,null,null,null,null,null,null,null,null,null,null,null,null,null,null,null,null,null,null,null,null,null,null,null,null,null,null,null,null,null,{"$f":"設定!I15","v":"じん臓"},null,{"$f":"設定!K15","v":"腎臓"}]
[null,null,null,null,null,null,null,null,null,null,null,null,null,null,null,null,null,null,null,null,null,null,null,null,null,null,null,null,null,null,null,null,null,null,null,null,null,{"$f":"'3月'!AL11","v":0},null,null,null,null,{"$f":"設定!I16","v":"高血圧"},null,{"$f":"設定!K16","v":"高血"}]
[null,null,null,null,null,null,null,null,null,null,null,null,null,null,null,null,null,null,null,null,null,null,null,null,null,null,null,null,null,null,null,null,null,null,null,null,null,{"$f":"'3月'!AL12","v":0},null,null,null,null,{"$f":"設定!I17","v":"糖尿"},null,{"$f":"設定!K17","v":"糖1200"}]
[null,null,null,null,null,null,null,null,null,null,null,null,null,null,null,null,null,null,null,null,null,null,null,null,null,null,null,null,null,null,null,null,null,null,null,null,null,{"$f":"'3月'!AL13","v":0},null,null,null,null,null,null,{"$f":"設定!K18","v":"糖1440"}]
[null,null,null,null,null,null,null,null,null,null,null,null,null,null,null,null,null,null,null,null,null,null,null,null,null,null,null,null,null,null,null,null,null,null,null,null,null,{"$f":"'3月'!AL14","v":0},null,null,null,null,null,null,{"$f":"設定!K19","v":"糖1600"}]
[null,null,null,null,null,null,null,null,null,null,null,null,null,null,null,null,null,null,null,null,null,null,null,null,null,null,null,null,null,null,null,null,null,null,null,null,null,null,null,null,null,null,null,null,{"$f":"設定!K20","v":"糖1800"}]
[null,null,null,null,null,null,null,null,null,null,null,null,null,null,null,null,null,null,null,null,null,null,null,null,null,null,null,null,null,null,null,null,null,null,null,null,null,{"$f":"設定!C21","v":"面会"},null,null,null,null,{"$f":"設定!I21","v":"肝臓A"},null,{"$f":"設定!K21","v":"肝Ａ"}]
[null,"日　付",null,1,2,3,4,5,6,7,8,9,10,11,12,13,14,15,16,17,18,19,20,21,22,23,24,25,26,27,28,29,30,31,"統計",null,null,{"$f":"設定!C22","v":0},null,{"$f":"設定!E22","v":0},null,null,{"$f":"設定!I22","v":"肝臓B"},null,{"$f":"設定!K22","v":"肝Ｂ"}]
[null,"行　動",null,null,null,null,null,null,null,null,null,null,null,null,null,null,null,null,null,null,null,null,null,null,null,null,null,null,null,null,null,null,null,null,null,null,null,{"$f":"設定!C23","v":"両親"},null,{"$f":"設定!E23","v":"両親"},null,null,{"$f":"設定!I23","v":"潰瘍"},null,{"$f":"設定!K23","v":"潰瘍"}]
[null,"時　間",null,null,null,null,null,null,null,null,null,null,null,null,null,null,null,null,null,null,null,null,null,null,null,null,null,null,null,null,null,null,null,null,null,null,null,{"$f":"設定!C24","v":"父"},null,{"$f":"設定!E24","v":"父"},null,null,{"$f":"設定!I24","v":"低残渣食"},null,{"$f":"設定!K24","v":"低残"}]
[null,"行　動",null,null,null,null,null,null,null,null,null,null,null,null,null,null,null,null,null,null,null,null,null,null,null,null,null,null,null,null,null,null,null,null,null,null,null,{"$f":"設定!C25","v":"母"},null,{"$f":"設定!E25","v":"母"},null,null,{"$f":"設定!I25","v":"貧血"},null,{"$f":"設定!K25","v":"貧血"}]
[null,"時　間",null,null,null,null,null,null,null,null,null,null,null,null,null,null,null,null,null,null,null,null,null,null,null,null,null,null,null,null,null,null,null,null,{"$f":"IF(COUNTIF(D18:AH21,\"外出\")+COUNTIF(D18:AH21,\"外泊\")=0,\"回数\",COUNTIF(D18:AH21,\"外出\")+COUNTIF(D18:AH21,\"外泊\"))","v":"回数"},null,null,{"$f":"設定!C26","v":"主人"},null,{"$f":"設定!E26","v":"夫"},null,null,{"$f":"設定!I26","v":"脂質異常"},null,{"$f":"設定!K26","v":"脂1200"}]
[null,"面　会",null,null,null,null,null,null,null,null,null,null,null,null,null,null,null,null,null,null,null,null,null,null,null,null,null,null,null,null,null,null,null,null,null,null,null,{"$f":"設定!C27","v":"奥方"},null,{"$f":"設定!E27","v":"妻"},null,null,null,null,{"$f":"設定!K27","v":"脂1440"}]
[null,null,null,null,null,null,null,null,null,null,null,null,null,null,null,null,null,null,null,null,null,null,null,null,null,null,null,null,null,null,null,null,null,null,{"$f":"IF(COUNTA(D22:AH23)=0,\"回数\",COUNTA(D22:AH23))","v":"回数"},null,null,{"$f":"設定!C28","v":"息子"},null,{"$f":"設定!E28","v":"息子"},null,null,null,null,{"$f":"設定!K28","v":"脂1600"}]
[null,"入　浴",null,null,null,null,null,null,null,null,null,null,null,null,null,null,null,null,null,null,null,null,null,null,null,null,null,null,null,null,null,null,null,null,{"$f":"IF(COUNTA(D24:AH24)=0,\"回数\",COUNTA(D24:AH24))","v":"回数"},null,null,{"$f":"設定!C29","v":"娘"},null,{"$f":"設定!E29","v":"娘"},null,null,null,null,{"$f":"設定!K29","v":"脂1800"}]
[null,"食　事",null,null,null,null,null,null,null,null,null,null,null,null,null,null,null,null,null,null,null,null,null,null,null,null,null,null,null,null,null,null,null,null,null,null,null,{"$f":"設定!C30","v":"兄"},null,{"$f":"設定!E30","v":"兄"},null,null,{"$f":"設定!I30","v":"検査食"},null,{"$f":"設定!K30","v":"検査"}]
[null,null,null,null,null,null,null,null,null,null,null,null,null,null,null,null,null,null,null,null,null,null,null,null,null,null,null,null,null,null,null,null,null,null,null,null,null,{"$f":"設定!C31","v":"弟"},null,{"$f":"設定!E31","v":"弟"},null,null,{"$f":"設定!I31","v":"絶食"},null,{"$f":"設定!K31","v":"絶食"}]
[null,null,null,null,null,null,null,null,null,null,null,null,null,null,null,null,null,null,null,null,null,null,null,null,null,null,null,null,null,null,null,null,null,null,{"$f":"IFERROR(INT(AVERAGE(D141:AH143))& \".\"&INT(AVERAGE(D144:AH146)),\"平均\")","v":"平均"},null,null,{"$f":"設定!C32","v":"姉"},null,{"$f":"設定!E32","v":"姉"},null,null,{"$f":"設定!I32","v":0},null,{"$f":"設定!K32","v":0}]
[null,"便　通",null,{"$f":"IF(ISBLANK(I51),\"\",I51)","v":""},{"$f":"IF(ISBLANK(I52),\"\",I52)","v":""},{"$f":"IF(ISBLANK(I53),\"\",I53)","v":""},{"$f":"IF(ISBLANK(I54),\"\",I54)","v":""},{"$f":"IF(ISBLANK(I55),\"\",I55)","v":""},{"$f":"IF(ISBLANK(I56),\"\",I56)","v":""},{"$f":"IF(ISBLANK(I57),\"\",I57)","v":""},{"$f":"IF(ISBLANK(I58),\"\",I58)","v":""},{"$f":"IF(ISBLANK(I59),\"\",I59)","v":""},{"$f":"IF(ISBLANK(I60),\"\",I60)","v":""},{"$f":"IF(ISBLANK(I61),\"\",I61)","v":""},{"$f":"IF(ISBLANK(I62),\"\",I62)","v":""},{"$f":"IF(ISBLANK(I63),\"\",I63)","v":""},{"$f":"IF(ISBLANK(I64),\"\",I64)","v":""},{"$f":"IF(ISBLANK(I65),\"\",I65)","v":""},{"$f":"IF(ISBLANK(I66),\"\",I66)","v":""},{"$f":"IF(ISBLANK(I67),\"\",I67)","v":""},{"$f":"IF(ISBLANK(I68),\"\",I68)","v":""},{"$f":"IF(ISBLANK(I69),\"\",I69)","v":""},{"$f":"IF(ISBLANK(I70),\"\",I70)","v":""},{"$f":"IF(ISBLANK(I71),\"\",I71)","v":""},{"$f":"IF(ISBLANK(I72),\"\",I72)","v":""},{"$f":"IF(ISBLANK(I73),\"\",I73)","v":""},{"$f":"IF(ISBLANK(I74),\"\",I74)","v":""},{"$f":"IF(ISBLANK(I75),\"\",I75)","v":""},{"$f":"IF(ISBLANK(I76),\"\",I76)","v":""},{"$f":"IF(ISBLANK(I77),\"\",I77)","v":""},{"$f":"IF(ISBLANK(I78),\"\",I78)","v":""},{"$f":"IF(ISBLANK(I79),\"\",I79)","v":""},{"$f":"IF(ISBLANK(I80),\"\",I80)","v":""},{"$f":"IF(ISBLANK('3月'!I50),\"\",'3月'!I50)","v":""},{"$f":"IF(COUNTIF(D28:AH28,0)=0,\"回数\",COUNTIF(D28:AH28,0))","v":"回数"},null,null,{"$f":"設定!C33","v":"妹"},null,{"$f":"設定!E33","v":"妹"},null,null,{"$f":"設定!I33","v":0},null,{"$f":"設定!K33","v":0}]
[null,"便処置",null,null,null,null,null,null,null,null,null,null,null,null,null,null,null,null,null,null,null,null,null,null,null,null,null,null,null,null,null,null,null,null,null,null,null,{"$f":"設定!C34","v":"孫"},null,{"$f":"設定!E34","v":"孫"},null,null,{"$f":"設定!I34","v":0},null,{"$f":"設定!K34","v":0}]
[null,null,null,null,null,null,null,null,null,null,null,null,null,null,null,null,null,null,null,null,null,null,null,null,null,null,null,null,null,null,null,null,null,null,{"$f":"IF(SUM(D29:AH31)=0,\"滴数\",SUM(D29:AH31))","v":"滴数"},null,null,{"$f":"設定!C35","v":"友人知人"},null,{"$f":"設定!E35","v":"知人"}]
[null,null,null,null,null,null,null,null,null,null,null,null,null,null,null,null,null,null,null,null,null,null,null,null,null,null,null,null,null,null,null,null,null,null,{"$f":"IF(AI30=\"滴数\",\"本数\",AI30/150)","v":"本数"},null,null,{"$f":"設定!C36","v":"子の夫"},null,{"$f":"設定!E36","v":"子夫"},null,null,{"$f":"設定!I36","v":"食事形態"}]
[null,"血　圧",null,{"$f":"$R$50","v":0},{"$f":"$R$58","v":0},{"$f":"R66","v":0},{"$f":"R74","v":0},{"$f":"R82","v":0},{"$f":"R90","v":0},{"$f":"R98","v":0},{"$f":"R106","v":0},{"$f":"Z50","v":0},{"$f":"Z58","v":0},{"$f":"Z66","v":0},{"$f":"Z74","v":0},{"$f":"Z82","v":0},{"$f":"Z90","v":0},{"$f":"Z98","v":0},{"$f":"Z106","v":0},{"$f":"AH50","v":0},{"$f":"AH58","v":0},{"$f":"AH66","v":0},{"$f":"AH74","v":0},{"$f":"AH82","v":0},{"$f":"AH90","v":0},{"$f":"AH98","v":0},{"$f":"AH106","v":0},{"$f":"AP50","v":0},{"$f":"AP58","v":0},{"$f":"AP66","v":0},{"$f":"AP74","v":0},{"$f":"AP82","v":0},{"$f":"AP90","v":0},{"$f":"AP98","v":0},null,null,null,{"$f":"設定!C37","v":"子の妻"},null,{"$f":"設定!E37","v":"子妻"},null,null,{"$f":"設定!I37","v":0},null,{"$f":"設定!K37","v":0}]
[null,null,null,{"$f":"$R$51","v":{"$error":"#N/A"}},{"$f":"$R$59","v":{"$error":"#N/A"}},{"$f":"R67","v":{"$error":"#N/A"}},{"$f":"R75","v":{"$error":"#N/A"}},{"$f":"R83","v":{"$error":"#N/A"}},{"$f":"R91","v":{"$error":"#N/A"}},{"$f":"R99","v":{"$error":"#N/A"}},{"$f":"R107","v":{"$error":"#N/A"}},{"$f":"Z51","v":{"$error":"#N/A"}},{"$f":"Z59","v":{"$error":"#N/A"}},{"$f":"Z67","v":{"$error":"#N/A"}},{"$f":"Z75","v":{"$error":"#N/A"}},{"$f":"Z83","v":{"$error":"#N/A"}},{"$f":"Z91","v":{"$error":"#N/A"}},{"$f":"Z99","v":{"$error":"#N/A"}},{"$f":"Z107","v":{"$error":"#N/A"}},{"$f":"AH51","v":{"$error":"#N/A"}},{"$f":"AH59","v":{"$error":"#N/A"}},{"$f":"AH67","v":{"$error":"#N/A"}},{"$f":"AH75","v":{"$error":"#N/A"}},{"$f":"AH83","v":{"$error":"#N/A"}},{"$f":"AH91","v":{"$error":"#N/A"}},{"$f":"AH99","v":{"$error":"#N/A"}},{"$f":"AH107","v":{"$error":"#N/A"}},{"$f":"AP51","v":{"$error":"#N/A"}},{"$f":"AP59","v":{"$error":"#N/A"}},{"$f":"AP67","v":{"$error":"#N/A"}},{"$f":"AP75","v":{"$error":"#N/A"}},{"$f":"AP83","v":{"$error":"#N/A"}},{"$f":"AP91","v":{"$error":"#N/A"}},{"$f":"AP99","v":{"$error":"#N/A"}},null,null,null,{"$f":"設定!C38","v":"祖母"},null,{"$f":"設定!E38","v":"祖母"},null,null,{"$f":"設定!I38","v":"普通食"},null,{"$f":"設定!K38","v":"普通"}]
[null,null,null,{"$f":"$R$52","v":0},{"$f":"$R$60","v":0},{"$f":"R68","v":0},{"$f":"R76","v":0},{"$f":"R84","v":0},{"$f":"R92","v":0},{"$f":"R100","v":0},{"$f":"R108","v":0},{"$f":"Z52","v":0},{"$f":"Z60","v":0},{"$f":"Z68","v":0},{"$f":"Z76","v":0},{"$f":"Z84","v":0},{"$f":"Z92","v":0},{"$f":"Z100","v":0},{"$f":"Z108","v":0},{"$f":"AH52","v":0},{"$f":"AH60","v":0},{"$f":"AH68","v":0},{"$f":"AH76","v":0},{"$f":"AH84","v":0},{"$f":"AH92","v":0},{"$f":"AH100","v":0},{"$f":"AH108","v":0},{"$f":"AP52","v":0},{"$f":"AP60","v":0},{"$f":"AP68","v":0},{"$f":"AP76","v":0},{"$f":"AP84","v":0},{"$f":"AP92","v":0},{"$f":"AP100","v":0},null,null,null,{"$f":"設定!C39","v":"祖父"},null,{"$f":"設定!E39","v":"祖父"},null,null,{"$f":"設定!I39","v":"普+一口大"},null,{"$f":"設定!K39","v":"一口"}]
[null,null,null,{"$f":"$R$53","v":0},{"$f":"$R$61","v":0},{"$f":"R69","v":0},{"$f":"R77","v":0},{"$f":"R85","v":0},{"$f":"R93","v":0},{"$f":"R101","v":0},{"$f":"R109","v":0},{"$f":"Z53","v":0},{"$f":"Z61","v":0},{"$f":"Z69","v":0},{"$f":"Z77","v":0},{"$f":"Z85","v":0},{"$f":"Z93","v":0},{"$f":"Z101","v":0},{"$f":"Z109","v":0},{"$f":"AH53","v":0},{"$f":"AH61","v":0},{"$f":"AH69","v":0},{"$f":"AH77","v":0},{"$f":"AH85","v":0},{"$f":"AH93","v":0},{"$f":"AH101","v":0},{"$f":"AH109","v":0},{"$f":"AP53","v":0},{"$f":"AP61","v":0},{"$f":"AP69","v":0},{"$f":"AP77","v":0},{"$f":"AP85","v":0},{"$f":"AP93","v":0},{"$f":"AP101","v":0},{"$f":"IFERROR(INT(AVERAGE(D149:AH152))& \"/\"&INT(AVERAGE(D153:AH156)),\"平均\")","v":"平均"},null,null,{"$f":"設定!C40","v":"従兄弟の父"},null,{"$f":"設定!E40","v":"叔父"},null,null,{"$f":"設定!I40","v":"普+キザミ"},null,{"$f":"設定!K40","v":"普キ"}]
[null,"食事箋",null,{"$f":"IF(COUNTIF('3月'!D40:AH40,\"*\"),INDEX('3月'!D40:AH40,MATCH(\"\",'3月'!D40:AH40,-1)),\"\")","v":""},null,null,null,null,null,null,null,null,null,null,null,null,null,null,null,null,null,null,null,null,null,null,null,null,null,null,null,null,null,null,null,null,null,{"$f":"設定!C41","v":"従兄弟の母"},null,{"$f":"設定!E41","v":"叔母"},null,null,{"$f":"設定!I41","v":"軟飯"},null,{"$f":"設定!K41","v":"軟飯"}]
[null,"形　態",null,{"$f":"IF(COUNTIF('3月'!D41:AH41,\"*\"),INDEX('3月'!D41:AH41,MATCH(\"\",'3月'!D41:AH41,-1)),\"\")","v":""},null,null,null,null,null,null,null,null,null,null,null,null,null,null,null,null,null,null,null,null,null,null,null,null,null,null,null,null,null,null,null,null,null,{"$f":"設定!C42","v":"従兄弟"},null,{"$f":"設定!E42","v":"ｲﾄｺ"},null,null,{"$f":"設定!I42","v":"軟+キザミ"},null,{"$f":"設定!K42","v":"軟キ"}]
[null,"身　長",null,{"$f":"IF(COUNT('3月'!D42:AH42),LOOKUP(MAX('3月'!D42:AH42)+1,'3月'!D42:AH42),\"\")","v":""},null,null,null,null,null,null,null,null,null,null,null,null,null,null,null,null,null,null,null,null,null,null,null,null,null,null,null,null,null,null,"BMI",null,null,{"$f":"設定!C43","v":"義理の母"},null,{"$f":"設定!E43","v":"義母"},null,null,{"$f":"設定!I43","v":"粥食"},null,{"$f":"設定!K43","v":"粥"}]
[null,"体　重",null,null,null,null,null,null,null,null,null,null,null,null,null,null,null,null,null,null,null,null,null,null,null,null,null,null,null,null,null,null,null,null,{"$f":"IF(ISERROR(INDEX(D39:AH39,MATCH(307,D39:AH39))/(INDEX(D38:AH38,MATCH(9E+307,D38:AH38))/100)^2)=TRUE,\"\",INDEX(D39:AH39,MATCH(307,D39:AH39))/(INDEX(D38:AH38,MATCH(9E+307,D38:AH38))/100)^2)","v":""},null,null,{"$f":"設定!C44","v":"義理の父"},null,{"$f":"設定!E44","v":"義父"},null,null,{"$f":"設定!I44","v":"粥+キザミ"},null,{"$f":"設定!K44","v":"粥キ"}]
[null,"Ｉ　Ｎ",null,null,null,null,null,null,null,null,null,null,null,null,null,null,null,null,null,null,null,null,null,null,null,null,null,null,null,null,null,null,null,null,{"$f":"IFERROR(INT(AVERAGE(D40:AH40)),\"平均\")","v":"平均"},null,null,{"$f":"設定!C45","v":"その他親類"},null,{"$f":"設定!E45","v":"親類"},null,null,{"$f":"設定!I45","v":"ミキサ－"},null,{"$f":"設定!K45","v":"ミキ"}]
[null,"ＯＵＴ",null,null,null,null,null,null,null,null,null,null,null,null,null,null,null,null,null,null,null,null,null,null,null,null,null,null,null,null,null,null,null,null,{"$f":"IFERROR(INT(AVERAGE(D41:AH41)),\"平均\")","v":"平均"},null,null,{"$f":"設定!C46","v":"福祉職員"},null,{"$f":"設定!E46","v":"福祉"},null,null,{"$f":"設定!I46","v":"普通流動"},null,{"$f":"設定!K46","v":"普流"}]
[null,"生　理",null,null,null,null,null,null,null,null,null,null,null,null,null,null,null,null,null,null,null,null,null,null,null,null,null,null,null,null,null,null,null,null,{"$f":"IF(ISERROR(AVERAGE(D42:AH42)),\" \",AVERAGE(D42:AH42))","v":" "},null,null,{"$f":"設定!C47","v":"施設職員"},null,{"$f":"設定!E47","v":"施設"},null,null,{"$f":"設定!I47","v":"濃厚流動"},null,{"$f":"設定!K47","v":"濃流"}]
[null,null,null,null,null,null,null,null,null,null,null,null,null,null,null,null,null,null,null,null,null,null,null,null,null,null,null,null,null,null,null,null,null,null,{"$f":"IF(ISERROR(AVERAGE(D43:AH43)),\" \",AVERAGE(D43:AH43))","v":" "},null,null,{"$f":"設定!C48","v":0},null,{"$f":"設定!E48","v":0},null,null,{"$f":"設定!H48","v":0},null,{"$f":"設定!J48","v":0}]
[null,null,null,null,null,null,null,null,null,null,null,null,null,null,null,null,null,null,null,null,null,null,null,null,null,null,null,null,null,null,null,null,null,null,{"$f":"COUNTA(D44:AH44)","v":0},null,null,{"$f":"設定!C49","v":0},null,{"$f":"設定!E49","v":0},null,null,{"$f":"設定!H49","v":0},null,{"$f":"設定!J49","v":0}]
[null,"日　付",null,1,2,3,4,5,6,7,8,9,10,11,12,13,14,15,16,17,18,19,20,21,22,23,24,25,26,27,28,29,30,31,null,null,null,{"$f":"設定!C50","v":0},null,{"$f":"設定!E50","v":0},null,null,{"$f":"設定!H50","v":0},null,{"$f":"設定!J50","v":0}]
[]
[null,{"$f":"$P$3","v":0},null,null,null,null,null,{"$f":"YEAR(I47)","v":2015},{"$f":"TODAY()","v":"2015-02-24"},{"$f":"TODAY()","v":42059}]
[null,"平常時記入",null,null,null,null,null,null,null,null,null,"熱発時記入"]
[null,"日","時間","T",null," P","BP",null,"便",null,null,"日","時間",null,"T",null,"P","BP",null,"日","時間",null,"T",null,"P","BP",null,"日","時間",null,"T",null,"P","BP",null,"日","時間",null,"T",null,"P","BP"]
[null,1,"10:00:00",null,null,null,null,null,null,null,null,1,null,null,null,null,null,null,null,9,null,null,null,null,null,null,null,17,null,null,null,null,null,null,null,25]
[null,2,"10:00:00",null,null,null,null,null,null,null,null,null,"10:00:00",null,{"$f":"IF($D$50=\"\",NA(),$D$50)","v":{"$error":"#N/A"}},null,{"$f":"IF($F$50=\"\",NA(),$F$50)","v":{"$error":"#N/A"}},{"$f":"IF($G$50=\"\",NA(),$G$50)","v":{"$error":"#N/A"}},null,null,"10:00:00",null,{"$f":"IF($D$58=\"\",NA(),$D$58)","v":{"$error":"#N/A"}},null,{"$f":"IF($F$58=\"\",NA(),$F$58)","v":{"$error":"#N/A"}},{"$f":"IF($G$58=\"\",NA(),$G$58)","v":{"$error":"#N/A"}},null,null,"10:00:00",null,{"$f":"IF($D$66=\"\",NA(),$D$66)","v":{"$error":"#N/A"}},null,{"$f":"IF($F$66=\"\",NA(),$F$66)","v":{"$error":"#N/A"}},{"$f":"IF($G$66=\"\",NA(),$G$66)","v":{"$error":"#N/A"}},null,null,"10:00:00",null,{"$f":"IF($D$74=\"\",NA(),$D$74)","v":{"$error":"#N/A"}},null,{"$f":"IF($F$74=\"\",NA(),$F$74)","v":{"$error":"#N/A"}},{"$f":"IF($G$74=\"\",NA(),$G$74)","v":{"$error":"#N/A"}}]
[null,3,"10:00:00",null,null,null,null,null,null,"☆"]
[null,4,"10:00:00"]
[null,5,"10:00:00",null,null,null,null,null,null,"コ"]
[null,6,"10:00:00",null,null,null,null,null,null,"ス"]
[null,7,"10:00:00",null,null,null,null,null,null,"モ"]
[null,8,"10:00:00",null,null,null,null,null,null,"ス"]
[null,9,"10:00:00",null,null,null,null,null,null,"へ",null,2,null,null,null,null,null,null,null,10,null,null,null,null,null,null,null,18,null,null,null,null,null,null,null,26]
[null,10,"10:00:00",null,null,null,null,null,null,"戻",null,null,"10:00:00",null,{"$f":"IF($D$51=\"\",NA(),$D$51)","v":{"$error":"#N/A"}},null,{"$f":"IF($F$51=\"\",NA(),$F$51)","v":{"$error":"#N/A"}},{"$f":"IF($G$51=\"\",NA(),$G$51)","v":{"$error":"#N/A"}},null,null,"10:00:00",null,{"$f":"IF($D$59=\"\",NA(),$D$59)","v":{"$error":"#N/A"}},null,{"$f":"IF($F$59=\"\",NA(),$F$59)","v":{"$error":"#N/A"}},{"$f":"IF($G$59=\"\",NA(),$G$59)","v":{"$error":"#N/A"}},null,null,"10:00:00",null,{"$f":"IF($D$67=\"\",NA(),$D$67)","v":{"$error":"#N/A"}},null,{"$f":"IF($F$67=\"\",NA(),$F$67)","v":{"$error":"#N/A"}},{"$f":"IF($G$67=\"\",NA(),$G$67)","v":{"$error":"#N/A"}},null,null,"10:00:00",null,{"$f":"IF($D$75=\"\",NA(),$D$75)","v":{"$error":"#N/A"}},null,{"$f":"IF($F$75=\"\",NA(),$F$75)","v":{"$error":"#N/A"}},{"$f":"IF($G$75=\"\",NA(),$G$75)","v":{"$error":"#N/A"}}]
[null,11,"10:00:00",null,null,null,null,null,null,"る"]
[null,12,"10:00:00"]
[null,13,"10:00:00"]
[null,14,"10:00:00",null,null,null,null,null,null,"（"]
[null,15,"10:00:00",null,null,null,null,null,null,"選"]
[null,16,"10:00:00",null,null,null,null,null,null,"択"]
[null,17,"10:00:00",null,null,null,null,null,null,"す",null,3,null,null,null,null,null,null,null,11,null,null,null,null,null,null,null,19,null,null,null,null,null,null,null,27]
[null,18,"10:00:00",null,null,null,null,null,null,"る",null,null,"10:00:00",null,{"$f":"IF($D$52=\"\",NA(),$D$52)","v":{"$error":"#N/A"}},null,{"$f":"IF($F$52=\"\",NA(),$F$52)","v":{"$error":"#N/A"}},{"$f":"IF($G$52=\"\",NA(),$G$52)","v":{"$error":"#N/A"}},null,null,"10:00:00",null,{"$f":"IF($D$60=\"\",NA(),$D$60)","v":{"$error":"#N/A"}},null,{"$f":"IF($F$60=\"\",NA(),$F$60)","v":{"$error":"#N/A"}},{"$f":"IF($G$60=\"\",NA(),$G$60)","v":{"$error":"#N/A"}},null,null,"10:00:00",null,{"$f":"IF($D$68=\"\",NA(),$D$68)","v":{"$error":"#N/A"}},null,{"$f":"IF($F$68=\"\",NA(),$F$68)","v":{"$error":"#N/A"}},{"$f":"IF($G$68=\"\",NA(),$G$68)","v":{"$error":"#N/A"}},null,null,"10:00:00",null,{"$f":"IF($D$76=\"\",NA(),$D$76)","v":{"$error":"#N/A"}},null,{"$f":"IF($F$76=\"\",NA(),$F$76)","v":{"$error":"#N/A"}},{"$f":"IF($G$76=\"\",NA(),$G$76)","v":{"$error":"#N/A"}}]
[null,19,"10:00:00",null,null,null,null,null,null,"だ"]
[null,20,"10:00:00",null,null,null,null,null,null,"け"]
[null,21,"10:00:00",null,null,null,null,null,null,"で"]
[null,22,"10:00:00",null,null,null,null,null,null,"移"]
[null,23,"10:00:00",null,null,null,null,null,null,"動"]
[null,24,"10:00:00",null,null,null,null,null,null,"し"]
[null,25,"10:00:00",null,null,null,null,null,null,"ま",null,4,null,null,null,null,null,null,null,12,null,null,null,null,null,null,null,20,null,null,null,null,null,null,null,28]
[null,26,"10:00:00",null,null,null,null,null,null,"す",null,null,"10:00:00",null,{"$f":"IF($D$53=\"\",NA(),$D$53)","v":{"$error":"#N/A"}},null,{"$f":"IF($F$53=\"\",NA(),$F$53)","v":{"$error":"#N/A"}},{"$f":"IF($G$53=\"\",NA(),$G$53)","v":{"$error":"#N/A"}},null,null,"10:00:00",null,{"$f":"IF($D$61=\"\",NA(),$D$61)","v":{"$error":"#N/A"}},null,{"$f":"IF($F$61=\"\",NA(),$F$61)","v":{"$error":"#N/A"}},{"$f":"IF($G$61=\"\",NA(),$G$61)","v":{"$error":"#N/A"}},null,null,"10:00:00",null,{"$f":"IF($D$69=\"\",NA(),$D$69)","v":{"$error":"#N/A"}},null,{"$f":"IF($F$69=\"\",NA(),$F$69)","v":{"$error":"#N/A"}},{"$f":"IF($G$69=\"\",NA(),$G$69)","v":{"$error":"#N/A"}},null,null,"10:00:00",null,{"$f":"IF($D$77=\"\",NA(),$D$77)","v":{"$error":"#N/A"}},null,{"$f":"IF($F$77=\"\",NA(),$F$77)","v":{"$error":"#N/A"}},{"$f":"IF($G$77=\"\",NA(),$G$77)","v":{"$error":"#N/A"}}]
[null,27,"10:00:00",null,null,null,null,null,null,"）"]
[null,28,"10:00:00"]
[null,29,"10:00:00"]
[null,30,"10:00:00"]
[null,31,"10:00:00"]
[]
[null,null,null,null,null,null,null,null,null,null,null,5,null,null,null,null,null,null,null,13,null,null,null,null,null,null,null,21,null,null,null,null,null,null,null,29]
[null,null,null,null,null,null,null,null,null,null,null,null,"10:00:00",null,{"$f":"IF($D$54=\"\",NA(),$D$54)","v":{"$error":"#N/A"}},null,{"$f":"IF($F$54=\"\",NA(),$F$54)","v":{"$error":"#N/A"}},{"$f":"IF($G$54=\"\",NA(),$G$54)","v":{"$error":"#N/A"}},null,null,"10:00:00",null,{"$f":"IF($D$62=\"\",NA(),$D$62)","v":{"$error":"#N/A"}},null,{"$f":"IF($F$62=\"\",NA(),$F$62)","v":{"$error":"#N/A"}},{"$f":"IF($G$62=\"\",NA(),$G$62)","v":{"$error":"#N/A"}},null,null,"10:00:00",null,{"$f":"IF($D$70=\"\",NA(),$D$70)","v":{"$error":"#N/A"}},null,{"$f":"IF($F$70=\"\",NA(),$F$70)","v":{"$error":"#N/A"}},{"$f":"IF($G$70=\"\",NA(),$G$70)","v":{"$error":"#N/A"}},null,null,"10:00:00",null,{"$f":"IF($D$78=\"\",NA(),$D$78)","v":{"$error":"#N/A"}},null,{"$f":"IF($F$78=\"\",NA(),$F$78)","v":{"$error":"#N/A"}},{"$f":"IF($G$78=\"\",NA(),$G$78)","v":{"$error":"#N/A"}}]
[]
[]
[]
[]
[]
[]
[null,null,null,null,null,null,null,null,null,null,null,6,null,null,null,null,null,null,null,14,null,null,null,null,null,null,null,22,null,null,null,null,null,null,null,30]
[null,null,null,null,null,null,null,null,null,null,null,null,"10:00:00",null,{"$f":"IF($D$55=\"\",NA(),$D$55)","v":{"$error":"#N/A"}},null,{"$f":"IF($F$55=\"\",NA(),$F$55)","v":{"$error":"#N/A"}},{"$f":"IF($G$55=\"\",NA(),$G$55)","v":{"$error":"#N/A"}},null,null,"10:00:00",null,{"$f":"IF($D$63=\"\",NA(),$D$63)","v":{"$error":"#N/A"}},null,{"$f":"IF($F$63=\"\",NA(),$F$63)","v":{"$error":"#N/A"}},{"$f":"IF($G$63=\"\",NA(),$G$63)","v":{"$error":"#N/A"}},null,null,"10:00:00",null,{"$f":"IF($D$71=\"\",NA(),$D$71)","v":{"$error":"#N/A"}},null,{"$f":"IF($F$71=\"\",NA(),$F$71)","v":{"$error":"#N/A"}},{"$f":"IF($G$71=\"\",NA(),$G$71)","v":{"$error":"#N/A"}},null,null,"10:00:00",null,{"$f":"IF($D$79=\"\",NA(),$D$79)","v":{"$error":"#N/A"}},null,{"$f":"IF($F$79=\"\",NA(),$F$79)","v":{"$error":"#N/A"}},{"$f":"IF($G$79=\"\",NA(),$G$79)","v":{"$error":"#N/A"}}]
[]
[]
[]
[]
[]
[]
[null,null,null,null,null,null,null,null,null,null,null,7,null,null,null,null,null,null,null,15,null,null,null,null,null,null,null,23,null,null,null,null,null,null,null,31]
[null,null,null,null,null,null,null,null,null,null,null,null,"10:00:00",null,{"$f":"IF($D$56=\"\",NA(),$D$56)","v":{"$error":"#N/A"}},null,{"$f":"IF($F$56=\"\",NA(),$F$56)","v":{"$error":"#N/A"}},{"$f":"IF($G$56=\"\",NA(),$G$56)","v":{"$error":"#N/A"}},null,null,"10:00:00",null,{"$f":"IF($D$64=\"\",NA(),$D$64)","v":{"$error":"#N/A"}},null,{"$f":"IF($F$64=\"\",NA(),$F$64)","v":{"$error":"#N/A"}},{"$f":"IF($G$64=\"\",NA(),$G$64)","v":{"$error":"#N/A"}},null,null,"10:00:00",null,{"$f":"IF($D$72=\"\",NA(),$D$72)","v":{"$error":"#N/A"}},null,{"$f":"IF($F$72=\"\",NA(),$F$72)","v":{"$error":"#N/A"}},{"$f":"IF($G$72=\"\",NA(),$G$72)","v":{"$error":"#N/A"}},null,null,"10:00:00",null,{"$f":"IF($D$80=\"\",NA(),$D$80)","v":{"$error":"#N/A"}},null,{"$f":"IF($F$80=\"\",NA(),$F$80)","v":{"$error":"#N/A"}},{"$f":"IF($G$80=\"\",NA(),$G$80)","v":{"$error":"#N/A"}}]
[]
[]
[]
[]
[]
[]
[null,null,null,null,null,null,null,null,null,null,null,8,null,null,null,null,null,null,null,16,null,null,null,null,null,null,null,24]
[null,null,null,null,null,null,null,null,null,null,null,null,"10:00:00",null,{"$f":"IF($D$57=\"\",NA(),$D$57)","v":{"$error":"#N/A"}},null,{"$f":"IF($F$57=\"\",NA(),$F$57)","v":{"$error":"#N/A"}},{"$f":"IF($G$57=\"\",NA(),$G$57)","v":{"$error":"#N/A"}},null,null,"10:00:00",null,{"$f":"IF($D$65=\"\",NA(),$D$65)","v":{"$error":"#N/A"}},null,{"$f":"IF($F$65=\"\",NA(),$F$65)","v":{"$error":"#N/A"}},{"$f":"IF($G$65=\"\",NA(),$G$65)","v":{"$error":"#N/A"}},null,null,"10:00:00",null,{"$f":"IF($D$73=\"\",NA(),$D$73)","v":{"$error":"#N/A"}},null,{"$f":"IF($F$73=\"\",NA(),$F$73)","v":{"$error":"#N/A"}},{"$f":"IF($G$73=\"\",NA(),$G$73)","v":{"$error":"#N/A"}}]
[]
[]
[]
[]
[]
[]
[]
[]
[]
[]
[]
[]
[]
[]
[]
[]
[]
[]
[]
[]
[]
[null,null,"Enterで入力画面へ"]
[null,null,"ｶｰｿﾙ初期位置",null,null,null,"日付チェック",null,null,null,"バイタルコピー"]
["管理欄",null,"入力に入る",null,null,null,"今日",{"$f":"NOW()","v":"2015-02-24T03:11:52.510"},null,null,{"$f":"IF($D$74=\"\",NA(),$D$74)","v":{"$error":"#N/A"}},null,{"$f":"IF($F$74=\"\",NA(),$F$74)","v":{"$error":"#N/A"}},{"$f":"IF($G$74=\"\",NA(),$G$74)","v":{"$error":"#N/A"}},null,{"$f":"K131&M131&N131","v":{"$error":"#N/A"}}]
[null,null,null,null,null,null,"日",{"$f":"DAY(H131)","v":24},null,null,null,null,null,null,null,""]
[null,null,null,null,null,null,"月",{"$f":"MONTH(H131)","v":2},null,null,null,null,null,null,null,""]
[null,null,null,null,null,null,null,null,null,null,null,null,null,null,null,""]
[null,null,null,null,null,null,"時",{"$f":"HOUR(H131)","v":3},null,null,null,null,null,null,null,""]
[null,null,null,null,null,null,null,null,null,null,null,null,null,null,null,""]
[null,null,null,null,null,null,null,null,null,null,null,null,null,null,null,""]
[null,null,null,null,null,null,null,null,null,null,null,null,null,null,null,""]
[null,null,null,null,null,null,null,null,null,null,null,null,null,null,null,""]
[null,null,"食事平均",null,null,null,null,null,null,null,null,null,null,null,null,""]
[null,null,"左",{"$f":"IF(D25=\"\", \"\", LEFT(D25,SEARCH(\".\",D25,1)-1)*1)","v":""},{"$f":"IF(E25=\"\", \"\", LEFT(E25,SEARCH(\".\",E25,1)-1)*1)","v":""},"","","","","","","","","","","","","","","","","","","","","","","","","","","","",""]
[null,null,null,{"$f":"IF(D26=\"\", \"\", LEFT(D26,SEARCH(\".\",D26,1)-1)*1)","v":""},"","","","","","","","","","","","","","","","","","","","","","","","","","","","","",""]
[null,null,null,"","","","","","","","","","","","","","","","","","","","","","","","","","","","","","",""]
[null,null,"右",{"$f":"IF(D25=\"\", \"\", RIGHT(D25,LEN(D25)-FIND(\".\",D25,1))*1)","v":""},{"$f":"IF(E25=\"\", \"\", RIGHT(E25,LEN(E25)-FIND(\".\",E25,1))*1)","v":""},"","","","","","","","","","","","","","","","","","","","","","","","","","","","",""]
[null,null,null,{"$f":"IF(D26=\"\", \"\", RIGHT(D26,LEN(D26)-FIND(\".\",D26,1))*1)","v":""},"","","","","","","","","","","","","","","","","","","","","","","","","","","","","",""]
[null,null,null,{"$f":"IF(D27=\"\", \"\", RIGHT(D27,LEN(D27)-FIND(\".\",D27,1))*1)","v":""},"","","","","","","","","","","","","","","","","","","","","","","","","","","","","",""]
[null,null,null,null,null,null,null,null,null,null,null,null,null,null,null,""]
[null,null,"BP平均",null,null,null,null,null,null,null,null,null,null,null,null,""]
[null,null,"左",{"$f":"IF(ISERROR(LEFT(D32,SEARCH(\"/\",D32,1)-1)*1),\"\",LEFT(D32,SEARCH(\"/\",D32,1)-1)*1)","v":""},{"$f":"IF(ISERROR(LEFT(E32,SEARCH(\"/\",E32,1)-1)*1),\"\",LEFT(E32,SEARCH(\"/\",E32,1)-1)*1)","v":""},"","","","","","","","","","","","","","","","","","","","","","","","","","","","",""]
[null,null,null,{"$f":"IF(ISERROR(LEFT(D33,SEARCH(\"/\",D33,1)-1)*1),\"\",LEFT(D33,SEARCH(\"/\",D33,1)-1)*1)","v":""},"","","","","","","","","","","","","","","","","","","","","","","","","","","","","",""]
[null,null,null,"","","","","","","","","","","","","","","","","","","","","","","","","","","","","","",""]
[null,null,null,"","","","","","","","","","","","","","","","","","","","","","","","","","","","","","",""]
[null,null,"右",{"$f":"IF(ISERROR(RIGHT(D32,LEN(D32)-FIND(\"/\",D32,1))*1),\"\",RIGHT(D32,LEN(D32)-FIND(\"/\",D32,1))*1)","v":""},{"$f":"IF(ISERROR(RIGHT(E32,LEN(E32)-FIND(\"/\",E32,1))*1),\"\",RIGHT(E32,LEN(E32)-FIND(\"/\",E32,1))*1)","v":""},{"$f":"IF(ISERROR(RIGHT(F32,LEN(F32)-FIND(\"/\",F32,1))*1),\"\",RIGHT(F32,LEN(F32)-FIND(\"/\",F32,1))*1)","v":""},"","","","","","","","","","","","","","","","","","","","","","","","","","","",""]
[null,null,null,{"$f":"IF(ISERROR(RIGHT(D33,LEN(D33)-FIND(\"/\",D33,1))*1),\"\",RIGHT(D33,LEN(D33)-FIND(\"/\",D33,1))*1)","v":""},"","","","","","","","","","","","","","","","","","","","","","","","","","","","","",""]
[null,null,null,"","","","","","","","","","","","","","","","","","","","","","","","","","","","","","",""]
[null,null,null,"","","","","","","","","","","","","","","","","","","","","","","","","","","","","","",""]
[null,null,null,null,null,null,null,null,null,null,null,null,null,null,null,""]
[null,null,null,null,null,null,null,null,null,null,null,null,null,null,null,""]
[null,null,null,null,null,null,null,null,null,null,null,null,null,null,null,""]
[null,null,null,null,null,null,null,null,null,null,null,null,null,null,null,""]
[null,null,null,null,null,null,null,null,null,null,null,null,null,null,null,{"$f":"K161&M161&N161","v":""}]

{"sheet":"5月","index":5,"n_rows":161,"n_cols":45,"rows_kept":161,"cut":false,"hidden":false,"merged":[[31,1,34,2],[35,1,35,2],[36,1,36,2],[37,1,37,2],[38,1,38,2],[24,1,26,2],[49,3,49,4],[49,6,49,7],[1,32,1,34],[2,32,3,34],[102,12,102,13],[1,23,1,24],[2,23,3,24],[102,22,102,23],[102,25,102,26],[103,12,103,13],[104,12,104,13],[100,12,100,13],[100,14,100,15],[100,17,100,18],[100,20,100,21],[100,22,100,23],[100,25,100,26],[100,28,100,29],[100,30,100,31],[96,12,96,13],[96,14,96,15],[96,30,96,31],[96,33,96,34],[93,30,93,31],[94,28,94,29],[92,33,92,34],[108,33,108,34],[109,14,109,15],[1,13,1,14],[2,15,3,20],[1,15,1,19],[1,25,1,31],[2,25,2,30],[3,25,3,30],[105,14,105,15],[105,33,105,34],[106,33,106,34],[107,33,107,34],[97,11,104,11],[97,12,97,13],[97,14,97,15],[97,17,97,18],[98,12,98,13],[98,14,98,15],[98,17,98,18],[99,12,99,13],[99,14,99,15],[108,22,108,23],[108,25,108,26],[109,22,109,23],[109,25,109,26],[109,30,109,31],[109,33,109,34],[108,30,108,31],[101,25,101,26],[101,33,101,34],[93,12,93,13],[93,14,93,15],[96,17,96,18],[96,20,96,21],[96,22,96,23],[96,25,96,26],[96,28,96,29],[41,37,41,38],[39,44,39,45],[40,44,40,45],[41,44,41,45],[40,37,40,38],[39,42,39,43],[40,42,40,43],[41,42,41,43],[39,39,39,40],[40,39,40,40],[44,37,44,38],[42,39,42,40],[43,39,43,40],[44,39,44,40],[43,37,43,38],[42,37,42,38],[44,42,44,43],[42,44,42,45],[43,44,43,45],[44,44,44,45],[42,42,42,43],[43,42,43,43],[41,39,41,40],[39,37,39,38],[95,17,95,18],[95,20,95,21],[95,22,95,23],[36,44,36,45],[37,44,37,45],[38,44,38,45],[35,42,35,43],[36,42,36,43],[37,42,37,43],[38,42,38,43],[32,44,32,45],[33,44,33,45],[34,44,34,45],[35,44,35,45],[32,39,32,40],[93,17,93,18],[93,20,93,21],[93,22,93,23],[34,42,34,43],[16,44,16,45],[17,44,17,45],[33,42,33,43],[5,44,5,45],[6,44,6,45],[7,44,7,45],[8,44,8,45],[14,44,14,45],[15,44,15,45],[9,44,9,45],[10,44,10,45],[11,44,11,45],[12,44,12,45],[20,44,20,45],[21,44,21,45],[22,44,22,45],[23,44,23,45],[24,44,24,45],[25,44,25,45],[7,42,7,43],[8,42,8,43],[16,42,16,43],[17,42,17,43],[9,42,9,43],[10,42,10,43],[11,42,14,43],[18,44,18,45],[27,39,27,40],[29,37,29,38],[30,37,30,38],[29,39,29,40],[30,39,30,40],[25,37,25,38],[26,37,26,38],[20,39,20,40],[11,37,11,40],[12,37,12,40],[33,39,33,40],[34,39,34,40],[23,39,23,40],[24,39,24,40],[28,37,28,38],[13,44,13,45],[24,42,24,43],[25,42,25,43],[26,42,26,43],[20,42,23,43],[18,42,18,43],[19,42,19,43],[15,42,15,43],[16,39,16,40],[27,44,27,45],[28,44,28,45],[31,42,31,43],[31,44,31,45],[28,42,28,43],[27,42,27,43],[19,44,19,45],[26,44,26,45],[112,30,112,31],[4,42,4,45],[15,37,15,40],[30,42,30,45],[16,37,16,38],[17,37,17,38],[18,37,18,38],[21,39,21,40],[22,39,22,40],[27,37,27,38],[28,39,28,40],[32,42,32,43],[19,37,19,38],[20,37,20,38],[21,37,21,38],[22,37,22,38],[23,37,23,38],[24,37,24,38],[17,39,17,40],[18,39,18,40],[19,39,19,40],[5,42,5,43],[6,42,6,43],[31,37,31,38],[32,37,32,38],[33,37,33,38],[13,37,13,40],[10,37,10,40],[34,37,34,38],[25,39,25,40],[26,39,26,40],[31,39,31,40],[112,14,112,15],[112,17,112,18],[112,20,112,21],[111,14,111,15],[111,12,111,13],[130,0,132,0],[130,2,130,4],[130,7,130,8],[105,11,112,11],[105,12,105,13],[107,12,107,13],[108,12,108,13],[110,12,110,13],[109,12,109,13],[106,12,106,13],[108,14,108,15],[129,10,129,12],[110,14,110,15],[110,17,110,18],[110,20,110,21],[107,17,107,18],[130,10,130,11],[130,13,130,14],[129,2,129,4],[129,6,129,8],[112,12,112,13],[131,10,131,11],[131,13,131,14],[132,10,132,11],[132,13,132,14],[109,17,109,18],[109,20,109,21],[111,28,111,29],[111,30,111,31],[111,33,111,34],[110,33,110,34],[110,22,110,23],[110,25,110,26],[110,28,110,29],[36,37,36,38],[110,30,110,31],[111,17,111,18],[111,20,111,21],[111,22,111,23],[111,25,111,26],[105,19,112,19],[105,20,105,21],[112,22,112,23],[108,17,108,18],[108,20,108,21],[106,25,106,26],[107,20,107,21],[107,22,107,23],[107,28,107,29],[108,28,108,29],[105,27,112,27],[105,28,105,29],[109,28,109,29],[105,17,105,18],[106,28,106,29],[106,30,106,31],[112,33,112,34],[112,25,112,26],[112,28,112,29],[103,41,103,42],[104,41,104,42],[104,14,104,15],[104,17,104,18],[104,20,104,21],[104,36,104,37],[104,22,104,23],[104,25,104,26],[104,28,104,29],[104,30,104,31],[105,22,105,23],[105,25,105,26],[106,20,106,21],[106,22,106,23],[107,30,107,31],[107,25,107,26],[105,30,105,31],[106,14,106,15],[106,17,106,18],[107,14,107,15],[97,27,104,27],[97,28,97,29],[97,30,97,31],[98,41,98,42],[99,36,99,37],[99,38,99,39],[99,41,99,42],[99,17,99,18],[99,33,99,34],[98,30,98,31],[98,33,98,34],[99,25,99,26],[102,17,102,18],[102,20,102,21],[103,22,103,23],[103,25,103,26],[103,28,103,29],[103,30,103,31],[103,33,103,34],[103,36,103,37],[103,38,103,39],[97,19,104,19],[97,20,97,21],[97,22,97,23],[97,25,97,26],[98,20,98,21],[98,22,98,23],[98,25,98,26],[99,20,99,21],[99,22,99,23],[97,33,97,34],[98,28,98,29],[104,38,104,39],[104,33,104,34],[100,36,100,37],[100,38,100,39],[100,41,100,42],[97,35,104,35],[97,36,97,37],[97,38,97,39],[97,41,97,42],[98,36,98,37],[98,38,98,39],[101,12,101,13],[101,14,101,15],[99,28,99,29],[99,30,99,31],[101,28,101,29],[101,30,101,31],[102,28,102,29],[100,33,100,34],[101,17,101,18],[101,20,101,21],[101,22,101,23],[101,36,101,37],[101,38,101,39],[101,41,101,42],[102,36,102,37],[102,38,102,39],[102,41,102,42],[102,33,102,34],[102,30,102,31],[103,14,103,15],[103,17,103,18],[103,20,103,21],[102,14,102,15],[92,36,92,37],[92,38,92,39],[92,41,92,42],[89,35,96,35],[89,36,89,37],[89,38,89,39],[89,41,89,42],[90,36,90,37],[90,38,90,39],[90,30,90,31],[90,33,90,34],[91,25,91,26],[90,41,90,42],[91,36,91,37],[91,38,91,39],[95,25,95,26],[95,28,95,29],[95,30,95,31],[95,33,95,34],[95,36,95,37],[95,38,95,39],[95,41,95,42],[91,41,91,42],[96,36,96,37],[96,38,96,39],[96,41,96,42],[88,12,88,13],[88,14,88,15],[88,17,88,18],[88,20,88,21],[88,22,88,23],[88,25,88,26],[88,33,88,34],[88,36,88,37],[88,38,88,39],[88,41,88,42],[93,25,93,26],[93,33,93,34],[93,36,93,37],[93,38,93,39],[93,41,93,42],[94,12,94,13],[94,14,94,15],[94,17,94,18],[94,36,94,37],[94,38,94,39],[94,41,94,42],[92,20,92,21],[92,22,92,23],[92,25,92,26],[92,28,92,29],[92,30,92,31],[89,27,96,27],[89,28,89,29],[89,30,89,31],[91,28,91,29],[91,30,91,31],[93,28,93,29],[89,11,96,11],[89,12,89,13],[89,14,89,15],[89,17,89,18],[90,12,90,13],[90,14,90,15],[90,17,90,18],[91,12,91,13],[91,14,91,15],[91,17,91,18],[91,33,91,34],[89,19,96,19],[89,20,89,21],[89,22,89,23],[89,25,89,26],[90,20,90,21],[90,22,90,23],[90,25,90,26],[91,20,91,21],[91,22,91,23],[89,33,89,34],[90,28,90,29],[94,20,94,21],[94,22,94,23],[94,25,94,26],[94,30,94,31],[94,33,94,34],[92,12,92,13],[92,14,92,15],[92,17,92,18],[95,12,95,13],[95,14,95,15],[86,12,86,13],[86,14,86,15],[86,17,86,18],[86,20,86,21],[86,22,86,23],[86,25,86,26],[86,28,86,29],[86,33,86,34],[86,36,86,37],[86,38,86,39],[86,41,86,42],[87,12,87,13],[87,14,87,15],[87,17,87,18],[87,20,87,21],[87,22,87,23],[87,25,87,26],[87,33,87,34],[87,36,87,37],[87,38,87,39],[87,41,87,42],[84,22,84,23],[84,25,84,26],[84,28,84,29],[84,30,84,31],[84,33,84,34],[84,41,84,42],[85,12,85,13],[85,14,85,15],[85,17,85,18],[85,20,85,21],[85,22,85,23],[85,25,85,26],[85,28,85,29],[85,30,85,31],[85,33,85,34],[85,36,85,37],[85,38,85,39],[85,41,85,42],[81,38,81,39],[82,36,82,37],[82,38,82,39],[83,36,83,37],[83,38,83,39],[84,36,84,37],[84,38,84,39],[81,41,81,42],[82,12,82,13],[82,14,82,15],[82,17,82,18],[82,20,82,21],[82,22,82,23],[82,25,82,26],[82,28,82,29],[82,30,82,31],[82,33,82,34],[82,41,82,42],[83,12,83,13],[83,14,83,15],[83,17,83,18],[83,20,83,21],[83,22,83,23],[83,25,83,26],[83,28,83,29],[83,30,83,31],[83,33,83,34],[83,41,83,42],[84,12,84,13],[84,14,84,15],[84,17,84,18],[84,20,84,21],[79,41,79,42],[80,12,80,13],[80,14,80,15],[80,17,80,18],[80,20,80,21],[80,22,80,23],[80,25,80,26],[80,28,80,29],[80,30,80,31],[80,33,80,34],[80,36,80,37],[80,38,80,39],[80,41,80,42],[81,11,88,11],[81,12,81,13],[81,14,81,15],[81,17,81,18],[81,19,88,19],[81,20,81,21],[81,22,81,23],[81,25,81,26],[81,27,88,27],[81,28,81,29],[81,30,81,31],[86,30,86,31],[87,28,87,29],[87,30,87,31],[88,28,88,29],[88,30,88,31],[81,33,81,34],[81,35,88,35],[81,36,81,37],[76,38,76,39],[76,41,76,42],[77,3,77,4],[77,6,77,7],[77,12,77,13],[77,14,77,15],[77,17,77,18],[77,20,77,21],[77,36,77,37],[77,38,77,39],[77,41,77,42],[78,3,78,4],[78,6,78,7],[78,12,78,13],[78,14,78,15],[78,17,78,18],[78,20,78,21],[78,33,78,34],[78,36,78,37],[78,38,78,39],[78,41,78,42],[73,27,80,27],[78,28,78,29],[79,33,79,34],[79,36,79,37],[79,38,79,39],[77,33,77,34],[79,22,79,23],[79,25,79,26],[79,28,79,29],[79,30,79,31],[73,19,80,19],[73,38,73,39],[74,33,74,34],[74,36,74,37],[74,38,74,39],[75,33,75,34],[75,36,75,37],[75,38,75,39],[73,41,73,42],[74,3,74,4],[74,6,74,7],[74,12,74,13],[74,14,74,15],[74,17,74,18],[74,20,74,21],[74,22,74,23],[74,25,74,26],[74,28,74,29],[74,41,74,42],[75,3,75,4],[75,6,75,7],[75,12,75,13],[75,14,75,15],[75,17,75,18],[75,20,75,21],[75,22,75,23],[75,25,75,26],[75,28,75,29],[75,41,75,42],[73,20,73,21],[73,22,73,23],[73,25,73,26],[73,30,73,31],[73,3,73,4],[73,6,73,7],[73,11,80,11],[73,12,73,13],[73,14,73,15],[73,17,73,18],[79,3,79,4],[79,17,79,18],[74,30,74,31],[75,30,75,31],[76,30,76,31],[77,28,77,29],[77,30,77,31],[73,28,73,29],[73,33,73,34],[73,35,80,35],[73,36,73,37],[76,3,76,4],[76,6,76,7],[76,12,76,13],[76,14,76,15],[76,17,76,18],[76,20,76,21],[76,22,76,23],[76,25,76,26],[76,28,76,29],[76,33,76,34],[76,36,76,37],[78,30,78,31],[72,17,72,18],[72,20,72,21],[65,11,72,11],[79,6,79,7],[79,12,79,13],[79,14,79,15],[79,20,79,21],[69,20,69,21],[65,19,72,19],[65,20,65,21],[72,22,72,23],[72,25,72,26],[72,28,72,29],[77,22,77,23],[77,25,77,26],[78,22,78,23],[78,25,78,26],[69,3,69,4],[69,6,69,7],[69,12,69,13],[69,14,69,15],[69,17,69,18],[65,3,65,4],[65,6,65,7],[69,22,69,23],[72,3,72,4],[72,6,72,7],[72,12,72,13],[72,14,72,15],[68,22,68,23],[67,22,67,23],[66,20,66,21],[69,41,69,42],[70,3,70,4],[70,6,70,7],[70,12,70,13],[70,14,70,15],[70,17,70,18],[70,20,70,21],[70,22,70,23],[70,36,70,37],[70,38,70,39],[70,41,70,42],[71,3,71,4],[71,6,71,7],[71,12,71,13],[71,14,71,15],[71,17,71,18],[71,20,71,21],[67,3,67,4],[67,6,67,7],[67,12,67,13],[67,14,67,15],[67,17,67,18],[67,20,67,21],[67,38,67,39],[67,25,67,26],[67,28,67,29],[67,41,67,42],[68,3,68,4],[68,6,68,7],[68,12,68,13],[68,14,68,15],[68,17,68,18],[68,20,68,21],[68,25,68,26],[68,28,68,29],[68,36,68,37],[68,38,68,39],[68,30,68,31],[69,30,69,31],[65,38,65,39],[66,33,66,34],[66,36,66,37],[66,38,66,39],[67,36,67,37],[65,33,65,34],[65,35,72,35],[67,33,67,34],[72,38,72,39],[65,41,65,42],[68,41,68,42],[72,41,72,42],[69,36,69,37],[69,38,69,39],[66,22,66,23],[66,41,66,42],[65,36,65,37],[71,22,71,23],[71,30,71,31],[71,33,71,34],[71,36,71,37],[71,38,71,39],[71,41,71,42],[72,30,72,31],[72,33,72,34],[72,36,72,37],[64,30,64,31],[64,33,64,34],[64,36,64,37],[64,38,64,39],[64,28,64,29],[65,12,65,13],[65,14,65,15],[65,17,65,18],[66,3,66,4],[66,6,66,7],[66,12,66,13],[66,14,66,15],[66,17,66,18],[65,22,65,23],[70,28,70,29],[65,25,65,26],[65,27,72,27],[65,28,65,29],[69,28,69,29],[66,25,66,26],[69,25,69,26],[70,25,70,26],[71,25,71,26],[71,28,71,29],[66,28,66,29],[68,33,68,34],[69,33,69,34],[70,30,70,31],[70,33,70,34],[65,30,65,31],[66,30,66,31],[67,30,67,31],[63,33,63,34],[61,41,61,42],[62,3,62,4],[62,6,62,7],[62,12,62,13],[62,14,62,15],[62,17,62,18],[62,20,62,21],[62,22,62,23],[62,36,62,37],[63,17,63,18],[63,20,63,21],[63,22,63,23],[63,30,63,31],[63,3,63,4],[63,6,63,7],[63,12,63,13],[63,14,63,15],[63,28,63,29],[63,41,63,42],[63,36,63,37],[63,38,63,39],[57,35,64,35],[57,36,57,37],[57,38,57,39],[62,41,62,42],[64,41,64,42],[60,41,60,42],[58,41,58,42],[64,3,64,4],[64,6,64,7],[64,12,64,13],[62,38,62,39],[58,25,58,26],[60,28,60,29],[61,38,61,39],[60,30,60,31],[60,33,60,34],[59,25,59,26],[60,38,60,39],[61,30,61,31],[59,33,59,34],[61,22,61,23],[61,36,61,37],[60,17,60,18],[60,20,60,21],[60,22,60,23],[60,25,60,26],[60,36,60,37],[61,17,61,18],[61,20,61,21],[57,33,57,34],[61,33,61,34],[62,33,62,34],[57,30,57,31],[58,30,58,31],[59,30,59,31],[59,36,59,37],[59,38,59,39],[59,28,59,29],[58,36,58,37],[58,38,58,39],[62,30,62,31],[57,41,57,42],[58,3,58,4],[58,6,58,7],[58,12,58,13],[58,14,58,15],[58,17,58,18],[58,20,58,21],[58,22,58,23],[57,19,64,19],[57,20,57,21],[59,3,59,4],[59,6,59,7],[59,12,59,13],[59,14,59,15],[59,41,59,42],[58,33,58,34],[59,17,59,18],[59,20,59,21],[59,22,59,23],[58,28,58,29],[57,3,57,4],[57,6,57,7],[57,11,64,11],[57,12,57,13],[57,14,57,15],[57,17,57,18],[60,3,60,4],[60,6,60,7],[60,12,60,13],[60,14,60,15],[57,22,57,23],[57,25,57,26],[57,27,64,27],[57,28,57,29],[61,28,61,29],[61,25,61,26],[62,25,62,26],[63,25,63,26],[62,28,62,29],[64,22,64,23],[61,3,61,4],[61,6,61,7],[61,12,61,13],[61,14,61,15],[64,14,64,15],[64,17,64,18],[64,20,64,21],[64,25,64,26],[54,3,54,4],[54,6,54,7],[54,12,54,13],[54,14,54,15],[49,11,56,11],[53,3,53,4],[53,6,53,7],[53,12,53,13],[49,12,49,13],[54,20,54,21],[54,22,54,23],[54,25,54,26],[52,22,52,23],[52,6,52,7],[52,12,52,13],[52,14,52,15],[50,25,50,26],[49,22,49,23],[55,3,55,4],[55,6,55,7],[55,12,55,13],[55,14,55,15],[55,17,55,18],[55,20,55,21],[55,22,55,23],[55,25,55,26],[56,3,56,4],[56,6,56,7],[56,12,56,13],[56,14,56,15],[56,17,56,18],[56,20,56,21],[50,3,50,4],[50,6,50,7],[50,12,50,13],[50,14,50,15],[50,17,50,18],[50,22,50,23],[50,41,50,42],[49,38,49,39],[52,17,52,18],[52,20,52,21],[51,12,51,13],[51,14,51,15],[51,20,51,21],[51,22,51,23],[52,30,52,31],[50,38,50,39],[51,3,51,4],[51,6,51,7],[52,38,52,39],[52,41,52,42],[52,3,52,4],[51,28,51,29],[52,33,52,34],[51,30,51,31],[49,14,49,15],[49,17,49,18],[49,19,56,19],[54,17,54,18],[51,17,51,18],[49,20,49,21],[53,14,53,15],[50,20,50,21],[54,33,54,34],[54,36,54,37],[50,33,50,34],[50,36,50,37],[54,30,54,31],[53,30,53,31],[49,33,49,34],[49,35,56,35],[51,41,51,42],[49,36,49,37],[51,33,51,34],[51,36,51,37],[51,38,51,39],[49,41,49,42],[53,36,53,37],[52,36,52,37],[53,33,53,34],[53,38,53,39],[53,41,53,42],[54,38,54,39],[54,41,54,42],[55,30,55,31],[55,33,55,34],[55,36,55,37],[55,38,55,39],[55,41,55,42],[56,30,56,31],[56,33,56,34],[56,36,56,37],[56,38,56,39],[56,41,56,42],[49,25,49,26],[49,27,56,27],[49,28,49,29],[49,30,49,31],[50,30,50,31],[50,28,50,29],[54,28,54,29],[52,25,52,26],[52,28,52,29],[51,25,51,26],[53,17,53,18],[53,20,53,21],[53,22,53,23],[53,25,53,26],[53,28,53,29],[55,28,55,29],[56,22,56,23],[56,25,56,26],[56,28,56,29],[48,25,48,26],[48,28,48,29],[48,6,48,7],[48,41,48,42],[48,36,48,37],[48,30,48,31],[48,33,48,34]],"merged_total":1062,"flags":["merged_cut"]}
[null,"体温表",null,null,null,{"$f":"設定!$F$7","v":2016},null,"年",null,5,"月"]
[null,"カルテ番号",null,null,"病棟",null,null,"入院形態",null,null,"主治医",null,null,"　姓名",null,{"$f":"'4月'!$P$2","v":0},null,null,null,null,null,null,null,"性別",null,"生年月日　",null,null,null,null,null,null,"担当Ns"]
[null,{"$f":"'4月'!B3","v":0},null,null,{"$f":"IF(COUNTIF('4月'!E3:G3,\"*\"),INDEX('4月'!E3:G3,MATCH(\"\",'4月'!E3:G3,-1)),\"\")","v":""},null,null,{"$f":"IF(COUNTIF('4月'!H3:J3,\"*\"),INDEX('4月'!H3:J3,MATCH(\"\",'4月'!H3:J3,-1)),\"\")","v":""},null,null,{"$f":"'4月'!K3","v":0},null,null,null,null,{"$f":"'4月'!$P$3","v":0},null,null,null,null,null,null,null,{"$f":"'4月'!$X$3","v":0},null,{"$f":"'4月'!$Z$3","v":"00:00:00"},null,null,null,null,null,{"$f":"DATEDIF(Z3,TODAY(),\"Y\")","v":115},{"$f":"'4月'!$AG$3","v":0}]
[null,null,null,null,{"$f":"IF(COUNT('4月'!E4:G4),LOOKUP(MAX('4月'!E4:G4)+1,'4月'!E4:G4),\"\")","v":""},null,null,{"$f":"IF(COUNT('4月'!H4:J4),LOOKUP(MAX('4月'!H4:J4)+1,'4月'!H4:J4),\"\")","v":""},null,null,null,null,null,null,null,null,null,null,null,null,null,null,null,null,null,{"$f":"Z3","v":"00:00:00"},null,null,null,null,null,"歳"]
[null,null,null,null,null,null,null,null,null,null,null,null,null,null,null,null,null,null,null,null,null,null,null,null,null,null,null,null,null,null,null,null,null,null,null,null,null,{"$f":"設定!C10","v":"備考欄"},null,null,null,null,{"$f":"設定!I10","v":"食事箋"}]
[null,null,null,null,null,null,null,null,null,null,null,null,null,null,null,null,null,null,null,null,null,null,null,null,null,null,null,null,null,null,null,null,null,null,null,null,null,{"$f":"設定!C11","v":0},null,null,null,null,{"$f":"設定!I11","v":0},null,{"$f":"設定!K11","v":0}]
[null,null,null,null,null,null,null,null,null,null,null,null,null,null,null,null,null,null,null,null,null,null,null,null,null,null,null,null,null,null,null,null,null,null,null,null,null,null,null,null,null,null,{"$f":"設定!I12","v":"常食"},null,{"$f":"設定!K12","v":"常食"}]
[null,null,null,null,null,null,null,null,null,null,null,null,null,null,null,null,null,null,null,null,null,null,null,null,null,null,null,null,null,null,null,null,null,null,null,null,null,null,null,null,null,null,{"$f":"設定!I13","v":"心臓"},null,{"$f":"設定!K13","v":"心臓"}]
[null,null,null,null,null,null,null,null,null,null,null,null,null,null,null,null,null,null,null,null,null,null,null,null,null,null,null,null,null,null,null,null,null,null,null,null,null,null,null,null,null,null,{"$f":"設定!I14","v":"すい臓"},null,{"$f":"設定!K14","v":"膵臓"}]
[null,null,null,null,null,null,null,null,null,null,null,null,null,null,null,null,null,null,null,null,null,null,null,null,null,null,null,null,null,null,null,null,null,null,null,null,null,null,null,null,null,null,{"$f":"設定!I15","v":"じん臓"},null,{"$f":"設定!K15","v":"腎臓"}]
[null,null,null,null,null,null,null,null,null,null,null,null,null,null,null,null,null,null,null,null,null,null,null,null,null,null,null,null,null,null,null,null,null,null,null,null,null,{"$f":"'4月'!AL11","v":0},null,null,null,null,{"$f":"設定!I16","v":"高血圧"},null,{"$f":"設定!K16","v":"高血"}]
[null,null,null,null,null,null,null,null,null,null,null,null,null,null,null,null,null,null,null,null,null,null,null,null,null,null,null,null,null,null,null,null,null,null,null,null,null,{"$f":"'4月'!AL12","v":0},null,null,null,null,{"$f":"設定!I17","v":"糖尿"},null,{"$f":"設定!K17","v":"糖1200"}]
[null,null,null,null,null,null,null,null,null,null,null,null,null,null,null,null,null,null,null,null,null,null,null,null,null,null,null,null,null,null,null,null,null,null,null,null,null,{"$f":"'4月'!AL13","v":0},null,null,null,null,null,null,{"$f":"設定!K18","v":"糖1440"}]
[null,null,null,null,null,null,null,null,null,null,null,null,null,null,null,null,null,null,null,null,null,null,null,null,null,null,null,null,null,null,null,null,null,null,null,null,null,{"$f":"'4月'!AL14","v":0},null,null,null,null,null,null,{"$f":"設定!K19","v":"糖1600"}]
[null,null,null,null,null,null,null,null,null,null,null,null,null,null,null,null,null,null,null,null,null,null,null,null,null,null,null,null,null,null,null,null,null,null,null,null,null,null,null,null,null,null,null,null,{"$f":"設定!K20","v":"糖1800"}]
[null,null,null,null,null,null,null,null,null,null,null,null,null,null,null,null,null,null,null,null,null,null,null,null,null,null,null,null,null,null,null,null,null,null,null,null,null,{"$f":"設定!C21","v":"面会"},null,null,null,null,{"$f":"設定!I21","v":"肝臓A"},null,{"$f":"設定!K21","v":"肝Ａ"}]
[null,"日　付",null,1,2,3,4,5,6,7,8,9,10,11,12,13,14,15,16,17,18,19,20,21,22,23,24,25,26,27,28,29,30,31,"統計",null,null,{"$f":"設定!C22","v":0},null,{"$f":"設定!E22","v":0},null,null,{"$f":"設定!I22","v":"肝臓B"},null,{"$f":"設定!K22","v":"肝Ｂ"}]
[null,"行　動",null,null,null,null,null,null,null,null,null,null,null,null,null,null,null,null,null,null,null,null,null,null,null,null,null,null,null,null,null,null,null,null,null,null,null,{"$f":"設定!C23","v":"両親"},null,{"$f":"設定!E23","v":"両親"},null,null,{"$f":"設定!I23","v":"潰瘍"},null,{"$f":"設定!K23","v":"潰瘍"}]
[null,"時　間",null,null,null,null,null,null,null,null,null,null,null,null,null,null,null,null,null,null,null,null,null,null,null,null,null,null,null,null,null,null,null,null,null,null,null,{"$f":"設定!C24","v":"父"},null,{"$f":"設定!E24","v":"父"},null,null,{"$f":"設定!I24","v":"低残渣食"},null,{"$f":"設定!K24","v":"低残"}]
[null,"行　動",null,null,null,null,null,null,null,null,null,null,null,null,null,null,null,null,null,null,null,null,null,null,null,null,null,null,null,null,null,null,null,null,null,null,null,{"$f":"設定!C25","v":"母"},null,{"$f":"設定!E25","v":"母"},null,null,{"$f":"設定!I25","v":"貧血"},null,{"$f":"設定!K25","v":"貧血"}]
[null,"時　間",null,null,null,null,null,null,null,null,null,null,null,null,null,null,null,null,null,null,null,null,null,null,null,null,null,null,null,null,null,null,null,null,{"$f":"IF(COUNTIF(D18:AH21,\"外出\")+COUNTIF(D18:AH21,\"外泊\")=0,\"回数\",COUNTIF(D18:AH21,\"外出\")+COUNTIF(D18:AH21,\"外泊\"))","v":"回数"},null,null,{"$f":"設定!C26","v":"主人"},null,{"$f":"設定!E26","v":"夫"},null,null,{"$f":"設定!I26","v":"脂質異常"},null,{"$f":"設定!K26","v":"脂1200"}]
[null,"面　会",null,null,null,null,null,null,null,null,null,null,null,null,null,null,null,null,null,null,null,null,null,null,null,null,null,null,null,null,null,null,null,null,null,null,null,{"$f":"設定!C27","v":"奥方"},null,{"$f":"設定!E27","v":"妻"},null,null,null,null,{"$f":"設定!K27","v":"脂1440"}]
[null,null,null,null,null,null,null,null,null,null,null,null,null,null,null,null,null,null,null,null,null,null,null,null,null,null,null,null,null,null,null,null,null,null,{"$f":"IF(COUNTA(D22:AH23)=0,\"回数\",COUNTA(D22:AH23))","v":"回数"},null,null,{"$f":"設定!C28","v":"息子"},null,{"$f":"設定!E28","v":"息子"},null,null,null,null,{"$f":"設定!K28","v":"脂1600"}]
[null,"入　浴",null,null,null,null,null,null,null,null,null,null,null,null,null,null,null,null,null,null,null,null,null,null,null,null,null,null,null,null,null,null,null,null,{"$f":"IF(COUNTA(D24:AH24)=0,\"回数\",COUNTA(D24:AH24))","v":"回数"},null,null,{"$f":"設定!C29","v":"娘"},null,{"$f":"設定!E29","v":"娘"},null,null,null,null,{"$f":"設定!K29","v":"脂1800"}]
[null,"食　事",null,null,null,null,null,null,null,null,null,null,null,null,null,null,null,null,null,null,null,null,null,null,null,null,null,null,null,null,null,null,null,null,null,null,null,{"$f":"設定!C30","v":"兄"},null,{"$f":"設定!E30","v":"兄"},null,null,{"$f":"設定!I30","v":"検査食"},null,{"$f":"設定!K30","v":"検査"}]
[null,null,null,null,null,null,null,null,null,null,null,null,null,null,null,null,null,null,null,null,null,null,null,null,null,null,null,null,null,null,null,null,null,null,null,null,null,{"$f":"設定!C31","v":"弟"},null,{"$f":"設定!E31","v":"弟"},null,null,{"$f":"設定!I31","v":"絶食"},null,{"$f":"設定!K31","v":"絶食"}]
[null,null,null,null,null,null,null,null,null,null,null,null,null,null,null,null,null,null,null,null,null,null,null,null,null,null,null,null,null,null,null,null,null,null,{"$f":"IFERROR(INT(AVERAGE(D141:AH143))& \".\"&INT(AVERAGE(D144:AH146)),\"平均\")","v":"平均"},null,null,{"$f":"設定!C32","v":"姉"},null,{"$f":"設定!E32","v":"姉"},null,null,{"$f":"設定!I32","v":0},null,{"$f":"設定!K32","v":0}]
[null,"便　通",null,{"$f":"IF(ISBLANK(I51),\"\",I51)","v":""},{"$f":"IF(ISBLANK(I52),\"\",I52)","v":""},{"$f":"IF(ISBLANK(I53),\"\",I53)","v":""},{"$f":"IF(ISBLANK(I54),\"\",I54)","v":""},{"$f":"IF(ISBLANK(I55),\"\",I55)","v":""},{"$f":"IF(ISBLANK(I56),\"\",I56)","v":""},{"$f":"IF(ISBLANK(I57),\"\",I57)","v":""},{"$f":"IF(ISBLANK(I58),\"\",I58)","v":""},{"$f":"IF(ISBLANK(I59),\"\",I59)","v":""},{"$f":"IF(ISBLANK(I60),\"\",I60)","v":""},{"$f":"IF(ISBLANK(I61),\"\",I61)","v":""},{"$f":"IF(ISBLANK(I62),\"\",I62)","v":""},{"$f":"IF(ISBLANK(I63),\"\",I63)","v":""},{"$f":"IF(ISBLANK(I64),\"\",I64)","v":""},{"$f":"IF(ISBLANK(I65),\"\",I65)","v":""},{"$f":"IF(ISBLANK(I66),\"\",I66)","v":""},{"$f":"IF(ISBLANK(I67),\"\",I67)","v":""},{"$f":"IF(ISBLANK(I68),\"\",I68)","v":""},{"$f":"IF(ISBLANK(I69),\"\",I69)","v":""},{"$f":"IF(ISBLANK(I70),\"\",I70)","v":""},{"$f":"IF(ISBLANK(I71),\"\",I71)","v":""},{"$f":"IF(ISBLANK(I72),\"\",I72)","v":""},{"$f":"IF(ISBLANK(I73),\"\",I73)","v":""},{"$f":"IF(ISBLANK(I74),\"\",I74)","v":""},{"$f":"IF(ISBLANK(I75),\"\",I75)","v":""},{"$f":"IF(ISBLANK(I76),\"\",I76)","v":""},{"$f":"IF(ISBLANK(I77),\"\",I77)","v":""},{"$f":"IF(ISBLANK(I78),\"\",I78)","v":""},{"$f":"IF(ISBLANK(I79),\"\",I79)","v":""},{"$f":"IF(ISBLANK(I80),\"\",I80)","v":""},{"$f":"IF(ISBLANK('3月'!I50),\"\",'3月'!I50)","v":""},{"$f":"IF(COUNTIF(D28:AH28,0)=0,\"回数\",COUNTIF(D28:AH28,0))","v":"回数"},null,null,{"$f":"設定!C33","v":"妹"},null,{"$f":"設定!E33","v":"妹"},null,null,{"$f":"設定!I33","v":0},null,{"$f":"設定!K33","v":0}]
[null,"便処置",null,null,null,null,null,null,null,null,null,null,null,null,null,null,null,null,null,null,null,null,null,null,null,null,null,null,null,null,null,null,null,null,null,null,null,{"$f":"設定!C34","v":"孫"},null,{"$f":"設定!E34","v":"孫"},null,null,{"$f":"設定!I34","v":0},null,{"$f":"設定!K34","v":0}]
[null,null,null,null,null,null,null,null,null,null,null,null,null,null,null,null,null,null,null,null,null,null,null,null,null,null,null,null,null,null,null,null,null,null,{"$f":"IF(SUM(D29:AH31)=0,\"滴数\",SUM(D29:AH31))","v":"滴数"},null,null,{"$f":"設定!C35","v":"友人知人"},null,{"$f":"設定!E35","v":"知人"}]
[null,null,null,null,null,null,null,null,null,null,null,null,null,null,null,null,null,null,null,null,null,null,null,null,null,null,null,null,null,null,null,null,null,null,{"$f":"IF(AI30=\"滴数\",\"本数\",AI30/150)","v":"本数"},null,null,{"$f":"設定!C36","v":"子の夫"},null,{"$f":"設定!E36","v":"子夫"},null,null,{"$f":"設定!I36","v":"食事形態"}]
[null,"血　圧",null,{"$f":"$R$50","v":0},{"$f":"$R$58","v":0},{"$f":"R66","v":0},{"$f":"R74","v":0},{"$f":"R82","v":0},{"$f":"R90","v":0},{"$f":"R98","v":0},{"$f":"R106","v":0},{"$f":"Z50","v":0},{"$f":"Z58","v":0},{"$f":"Z66","v":0},{"$f":"Z74","v":0},{"$f":"Z82","v":0},{"$f":"Z90","v":0},{"$f":"Z98","v":0},{"$f":"Z106","v":0},{"$f":"AH50","v":0},{"$f":"AH58","v":0},{"$f":"AH66","v":0},{"$f":"AH74","v":0},{"$f":"AH82","v":0},{"$f":"AH90","v":0},{"$f":"AH98","v":0},{"$f":"AH106","v":0},{"$f":"AP50","v":0},{"$f":"AP58","v":0},{"$f":"AP66","v":0},{"$f":"AP74","v":0},{"$f":"AP82","v":0},{"$f":"AP90","v":0},{"$f":"AP98","v":0},null,null,null,{"$f":"設定!C37","v":"子の妻"},null,{"$f":"設定!E37","v":"子妻"},null,null,{"$f":"設定!I37","v":0},null,{"$f":"設定!K37","v":0}]
[null,null,null,{"$f":"$R$51","v":{"$error":"#N/A"}},{"$f":"$R$59","v":{"$error":"#N/A"}},{"$f":"R67","v":{"$error":"#N/A"}},{"$f":"R75","v":{"$error":"#N/A"}},{"$f":"R83","v":{"$error":"#N/A"}},{"$f":"R91","v":{"$error":"#N/A"}},{"$f":"R99","v":{"$error":"#N/A"}},{"$f":"R107","v":{"$error":"#N/A"}},{"$f":"Z51","v":{"$error":"#N/A"}},{"$f":"Z59","v":{"$error":"#N/A"}},{"$f":"Z67","v":{"$error":"#N/A"}},{"$f":"Z75","v":{"$error":"#N/A"}},{"$f":"Z83","v":{"$error":"#N/A"}},{"$f":"Z91","v":{"$error":"#N/A"}},{"$f":"Z99","v":{"$error":"#N/A"}},{"$f":"Z107","v":{"$error":"#N/A"}},{"$f":"AH51","v":{"$error":"#N/A"}},{"$f":"AH59","v":{"$error":"#N/A"}},{"$f":"AH67","v":{"$error":"#N/A"}},{"$f":"AH75","v":{"$error":"#N/A"}},{"$f":"AH83","v":{"$error":"#N/A"}},{"$f":"AH91","v":{"$error":"#N/A"}},{"$f":"AH99","v":{"$error":"#N/A"}},{"$f":"AH107","v":{"$error":"#N/A"}},{"$f":"AP51","v":{"$error":"#N/A"}},{"$f":"AP59","v":{"$error":"#N/A"}},{"$f":"AP67","v":{"$error":"#N/A"}},{"$f":"AP75","v":{"$error":"#N/A"}},{"$f":"AP83","v":{"$error":"#N/A"}},{"$f":"AP91","v":{"$error":"#N/A"}},{"$f":"AP99","v":{"$error":"#N/A"}},null,null,null,{"$f":"設定!C38","v":"祖母"},null,{"$f":"設定!E38","v":"祖母"},null,null,{"$f":"設定!I38","v":"普通食"},null,{"$f":"設定!K38","v":"普通"}]
[null,null,null,{"$f":"$R$52","v":0},{"$f":"$R$60","v":0},{"$f":"R68","v":0},{"$f":"R76","v":0},{"$f":"R84","v":0},{"$f":"R92","v":0},{"$f":"R100","v":0},{"$f":"R108","v":0},{"$f":"Z52","v":0},{"$f":"Z60","v":0},{"$f":"Z68","v":0},{"$f":"Z76","v":0},{"$f":"Z84","v":0},{"$f":"Z92","v":0},{"$f":"Z100","v":0},{"$f":"Z108","v":0},{"$f":"AH52","v":0},{"$f":"AH60","v":0},{"$f":"AH68","v":0},{"$f":"AH76","v":0},{"$f":"AH84","v":0},{"$f":"AH92","v":0},{"$f":"AH100","v":0},{"$f":"AH108","v":0},{"$f":"AP52","v":0},{"$f":"AP60","v":0},{"$f":"AP68","v":0},{"$f":"AP76","v":0},{"$f":"AP84","v":0},{"$f":"AP92","v":0},{"$f":"AP100","v":0},null,null,null,{"$f":"設定!C39","v":"祖父"},null,{"$f":"設定!E39","v":"祖父"},null,null,{"$f":"設定!I39","v":"普+一口大"},null,{"$f":"設定!K39","v":"一口"}]
[null,null,null,{"$f":"$R$53","v":0},{"$f":"$R$61","v":0},{"$f":"R69","v":0},{"$f":"R77","v":0},{"$f":"R85","v":0},{"$f":"R93","v":0},{"$f":"R101","v":0},{"$f":"R109","v":0},{"$f":"Z53","v":0},{"$f":"Z61","v":0},{"$f":"Z69","v":0},{"$f":"Z77","v":0},{"$f":"Z85","v":0},{"$f":"Z93","v":0},{"$f":"Z101","v":0},{"$f":"Z109","v":0},{"$f":"AH53","v":0},{"$f":"AH61","v":0},{"$f":"AH69","v":0},{"$f":"AH77","v":0},{"$f":"AH85","v":0},{"$f":"AH93","v":0},{"$f":"AH101","v":0},{"$f":"AH109","v":0},{"$f":"AP53","v":0},{"$f":"AP61","v":0},{"$f":"AP69","v":0},{"$f":"AP77","v":0},{"$f":"AP85","v":0},{"$f":"AP93","v":0},{"$f":"AP101","v":0},{"$f":"IFERROR(INT(AVERAGE(D149:AH152))& \"/\"&INT(AVERAGE(D153:AH156)),\"平均\")","v":"平均"},null,null,{"$f":"設定!C40","v":"従兄弟の父"},null,{"$f":"設定!E40","v":"叔父"},null,null,{"$f":"設定!I40","v":"普+キザミ"},null,{"$f":"設定!K40","v":"普キ"}]
[null,"食事箋",null,{"$f":"IF(COUNTIF('4月'!D40:AH40,\"*\"),INDEX('4月'!D40:AH40,MATCH(\"\",'4月'!D40:AH40,-1)),\"\")","v":""},null,null,null,null,null,null,null,null,null,null,null,null,null,null,null,null,null,null,null,null,null,null,null,null,null,null,null,null,null,null,null,null,null,{"$f":"設定!C41","v":"従兄弟の母"},null,{"$f":"設定!E41","v":"叔母"},null,null,{"$f":"設定!I41","v":"軟飯"},null,{"$f":"設定!K41","v":"軟飯"}]
[null,"形　態",null,{"$f":"IF(COUNTIF('4月'!D41:AH41,\"*\"),INDEX('4月'!D41:AH41,MATCH(\"\",'4月'!D41:AH41,-1)),\"\")","v":""},null,null,null,null,null,null,null,null,null,null,null,null,null,null,null,null,null,null,null,null,null,null,null,null,null,null,null,null,null,null,null,null,null,{"$f":"設定!C42","v":"従兄弟"},null,{"$f":"設定!E42","v":"ｲﾄｺ"},null,null,{"$f":"設定!I42","v":"軟+キザミ"},null,{"$f":"設定!K42","v":"軟キ"}]
[null,"身　長",null,{"$f":"IF(COUNT('4月'!D42:AH42),LOOKUP(MAX('4月'!D42:AH42)+1,'4月'!D42:AH42),\"\")","v":""},null,null,null,null,null,null,null,null,null,null,null,null,null,null,null,null,null,null,null,null,null,null,null,null,null,null,null,null,null,null,"BMI",null,null,{"$f":"設定!C43","v":"義理の母"},null,{"$f":"設定!E43","v":"義母"},null,null,{"$f":"設定!I43","v":"粥食"},null,{"$f":"設定!K43","v":"粥"}]
[null,"体　重",null,null,null,null,null,null,null,null,null,null,null,null,null,null,null,null,null,null,null,null,null,null,null,null,null,null,null,null,null,null,null,null,{"$f":"IF(ISERROR(INDEX(D39:AH39,MATCH(307,D39:AH39))/(INDEX(D38:AH38,MATCH(9E+307,D38:AH38))/100)^2)=TRUE,\"\",INDEX(D39:AH39,MATCH(307,D39:AH39))/(INDEX(D38:AH38,MATCH(9E+307,D38:AH38))/100)^2)","v":""},null,null,{"$f":"設定!C44","v":"義理の父"},null,{"$f":"設定!E44","v":"義父"},null,null,{"$f":"設定!I44","v":"粥+キザミ"},null,{"$f":"設定!K44","v":"粥キ"}]
[null,"Ｉ　Ｎ",null,null,null,null,null,null,null,null,null,null,null,null,null,null,null,null,null,null,null,null,null,null,null,null,null,null,null,null,null,null,null,null,{"$f":"IFERROR(INT(AVERAGE(D40:AH40)),\"平均\")","v":"平均"},null,null,{"$f":"設定!C45","v":"その他親類"},null,{"$f":"設定!E45","v":"親類"},null,null,{"$f":"設定!I45","v":"ミキサ－"},null,{"$f":"設定!K45","v":"ミキ"}]
[null,"ＯＵＴ",null,null,null,null,null,null,null,null,null,null,null,null,null,null,null,null,null,null,null,null,null,null,null,null,null,null,null,null,null,null,null,null,{"$f":"IFERROR(INT(AVERAGE(D41:AH41)),\"平均\")","v":"平均"},null,null,{"$f":"設定!C46","v":"福祉職員"},null,{"$f":"設定!E46","v":"福祉"},null,null,{"$f":"設定!I46","v":"普通流動"},null,{"$f":"設定!K46","v":"普流"}]
[null,"生　理",null,null,null,null,null,null,null,null,null,null,null,null,null,null,null,null,null,null,null,null,null,null,null,null,null,null,null,null,null,null,null,null,{"$f":"IF(ISERROR(AVERAGE(D42:AH42)),\" \",AVERAGE(D42:AH42))","v":" "},null,null,{"$f":"設定!C47","v":"施設職員"},null,{"$f":"設定!E47","v":"施設"},null,null,{"$f":"設定!I47","v":"濃厚流動"},null,{"$f":"設定!K47","v":"濃流"}]
[null,null,null,null,null,null,null,null,null,null,null,null,null,null,null,null,null,null,null,null,null,null,null,null,null,null,null,null,null,null,null,null,null,null,{"$f":"IF(ISERROR(AVERAGE(D43:AH43)),\" \",AVERAGE(D43:AH43))","v":" "},null,null,{"$f":"設定!C48","v":0},null,{"$f":"設定!E48","v":0},null,null,{"$f":"設定!H48","v":0},null,{"$f":"設定!J48","v":0}]
[null,null,null,null,null,null,null,null,null,null,null,null,null,null,null,null,null,null,null,null,null,null,null,null,null,null,null,null,null,null,null,null,null,null,{"$f":"COUNTA(D44:AH44)","v":0},null,null,{"$f":"設定!C49","v":0},null,{"$f":"設定!E49","v":0},null,null,{"$f":"設定!H49","v":0},null,{"$f":"設定!J49","v":0}]
[null,"日　付",null,1,2,3,4,5,6,7,8,9,10,11,12,13,14,15,16,17,18,19,20,21,22,23,24,25,26,27,28,29,30,31,null,null,null,{"$f":"設定!C50","v":0},null,{"$f":"設定!E50","v":0},null,null,{"$f":"設定!H50","v":0},null,{"$f":"設定!J50","v":0}]
[]
[null,{"$f":"$P$3","v":0},null,null,null,null,null,{"$f":"YEAR(I47)","v":2015},{"$f":"TODAY()","v":"2015-02-24"},{"$f":"TODAY()","v":42059}]
[null,"平常時記入",null,null,null,null,null,null,null,null,null,"熱発時記入"]
[null,"日","時間","T",null," P","BP",null,"便",null,null,"日","時間",null,"T",null,"P","BP",null,"日","時間",null,"T",null,"P","BP",null,"日","時間",null,"T",null,"P","BP",null,"日","時間",null,"T",null,"P","BP"]
[null,1,"9:00",null,null,null,null,null,null,null,null,1,null,null,null,null,null,null,null,9,null,null,null,null,null,null,null,17,null,null,null,null,null,null,null,25]
[null,2,"9:00",null,null,null,null,null,null,null,null,null,"9:00",null,{"$f":"IF($D$50=\"\",NA(),$D$50)","v":{"$error":"#N/A"}},null,{"$f":"IF($F$50=\"\",NA(),$F$50)","v":{"$error":"#N/A"}},{"$f":"IF($G$50=\"\",NA(),$G$50)","v":{"$error":"#N/A"}},null,null,"9:00",null,{"$f":"IF($D$58=\"\",NA(),$D$58)","v":{"$error":"#N/A"}},null,{"$f":"IF($F$58=\"\",NA(),$F$58)","v":{"$error":"#N/A"}},{"$f":"IF($G$58=\"\",NA(),$G$58)","v":{"$error":"#N/A"}},null,null,"9:00",null,{"$f":"IF($D$66=\"\",NA(),$D$66)","v":{"$error":"#N/A"}},null,{"$f":"IF($F$66=\"\",NA(),$F$66)","v":{"$error":"#N/A"}},{"$f":"IF($G$66=\"\",NA(),$G$66)","v":{"$error":"#N/A"}},null,null,"9:00",null,{"$f":"IF($D$74=\"\",NA(),$D$74)","v":{"$error":"#N/A"}},null,{"$f":"IF($F$74=\"\",NA(),$F$74)","v":{"$error":"#N/A"}},{"$f":"IF($G$74=\"\",NA(),$G$74)","v":{"$error":"#N/A"}}]
[null,3,"9:00",null,null,null,null,null,null,"☆"]
[null,4,"9:00"]
[null,5,"9:00",null,null,null,null,null,null,"コ"]
[null,6,"9:00",null,null,null,null,null,null,"ス"]
[null,7,"9:00",null,null,null,null,null,null,"モ"]
[null,8,"9:00",null,null,null,null,null,null,"ス"]
[null,9,"9:00",null,null,null,null,null,null,"へ",null,2,null,null,null,null,null,null,null,10,null,null,null,null,null,null,null,18,null,null,null,null,null,null,null,26]
[null,10,"9:00",null,null,null,null,null,null,"戻",null,null,"9:00",null,{"$f":"IF($D$51=\"\",NA(),$D$51)","v":{"$error":"#N/A"}},null,{"$f":"IF($F$51=\"\",NA(),$F$51)","v":{"$error":"#N/A"}},{"$f":"IF($G$51=\"\",NA(),$G$51)","v":{"$error":"#N/A"}},null,null,"9:00",null,{"$f":"IF($D$59=\"\",NA(),$D$59)","v":{"$error":"#N/A"}},null,{"$f":"IF($F$59=\"\",NA(),$F$59)","v":{"$error":"#N/A"}},{"$f":"IF($G$59=\"\",NA(),$G$59)","v":{"$error":"#N/A"}},null,null,"9:00",null,{"$f":"IF($D$67=\"\",NA(),$D$67)","v":{"$error":"#N/A"}},null,{"$f":"IF($F$67=\"\",NA(),$F$67)","v":{"$error":"#N/A"}},{"$f":"IF($G$67=\"\",NA(),$G$67)","v":{"$error":"#N/A"}},null,null,"9:00",null,{"$f":"IF($D$75=\"\",NA(),$D$75)","v":{"$error":"#N/A"}},null,{"$f":"IF($F$75=\"\",NA(),$F$75)","v":{"$error":"#N/A"}},{"$f":"IF($G$75=\"\",NA(),$G$75)","v":{"$error":"#N/A"}}]
[null,11,"9:00",null,null,null,null,null,null,"る"]
[null,12,"9:00"]
[null,13,"9:00"]
[null,14,"9:00",null,null,null,null,null,null,"（"]
[null,15,"9:00",null,null,null,null,null,null,"選"]
[null,16,"9:00",null,null,null,null,null,null,"択"]
[null,17,"9:00",null,null,null,null,null,null,"す",null,3,null,null,null,null,null,null,null,11,null,null,null,null,null,null,null,19,null,null,null,null,null,null,null,27]
[null,18,"9:00",null,null,null,null,null,null,"る",null,null,"9:00",null,{"$f":"IF($D$52=\"\",NA(),$D$52)","v":{"$error":"#N/A"}},null,{"$f":"IF($F$52=\"\",NA(),$F$52)","v":{"$error":"#N/A"}},{"$f":"IF($G$52=\"\",NA(),$G$52)","v":{"$error":"#N/A"}},null,null,"9:00",null,{"$f":"IF($D$60=\"\",NA(),$D$60)","v":{"$error":"#N/A"}},null,{"$f":"IF($F$60=\"\",NA(),$F$60)","v":{"$error":"#N/A"}},{"$f":"IF($G$60=\"\",NA(),$G$60)","v":{"$error":"#N/A"}},null,null,"9:00",null,{"$f":"IF($D$68=\"\",NA(),$D$68)","v":{"$error":"#N/A"}},null,{"$f":"IF($F$68=\"\",NA(),$F$68)","v":{"$error":"#N/A"}},{"$f":"IF($G$68=\"\",NA(),$G$68)","v":{"$error":"#N/A"}},null,null,"9:00",null,{"$f":"IF($D$76=\"\",NA(),$D$76)","v":{"$error":"#N/A"}},null,{"$f":"IF($F$76=\"\",NA(),$F$76)","v":{"$error":"#N/A"}},{"$f":"IF($G$76=\"\",NA(),$G$76)","v":{"$error":"#N/A"}}]
[null,19,"9:00",null,null,null,null,null,null,"だ"]
[null,20,"9:00",null,null,null,null,null,null,"け"]
[null,21,"9:00",null,null,null,null,null,null,"で"]
[null,22,"9:00",null,null,null,null,null,null,"移"]
[null,23,"9:00",null,null,null,null,null,null,"動"]
[null,24,"9:00",null,null,null,null,null,null,"し"]
[null,25,"9:00",null,null,null,null,null,null,"ま",null,4,null,null,null,null,null,null,null,12,null,null,null,null,null,null,null,20,null,null,null,null,null,null,null,28]
[null,26,"9:00",null,null,null,null,null,null,"す",null,null,"9:00",null,{"$f":"IF($D$53=\"\",NA(),$D$53)","v":{"$error":"#N/A"}},null,{"$f":"IF($F$53=\"\",NA(),$F$53)","v":{"$error":"#N/A"}},{"$f":"IF($G$53=\"\",NA(),$G$53)","v":{"$error":"#N/A"}},null,null,"9:00",null,{"$f":"IF($D$61=\"\",NA(),$D$61)","v":{"$error":"#N/A"}},null,{"$f":"IF($F$61=\"\",NA(),$F$61)","v":{"$error":"#N/A"}},{"$f":"IF($G$61=\"\",NA(),$G$61)","v":{"$error":"#N/A"}},null,null,"9:00",null,{"$f":"IF($D$69=\"\",NA(),$D$69)","v":{"$error":"#N/A"}},null,{"$f":"IF($F$69=\"\",NA(),$F$69)","v":{"$error":"#N/A"}},{"$f":"IF($G$69=\"\",NA(),$G$69)","v":{"$error":"#N/A"}},null,null,"9:00",null,{"$f":"IF($D$77=\"\",NA(),$D$77)","v":{"$error":"#N/A"}},null,{"$f":"IF($F$77=\"\",NA(),$F$77)","v":{"$error":"#N/A"}},{"$f":"IF($G$77=\"\",NA(),$G$77)","v":{"$error":"#N/A"}}]
[null,27,"9:00",null,null,null,null,null,null,"）"]
[null,28,"9:00"]
[null,29,"9:00"]
[null,30,"9:00"]
[null,31,"9:00"]
[]
[null,null,null,null,null,null,null,null,null,null,null,5,null,null,null,null,null,null,null,13,null,null,null,null,null,null,null,21,null,null,null,null,null,null,null,29]
[null,null,null,null,null,null,null,null,null,null,null,null,"9:00",null,{"$f":"IF($D$54=\"\",NA(),$D$54)","v":{"$error":"#N/A"}},null,{"$f":"IF($F$54=\"\",NA(),$F$54)","v":{"$error":"#N/A"}},{"$f":"IF($G$54=\"\",NA(),$G$54)","v":{"$error":"#N/A"}},null,null,"9:00",null,{"$f":"IF($D$62=\"\",NA(),$D$62)","v":{"$error":"#N/A"}},null,{"$f":"IF($F$62=\"\",NA(),$F$62)","v":{"$error":"#N/A"}},{"$f":"IF($G$62=\"\",NA(),$G$62)","v":{"$error":"#N/A"}},null,null,"9:00",null,{"$f":"IF($D$70=\"\",NA(),$D$70)","v":{"$error":"#N/A"}},null,{"$f":"IF($F$70=\"\",NA(),$F$70)","v":{"$error":"#N/A"}},{"$f":"IF($G$70=\"\",NA(),$G$70)","v":{"$error":"#N/A"}},null,null,"9:00",null,{"$f":"IF($D$78=\"\",NA(),$D$78)","v":{"$error":"#N/A"}},null,{"$f":"IF($F$78=\"\",NA(),$F$78)","v":{"$error":"#N/A"}},{"$f":"IF($G$78=\"\",NA(),$G$78)","v":{"$error":"#N/A"}}]
[]
[]
[]
[]
[]
[]
[null,null,null,null,null,null,null,null,null,null,null,6,null,null,null,null,null,null,null,14,null,null,null,null,null,null,null,22,null,null,null,null,null,null,null,30]
[null,null,null,null,null,null,null,null,null,null,null,null,"9:00",null,{"$f":"IF($D$55=\"\",NA(),$D$55)","v":{"$error":"#N/A"}},null,{"$f":"IF($F$55=\"\",NA(),$F$55)","v":{"$error":"#N/A"}},{"$f":"IF($G$55=\"\",NA(),$G$55)","v":{"$error":"#N/A"}},null,null,"9:00",null,{"$f":"IF($D$63=\"\",NA(),$D$63)","v":{"$error":"#N/A"}},null,{"$f":"IF($F$63=\"\",NA(),$F$63)","v":{"$error":"#N/A"}},{"$f":"IF($G$63=\"\",NA(),$G$63)","v":{"$error":"#N/A"}},null,null,"9:00",null,{"$f":"IF($D$71=\"\",NA(),$D$71)","v":{"$error":"#N/A"}},null,{"$f":"IF($F$71=\"\",NA(),$F$71)","v":{"$error":"#N/A"}},{"$f":"IF($G$71=\"\",NA(),$G$71)","v":{"$error":"#N/A"}},null,null,"9:00",null,{"$f":"IF($D$79=\"\",NA(),$D$79)","v":{"$error":"#N/A"}},null,{"$f":"IF($F$79=\"\",NA(),$F$79)","v":{"$error":"#N/A"}},{"$f":"IF($G$79=\"\",NA(),$G$79)","v":{"$error":"#N/A"}}]
[]
[]
[]
[]
[]
[]
[null,null,null,null,null,null,null,null,null,null,null,7,null,null,null,null,null,null,null,15,null,null,null,null,null,null,null,23,null,null,null,null,null,null,null,31]
[null,null,null,null,null,null,null,null,null,null,null,null,"9:00",null,{"$f":"IF($D$56=\"\",NA(),$D$56)","v":{"$error":"#N/A"}},null,{"$f":"IF($F$56=\"\",NA(),$F$56)","v":{"$error":"#N/A"}},{"$f":"IF($G$56=\"\",NA(),$G$56)","v":{"$error":"#N/A"}},null,null,"9:00",null,{"$f":"IF($D$64=\"\",NA(),$D$64)","v":{"$error":"#N/A"}},null,{"$f":"IF($F$64=\"\",NA(),$F$64)","v":{"$error":"#N/A"}},{"$f":"IF($G$64=\"\",NA(),$G$64)","v":{"$error":"#N/A"}},null,null,"9:00",null,{"$f":"IF($D$72=\"\",NA(),$D$72)","v":{"$error":"#N/A"}},null,{"$f":"IF($F$72=\"\",NA(),$F$72)","v":{"$error":"#N/A"}},{"$f":"IF($G$72=\"\",NA(),$G$72)","v":{"$error":"#N/A"}},null,null,"9:00",null,{"$f":"IF($D$80=\"\",NA(),$D$80)","v":{"$error":"#N/A"}},null,{"$f":"IF($F$80=\"\",NA(),$F$80)","v":{"$error":"#N/A"}},{"$f":"IF($G$80=\"\",NA(),$G$80)","v":{"$error":"#N/A"}}]
[]
[]
[]
[]
[]
[]
[null,null,null,null,null,null,null,null,null,null,null,8,null,null,null,null,null,null,null,16,null,null,null,null,null,null,null,24]
[null,null,null,null,null,null,null,null,null,null,null,null,"9:00",null,{"$f":"IF($D$57=\"\",NA(),$D$57)","v":{"$error":"#N/A"}},null,{"$f":"IF($F$57=\"\",NA(),$F$57)","v":{"$error":"#N/A"}},{"$f":"IF($G$57=\"\",NA(),$G$57)","v":{"$error":"#N/A"}},null,null,"9:00",null,{"$f":"IF($D$65=\"\",NA(),$D$65)","v":{"$error":"#N/A"}},null,{"$f":"IF($F$65=\"\",NA(),$F$65)","v":{"$error":"#N/A"}},{"$f":"IF($G$65=\"\",NA(),$G$65)","v":{"$error":"#N/A"}},null,null,"9:00",null,{"$f":"IF($D$73=\"\",NA(),$D$73)","v":{"$error":"#N/A"}},null,{"$f":"IF($F$73=\"\",NA(),$F$73)","v":{"$error":"#N/A"}},{"$f":"IF($G$73=\"\",NA(),$G$73)","v":{"$error":"#N/A"}}]
[]
[]
[]
[]
[]
[]
[]
[]
[]
[]
[]
[]
[]
[]
[]
[]
[]
[]
[]
[]
[]
[null,null,"Enterで入力画面へ"]
[null,null,"ｶｰｿﾙ初期位置",null,null,null,"日付チェック",null,null,null,"バイタルコピー"]
["管理欄",null,"入力に入る",null,null,null,"今日",{"$f":"NOW()","v":"2015-02-24T03:11:52.510"},null,null,{"$f":"IF($D$74=\"\",NA(),$D$74)","v":{"$error":"#N/A"}},null,{"$f":"IF($F$74=\"\",NA(),$F$74)","v":{"$error":"#N/A"}},{"$f":"IF($G$74=\"\",NA(),$G$74)","v":{"$error":"#N/A"}},null,{"$f":"K131&M131&N131","v":{"$error":"#N/A"}}]
[null,null,null,null,null,null,"日",{"$f":"DAY(H131)","v":24},null,null,null,null,null,null,null,""]
[null,null,null,null,null,null,"月",{"$f":"MONTH(H131)","v":2},null,null,null,null,null,null,null,""]
[null,null,null,null,null,null,null,null,null,null,null,null,null,null,null,""]
[null,null,null,null,null,null,"時",{"$f":"HOUR(H131)","v":3},null,null,null,null,null,null,null,""]
[null,null,null,null,null,null,null,null,null,null,null,null,null,null,null,""]
[null,null,null,null,null,null,null,null,null,null,null,null,null,null,null,""]
[null,null,null,null,null,null,null,null,null,null,null,null,null,null,null,""]
[null,null,null,null,null,null,null,null,null,null,null,null,null,null,null,""]
[null,null,"食事平均",null,null,null,null,null,null,null,null,null,null,null,null,""]
[null,null,"左",{"$f":"IF(D25=\"\", \"\", LEFT(D25,SEARCH(\".\",D25,1)-1)*1)","v":""},{"$f":"IF(E25=\"\", \"\", LEFT(E25,SEARCH(\".\",E25,1)-1)*1)","v":""},"","","","","","","","","","","","","","","","","","","","","","","","","","","","",""]
[null,null,null,{"$f":"IF(D26=\"\", \"\", LEFT(D26,SEARCH(\".\",D26,1)-1)*1)","v":""},"","","","","","","","","","","","","","","","","","","","","","","","","","","","","",""]
[null,null,null,"","","","","","","","","","","","","","","","","","","","","","","","","","","","","","",""]
[null,null,"右",{"$f":"IF(D25=\"\", \"\", RIGHT(D25,LEN(D25)-FIND(\".\",D25,1))*1)","v":""},{"$f":"IF(E25=\"\", \"\", RIGHT(E25,LEN(E25)-FIND(\".\",E25,1))*1)","v":""},"","","","","","","","","","","","","","","","","","","","","","","","","","","","",""]
[null,null,null,{"$f":"IF(D26=\"\", \"\", RIGHT(D26,LEN(D26)-FIND(\".\",D26,1))*1)","v":""},"","","","","","","","","","","","","","","","","","","","","","","","","","","","","",""]
[null,null,null,{"$f":"IF(D27=\"\", \"\", RIGHT(D27,LEN(D27)-FIND(\".\",D27,1))*1)","v":""},"","","","","","","","","","","","","","","","","","","","","","","","","","","","","",""]
[null,null,null,null,null,null,null,null,null,null,null,null,null,null,null,""]
[null,null,"BP平均",null,null,null,null,null,null,null,null,null,null,null,null,""]
[null,null,"左",{"$f":"IF(ISERROR(LEFT(D32,SEARCH(\"/\",D32,1)-1)*1),\"\",LEFT(D32,SEARCH(\"/\",D32,1)-1)*1)","v":""},{"$f":"IF(ISERROR(LEFT(E32,SEARCH(\"/\",E32,1)-1)*1),\"\",LEFT(E32,SEARCH(\"/\",E32,1)-1)*1)","v":""},"","","","","","","","","","","","","","","","","","","","","","","","","","","","",""]
[null,null,null,{"$f":"IF(ISERROR(LEFT(D33,SEARCH(\"/\",D33,1)-1)*1),\"\",LEFT(D33,SEARCH(\"/\",D33,1)-1)*1)","v":""},"","","","","","","","","","","","","","","","","","","","","","","","","","","","","",""]
[null,null,null,"","","","","","","","","","","","","","","","","","","","","","","","","","","","","","",""]
[null,null,null,"","","","","","","","","","","","","","","","","","","","","","","","","","","","","","",""]
[null,null,"右",{"$f":"IF(ISERROR(RIGHT(D32,LEN(D32)-FIND(\"/\",D32,1))*1),\"\",RIGHT(D32,LEN(D32)-FIND(\"/\",D32,1))*1)","v":""},{"$f":"IF(ISERROR(RIGHT(E32,LEN(E32)-FIND(\"/\",E32,1))*1),\"\",RIGHT(E32,LEN(E32)-FIND(\"/\",E32,1))*1)","v":""},{"$f":"IF(ISERROR(RIGHT(F32,LEN(F32)-FIND(\"/\",F32,1))*1),\"\",RIGHT(F32,LEN(F32)-FIND(\"/\",F32,1))*1)","v":""},"","","","","","","","","","","","","","","","","","","","","","","","","","","",""]
[null,null,null,{"$f":"IF(ISERROR(RIGHT(D33,LEN(D33)-FIND(\"/\",D33,1))*1),\"\",RIGHT(D33,LEN(D33)-FIND(\"/\",D33,1))*1)","v":""},"","","","","","","","","","","","","","","","","","","","","","","","","","","","","",""]
[null,null,null,"","","","","","","","","","","","","","","","","","","","","","","","","","","","","","",""]
[null,null,null,"","","","","","","","","","","","","","","","","","","","","","","","","","","","","","",""]
[null,null,null,null,null,null,null,null,null,null,null,null,null,null,null,""]
[null,null,null,null,null,null,null,null,null,null,null,null,null,null,null,""]
[null,null,null,null,null,null,null,null,null,null,null,null,null,null,null,""]
[null,null,null,null,null,null,null,null,null,null,null,null,null,null,null,""]
[null,null,null,null,null,null,null,null,null,null,null,null,null,null,null,{"$f":"K161&M161&N161","v":""}]

{"sheet":"6月","index":6,"n_rows":161,"n_cols":45,"rows_kept":161,"cut":false,"hidden":false,"merged":[[138,10,138,11],[138,13,138,14],[139,10,139,11],[160,10,160,11],[160,13,160,14],[147,10,147,11],[147,13,147,14],[139,13,139,14],[48,12,48,13],[48,14,48,15],[131,10,131,11],[131,13,131,14],[132,10,132,11],[132,13,132,14],[133,10,133,11],[133,13,133,14],[134,10,134,11],[134,13,134,14],[135,10,135,11],[135,13,135,14],[136,10,136,11],[136,13,136,14],[137,10,137,11],[137,13,137,14],[75,12,75,13],[61,12,61,13],[81,11,88,11],[81,12,81,13],[81,14,81,15],[92,12,92,13],[92,14,92,15],[89,12,89,13],[52,33,52,34],[52,36,52,37],[50,20,50,21],[50,22,50,23],[50,25,50,26],[52,22,52,23],[52,25,52,26],[52,28,52,29],[54,33,54,34],[54,36,54,37],[52,30,52,31],[53,28,53,29],[53,30,53,31],[50,28,50,29],[58,28,58,29],[60,25,60,26],[61,14,61,15],[63,36,63,37],[66,28,66,29],[69,25,69,26],[70,25,70,26],[68,30,68,31],[69,33,69,34],[70,30,70,31],[65,19,72,19],[65,20,65,21],[60,33,60,34],[65,22,65,23],[65,25,65,26],[23,1,23,2],[27,1,27,2],[28,1,30,2],[29,37,29,38],[30,37,30,38],[51,33,51,34],[49,25,49,26],[49,27,56,27],[49,28,49,29],[49,30,49,31],[50,30,50,31],[51,30,51,31],[49,20,49,21],[49,22,49,23],[53,20,53,21],[53,33,53,34],[53,36,53,37],[48,22,48,23],[48,36,48,37],[24,1,26,2],[31,1,34,2],[35,1,35,2],[56,33,56,34],[36,1,36,2],[37,1,37,2],[38,1,38,2],[53,41,53,42],[4,42,4,45],[18,1,18,2],[19,1,19,2],[20,1,20,2],[21,1,22,2],[16,1,16,2],[17,1,17,2],[2,10,3,12],[2,1,3,3],[1,7,1,9],[1,10,1,12],[13,37,13,40],[0,1,0,2],[0,5,0,6],[1,1,1,3],[1,4,1,6],[4,37,4,40],[5,37,9,40],[10,37,10,40],[11,37,11,40],[12,37,12,40],[16,39,16,40],[17,39,17,40],[18,39,18,40],[2,25,2,30],[3,25,3,30],[1,23,1,24],[2,23,3,24],[15,37,15,40],[16,37,16,38],[17,37,17,38],[54,38,54,39],[29,39,29,40],[30,39,30,40],[1,13,1,14],[2,15,3,20],[1,15,1,19],[1,25,1,31],[47,1,47,9],[47,11,47,18],[47,19,47,26],[47,27,47,34],[48,17,48,18],[48,20,48,21],[48,30,48,31],[48,33,48,34],[42,1,42,2],[43,1,43,2],[44,1,44,2],[46,1,46,5],[39,1,39,2],[40,1,40,2],[41,1,41,2],[48,25,48,26],[48,28,48,29],[48,3,48,4],[48,6,48,7],[51,25,51,26],[51,28,51,29],[53,38,53,39],[18,37,18,38],[21,39,21,40],[49,36,49,37],[56,41,56,42],[56,36,56,37],[48,38,48,39],[52,3,52,4],[52,6,52,7],[52,12,52,13],[52,14,52,15],[52,17,52,18],[52,20,52,21],[51,3,51,4],[51,6,51,7],[51,12,51,13],[51,14,51,15],[49,41,49,42],[50,3,50,4],[50,6,50,7],[50,12,50,13],[50,14,50,15],[50,17,50,18],[50,41,50,42],[49,38,49,39],[50,33,50,34],[50,36,50,37],[50,38,50,39],[49,33,49,34],[49,35,56,35],[51,41,51,42],[53,25,53,26],[56,38,56,39],[55,33,55,34],[55,36,55,37],[52,41,52,42],[51,36,51,37],[51,38,51,39],[54,41,54,42],[55,3,55,4],[55,6,55,7],[55,12,55,13],[55,14,55,15],[55,17,55,18],[55,20,55,21],[55,22,55,23],[55,25,55,26],[55,38,55,39],[54,20,54,21],[54,22,54,23],[54,25,54,26],[54,30,54,31],[54,28,54,29],[54,3,54,4],[54,6,54,7],[54,12,54,13],[54,14,54,15],[49,11,56,11],[53,3,53,4],[53,6,53,7],[53,12,53,13],[53,14,53,15],[49,12,49,13],[52,38,52,39],[51,20,51,21],[51,22,51,23],[53,22,53,23],[55,41,55,42],[57,3,57,4],[57,6,57,7],[57,11,64,11],[57,12,57,13],[57,14,57,15],[57,17,57,18],[57,19,64,19],[56,3,56,4],[56,6,56,7],[56,12,56,13],[56,14,56,15],[56,17,56,18],[56,20,56,21],[56,22,56,23],[56,25,56,26],[55,28,55,29],[55,30,55,31],[56,28,56,29],[56,30,56,31],[49,19,56,19],[54,17,54,18],[51,17,51,18],[53,17,53,18],[61,30,61,31],[60,17,60,18],[60,20,60,21],[60,28,60,29],[59,25,59,26],[49,14,49,15],[49,17,49,18],[59,3,59,4],[63,38,63,39],[57,35,64,35],[57,36,57,37],[57,38,57,39],[62,41,62,42],[60,41,60,42],[61,36,61,37],[64,41,64,42],[63,17,63,18],[63,20,63,21],[63,22,63,23],[63,30,63,31],[63,33,63,34],[61,41,61,42],[62,22,62,23],[62,36,62,37],[59,33,59,34],[59,36,59,37],[62,17,62,18],[62,20,62,21],[59,17,59,18],[61,38,61,39],[62,30,62,31],[57,33,57,34],[61,33,61,34],[62,33,62,34],[57,30,57,31],[58,30,58,31],[59,30,59,31],[60,30,60,31],[60,22,60,23],[58,38,58,39],[59,38,59,39],[59,28,59,29],[57,41,57,42],[58,3,58,4],[58,6,58,7],[58,12,58,13],[58,14,58,15],[58,17,58,18],[58,20,58,21],[58,22,58,23],[58,25,58,26],[57,20,57,21],[60,36,60,37],[60,38,60,39],[59,6,59,7],[59,12,59,13],[59,14,59,15],[57,22,57,23],[57,25,57,26],[57,27,64,27],[57,28,57,29],[61,28,61,29],[61,25,61,26],[62,25,62,26],[63,25,63,26],[63,28,63,29],[62,28,62,29],[62,38,62,39],[61,22,61,23],[61,17,61,18],[63,41,63,42],[61,20,61,21],[58,41,58,42],[59,20,59,21],[59,22,59,23],[64,33,64,34],[64,36,64,37],[64,38,64,39],[64,17,64,18],[64,20,64,21],[64,22,64,23],[64,25,64,26],[64,28,64,29],[64,3,64,4],[64,6,64,7],[64,12,64,13],[64,14,64,15],[58,33,58,34],[58,36,58,37],[63,3,63,4],[63,6,63,7],[63,12,63,13],[63,14,63,15],[62,3,62,4],[62,6,62,7],[62,12,62,13],[62,14,62,15],[61,3,61,4],[61,6,61,7],[59,41,59,42],[60,3,60,4],[60,6,60,7],[60,12,60,13],[60,14,60,15],[65,3,65,4],[65,6,65,7],[65,11,72,11],[65,12,65,13],[65,14,65,15],[65,17,65,18],[71,3,71,4],[71,6,71,7],[71,12,71,13],[71,14,71,15],[64,30,64,31],[72,33,72,34],[66,41,66,42],[67,3,67,4],[67,6,67,7],[67,12,67,13],[67,14,67,15],[67,17,67,18],[67,20,67,21],[67,22,67,23],[67,25,67,26],[67,28,67,29],[67,36,67,37],[67,38,67,39],[65,41,65,42],[66,3,66,4],[66,6,66,7],[66,12,66,13],[66,14,66,15],[66,17,66,18],[66,20,66,21],[66,22,66,23],[65,30,65,31],[65,36,65,37],[65,38,65,39],[66,33,66,34],[66,36,66,37],[66,38,66,39],[65,33,65,34],[65,35,72,35],[67,33,67,34],[68,33,68,34],[69,30,69,31],[66,30,66,31],[68,36,68,37],[68,38,68,39],[65,27,72,27],[65,28,65,29],[69,28,69,29],[66,25,66,26],[68,41,68,42],[69,3,69,4],[69,6,69,7],[69,12,69,13],[69,14,69,15],[69,17,69,18],[69,20,69,21],[69,22,69,23],[67,41,67,42],[68,3,68,4],[68,6,68,7],[68,12,68,13],[68,14,68,15],[68,17,68,18],[68,20,68,21],[68,22,68,23],[68,25,68,26],[68,28,68,29],[67,30,67,31],[77,41,77,42],[73,3,73,4],[73,6,73,7],[73,11,80,11],[73,12,73,13],[73,14,73,15],[73,17,73,18],[78,3,78,4],[78,6,78,7],[78,12,78,13],[78,14,78,15],[70,36,70,37],[70,38,70,39],[70,41,70,42],[71,33,71,34],[70,33,70,34],[69,36,69,37],[69,38,69,39],[69,41,69,42],[70,3,70,4],[70,6,70,7],[70,12,70,13],[70,14,70,15],[70,17,70,18],[70,20,70,21],[70,22,70,23],[71,25,71,26],[71,28,71,29],[70,28,70,29],[72,36,72,37],[72,38,72,39],[71,41,71,42],[72,3,72,4],[72,6,72,7],[72,12,72,13],[72,14,72,15],[72,17,72,18],[72,41,72,42],[71,17,71,18],[72,20,72,21],[72,22,72,23],[72,25,72,26],[72,28,72,29],[71,30,71,31],[71,20,71,21],[71,22,71,23],[72,30,72,31],[71,36,71,37],[71,38,71,39],[77,20,77,21],[77,22,77,23],[77,25,77,26],[77,33,77,34],[75,14,75,15],[75,17,75,18],[75,20,75,21],[76,3,76,4],[76,6,76,7],[76,12,76,13],[76,14,76,15],[75,3,75,4],[75,6,75,7],[74,3,74,4],[74,6,74,7],[74,12,74,13],[74,14,74,15],[74,17,74,18],[77,3,77,4],[77,6,77,7],[77,12,77,13],[77,14,77,15],[77,17,77,18],[76,33,76,34],[73,19,80,19],[73,20,73,21],[76,25,76,26],[76,28,76,29],[73,36,73,37],[73,38,73,39],[74,33,74,34],[74,36,74,37],[74,38,74,39],[75,33,75,34],[75,36,75,37],[75,38,75,39],[73,33,73,34],[73,35,80,35],[73,22,73,23],[78,36,78,37],[78,38,78,39],[78,22,78,23],[78,25,78,26],[77,38,77,39],[77,36,77,37],[76,36,76,37],[76,38,76,39],[76,41,76,42],[75,41,75,42],[76,17,76,18],[76,20,76,21],[80,41,80,42],[73,41,73,42],[74,30,74,31],[75,30,75,31],[76,30,76,31],[77,28,77,29],[77,30,77,31],[74,25,74,26],[74,28,74,29],[73,25,73,26],[80,36,80,37],[80,28,80,29],[80,30,80,31],[80,33,80,34],[80,38,80,39],[73,27,80,27],[74,20,74,21],[74,22,74,23],[74,41,74,42],[78,17,78,18],[78,20,78,21],[73,28,73,29],[73,30,73,31],[78,28,78,29],[75,22,75,23],[75,25,75,26],[75,28,75,29],[76,22,76,23],[81,17,81,18],[81,19,88,19],[80,12,80,13],[80,14,80,15],[80,17,80,18],[80,20,80,21],[80,22,80,23],[80,25,80,26],[79,36,79,37],[79,38,79,39],[78,41,78,42],[79,3,79,4],[79,6,79,7],[79,12,79,13],[79,14,79,15],[79,17,79,18],[79,41,79,42],[79,20,79,21],[79,22,79,23],[79,25,79,26],[79,28,79,29],[78,30,78,31],[78,33,78,34],[79,30,79,31],[79,33,79,34],[81,41,81,42],[82,12,82,13],[82,14,82,15],[82,17,82,18],[81,33,81,34],[81,35,88,35],[81,36,81,37],[81,38,81,39],[82,36,82,37],[82,38,82,39],[83,36,83,37],[83,38,83,39],[84,36,84,37],[81,20,81,21],[81,22,81,23],[81,25,81,26],[81,27,88,27],[81,28,81,29],[81,30,81,31],[86,30,86,31],[85,30,85,31],[83,33,83,34],[86,33,86,34],[86,36,86,37],[86,38,86,39],[88,33,88,34],[88,36,88,37],[88,38,88,39],[83,41,83,42],[84,12,84,13],[84,14,84,15],[84,17,84,18],[84,20,84,21],[84,22,84,23],[84,25,84,26],[84,28,84,29],[84,30,84,31],[82,33,82,34],[82,41,82,42],[83,12,83,13],[83,14,83,15],[83,17,83,18],[83,20,83,21],[83,22,83,23],[83,25,83,26],[83,28,83,29],[83,30,83,31],[84,38,84,39],[82,20,82,21],[82,22,82,23],[82,25,82,26],[82,28,82,29],[82,30,82,31],[86,41,86,42],[85,36,85,37],[85,38,85,39],[85,41,85,42],[85,33,85,34],[86,12,86,13],[86,14,86,15],[86,17,86,18],[86,20,86,21],[86,22,86,23],[86,25,86,26],[84,33,84,34],[86,28,86,29],[84,41,84,42],[85,12,85,13],[85,14,85,15],[85,17,85,18],[85,20,85,21],[85,22,85,23],[85,25,85,26],[85,28,85,29],[88,41,88,42],[88,22,88,23],[88,25,88,26],[88,28,88,29],[88,30,88,31],[88,12,88,13],[88,14,88,15],[88,17,88,18],[88,20,88,21],[87,33,87,34],[87,36,87,37],[87,12,87,13],[87,14,87,15],[87,17,87,18],[87,20,87,21],[87,38,87,39],[87,41,87,42],[87,22,87,23],[87,25,87,26],[87,28,87,29],[87,30,87,31],[92,17,92,18],[92,20,92,21],[90,41,90,42],[91,36,91,37],[91,38,91,39],[91,41,91,42],[90,22,90,23],[90,25,90,26],[89,33,89,34],[90,28,90,29],[90,30,90,31],[90,33,90,34],[91,33,91,34],[89,19,96,19],[89,20,89,21],[89,22,89,23],[89,25,89,26],[90,20,90,21],[91,20,91,21],[91,22,91,23],[92,28,92,29],[92,30,92,31],[89,27,96,27],[89,28,89,29],[89,30,89,31],[91,28,91,29],[91,30,91,31],[91,25,91,26],[95,33,95,34],[95,36,95,37],[89,14,89,15],[89,17,89,18],[90,12,90,13],[90,14,90,15],[90,17,90,18],[91,12,91,13],[91,14,91,15],[91,17,91,18],[93,33,93,34],[93,36,93,37],[93,12,93,13],[93,14,93,15],[93,17,93,18],[93,20,93,21],[93,38,93,39],[93,41,93,42],[93,22,93,23],[93,25,93,26],[93,28,93,29],[93,30,93,31],[92,33,92,34],[92,36,92,37],[92,38,92,39],[92,41,92,42],[89,35,96,35],[89,36,89,37],[89,38,89,39],[89,41,89,42],[90,36,90,37],[90,38,90,39],[92,22,92,23],[92,25,92,26],[95,12,95,13],[95,14,95,15],[95,17,95,18],[95,20,95,21],[95,38,95,39],[95,41,95,42],[95,22,95,23],[95,25,95,26],[95,28,95,29],[95,30,95,31],[94,33,94,34],[94,36,94,37],[94,38,94,39],[94,41,94,42],[94,22,94,23],[94,25,94,26],[94,28,94,29],[94,30,94,31],[94,12,94,13],[94,14,94,15],[94,17,94,18],[94,20,94,21],[97,11,104,11],[97,12,97,13],[97,14,97,15],[97,17,97,18],[98,12,98,13],[98,14,98,15],[98,17,98,18],[99,12,99,13],[99,14,99,15],[99,17,99,18],[96,33,96,34],[96,36,96,37],[96,38,96,39],[96,41,96,42],[96,22,96,23],[96,25,96,26],[96,28,96,29],[96,30,96,31],[96,12,96,13],[96,14,96,15],[96,17,96,18],[96,20,96,21],[89,11,96,11],[100,12,100,13],[100,14,100,15],[100,17,100,18],[100,20,100,21],[97,19,104,19],[97,20,97,21],[101,12,101,13],[101,14,101,15],[101,17,101,18],[101,20,101,21],[99,38,99,39],[99,41,99,42],[97,33,97,34],[98,28,98,29],[98,30,98,31],[98,33,98,34],[99,33,99,34],[97,30,97,31],[99,28,99,29],[99,30,99,31],[97,22,97,23],[97,25,97,26],[98,20,98,21],[98,22,98,23],[98,25,98,26],[99,20,99,21],[99,22,99,23],[99,25,99,26],[103,25,103,26],[103,28,103,29],[102,36,102,37],[102,38,102,39],[102,41,102,42],[102,22,102,23],[102,25,102,26],[102,28,102,29],[102,30,102,31],[101,33,101,34],[101,36,101,37],[101,38,101,39],[101,41,101,42],[101,22,101,23],[101,25,101,26],[101,28,101,29],[101,30,101,31],[97,27,104,27],[97,28,97,29],[100,33,100,34],[100,36,100,37],[100,22,100,23],[100,25,100,26],[100,28,100,29],[100,30,100,31],[100,38,100,39],[100,41,100,42],[104,14,104,15],[104,17,104,18],[104,20,104,21],[104,36,104,37],[104,22,104,23],[104,25,104,26],[104,28,104,29],[104,30,104,31],[104,38,104,39],[104,33,104,34],[103,41,103,42],[104,41,104,42],[103,30,103,31],[103,33,103,34],[103,36,103,37],[103,38,103,39],[103,14,103,15],[103,17,103,18],[103,20,103,21],[97,35,104,35],[97,36,97,37],[97,38,97,39],[97,41,97,42],[98,36,98,37],[98,38,98,39],[98,41,98,42],[99,36,99,37],[102,33,102,34],[102,14,102,15],[102,17,102,18],[102,20,102,21],[103,22,103,23],[107,28,107,29],[110,14,110,15],[110,17,110,18],[110,20,110,21],[107,17,107,18],[108,22,108,23],[108,25,108,26],[108,28,108,29],[106,25,106,26],[107,20,107,21],[107,22,107,23],[105,33,105,34],[106,28,106,29],[106,30,106,31],[106,33,106,34],[106,20,106,21],[106,22,106,23],[107,30,107,31],[106,14,106,15],[106,17,106,18],[107,14,107,15],[105,14,105,15],[105,17,105,18],[107,33,107,34],[105,19,112,19],[105,20,105,21],[105,22,105,23],[105,25,105,26],[107,25,107,26],[105,30,105,31],[108,33,108,34],[130,0,132,0],[130,2,130,4],[130,7,130,8],[105,11,112,11],[105,12,105,13],[107,12,107,13],[108,12,108,13],[108,14,108,15],[129,10,129,12],[112,22,112,23],[112,12,112,13],[112,14,112,15],[112,17,112,18],[112,20,112,21],[111,17,111,18],[111,20,111,21],[111,22,111,23],[110,22,110,23],[109,17,109,18],[109,20,109,21],[109,22,109,23],[108,17,108,18],[108,20,108,21],[130,10,130,11],[130,13,130,14],[109,14,109,15],[27,37,27,38],[28,37,28,38],[33,42,33,43],[112,33,112,34],[129,2,129,4],[129,6,129,8],[112,25,112,26],[112,28,112,29],[112,30,112,31],[111,12,111,13],[111,14,111,15],[111,25,111,26],[111,28,111,29],[111,30,111,31],[111,33,111,34],[110,25,110,26],[110,28,110,29],[110,30,110,31],[110,33,110,34],[109,25,109,26],[109,28,109,29],[109,30,109,31],[105,27,112,27],[105,28,105,29],[109,33,109,34],[49,3,49,4],[49,6,49,7],[44,42,44,43],[39,42,39,43],[40,42,40,43],[41,42,41,43],[108,30,108,31],[16,42,16,43],[17,42,17,43],[18,42,18,43],[35,39,35,40],[36,39,36,40],[36,37,36,38],[37,37,37,38],[38,37,38,38],[19,39,19,40],[35,37,35,38],[31,37,31,38],[32,37,32,38],[33,37,33,38],[34,37,34,38],[25,39,25,40],[26,39,26,40],[31,39,31,40],[32,39,32,40],[19,37,19,38],[20,37,20,38],[21,37,21,38],[22,37,22,38],[23,37,23,38],[24,37,24,38],[25,37,25,38],[26,37,26,38],[20,39,20,40],[27,39,27,40],[28,39,28,40],[23,39,23,40],[24,39,24,40],[22,39,22,40],[19,44,19,45],[20,44,20,45],[21,44,21,45],[14,44,14,45],[15,44,15,45],[16,44,16,45],[17,44,17,45],[28,42,28,43],[5,42,5,43],[6,42,6,43],[7,42,7,43],[8,42,8,43],[34,42,34,43],[9,42,9,43],[10,42,10,43],[11,42,14,43],[30,42,30,45],[19,42,19,43],[32,42,32,43],[5,44,5,45],[6,44,6,45],[7,44,7,45],[8,44,8,45],[9,44,9,45],[10,44,10,45],[11,44,11,45]],"merged_total":1062,"flags":["merged_cut"]}
[null,"体温表",null,null,null,{"$f":"設定!$F$7","v":2016},null,"年",null,6,"月"]
[null,"カルテ番号",null,null,"病棟",null,null,"入院形態",null,null,"主治医",null,null,"　姓名",null,{"$f":"'5月'!$P$2","v":0},null,null,null,null,null,null,null,"性別",null,"生年月日　",null,null,null,null,null,null,"担当Ns"]
[null,{"$f":"'5月'!B3","v":0},null,null,{"$f":"IF(COUNTIF('5月'!E3:G3,\"*\"),INDEX('5月'!E3:G3,MATCH(\"\",'5月'!E3:G3,-1)),\"\")","v":""},null,null,{"$f":"IF(COUNTIF('5月'!H3:J3,\"*\"),INDEX('5月'!H3:J3,MATCH(\"\",'5月'!H3:J3,-1)),\"\")","v":""},null,null,{"$f":"'5月'!K3","v":0},null,null,null,null,{"$f":"'5月'!$P$3","v":0},null,null,null,null,null,null,null,{"$f":"'5月'!$X$3","v":0},null,{"$f":"'5月'!$Z$3","v":"00:00:00"},null,null,null,null,null,{"$f":"DATEDIF(Z3,TODAY(),\"Y\")","v":115},{"$f":"'5月'!$AG$3","v":0}]
[null,null,null,null,"/","/","/","/","/","/",null,null,null,null,null,null,null,null,null,null,null,null,null,null,null,{"$f":"Z3","v":"00:00:00"},null,null,null,null,null,"歳"]
[null,null,null,null,null,null,null,null,null,null,null,null,null,null,null,null,null,null,null,null,null,null,null,null,null,null,null,null,null,null,null,null,null,null,null,null,null,{"$f":"設定!C10","v":"備考欄"},null,null,null,null,{"$f":"設定!I10","v":"食事箋"}]
[null,null,null,null,null,null,null,null,null,null,null,null,null,null,null,null,null,null,null,null,null,null,null,null,null,null,null,null,null,null,null,null,null,null,null,null,null,{"$f":"設定!C11","v":0},null,null,null,null,{"$f":"設定!I11","v":0},null,{"$f":"設定!K11","v":0}]
[null,null,null,null,null,null,null,null,null,null,null,null,null,null,null,null,null,null,null,null,null,null,null,null,null,null,null,null,null,null,null,null,null,null,null,null,null,null,null,null,null,null,{"$f":"設定!I12","v":"常食"},null,{"$f":"設定!K12","v":"常食"}]
[null,null,null,null,null,null,null,null,null,null,null,null,null,null,null,null,null,null,null,null,null,null,null,null,null,null,null,null,null,null,null,null,null,null,null,null,null,null,null,null,null,null,{"$f":"設定!I13","v":"心臓"},null,{"$f":"設定!K13","v":"心臓"}]
[null,null,null,null,null,null,null,null,null,null,null,null,null,null,null,null,null,null,null,null,null,null,null,null,null,null,null,null,null,null,null,null,null,null,null,null,null,null,null,null,null,null,{"$f":"設定!I14","v":"すい臓"},null,{"$f":"設定!K14","v":"膵臓"}]
[null,null,null,null,null,null,null,null,null,null,null,null,null,null,null,null,null,null,null,null,null,null,null,null,null,null,null,null,null,null,null,null,null,null,null,null,null,null,null,null,null,null,{"$f":"設定!I15","v":"じん臓"},null,{"$f":"設定!K15","v":"腎臓"}]
[null,null,null,null,null,null,null,null,null,null,null,null,null,null,null,null,null,null,null,null,null,null,null,null,null,null,null,null,null,null,null,null,null,null,null,null,null,{"$f":"'5月'!AL11","v":0},null,null,null,null,{"$f":"設定!I16","v":"高血圧"},null,{"$f":"設定!K16","v":"高血"}]
[null,null,null,null,null,null,null,null,null,null,null,null,null,null,null,null,null,null,null,null,null,null,null,null,null,null,null,null,null,null,null,null,null,null,null,null,null,{"$f":"'5月'!AL12","v":0},null,null,null,null,{"$f":"設定!I17","v":"糖尿"},null,{"$f":"設定!K17","v":"糖1200"}]
[null,null,null,null,null,null,null,null,null,null,null,null,null,null,null,null,null,null,null,null,null,null,null,null,null,null,null,null,null,null,null,null,null,null,null,null,null,{"$f":"'5月'!AL13","v":0},null,null,null,null,null,null,{"$f":"設定!K18","v":"糖1440"}]
[null,null,null,null,null,null,null,null,null,null,null,null,null,null,null,null,null,null,null,null,null,null,null,null,null,null,null,null,null,null,null,null,null,null,null,null,null,{"$f":"'5月'!AL14","v":0},null,null,null,null,null,null,{"$f":"設定!K19","v":"糖1600"}]
[null,null,null,null,null,null,null,null,null,null,null,null,null,null,null,null,null,null,null,null,null,null,null,null,null,null,null,null,null,null,null,null,null,null,null,null,null,null,null,null,null,null,null,null,{"$f":"設定!K20","v":"糖1800"}]
[null,null,null,null,null,null,null,null,null,null,null,null,null,null,null,null,null,null,null,null,null,null,null,null,null,null,null,null,null,null,null,null,null,null,null,null,null,{"$f":"設定!C21","v":"面会"},null,null,null,null,{"$f":"設定!I21","v":"肝臓A"},null,{"$f":"設定!K21","v":"肝Ａ"}]
[null,"日　付",null,1,2,3,4,5,6,7,8,9,10,11,12,13,14,15,16,17,18,19,20,21,22,23,24,25,26,27,28,29,30,31,"統計",null,null,{"$f":"設定!C22","v":0},null,{"$f":"設定!E22","v":0},null,null,{"$f":"設定!I22","v":"肝臓B"},null,{"$f":"設定!K22","v":"肝Ｂ"}]
[null,"行　動",null,null,null,null,null,null,null,null,null,null,null,null,null,null,null,null,null,null,null,null,null,null,null,null,null,null,null,null,null,null,null,null,null,null,null,{"$f":"設定!C23","v":"両親"},null,{"$f":"設定!E23","v":"両親"},null,null,{"$f":"設定!I23","v":"潰瘍"},null,{"$f":"設定!K23","v":"潰瘍"}]
[null,"時　間",null,null,null,null,null,null,null,null,null,null,null,null,null,null,null,null,null,null,null,null,null,null,null,null,null,null,null,null,null,null,null,null,null,null,null,{"$f":"設定!C24","v":"父"},null,{"$f":"設定!E24","v":"父"},null,null,{"$f":"設定!I24","v":"低残渣食"},null,{"$f":"設定!K24","v":"低残"}]
[null,"行　動",null,null,null,null,null,null,null,null,null,null,null,null,null,null,null,null,null,null,null,null,null,null,null,null,null,null,null,null,null,null,null,null,null,null,null,{"$f":"設定!C25","v":"母"},null,{"$f":"設定!E25","v":"母"},null,null,{"$f":"設定!I25","v":"貧血"},null,{"$f":"設定!K25","v":"貧血"}]
[null,"時　間",null,null,null,null,null,null,null,null,null,null,null,null,null,null,null,null,null,null,null,null,null,null,null,null,null,null,null,null,null,null,null,null,{"$f":"IF(COUNTIF(D18:AH21,\"外出\")+COUNTIF(D18:AH21,\"外泊\")=0,\"回数\",COUNTIF(D18:AH21,\"外出\")+COUNTIF(D18:AH21,\"外泊\"))","v":"回数"},null,null,{"$f":"設定!C26","v":"主人"},null,{"$f":"設定!E26","v":"夫"},null,null,{"$f":"設定!I26","v":"脂質異常"},null,{"$f":"設定!K26","v":"脂1200"}]
[null,"面　会",null,null,null,null,null,null,null,null,null,null,null,null,null,null,null,null,null,null,null,null,null,null,null,null,null,null,null,null,null,null,null,null,null,null,null,{"$f":"設定!C27","v":"奥方"},null,{"$f":"設定!E27","v":"妻"},null,null,null,null,{"$f":"設定!K27","v":"脂1440"}]
[null,null,null,null,null,null,null,null,null,null,null,null,null,null,null,null,null,null,null,null,null,null,null,null,null,null,null,null,null,null,null,null,null,null,{"$f":"IF(COUNTA(D22:AH23)=0,\"回数\",COUNTA(D22:AH23))","v":"回数"},null,null,{"$f":"設定!C28","v":"息子"},null,{"$f":"設定!E28","v":"息子"},null,null,null,null,{"$f":"設定!K28","v":"脂1600"}]
[null,"入　浴",null,null,null,null,null,null,null,null,null,null,null,null,null,null,null,null,null,null,null,null,null,null,null,null,null,null,null,null,null,null,null,null,{"$f":"IF(COUNTA(D24:AH24)=0,\"回数\",COUNTA(D24:AH24))","v":"回数"},null,null,{"$f":"設定!C29","v":"娘"},null,{"$f":"設定!E29","v":"娘"},null,null,null,null,{"$f":"設定!K29","v":"脂1800"}]
[null,"食　事",null,null,null,null,null,null,null,null,null,null,null,null,null,null,null,null,null,null,null,null,null,null,null,null,null,null,null,null,null,null,null,null,null,null,null,{"$f":"設定!C30","v":"兄"},null,{"$f":"設定!E30","v":"兄"},null,null,{"$f":"設定!I30","v":"検査食"},null,{"$f":"設定!K30","v":"検査"}]
[null,null,null,null,null,null,null,null,null,null,null,null,null,null,null,null,null,null,null,null,null,null,null,null,null,null,null,null,null,null,null,null,null,null,null,null,null,{"$f":"設定!C31","v":"弟"},null,{"$f":"設定!E31","v":"弟"},null,null,{"$f":"設定!I31","v":"絶食"},null,{"$f":"設定!K31","v":"絶食"}]
[null,null,null,null,null,null,null,null,null,null,null,null,null,null,null,null,null,null,null,null,null,null,null,null,null,null,null,null,null,null,null,null,null,null,{"$f":"IFERROR(INT(AVERAGE(D141:AH143))& \".\"&INT(AVERAGE(D144:AH146)),\"平均\")","v":"平均"},null,null,{"$f":"設定!C32","v":"姉"},null,{"$f":"設定!E32","v":"姉"},null,null,{"$f":"設定!I32","v":0},null,{"$f":"設定!K32","v":0}]
[null,"便　通",null,{"$f":"IF(ISBLANK(I51),\"\",I51)","v":""},{"$f":"IF(ISBLANK(I52),\"\",I52)","v":""},{"$f":"IF(ISBLANK(I53),\"\",I53)","v":""},{"$f":"IF(ISBLANK(I54),\"\",I54)","v":""},{"$f":"IF(ISBLANK(I55),\"\",I55)","v":""},{"$f":"IF(ISBLANK(I56),\"\",I56)","v":""},{"$f":"IF(ISBLANK(I57),\"\",I57)","v":""},{"$f":"IF(ISBLANK(I58),\"\",I58)","v":""},{"$f":"IF(ISBLANK(I59),\"\",I59)","v":""},{"$f":"IF(ISBLANK(I60),\"\",I60)","v":""},{"$f":"IF(ISBLANK(I61),\"\",I61)","v":""},{"$f":"IF(ISBLANK(I62),\"\",I62)","v":""},{"$f":"IF(ISBLANK(I63),\"\",I63)","v":""},{"$f":"IF(ISBLANK(I64),\"\",I64)","v":""},{"$f":"IF(ISBLANK(I65),\"\",I65)","v":""},{"$f":"IF(ISBLANK(I66),\"\",I66)","v":""},{"$f":"IF(ISBLANK(I67),\"\",I67)","v":""},{"$f":"IF(ISBLANK(I68),\"\",I68)","v":""},{"$f":"IF(ISBLANK(I69),\"\",I69)","v":""},{"$f":"IF(ISBLANK(I70),\"\",I70)","v":""},{"$f":"IF(ISBLANK(I71),\"\",I71)","v":""},{"$f":"IF(ISBLANK(I72),\"\",I72)","v":""},{"$f":"IF(ISBLANK(I73),\"\",I73)","v":""},{"$f":"IF(ISBLANK(I74),\"\",I74)","v":""},{"$f":"IF(ISBLANK(I75),\"\",I75)","v":""},{"$f":"IF(ISBLANK(I76),\"\",I76)","v":""},{"$f":"IF(ISBLANK(I77),\"\",I77)","v":""},{"$f":"IF(ISBLANK(I78),\"\",I78)","v":""},{"$f":"IF(ISBLANK(I79),\"\",I79)","v":""},{"$f":"IF(ISBLANK(I80),\"\",I80)","v":""},{"$f":"IF(ISBLANK('3月'!I50),\"\",'3月'!I50)","v":""},{"$f":"IF(COUNTIF(D28:AH28,0)=0,\"回数\",COUNTIF(D28:AH28,0))","v":"回数"},null,null,{"$f":"設定!C33","v":"妹"},null,{"$f":"設定!E33","v":"妹"},null,null,{"$f":"設定!I33","v":0},null,{"$f":"設定!K33","v":0}]
[null,"便処置",null,null,null,null,null,null,null,null,null,null,null,null,null,null,null,null,null,null,null,null,null,null,null,null,null,null,null,null,null,null,null,null,null,null,null,{"$f":"設定!C34","v":"孫"},null,{"$f":"設定!E34","v":"孫"},null,null,{"$f":"設定!I34","v":0},null,{"$f":"設定!K34","v":0}]
[null,null,null,null,null,null,null,null,null,null,null,null,null,null,null,null,null,null,null,null,null,null,null,null,null,null,null,null,null,null,null,null,null,null,{"$f":"IF(SUM(D29:AH31)=0,\"滴数\",SUM(D29:AH31))","v":"滴数"},null,null,{"$f":"設定!C35","v":"友人知人"},null,{"$f":"設定!E35","v":"知人"}]
[null,null,null,null,null,null,null,null,null,null,null,null,null,null,null,null,null,null,null,null,null,null,null,null,null,null,null,null,null,null,null,null,null,null,{"$f":"IF(AI30=\"滴数\",\"本数\",AI30/150)","v":"本数"},null,null,{"$f":"設定!C36","v":"子の夫"},null,{"$f":"設定!E36","v":"子夫"},null,null,{"$f":"設定!I36","v":"食事形態"}]
[null,"血　圧",null,{"$f":"$R$50","v":0},{"$f":"$R$58","v":0},{"$f":"R66","v":0},{"$f":"R74","v":0},{"$f":"R82","v":0},{"$f":"R90","v":0},{"$f":"R98","v":0},{"$f":"R106","v":0},{"$f":"Z50","v":0},{"$f":"Z58","v":0},{"$f":"Z66","v":0},{"$f":"Z74","v":0},{"$f":"Z82","v":0},{"$f":"Z90","v":0},{"$f":"Z98","v":0},{"$f":"Z106","v":0},{"$f":"AH50","v":0},{"$f":"AH58","v":0},{"$f":"AH66","v":0},{"$f":"AH74","v":0},{"$f":"AH82","v":0},{"$f":"AH90","v":0},{"$f":"AH98","v":0},{"$f":"AH106","v":0},{"$f":"AP50","v":0},{"$f":"AP58","v":0},{"$f":"AP66","v":0},{"$f":"AP74","v":0},{"$f":"AP82","v":0},{"$f":"AP90","v":0},{"$f":"AP98","v":0},null,null,null,{"$f":"設定!C37","v":"子の妻"},null,{"$f":"設定!E37","v":"子妻"},null,null,{"$f":"設定!I37","v":0},null,{"$f":"設定!K37","v":0}]
[null,null,null,{"$f":"$R$51","v":{"$error":"#N/A"}},{"$f":"$R$59","v":{"$error":"#N/A"}},{"$f":"R67","v":{"$error":"#N/A"}},{"$f":"R75","v":{"$error":"#N/A"}},{"$f":"R83","v":{"$error":"#N/A"}},{"$f":"R91","v":{"$error":"#N/A"}},{"$f":"R99","v":{"$error":"#N/A"}},{"$f":"R107","v":{"$error":"#N/A"}},{"$f":"Z51","v":{"$error":"#N/A"}},{"$f":"Z59","v":{"$error":"#N/A"}},{"$f":"Z67","v":{"$error":"#N/A"}},{"$f":"Z75","v":{"$error":"#N/A"}},{"$f":"Z83","v":{"$error":"#N/A"}},{"$f":"Z91","v":{"$error":"#N/A"}},{"$f":"Z99","v":{"$error":"#N/A"}},{"$f":"Z107","v":{"$error":"#N/A"}},{"$f":"AH51","v":{"$error":"#N/A"}},{"$f":"AH59","v":{"$error":"#N/A"}},{"$f":"AH67","v":{"$error":"#N/A"}},{"$f":"AH75","v":{"$error":"#N/A"}},{"$f":"AH83","v":{"$error":"#N/A"}},{"$f":"AH91","v":{"$error":"#N/A"}},{"$f":"AH99","v":{"$error":"#N/A"}},{"$f":"AH107","v":{"$error":"#N/A"}},{"$f":"AP51","v":{"$error":"#N/A"}},{"$f":"AP59","v":{"$error":"#N/A"}},{"$f":"AP67","v":{"$error":"#N/A"}},{"$f":"AP75","v":{"$error":"#N/A"}},{"$f":"AP83","v":{"$error":"#N/A"}},{"$f":"AP91","v":{"$error":"#N/A"}},{"$f":"AP99","v":{"$error":"#N/A"}},null,null,null,{"$f":"設定!C38","v":"祖母"},null,{"$f":"設定!E38","v":"祖母"},null,null,{"$f":"設定!I38","v":"普通食"},null,{"$f":"設定!K38","v":"普通"}]
[null,null,null,{"$f":"$R$52","v":0},{"$f":"$R$60","v":0},{"$f":"R68","v":0},{"$f":"R76","v":0},{"$f":"R84","v":0},{"$f":"R92","v":0},{"$f":"R100","v":0},{"$f":"R108","v":0},{"$f":"Z52","v":0},{"$f":"Z60","v":0},{"$f":"Z68","v":0},{"$f":"Z76","v":0},{"$f":"Z84","v":0},{"$f":"Z92","v":0},{"$f":"Z100","v":0},{"$f":"Z108","v":0},{"$f":"AH52","v":0},{"$f":"AH60","v":0},{"$f":"AH68","v":0},{"$f":"AH76","v":0},{"$f":"AH84","v":0},{"$f":"AH92","v":0},{"$f":"AH100","v":0},{"$f":"AH108","v":0},{"$f":"AP52","v":0},{"$f":"AP60","v":0},{"$f":"AP68","v":0},{"$f":"AP76","v":0},{"$f":"AP84","v":0},{"$f":"AP92","v":0},{"$f":"AP100","v":0},null,null,null,{"$f":"設定!C39","v":"祖父"},null,{"$f":"設定!E39","v":"祖父"},null,null,{"$f":"設定!I39","v":"普+一口大"},null,{"$f":"設定!K39","v":"一口"}]
[null,null,null,{"$f":"$R$53","v":0},{"$f":"$R$61","v":0},{"$f":"R69","v":0},{"$f":"R77","v":0},{"$f":"R85","v":0},{"$f":"R93","v":0},{"$f":"R101","v":0},{"$f":"R109","v":0},{"$f":"Z53","v":0},{"$f":"Z61","v":0},{"$f":"Z69","v":0},{"$f":"Z77","v":0},{"$f":"Z85","v":0},{"$f":"Z93","v":0},{"$f":"Z101","v":0},{"$f":"Z109","v":0},{"$f":"AH53","v":0},{"$f":"AH61","v":0},{"$f":"AH69","v":0},{"$f":"AH77","v":0},{"$f":"AH85","v":0},{"$f":"AH93","v":0},{"$f":"AH101","v":0},{"$f":"AH109","v":0},{"$f":"AP53","v":0},{"$f":"AP61","v":0},{"$f":"AP69","v":0},{"$f":"AP77","v":0},{"$f":"AP85","v":0},{"$f":"AP93","v":0},{"$f":"AP101","v":0},{"$f":"IFERROR(INT(AVERAGE(D149:AH152))& \"/\"&INT(AVERAGE(D153:AH156)),\"平均\")","v":"平均"},null,null,{"$f":"設定!C40","v":"従兄弟の父"},null,{"$f":"設定!E40","v":"叔父"},null,null,{"$f":"設定!I40","v":"普+キザミ"},null,{"$f":"設定!K40","v":"普キ"}]
[null,"食事箋",null,{"$f":"IF(COUNTIF('5月'!D40:AH40,\"*\"),INDEX('5月'!D40:AH40,MATCH(\"\",'5月'!D40:AH40,-1)),\"\")","v":""},null,null,null,null,null,null,null,null,null,null,null,null,null,null,null,null,null,null,null,null,null,null,null,null,null,null,null,null,null,null,null,null,null,{"$f":"設定!C41","v":"従兄弟の母"},null,{"$f":"設定!E41","v":"叔母"},null,null,{"$f":"設定!I41","v":"軟飯"},null,{"$f":"設定!K41","v":"軟飯"}]
[null,"形　態",null,{"$f":"IF(COUNTIF('5月'!D41:AH41,\"*\"),INDEX('5月'!D41:AH41,MATCH(\"\",'5月'!D41:AH41,-1)),\"\")","v":""},null,null,null,null,null,null,null,null,null,null,null,null,null,null,null,null,null,null,null,null,null,null,null,null,null,null,null,null,null,null,null,null,null,{"$f":"設定!C42","v":"従兄弟"},null,{"$f":"設定!E42","v":"ｲﾄｺ"},null,null,{"$f":"設定!I42","v":"軟+キザミ"},null,{"$f":"設定!K42","v":"軟キ"}]
[null,"身　長",null,{"$f":"IF(COUNT('5月'!D42:AH42),LOOKUP(MAX('5月'!D42:AH42)+1,'5月'!D42:AH42),\"\")","v":""},null,null,null,null,null,null,null,null,null,null,null,null,null,null,null,null,null,null,null,null,null,null,null,null,null,null,null,null,null,null,"BMI",null,null,{"$f":"設定!C43","v":"義理の母"},null,{"$f":"設定!E43","v":"義母"},null,null,{"$f":"設定!I43","v":"粥食"},null,{"$f":"設定!K43","v":"粥"}]
[null,"体　重",null,null,null,null,null,null,null,null,null,null,null,null,null,null,null,null,null,null,null,null,null,null,null,null,null,null,null,null,null,null,null,null,{"$f":"IF(ISERROR(INDEX(D39:AH39,MATCH(307,D39:AH39))/(INDEX(D38:AH38,MATCH(9E+307,D38:AH38))/100)^2)=TRUE,\"\",INDEX(D39:AH39,MATCH(307,D39:AH39))/(INDEX(D38:AH38,MATCH(9E+307,D38:AH38))/100)^2)","v":""},null,null,{"$f":"設定!C44","v":"義理の父"},null,{"$f":"設定!E44","v":"義父"},null,null,{"$f":"設定!I44","v":"粥+キザミ"},null,{"$f":"設定!K44","v":"粥キ"}]
[null,"Ｉ　Ｎ",null,null,null,null,null,null,null,null,null,null,null,null,null,null,null,null,null,null,null,null,null,null,null,null,null,null,null,null,null,null,null,null,{"$f":"IFERROR(INT(AVERAGE(D40:AH40)),\"平均\")","v":"平均"},null,null,{"$f":"設定!C45","v":"その他親類"},null,{"$f":"設定!E45","v":"親類"},null,null,{"$f":"設定!I45","v":"ミキサ－"},null,{"$f":"設定!K45","v":"ミキ"}]
[null,"ＯＵＴ",null,null,null,null,null,null,null,null,null,null,null,null,null,null,null,null,null,null,null,null,null,null,null,null,null,null,null,null,null,null,null,null,{"$f":"IFERROR(INT(AVERAGE(D41:AH41)),\"平均\")","v":"平均"},null,null,{"$f":"設定!C46","v":"福祉職員"},null,{"$f":"設定!E46","v":"福祉"},null,null,{"$f":"設定!I46","v":"普通流動"},null,{"$f":"設定!K46","v":"普流"}]
[null,"生　理",null,null,null,null,null,null,null,null,null,null,null,null,null,null,null,null,null,null,null,null,null,null,null,null,null,null,null,null,null,null,null,null,{"$f":"IF(ISERROR(AVERAGE(D42:AH42)),\" \",AVERAGE(D42:AH42))","v":" "},null,null,{"$f":"設定!C47","v":"施設職員"},null,{"$f":"設定!E47","v":"施設"},null,null,{"$f":"設定!I47","v":"濃厚流動"},null,{"$f":"設定!K47","v":"濃流"}]
[null,null,null,null,null,null,null,null,null,null,null,null,null,null,null,null,null,null,null,null,null,null,null,null,null,null,null,null,null,null,null,null,null,null,{"$f":"IF(ISERROR(AVERAGE(D43:AH43)),\" \",AVERAGE(D43:AH43))","v":" "},null,null,{"$f":"設定!C48","v":0},null,{"$f":"設定!E48","v":0},null,null,{"$f":"設定!H48","v":0},null,{"$f":"設定!J48","v":0}]
[null,null,null,null,null,null,null,null,null,null,null,null,null,null,null,null,null,null,null,null,null,null,null,null,null,null,null,null,null,null,null,null,null,null,{"$f":"COUNTA(D44:AH44)","v":0},null,null,{"$f":"設定!C49","v":0},null,{"$f":"設定!E49","v":0},null,null,{"$f":"設定!H49","v":0},null,{"$f":"設定!J49","v":0}]
[null,"日　付",null,1,2,3,4,5,6,7,8,9,10,11,12,13,14,15,16,17,18,19,20,21,22,23,24,25,26,27,28,29,30,31,null,null,null,{"$f":"設定!C50","v":0},null,{"$f":"設定!E50","v":0},null,null,{"$f":"設定!H50","v":0},null,{"$f":"設定!J50","v":0}]
[]
[null,{"$f":"$P$3","v":0},null,null,null,null,null,{"$f":"YEAR(I47)","v":2015},{"$f":"TODAY()","v":"2015-02-24"},{"$f":"TODAY()","v":42059}]
[null,"平常時記入",null,null,null,null,null,null,null,null,null,"熱発時記入"]
[null,"日","時間","T",null," P","BP",null,"便",null,null,"日","時間",null,"T",null,"P","BP",null,"日","時間",null,"T",null,"P","BP",null,"日","時間",null,"T",null,"P","BP",null,"日","時間",null,"T",null,"P","BP"]
[null,1,"10:00:00",null,null,null,null,null,null,null,null,1,null,null,null,null,null,null,null,9,null,null,null,null,null,null,null,17,null,null,null,null,null,null,null,25]
[null,2,"10:00:00",null,null,null,null,null,null,null,null,null,"10:00:00",null,{"$f":"IF($D$50=\"\",NA(),$D$50)","v":{"$error":"#N/A"}},null,{"$f":"IF($F$50=\"\",NA(),$F$50)","v":{"$error":"#N/A"}},{"$f":"IF($G$50=\"\",NA(),$G$50)","v":{"$error":"#N/A"}},null,null,"10:00:00",null,{"$f":"IF($D$58=\"\",NA(),$D$58)","v":{"$error":"#N/A"}},null,{"$f":"IF($F$58=\"\",NA(),$F$58)","v":{"$error":"#N/A"}},{"$f":"IF($G$58=\"\",NA(),$G$58)","v":{"$error":"#N/A"}},null,null,"10:00:00",null,{"$f":"IF($D$66=\"\",NA(),$D$66)","v":{"$error":"#N/A"}},null,{"$f":"IF($F$66=\"\",NA(),$F$66)","v":{"$error":"#N/A"}},{"$f":"IF($G$66=\"\",NA(),$G$66)","v":{"$error":"#N/A"}},null,null,"10:00:00",null,{"$f":"IF($D$74=\"\",NA(),$D$74)","v":{"$error":"#N/A"}},null,{"$f":"IF($F$74=\"\",NA(),$F$74)","v":{"$error":"#N/A"}},{"$f":"IF($G$74=\"\",NA(),$G$74)","v":{"$error":"#N/A"}}]
[null,3,"10:00:00",null,null,null,null,null,null,"☆"]
[null,4,"10:00:00"]
[null,5,"10:00:00",null,null,null,null,null,null,"コ"]
[null,6,"10:00:00",null,null,null,null,null,null,"ス"]
[null,7,"10:00:00",null,null,null,null,null,null,"モ"]
[null,8,"10:00:00",null,null,null,null,null,null,"ス"]
[null,9,"10:00:00",null,null,null,null,null,null,"へ",null,2,null,null,null,null,null,null,null,10,null,null,null,null,null,null,null,18,null,null,null,null,null,null,null,26]
[null,10,"10:00:00",null,null,null,null,null,null,"戻",null,null,"10:00:00",null,{"$f":"IF($D$51=\"\",NA(),$D$51)","v":{"$error":"#N/A"}},null,{"$f":"IF($F$51=\"\",NA(),$F$51)","v":{"$error":"#N/A"}},{"$f":"IF($G$51=\"\",NA(),$G$51)","v":{"$error":"#N/A"}},null,null,"10:00:00",null,{"$f":"IF($D$59=\"\",NA(),$D$59)","v":{"$error":"#N/A"}},null,{"$f":"IF($F$59=\"\",NA(),$F$59)","v":{"$error":"#N/A"}},{"$f":"IF($G$59=\"\",NA(),$G$59)","v":{"$error":"#N/A"}},null,null,"10:00:00",null,{"$f":"IF($D$67=\"\",NA(),$D$67)","v":{"$error":"#N/A"}},null,{"$f":"IF($F$67=\"\",NA(),$F$67)","v":{"$error":"#N/A"}},{"$f":"IF($G$67=\"\",NA(),$G$67)","v":{"$error":"#N/A"}},null,null,"10:00:00",null,{"$f":"IF($D$75=\"\",NA(),$D$75)","v":{"$error":"#N/A"}},null,{"$f":"IF($F$75=\"\",NA(),$F$75)","v":{"$error":"#N/A"}},{"$f":"IF($G$75=\"\",NA(),$G$75)","v":{"$error":"#N/A"}}]
[null,11,"10:00:00",null,null,null,null,null,null,"る"]
[null,12,"10:00:00"]
[null,13,"10:00:00"]
[null,14,"10:00:00",null,null,null,null,null,null,"（"]
[null,15,"10:00:00",null,null,null,null,null,null,"選"]
[null,16,"10:00:00",null,null,null,null,null,null,"択"]
[null,17,"10:00:00",null,null,null,null,null,null,"す",null,3,null,null,null,null,null,null,null,11,null,null,null,null,null,null,null,19,null,null,null,null,null,null,null,27]
[null,18,"10:00:00",null,null,null,null,null,null,"る",null,null,"10:00:00",null,{"$f":"IF($D$52=\"\",NA(),$D$52)","v":{"$error":"#N/A"}},null,{"$f":"IF($F$52=\"\",NA(),$F$52)","v":{"$error":"#N/A"}},{"$f":"IF($G$52=\"\",NA(),$G$52)","v":{"$error":"#N/A"}},null,null,"10:00:00",null,{"$f":"IF($D$60=\"\",NA(),$D$60)","v":{"$error":"#N/A"}},null,{"$f":"IF($F$60=\"\",NA(),$F$60)","v":{"$error":"#N/A"}},{"$f":"IF($G$60=\"\",NA(),$G$60)","v":{"$error":"#N/A"}},null,null,"10:00:00",null,{"$f":"IF($D$68=\"\",NA(),$D$68)","v":{"$error":"#N/A"}},null,{"$f":"IF($F$68=\"\",NA(),$F$68)","v":{"$error":"#N/A"}},{"$f":"IF($G$68=\"\",NA(),$G$68)","v":{"$error":"#N/A"}},null,null,"10:00:00",null,{"$f":"IF($D$76=\"\",NA(),$D$76)","v":{"$error":"#N/A"}},null,{"$f":"IF($F$76=\"\",NA(),$F$76)","v":{"$error":"#N/A"}},{"$f":"IF($G$76=\"\",NA(),$G$76)","v":{"$error":"#N/A"}}]
[null,19,"10:00:00",null,null,null,null,null,null,"だ"]
[null,20,"10:00:00",null,null,null,null,null,null,"け"]
[null,21,"10:00:00",null,null,null,null,null,null,"で"]
[null,22,"10:00:00",null,null,null,null,null,null,"移"]
[null,23,"10:00:00",null,null,null,null,null,null,"動"]
[null,24,"10:00:00",null,null,null,null,null,null,"し"]
[null,25,"10:00:00",null,null,null,null,null,null,"ま",null,4,null,null,null,null,null,null,null,12,null,null,null,null,null,null,null,20,null,null,null,null,null,null,null,28]
[null,26,"10:00:00",null,null,null,null,null,null,"す",null,null,"10:00:00",null,{"$f":"IF($D$53=\"\",NA(),$D$53)","v":{"$error":"#N/A"}},null,{"$f":"IF($F$53=\"\",NA(),$F$53)","v":{"$error":"#N/A"}},{"$f":"IF($G$53=\"\",NA(),$G$53)","v":{"$error":"#N/A"}},null,null,"10:00:00",null,{"$f":"IF($D$61=\"\",NA(),$D$61)","v":{"$error":"#N/A"}},null,{"$f":"IF($F$61=\"\",NA(),$F$61)","v":{"$error":"#N/A"}},{"$f":"IF($G$61=\"\",NA(),$G$61)","v":{"$error":"#N/A"}},null,null,"10:00:00",null,{"$f":"IF($D$69=\"\",NA(),$D$69)","v":{"$error":"#N/A"}},null,{"$f":"IF($F$69=\"\",NA(),$F$69)","v":{"$error":"#N/A"}},{"$f":"IF($G$69=\"\",NA(),$G$69)","v":{"$error":"#N/A"}},null,null,"10:00:00",null,{"$f":"IF($D$77=\"\",NA(),$D$77)","v":{"$error":"#N/A"}},null,{"$f":"IF($F$77=\"\",NA(),$F$77)","v":{"$error":"#N/A"}},{"$f":"IF($G$77=\"\",NA(),$G$77)","v":{"$error":"#N/A"}}]
[null,27,"10:00:00",null,null,null,null,null,null,"）"]
[null,28,"10:00:00"]
[null,29,"10:00:00"]
[null,30,"10:00:00"]
[null,31,"10:00:00"]
[]
[null,null,null,null,null,null,null,null,null,null,null,5,null,null,null,null,null,null,null,13,null,null,null,null,null,null,null,21,null,null,null,null,null,null,null,29]
[null,null,null,null,null,null,null,null,null,null,null,null,"10:00:00",null,{"$f":"IF($D$54=\"\",NA(),$D$54)","v":{"$error":"#N/A"}},null,{"$f":"IF($F$54=\"\",NA(),$F$54)","v":{"$error":"#N/A"}},{"$f":"IF($G$54=\"\",NA(),$G$54)","v":{"$error":"#N/A"}},null,null,"10:00:00",null,{"$f":"IF($D$62=\"\",NA(),$D$62)","v":{"$error":"#N/A"}},null,{"$f":"IF($F$62=\"\",NA(),$F$62)","v":{"$error":"#N/A"}},{"$f":"IF($G$62=\"\",NA(),$G$62)","v":{"$error":"#N/A"}},null,null,"10:00:00",null,{"$f":"IF($D$70=\"\",NA(),$D$70)","v":{"$error":"#N/A"}},null,{"$f":"IF($F$70=\"\",NA(),$F$70)","v":{"$error":"#N/A"}},{"$f":"IF($G$70=\"\",NA(),$G$70)","v":{"$error":"#N/A"}},null,null,"10:00:00",null,{"$f":"IF($D$78=\"\",NA(),$D$78)","v":{"$error":"#N/A"}},null,{"$f":"IF($F$78=\"\",NA(),$F$78)","v":{"$error":"#N/A"}},{"$f":"IF($G$78=\"\",NA(),$G$78)","v":{"$error":"#N/A"}}]
[]
[]
[]
[]
[]
[]
[null,null,null,null,null,null,null,null,null,null,null,6,null,null,null,null,null,null,null,14,null,null,null,null,null,null,null,22,null,null,null,null,null,null,null,30]
[null,null,null,null,null,null,null,null,null,null,null,null,"10:00:00",null,{"$f":"IF($D$55=\"\",NA(),$D$55)","v":{"$error":"#N/A"}},null,{"$f":"IF($F$55=\"\",NA(),$F$55)","v":{"$error":"#N/A"}},{"$f":"IF($G$55=\"\",NA(),$G$55)","v":{"$error":"#N/A"}},null,null,"10:00:00",null,{"$f":"IF($D$63=\"\",NA(),$D$63)","v":{"$error":"#N/A"}},null,{"$f":"IF($F$63=\"\",NA(),$F$63)","v":{"$error":"#N/A"}},{"$f":"IF($G$63=\"\",NA(),$G$63)","v":{"$error":"#N/A"}},null,null,"10:00:00",null,{"$f":"IF($D$71=\"\",NA(),$D$71)","v":{"$error":"#N/A"}},null,{"$f":"IF($F$71=\"\",NA(),$F$71)","v":{"$error":"#N/A"}},{"$f":"IF($G$71=\"\",NA(),$G$71)","v":{"$error":"#N/A"}},null,null,"10:00:00",null,{"$f":"IF($D$79=\"\",NA(),$D$79)","v":{"$error":"#N/A"}},null,{"$f":"IF($F$79=\"\",NA(),$F$79)","v":{"$error":"#N/A"}},{"$f":"IF($G$79=\"\",NA(),$G$79)","v":{"$error":"#N/A"}}]
[]
[]
[]
[]
[]
[]
[null,null,null,null,null,null,null,null,null,null,null,7,null,null,null,null,null,null,null,15,null,null,null,null,null,null,null,23,null,null,null,null,null,null,null,31]
[null,null,null,null,null,null,null,null,null,null,null,null,"10:00:00",null,{"$f":"IF($D$56=\"\",NA(),$D$56)","v":{"$error":"#N/A"}},null,{"$f":"IF($F$56=\"\",NA(),$F$56)","v":{"$error":"#N/A"}},{"$f":"IF($G$56=\"\",NA(),$G$56)","v":{"$error":"#N/A"}},null,null,"10:00:00",null,{"$f":"IF($D$64=\"\",NA(),$D$64)","v":{"$error":"#N/A"}},null,{"$f":"IF($F$64=\"\",NA(),$F$64)","v":{"$error":"#N/A"}},{"$f":"IF($G$64=\"\",NA(),$G$64)","v":{"$error":"#N/A"}},null,null,"10:00:00",null,{"$f":"IF($D$72=\"\",NA(),$D$72)","v":{"$error":"#N/A"}},null,{"$f":"IF($F$72=\"\",NA(),$F$72)","v":{"$error":"#N/A"}},{"$f":"IF($G$72=\"\",NA(),$G$72)","v":{"$error":"#N/A"}},null,null,"10:00:00",null,{"$f":"IF($D$80=\"\",NA(),$D$80)","v":{"$error":"#N/A"}},null,{"$f":"IF($F$80=\"\",NA(),$F$80)","v":{"$error":"#N/A"}},{"$f":"IF($G$80=\"\",NA(),$G$80)","v":{"$error":"#N/A"}}]
[]
[]
[]
[]
[]
[]
[null,null,null,null,null,null,null,null,null,null,null,8,null,null,null,null,null,null,null,16,null,null,null,null,null,null,null,24]
[null,null,null,null,null,null,null,null,null,null,null,null,"10:00:00",null,{"$f":"IF($D$57=\"\",NA(),$D$57)","v":{"$error":"#N/A"}},null,{"$f":"IF($F$57=\"\",NA(),$F$57)","v":{"$error":"#N/A"}},{"$f":"IF($G$57=\"\",NA(),$G$57)","v":{"$error":"#N/A"}},null,null,"10:00:00",null,{"$f":"IF($D$65=\"\",NA(),$D$65)","v":{"$error":"#N/A"}},null,{"$f":"IF($F$65=\"\",NA(),$F$65)","v":{"$error":"#N/A"}},{"$f":"IF($G$65=\"\",NA(),$G$65)","v":{"$error":"#N/A"}},null,null,"10:00:00",null,{"$f":"IF($D$73=\"\",NA(),$D$73)","v":{"$error":"#N/A"}},null,{"$f":"IF($F$73=\"\",NA(),$F$73)","v":{"$error":"#N/A"}},{"$f":"IF($G$73=\"\",NA(),$G$73)","v":{"$error":"#N/A"}}]
[]
[]
[]
[]
[]
[]
[]
[]
[]
[]
[]
[]
[]
[]
[]
[]
[]
[]
[]
[]
[]
[null,null,"Enterで入力画面へ"]
[null,null,"ｶｰｿﾙ初期位置",null,null,null,"日付チェック",null,null,null,"バイタルコピー"]
["管理欄",null,"入力に入る",null,null,null,"今日",{"$f":"NOW()","v":"2015-02-24T03:11:52.510"},null,null,{"$f":"IF($D$74=\"\",NA(),$D$74)","v":{"$error":"#N/A"}},null,{"$f":"IF($F$74=\"\",NA(),$F$74)","v":{"$error":"#N/A"}},{"$f":"IF($G$74=\"\",NA(),$G$74)","v":{"$error":"#N/A"}},null,{"$f":"K131&M131&N131","v":{"$error":"#N/A"}}]
[null,null,null,null,null,null,"日",{"$f":"DAY(H131)","v":24},null,null,null,null,null,null,null,""]
[null,null,null,null,null,null,"月",{"$f":"MONTH(H131)","v":2},null,null,null,null,null,null,null,""]
[null,null,null,null,null,null,null,null,null,null,null,null,null,null,null,""]
[null,null,null,null,null,null,"時",{"$f":"HOUR(H131)","v":3},null,null,null,null,null,null,null,""]
[null,null,null,null,null,null,null,null,null,null,null,null,null,null,null,""]
[null,null,null,null,null,null,null,null,null,null,null,null,null,null,null,""]
[null,null,null,null,null,null,null,null,null,null,null,null,null,null,null,""]
[null,null,null,null,null,null,null,null,null,null,null,null,null,null,null,""]
[null,null,"食事平均",null,null,null,null,null,null,null,null,null,null,null,null,""]
[null,null,"左",{"$f":"IF(D25=\"\", \"\", LEFT(D25,SEARCH(\".\",D25,1)-1)*1)","v":""},{"$f":"IF(E25=\"\", \"\", LEFT(E25,SEARCH(\".\",E25,1)-1)*1)","v":""},"","","","","","","","","","","","","","","","","","","","","","","","","","","","",""]
[null,null,null,{"$f":"IF(D26=\"\", \"\", LEFT(D26,SEARCH(\".\",D26,1)-1)*1)","v":""},"","","","","","","","","","","","","","","","","","","","","","","","","","","","","",""]
[null,null,null,"","","","","","","","","","","","","","","","","","","","","","","","","","","","","","",""]
[null,null,"右",{"$f":"IF(D25=\"\", \"\", RIGHT(D25,LEN(D25)-FIND(\".\",D25,1))*1)","v":""},{"$f":"IF(E25=\"\", \"\", RIGHT(E25,LEN(E25)-FIND(\".\",E25,1))*1)","v":""},"","","","","","","","","","","","","","","","","","","","","","","","","","","","",""]
[null,null,null,{"$f":"IF(D26=\"\", \"\", RIGHT(D26,LEN(D26)-FIND(\".\",D26,1))*1)","v":""},"","","","","","","","","","","","","","","","","","","","","","","","","","","","","",""]
[null,null,null,{"$f":"IF(D27=\"\", \"\", RIGHT(D27,LEN(D27)-FIND(\".\",D27,1))*1)","v":""},"","","","","","","","","","","","","","","","","","","","","","","","","","","","","",""]
[null,null,null,null,null,null,null,null,null,null,null,null,null,null,null,""]
[null,null,"BP平均",null,null,null,null,null,null,null,null,null,null,null,null,""]
[null,null,"左",{"$f":"IF(ISERROR(LEFT(D32,SEARCH(\"/\",D32,1)-1)*1),\"\",LEFT(D32,SEARCH(\"/\",D32,1)-1)*1)","v":""},{"$f":"IF(ISERROR(LEFT(E32,SEARCH(\"/\",E32,1)-1)*1),\"\",LEFT(E32,SEARCH(\"/\",E32,1)-1)*1)","v":""},"","","","","","","","","","","","","","","","","","","","","","","","","","","","",""]
[null,null,null,{"$f":"IF(ISERROR(LEFT(D33,SEARCH(\"/\",D33,1)-1)*1),\"\",LEFT(D33,SEARCH(\"/\",D33,1)-1)*1)","v":""},"","","","","","","","","","","","","","","","","","","","","","","","","","","","","",""]
[null,null,null,"","","","","","","","","","","","","","","","","","","","","","","","","","","","","","",""]
[null,null,null,"","","","","","","","","","","","","","","","","","","","","","","","","","","","","","",""]
[null,null,"右",{"$f":"IF(ISERROR(RIGHT(D32,LEN(D32)-FIND(\"/\",D32,1))*1),\"\",RIGHT(D32,LEN(D32)-FIND(\"/\",D32,1))*1)","v":""},{"$f":"IF(ISERROR(RIGHT(E32,LEN(E32)-FIND(\"/\",E32,1))*1),\"\",RIGHT(E32,LEN(E32)-FIND(\"/\",E32,1))*1)","v":""},{"$f":"IF(ISERROR(RIGHT(F32,LEN(F32)-FIND(\"/\",F32,1))*1),\"\",RIGHT(F32,LEN(F32)-FIND(\"/\",F32,1))*1)","v":""},"","","","","","","","","","","","","","","","","","","","","","","","","","","",""]
[null,null,null,{"$f":"IF(ISERROR(RIGHT(D33,LEN(D33)-FIND(\"/\",D33,1))*1),\"\",RIGHT(D33,LEN(D33)-FIND(\"/\",D33,1))*1)","v":""},"","","","","","","","","","","","","","","","","","","","","","","","","","","","","",""]
[null,null,null,"","","","","","","","","","","","","","","","","","","","","","","","","","","","","","",""]
[null,null,null,"","","","","","","","","","","","","","","","","","","","","","","","","","","","","","",""]
[null,null,null,null,null,null,null,null,null,null,null,null,null,null,null,""]
[null,null,null,null,null,null,null,null,null,null,null,null,null,null,null,""]
[null,null,null,null,null,null,null,null,null,null,null,null,null,null,null,""]
[null,null,null,null,null,null,null,null,null,null,null,null,null,null,null,""]
[null,null,null,null,null,null,null,null,null,null,null,null,null,null,null,{"$f":"K161&M161&N161","v":""}]

{"sheet":"7月","index":7,"n_rows":161,"n_cols":45,"rows_kept":161,"cut":false,"hidden":false,"merged":[[31,1,34,2],[35,1,35,2],[36,1,36,2],[37,1,37,2],[38,1,38,2],[24,1,26,2],[49,3,49,4],[49,6,49,7],[1,32,1,34],[2,32,3,34],[102,12,102,13],[1,23,1,24],[2,23,3,24],[102,22,102,23],[102,25,102,26],[103,12,103,13],[104,12,104,13],[100,12,100,13],[100,14,100,15],[100,17,100,18],[100,20,100,21],[100,22,100,23],[100,25,100,26],[100,28,100,29],[100,30,100,31],[96,12,96,13],[96,14,96,15],[96,30,96,31],[96,33,96,34],[93,30,93,31],[94,28,94,29],[92,33,92,34],[108,33,108,34],[109,14,109,15],[1,13,1,14],[2,15,3,20],[1,15,1,19],[1,25,1,31],[2,25,2,30],[3,25,3,30],[105,14,105,15],[105,33,105,34],[106,33,106,34],[107,33,107,34],[97,11,104,11],[97,12,97,13],[97,14,97,15],[97,17,97,18],[98,12,98,13],[98,14,98,15],[98,17,98,18],[99,12,99,13],[99,14,99,15],[108,22,108,23],[108,25,108,26],[109,22,109,23],[109,25,109,26],[109,30,109,31],[109,33,109,34],[108,30,108,31],[101,25,101,26],[101,33,101,34],[93,12,93,13],[93,14,93,15],[96,17,96,18],[96,20,96,21],[96,22,96,23],[96,25,96,26],[96,28,96,29],[41,37,41,38],[39,44,39,45],[40,44,40,45],[41,44,41,45],[40,37,40,38],[39,42,39,43],[40,42,40,43],[41,42,41,43],[39,39,39,40],[40,39,40,40],[44,37,44,38],[42,39,42,40],[43,39,43,40],[44,39,44,40],[43,37,43,38],[42,37,42,38],[44,42,44,43],[42,44,42,45],[43,44,43,45],[44,44,44,45],[42,42,42,43],[43,42,43,43],[41,39,41,40],[39,37,39,38],[95,17,95,18],[95,20,95,21],[95,22,95,23],[36,44,36,45],[37,44,37,45],[38,44,38,45],[35,42,35,43],[36,42,36,43],[37,42,37,43],[38,42,38,43],[32,44,32,45],[33,44,33,45],[34,44,34,45],[35,44,35,45],[32,39,32,40],[93,17,93,18],[93,20,93,21],[93,22,93,23],[34,42,34,43],[16,44,16,45],[17,44,17,45],[33,42,33,43],[5,44,5,45],[6,44,6,45],[7,44,7,45],[8,44,8,45],[14,44,14,45],[15,44,15,45],[9,44,9,45],[10,44,10,45],[11,44,11,45],[12,44,12,45],[20,44,20,45],[21,44,21,45],[22,44,22,45],[23,44,23,45],[24,44,24,45],[25,44,25,45],[7,42,7,43],[8,42,8,43],[16,42,16,43],[17,42,17,43],[9,42,9,43],[10,42,10,43],[11,42,14,43],[18,44,18,45],[27,39,27,40],[29,37,29,38],[30,37,30,38],[29,39,29,40],[30,39,30,40],[25,37,25,38],[26,37,26,38],[20,39,20,40],[11,37,11,40],[12,37,12,40],[33,39,33,40],[34,39,34,40],[23,39,23,40],[24,39,24,40],[28,37,28,38],[13,44,13,45],[24,42,24,43],[25,42,25,43],[26,42,26,43],[20,42,23,43],[18,42,18,43],[19,42,19,43],[15,42,15,43],[16,39,16,40],[27,44,27,45],[28,44,28,45],[31,42,31,43],[31,44,31,45],[28,42,28,43],[27,42,27,43],[19,44,19,45],[26,44,26,45],[112,30,112,31],[4,42,4,45],[15,37,15,40],[30,42,30,45],[16,37,16,38],[17,37,17,38],[18,37,18,38],[21,39,21,40],[22,39,22,40],[27,37,27,38],[28,39,28,40],[32,42,32,43],[19,37,19,38],[20,37,20,38],[21,37,21,38],[22,37,22,38],[23,37,23,38],[24,37,24,38],[17,39,17,40],[18,39,18,40],[19,39,19,40],[5,42,5,43],[6,42,6,43],[31,37,31,38],[32,37,32,38],[33,37,33,38],[13,37,13,40],[10,37,10,40],[34,37,34,38],[25,39,25,40],[26,39,26,40],[31,39,31,40],[112,14,112,15],[112,17,112,18],[112,20,112,21],[111,14,111,15],[111,12,111,13],[130,0,132,0],[130,2,130,4],[130,7,130,8],[105,11,112,11],[105,12,105,13],[107,12,107,13],[108,12,108,13],[110,12,110,13],[109,12,109,13],[106,12,106,13],[108,14,108,15],[129,10,129,12],[110,14,110,15],[110,17,110,18],[110,20,110,21],[107,17,107,18],[130,10,130,11],[130,13,130,14],[129,2,129,4],[129,6,129,8],[112,12,112,13],[131,10,131,11],[131,13,131,14],[132,10,132,11],[132,13,132,14],[109,17,109,18],[109,20,109,21],[111,28,111,29],[111,30,111,31],[111,33,111,34],[110,33,110,34],[110,22,110,23],[110,25,110,26],[110,28,110,29],[36,37,36,38],[110,30,110,31],[111,17,111,18],[111,20,111,21],[111,22,111,23],[111,25,111,26],[105,19,112,19],[105,20,105,21],[112,22,112,23],[108,17,108,18],[108,20,108,21],[106,25,106,26],[107,20,107,21],[107,22,107,23],[107,28,107,29],[108,28,108,29],[105,27,112,27],[105,28,105,29],[109,28,109,29],[105,17,105,18],[106,28,106,29],[106,30,106,31],[112,33,112,34],[112,25,112,26],[112,28,112,29],[103,41,103,42],[104,41,104,42],[104,14,104,15],[104,17,104,18],[104,20,104,21],[104,36,104,37],[104,22,104,23],[104,25,104,26],[104,28,104,29],[104,30,104,31],[105,22,105,23],[105,25,105,26],[106,20,106,21],[106,22,106,23],[107,30,107,31],[107,25,107,26],[105,30,105,31],[106,14,106,15],[106,17,106,18],[107,14,107,15],[97,27,104,27],[97,28,97,29],[97,30,97,31],[98,41,98,42],[99,36,99,37],[99,38,99,39],[99,41,99,42],[99,17,99,18],[99,33,99,34],[98,30,98,31],[98,33,98,34],[99,25,99,26],[102,17,102,18],[102,20,102,21],[103,22,103,23],[103,25,103,26],[103,28,103,29],[103,30,103,31],[103,33,103,34],[103,36,103,37],[103,38,103,39],[97,19,104,19],[97,20,97,21],[97,22,97,23],[97,25,97,26],[98,20,98,21],[98,22,98,23],[98,25,98,26],[99,20,99,21],[99,22,99,23],[97,33,97,34],[98,28,98,29],[104,38,104,39],[104,33,104,34],[100,36,100,37],[100,38,100,39],[100,41,100,42],[97,35,104,35],[97,36,97,37],[97,38,97,39],[97,41,97,42],[98,36,98,37],[98,38,98,39],[101,12,101,13],[101,14,101,15],[99,28,99,29],[99,30,99,31],[101,28,101,29],[101,30,101,31],[102,28,102,29],[100,33,100,34],[101,17,101,18],[101,20,101,21],[101,22,101,23],[101,36,101,37],[101,38,101,39],[101,41,101,42],[102,36,102,37],[102,38,102,39],[102,41,102,42],[102,33,102,34],[102,30,102,31],[103,14,103,15],[103,17,103,18],[103,20,103,21],[102,14,102,15],[92,36,92,37],[92,38,92,39],[92,41,92,42],[89,35,96,35],[89,36,89,37],[89,38,89,39],[89,41,89,42],[90,36,90,37],[90,38,90,39],[90,30,90,31],[90,33,90,34],[91,25,91,26],[90,41,90,42],[91,36,91,37],[91,38,91,39],[95,25,95,26],[95,28,95,29],[95,30,95,31],[95,33,95,34],[95,36,95,37],[95,38,95,39],[95,41,95,42],[91,41,91,42],[96,36,96,37],[96,38,96,39],[96,41,96,42],[88,12,88,13],[88,14,88,15],[88,17,88,18],[88,20,88,21],[88,22,88,23],[88,25,88,26],[88,33,88,34],[88,36,88,37],[88,38,88,39],[88,41,88,42],[93,25,93,26],[93,33,93,34],[93,36,93,37],[93,38,93,39],[93,41,93,42],[94,12,94,13],[94,14,94,15],[94,17,94,18],[94,36,94,37],[94,38,94,39],[94,41,94,42],[92,20,92,21],[92,22,92,23],[92,25,92,26],[92,28,92,29],[92,30,92,31],[89,27,96,27],[89,28,89,29],[89,30,89,31],[91,28,91,29],[91,30,91,31],[93,28,93,29],[89,11,96,11],[89,12,89,13],[89,14,89,15],[89,17,89,18],[90,12,90,13],[90,14,90,15],[90,17,90,18],[91,12,91,13],[91,14,91,15],[91,17,91,18],[91,33,91,34],[89,19,96,19],[89,20,89,21],[89,22,89,23],[89,25,89,26],[90,20,90,21],[90,22,90,23],[90,25,90,26],[91,20,91,21],[91,22,91,23],[89,33,89,34],[90,28,90,29],[94,20,94,21],[94,22,94,23],[94,25,94,26],[94,30,94,31],[94,33,94,34],[92,12,92,13],[92,14,92,15],[92,17,92,18],[95,12,95,13],[95,14,95,15],[86,12,86,13],[86,14,86,15],[86,17,86,18],[86,20,86,21],[86,22,86,23],[86,25,86,26],[86,28,86,29],[86,33,86,34],[86,36,86,37],[86,38,86,39],[86,41,86,42],[87,12,87,13],[87,14,87,15],[87,17,87,18],[87,20,87,21],[87,22,87,23],[87,25,87,26],[87,33,87,34],[87,36,87,37],[87,38,87,39],[87,41,87,42],[84,22,84,23],[84,25,84,26],[84,28,84,29],[84,30,84,31],[84,33,84,34],[84,41,84,42],[85,12,85,13],[85,14,85,15],[85,17,85,18],[85,20,85,21],[85,22,85,23],[85,25,85,26],[85,28,85,29],[85,30,85,31],[85,33,85,34],[85,36,85,37],[85,38,85,39],[85,41,85,42],[81,38,81,39],[82,36,82,37],[82,38,82,39],[83,36,83,37],[83,38,83,39],[84,36,84,37],[84,38,84,39],[81,41,81,42],[82,12,82,13],[82,14,82,15],[82,17,82,18],[82,20,82,21],[82,22,82,23],[82,25,82,26],[82,28,82,29],[82,30,82,31],[82,33,82,34],[82,41,82,42],[83,12,83,13],[83,14,83,15],[83,17,83,18],[83,20,83,21],[83,22,83,23],[83,25,83,26],[83,28,83,29],[83,30,83,31],[83,33,83,34],[83,41,83,42],[84,12,84,13],[84,14,84,15],[84,17,84,18],[84,20,84,21],[79,41,79,42],[80,12,80,13],[80,14,80,15],[80,17,80,18],[80,20,80,21],[80,22,80,23],[80,25,80,26],[80,28,80,29],[80,30,80,31],[80,33,80,34],[80,36,80,37],[80,38,80,39],[80,41,80,42],[81,11,88,11],[81,12,81,13],[81,14,81,15],[81,17,81,18],[81,19,88,19],[81,20,81,21],[81,22,81,23],[81,25,81,26],[81,27,88,27],[81,28,81,29],[81,30,81,31],[86,30,86,31],[87,28,87,29],[87,30,87,31],[88,28,88,29],[88,30,88,31],[81,33,81,34],[81,35,88,35],[81,36,81,37],[76,38,76,39],[76,41,76,42],[77,3,77,4],[77,6,77,7],[77,12,77,13],[77,14,77,15],[77,17,77,18],[77,20,77,21],[77,36,77,37],[77,38,77,39],[77,41,77,42],[78,3,78,4],[78,6,78,7],[78,12,78,13],[78,14,78,15],[78,17,78,18],[78,20,78,21],[78,33,78,34],[78,36,78,37],[78,38,78,39],[78,41,78,42],[73,27,80,27],[78,28,78,29],[79,33,79,34],[79,36,79,37],[79,38,79,39],[77,33,77,34],[79,22,79,23],[79,25,79,26],[79,28,79,29],[79,30,79,31],[73,19,80,19],[73,38,73,39],[74,33,74,34],[74,36,74,37],[74,38,74,39],[75,33,75,34],[75,36,75,37],[75,38,75,39],[73,41,73,42],[74,3,74,4],[74,6,74,7],[74,12,74,13],[74,14,74,15],[74,17,74,18],[74,20,74,21],[74,22,74,23],[74,25,74,26],[74,28,74,29],[74,41,74,42],[75,3,75,4],[75,6,75,7],[75,12,75,13],[75,14,75,15],[75,17,75,18],[75,20,75,21],[75,22,75,23],[75,25,75,26],[75,28,75,29],[75,41,75,42],[73,20,73,21],[73,22,73,23],[73,25,73,26],[73,30,73,31],[73,3,73,4],[73,6,73,7],[73,11,80,11],[73,12,73,13],[73,14,73,15],[73,17,73,18],[79,3,79,4],[79,17,79,18],[74,30,74,31],[75,30,75,31],[76,30,76,31],[77,28,77,29],[77,30,77,31],[73,28,73,29],[73,33,73,34],[73,35,80,35],[73,36,73,37],[76,3,76,4],[76,6,76,7],[76,12,76,13],[76,14,76,15],[76,17,76,18],[76,20,76,21],[76,22,76,23],[76,25,76,26],[76,28,76,29],[76,33,76,34],[76,36,76,37],[78,30,78,31],[72,17,72,18],[72,20,72,21],[65,11,72,11],[79,6,79,7],[79,12,79,13],[79,14,79,15],[79,20,79,21],[69,20,69,21],[65,19,72,19],[65,20,65,21],[72,22,72,23],[72,25,72,26],[72,28,72,29],[77,22,77,23],[77,25,77,26],[78,22,78,23],[78,25,78,26],[69,3,69,4],[69,6,69,7],[69,12,69,13],[69,14,69,15],[69,17,69,18],[65,3,65,4],[65,6,65,7],[69,22,69,23],[72,3,72,4],[72,6,72,7],[72,12,72,13],[72,14,72,15],[68,22,68,23],[67,22,67,23],[66,20,66,21],[69,41,69,42],[70,3,70,4],[70,6,70,7],[70,12,70,13],[70,14,70,15],[70,17,70,18],[70,20,70,21],[70,22,70,23],[70,36,70,37],[70,38,70,39],[70,41,70,42],[71,3,71,4],[71,6,71,7],[71,12,71,13],[71,14,71,15],[71,17,71,18],[71,20,71,21],[67,3,67,4],[67,6,67,7],[67,12,67,13],[67,14,67,15],[67,17,67,18],[67,20,67,21],[67,38,67,39],[67,25,67,26],[67,28,67,29],[67,41,67,42],[68,3,68,4],[68,6,68,7],[68,12,68,13],[68,14,68,15],[68,17,68,18],[68,20,68,21],[68,25,68,26],[68,28,68,29],[68,36,68,37],[68,38,68,39],[68,30,68,31],[69,30,69,31],[65,38,65,39],[66,33,66,34],[66,36,66,37],[66,38,66,39],[67,36,67,37],[65,33,65,34],[65,35,72,35],[67,33,67,34],[72,38,72,39],[65,41,65,42],[68,41,68,42],[72,41,72,42],[69,36,69,37],[69,38,69,39],[66,22,66,23],[66,41,66,42],[65,36,65,37],[71,22,71,23],[71,30,71,31],[71,33,71,34],[71,36,71,37],[71,38,71,39],[71,41,71,42],[72,30,72,31],[72,33,72,34],[72,36,72,37],[64,30,64,31],[64,33,64,34],[64,36,64,37],[64,38,64,39],[64,28,64,29],[65,12,65,13],[65,14,65,15],[65,17,65,18],[66,3,66,4],[66,6,66,7],[66,12,66,13],[66,14,66,15],[66,17,66,18],[65,22,65,23],[70,28,70,29],[65,25,65,26],[65,27,72,27],[65,28,65,29],[69,28,69,29],[66,25,66,26],[69,25,69,26],[70,25,70,26],[71,25,71,26],[71,28,71,29],[66,28,66,29],[68,33,68,34],[69,33,69,34],[70,30,70,31],[70,33,70,34],[65,30,65,31],[66,30,66,31],[67,30,67,31],[63,33,63,34],[61,41,61,42],[62,3,62,4],[62,6,62,7],[62,12,62,13],[62,14,62,15],[62,17,62,18],[62,20,62,21],[62,22,62,23],[62,36,62,37],[63,17,63,18],[63,20,63,21],[63,22,63,23],[63,30,63,31],[63,3,63,4],[63,6,63,7],[63,12,63,13],[63,14,63,15],[63,28,63,29],[63,41,63,42],[63,36,63,37],[63,38,63,39],[57,35,64,35],[57,36,57,37],[57,38,57,39],[62,41,62,42],[64,41,64,42],[60,41,60,42],[58,41,58,42],[64,3,64,4],[64,6,64,7],[64,12,64,13],[62,38,62,39],[58,25,58,26],[60,28,60,29],[61,38,61,39],[60,30,60,31],[60,33,60,34],[59,25,59,26],[60,38,60,39],[61,30,61,31],[59,33,59,34],[61,22,61,23],[61,36,61,37],[60,17,60,18],[60,20,60,21],[60,22,60,23],[60,25,60,26],[60,36,60,37],[61,17,61,18],[61,20,61,21],[57,33,57,34],[61,33,61,34],[62,33,62,34],[57,30,57,31],[58,30,58,31],[59,30,59,31],[59,36,59,37],[59,38,59,39],[59,28,59,29],[58,36,58,37],[58,38,58,39],[62,30,62,31],[57,41,57,42],[58,3,58,4],[58,6,58,7],[58,12,58,13],[58,14,58,15],[58,17,58,18],[58,20,58,21],[58,22,58,23],[57,19,64,19],[57,20,57,21],[59,3,59,4],[59,6,59,7],[59,12,59,13],[59,14,59,15],[59,41,59,42],[58,33,58,34],[59,17,59,18],[59,20,59,21],[59,22,59,23],[58,28,58,29],[57,3,57,4],[57,6,57,7],[57,11,64,11],[57,12,57,13],[57,14,57,15],[57,17,57,18],[60,3,60,4],[60,6,60,7],[60,12,60,13],[60,14,60,15],[57,22,57,23],[57,25,57,26],[57,27,64,27],[57,28,57,29],[61,28,61,29],[61,25,61,26],[62,25,62,26],[63,25,63,26],[62,28,62,29],[64,22,64,23],[61,3,61,4],[61,6,61,7],[61,12,61,13],[61,14,61,15],[64,14,64,15],[64,17,64,18],[64,20,64,21],[64,25,64,26],[54,3,54,4],[54,6,54,7],[54,12,54,13],[54,14,54,15],[49,11,56,11],[53,3,53,4],[53,6,53,7],[53,12,53,13],[49,12,49,13],[54,20,54,21],[54,22,54,23],[54,25,54,26],[52,22,52,23],[52,6,52,7],[52,12,52,13],[52,14,52,15],[50,25,50,26],[49,22,49,23],[55,3,55,4],[55,6,55,7],[55,12,55,13],[55,14,55,15],[55,17,55,18],[55,20,55,21],[55,22,55,23],[55,25,55,26],[56,3,56,4],[56,6,56,7],[56,12,56,13],[56,14,56,15],[56,17,56,18],[56,20,56,21],[50,3,50,4],[50,6,50,7],[50,12,50,13],[50,14,50,15],[50,17,50,18],[50,22,50,23],[50,41,50,42],[49,38,49,39],[52,17,52,18],[52,20,52,21],[51,12,51,13],[51,14,51,15],[51,20,51,21],[51,22,51,23],[52,30,52,31],[50,38,50,39],[51,3,51,4],[51,6,51,7],[52,38,52,39],[52,41,52,42],[52,3,52,4],[51,28,51,29],[52,33,52,34],[51,30,51,31],[49,14,49,15],[49,17,49,18],[49,19,56,19],[54,17,54,18],[51,17,51,18],[49,20,49,21],[53,14,53,15],[50,20,50,21],[54,33,54,34],[54,36,54,37],[50,33,50,34],[50,36,50,37],[54,30,54,31],[53,30,53,31],[49,33,49,34],[49,35,56,35],[51,41,51,42],[49,36,49,37],[51,33,51,34],[51,36,51,37],[51,38,51,39],[49,41,49,42],[53,36,53,37],[52,36,52,37],[53,33,53,34],[53,38,53,39],[53,41,53,42],[54,38,54,39],[54,41,54,42],[55,30,55,31],[55,33,55,34],[55,36,55,37],[55,38,55,39],[55,41,55,42],[56,30,56,31],[56,33,56,34],[56,36,56,37],[56,38,56,39],[56,41,56,42],[49,25,49,26],[49,27,56,27],[49,28,49,29],[49,30,49,31],[50,30,50,31],[50,28,50,29],[54,28,54,29],[52,25,52,26],[52,28,52,29],[51,25,51,26],[53,17,53,18],[53,20,53,21],[53,22,53,23],[53,25,53,26],[53,28,53,29],[55,28,55,29],[56,22,56,23],[56,25,56,26],[56,28,56,29],[48,25,48,26],[48,28,48,29],[48,6,48,7],[48,41,48,42],[48,36,48,37],[48,30,48,31],[48,33,48,34]],"merged_total":1062,"flags":["merged_cut"]}
[null,"体温表",null,null,null,{"$f":"設定!$F$7","v":2016},null,"年",null,7,"月"]
[null,"カルテ番号",null,null,"病棟",null,null,"入院形態",null,null,"主治医",null,null,"　姓名",null,{"$f":"'6月'!$P$2","v":0},null,null,null,null,null,null,null,"性別",null,"生年月日　",null,null,null,null,null,null,"担当Ns"]
[null,{"$f":"'6月'!B3","v":0},null,null,{"$f":"IF(COUNTIF('6月'!E3:G3,\"*\"),INDEX('6月'!E3:G3,MATCH(\"\",'6月'!E3:G3,-1)),\"\")","v":""},null,null,{"$f":"IF(COUNTIF('6月'!H3:J3,\"*\"),INDEX('6月'!H3:J3,MATCH(\"\",'6月'!H3:J3,-1)),\"\")","v":""},null,null,{"$f":"'6月'!K3","v":0},null,null,null,null,{"$f":"'6月'!$P$3","v":0},null,null,null,null,null,null,null,{"$f":"'6月'!$X$3","v":0},null,{"$f":"'6月'!$Z$3","v":"00:00:00"},null,null,null,null,null,{"$f":"DATEDIF(Z3,TODAY(),\"Y\")","v":115},{"$f":"'6月'!$AG$3","v":0}]
[null,null,null,null,"/","/","/","/","/","/",null,null,null,null,null,null,null,null,null,null,null,null,null,null,null,{"$f":"Z3","v":"00:00:00"},null,null,null,null,null,"歳"]
[null,null,null,null,null,null,null,null,null,null,null,null,null,null,null,null,null,null,null,null,null,null,null,null,null,null,null,null,null,null,null,null,null,null,null,null,null,{"$f":"設定!C10","v":"備考欄"},null,null,null,null,{"$f":"設定!I10","v":"食事箋"}]
[null,null,null,null,null,null,null,null,null,null,null,null,null,null,null,null,null,null,null,null,null,null,null,null,null,null,null,null,null,null,null,null,null,null,null,null,null,{"$f":"設定!C11","v":0},null,null,null,null,{"$f":"設定!I11","v":0},null,{"$f":"設定!K11","v":0}]
[null,null,null,null,null,null,null,null,null,null,null,null,null,null,null,null,null,null,null,null,null,null,null,null,null,null,null,null,null,null,null,null,null,null,null,null,null,null,null,null,null,null,{"$f":"設定!I12","v":"常食"},null,{"$f":"設定!K12","v":"常食"}]
[null,null,null,null,null,null,null,null,null,null,null,null,null,null,null,null,null,null,null,null,null,null,null,null,null,null,null,null,null,null,null,null,null,null,null,null,null,null,null,null,null,null,{"$f":"設定!I13","v":"心臓"},null,{"$f":"設定!K13","v":"心臓"}]
[null,null,null,null,null,null,null,null,null,null,null,null,null,null,null,null,null,null,null,null,null,null,null,null,null,null,null,null,null,null,null,null,null,null,null,null,null,null,null,null,null,null,{"$f":"設定!I14","v":"すい臓"},null,{"$f":"設定!K14","v":"膵臓"}]
[null,null,null,null,null,null,null,null,null,null,null,null,null,null,null,null,null,null,null,null,null,null,null,null,null,null,null,null,null,null,null,null,null,null,null,null,null,null,null,null,null,null,{"$f":"設定!I15","v":"じん臓"},null,{"$f":"設定!K15","v":"腎臓"}]
[null,null,null,null,null,null,null,null,null,null,null,null,null,null,null,null,null,null,null,null,null,null,null,null,null,null,null,null,null,null,null,null,null,null,null,null,null,{"$f":"'6月'!AL11","v":0},null,null,null,null,{"$f":"設定!I16","v":"高血圧"},null,{"$f":"設定!K16","v":"高血"}]
[null,null,null,null,null,null,null,null,null,null,null,null,null,null,null,null,null,null,null,null,null,null,null,null,null,null,null,null,null,null,null,null,null,null,null,null,null,{"$f":"'6月'!AL12","v":0},null,null,null,null,{"$f":"設定!I17","v":"糖尿"},null,{"$f":"設定!K17","v":"糖1200"}]
[null,null,null,null,null,null,null,null,null,null,null,null,null,null,null,null,null,null,null,null,null,null,null,null,null,null,null,null,null,null,null,null,null,null,null,null,null,{"$f":"'6月'!AL13","v":0},null,null,null,null,null,null,{"$f":"設定!K18","v":"糖1440"}]
[null,null,null,null,null,null,null,null,null,null,null,null,null,null,null,null,null,null,null,null,null,null,null,null,null,null,null,null,null,null,null,null,null,null,null,null,null,{"$f":"'6月'!AL14","v":0},null,null,null,null,null,null,{"$f":"設定!K19","v":"糖1600"}]
[null,null,null,null,null,null,null,null,null,null,null,null,null,null,null,null,null,null,null,null,null,null,null,null,null,null,null,null,null,null,null,null,null,null,null,null,null,null,null,null,null,null,null,null,{"$f":"設定!K20","v":"糖1800"}]
[null,null,null,null,null,null,null,null,null,null,null,null,null,null,null,null,null,null,null,null,null,null,null,null,null,null,null,null,null,null,null,null,null,null,null,null,null,{"$f":"設定!C21","v":"面会"},null,null,null,null,{"$f":"設定!I21","v":"肝臓A"},null,{"$f":"設定!K21","v":"肝Ａ"}]
[null,"日　付",null,1,2,3,4,5,6,7,8,9,10,11,12,13,14,15,16,17,18,19,20,21,22,23,24,25,26,27,28,29,30,31,"統計",null,null,{"$f":"設定!C22","v":0},null,{"$f":"設定!E22","v":0},null,null,{"$f":"設定!I22","v":"肝臓B"},null,{"$f":"設定!K22","v":"肝Ｂ"}]
[null,"行　動",null,null,null,null,null,null,null,null,null,null,null,null,null,null,null,null,null,null,null,null,null,null,null,null,null,null,null,null,null,null,null,null,null,null,null,{"$f":"設定!C23","v":"両親"},null,{"$f":"設定!E23","v":"両親"},null,null,{"$f":"設定!I23","v":"潰瘍"},null,{"$f":"設定!K23","v":"潰瘍"}]
[null,"時　間",null,null,null,null,null,null,null,null,null,null,null,null,null,null,null,null,null,null,null,null,null,null,null,null,null,null,null,null,null,null,null,null,null,null,null,{"$f":"設定!C24","v":"父"},null,{"$f":"設定!E24","v":"父"},null,null,{"$f":"設定!I24","v":"低残渣食"},null,{"$f":"設定!K24","v":"低残"}]
[null,"行　動",null,null,null,null,null,null,null,null,null,null,null,null,null,null,null,null,null,null,null,null,null,null,null,null,null,null,null,null,null,null,null,null,null,null,null,{"$f":"設定!C25","v":"母"},null,{"$f":"設定!E25","v":"母"},null,null,{"$f":"設定!I25","v":"貧血"},null,{"$f":"設定!K25","v":"貧血"}]
[null,"時　間",null,null,null,null,null,null,null,null,null,null,null,null,null,null,null,null,null,null,null,null,null,null,null,null,null,null,null,null,null,null,null,null,{"$f":"IF(COUNTIF(D18:AH21,\"外出\")+COUNTIF(D18:AH21,\"外泊\")=0,\"回数\",COUNTIF(D18:AH21,\"外出\")+COUNTIF(D18:AH21,\"外泊\"))","v":"回数"},null,null,{"$f":"設定!C26","v":"主人"},null,{"$f":"設定!E26","v":"夫"},null,null,{"$f":"設定!I26","v":"脂質異常"},null,{"$f":"設定!K26","v":"脂1200"}]
[null,"面　会",null,null,null,null,null,null,null,null,null,null,null,null,null,null,null,null,null,null,null,null,null,null,null,null,null,null,null,null,null,null,null,null,null,null,null,{"$f":"設定!C27","v":"奥方"},null,{"$f":"設定!E27","v":"妻"},null,null,null,null,{"$f":"設定!K27","v":"脂1440"}]
[null,null,null,null,null,null,null,null,null,null,null,null,null,null,null,null,null,null,null,null,null,null,null,null,null,null,null,null,null,null,null,null,null,null,{"$f":"IF(COUNTA(D22:AH23)=0,\"回数\",COUNTA(D22:AH23))","v":"回数"},null,null,{"$f":"設定!C28","v":"息子"},null,{"$f":"設定!E28","v":"息子"},null,null,null,null,{"$f":"設定!K28","v":"脂1600"}]
[null,"入　浴",null,null,null,null,null,null,null,null,null,null,null,null,null,null,null,null,null,null,null,null,null,null,null,null,null,null,null,null,null,null,null,null,{"$f":"IF(COUNTA(D24:AH24)=0,\"回数\",COUNTA(D24:AH24))","v":"回数"},null,null,{"$f":"設定!C29","v":"娘"},null,{"$f":"設定!E29","v":"娘"},null,null,null,null,{"$f":"設定!K29","v":"脂1800"}]
[null,"食　事",null,null,null,null,null,null,null,null,null,null,null,null,null,null,null,null,null,null,null,null,null,null,null,null,null,null,null,null,null,null,null,null,null,null,null,{"$f":"設定!C30","v":"兄"},null,{"$f":"設定!E30","v":"兄"},null,null,{"$f":"設定!I30","v":"検査食"},null,{"$f":"設定!K30","v":"検査"}]
[null,null,null,null,null,null,null,null,null,null,null,null,null,null,null,null,null,null,null,null,null,null,null,null,null,null,null,null,null,null,null,null,null,null,null,null,null,{"$f":"設定!C31","v":"弟"},null,{"$f":"設定!E31","v":"弟"},null,null,{"$f":"設定!I31","v":"絶食"},null,{"$f":"設定!K31","v":"絶食"}]
[null,null,null,null,null,null,null,null,null,null,null,null,null,null,null,null,null,null,null,null,null,null,null,null,null,null,null,null,null,null,null,null,null,null,{"$f":"IFERROR(INT(AVERAGE(D141:AH143))& \".\"&INT(AVERAGE(D144:AH146)),\"平均\")","v":"平均"},null,null,{"$f":"設定!C32","v":"姉"},null,{"$f":"設定!E32","v":"姉"},null,null,{"$f":"設定!I32","v":0},null,{"$f":"設定!K32","v":0}]
[null,"便　通",null,{"$f":"IF(ISBLANK(I51),\"\",I51)","v":""},{"$f":"IF(ISBLANK(I52),\"\",I52)","v":""},{"$f":"IF(ISBLANK(I53),\"\",I53)","v":""},{"$f":"IF(ISBLANK(I54),\"\",I54)","v":""},{"$f":"IF(ISBLANK(I55),\"\",I55)","v":""},{"$f":"IF(ISBLANK(I56),\"\",I56)","v":""},{"$f":"IF(ISBLANK(I57),\"\",I57)","v":""},{"$f":"IF(ISBLANK(I58),\"\",I58)","v":""},{"$f":"IF(ISBLANK(I59),\"\",I59)","v":""},{"$f":"IF(ISBLANK(I60),\"\",I60)","v":""},{"$f":"IF(ISBLANK(I61),\"\",I61)","v":""},{"$f":"IF(ISBLANK(I62),\"\",I62)","v":""},{"$f":"IF(ISBLANK(I63),\"\",I63)","v":""},{"$f":"IF(ISBLANK(I64),\"\",I64)","v":""},{"$f":"IF(ISBLANK(I65),\"\",I65)","v":""},{"$f":"IF(ISBLANK(I66),\"\",I66)","v":""},{"$f":"IF(ISBLANK(I67),\"\",I67)","v":""},{"$f":"IF(ISBLANK(I68),\"\",I68)","v":""},{"$f":"IF(ISBLANK(I69),\"\",I69)","v":""},{"$f":"IF(ISBLANK(I70),\"\",I70)","v":""},{"$f":"IF(ISBLANK(I71),\"\",I71)","v":""},{"$f":"IF(ISBLANK(I72),\"\",I72)","v":""},{"$f":"IF(ISBLANK(I73),\"\",I73)","v":""},{"$f":"IF(ISBLANK(I74),\"\",I74)","v":""},{"$f":"IF(ISBLANK(I75),\"\",I75)","v":""},{"$f":"IF(ISBLANK(I76),\"\",I76)","v":""},{"$f":"IF(ISBLANK(I77),\"\",I77)","v":""},{"$f":"IF(ISBLANK(I78),\"\",I78)","v":""},{"$f":"IF(ISBLANK(I79),\"\",I79)","v":""},{"$f":"IF(ISBLANK(I80),\"\",I80)","v":""},{"$f":"IF(ISBLANK('3月'!I50),\"\",'3月'!I50)","v":""},{"$f":"IF(COUNTIF(D28:AH28,0)=0,\"回数\",COUNTIF(D28:AH28,0))","v":"回数"},null,null,{"$f":"設定!C33","v":"妹"},null,{"$f":"設定!E33","v":"妹"},null,null,{"$f":"設定!I33","v":0},null,{"$f":"設定!K33","v":0}]
[null,"便処置",null,null,null,null,null,null,null,null,null,null,null,null,null,null,null,null,null,null,null,null,null,null,null,null,null,null,null,null,null,null,null,null,null,null,null,{"$f":"設定!C34","v":"孫"},null,{"$f":"設定!E34","v":"孫"},null,null,{"$f":"設定!I34","v":0},null,{"$f":"設定!K34","v":0}]
[null,null,null,null,null,null,null,null,null,null,null,null,null,null,null,null,null,null,null,null,null,null,null,null,null,null,null,null,null,null,null,null,null,null,{"$f":"IF(SUM(D29:AH31)=0,\"滴数\",SUM(D29:AH31))","v":"滴数"},null,null,{"$f":"設定!C35","v":"友人知人"},null,{"$f":"設定!E35","v":"知人"}]
[null,null,null,null,null,null,null,null,null,null,null,null,null,null,null,null,null,null,null,null,null,null,null,null,null,null,null,null,null,null,null,null,null,null,{"$f":"IF(AI30=\"滴数\",\"本数\",AI30/150)","v":"本数"},null,null,{"$f":"設定!C36","v":"子の夫"},null,{"$f":"設定!E36","v":"子夫"},null,null,{"$f":"設定!I36","v":"食事形態"}]
[null,"血　圧",null,{"$f":"$R$50","v":0},{"$f":"$R$58","v":0},{"$f":"R66","v":0},{"$f":"R74","v":0},{"$f":"R82","v":0},{"$f":"R90","v":0},{"$f":"R98","v":0},{"$f":"R106","v":0},{"$f":"Z50","v":0},{"$f":"Z58","v":0},{"$f":"Z66","v":0},{"$f":"Z74","v":0},{"$f":"Z82","v":0},{"$f":"Z90","v":0},{"$f":"Z98","v":0},{"$f":"Z106","v":0},{"$f":"AH50","v":0},{"$f":"AH58","v":0},{"$f":"AH66","v":0},{"$f":"AH74","v":0},{"$f":"AH82","v":0},{"$f":"AH90","v":0},{"$f":"AH98","v":0},{"$f":"AH106","v":0},{"$f":"AP50","v":0},{"$f":"AP58","v":0},{"$f":"AP66","v":0},{"$f":"AP74","v":0},{"$f":"AP82","v":0},{"$f":"AP90","v":0},{"$f":"AP98","v":0},null,null,null,{"$f":"設定!C37","v":"子の妻"},null,{"$f":"設定!E37","v":"子妻"},null,null,{"$f":"設定!I37","v":0},null,{"$f":"設定!K37","v":0}]
[null,null,null,{"$f":"$R$51","v":{"$error":"#N/A"}},{"$f":"$R$59","v":{"$error":"#N/A"}},{"$f":"R67","v":{"$error":"#N/A"}},{"$f":"R75","v":{"$error":"#N/A"}},{"$f":"R83","v":{"$error":"#N/A"}},{"$f":"R91","v":{"$error":"#N/A"}},{"$f":"R99","v":{"$error":"#N/A"}},{"$f":"R107","v":{"$error":"#N/A"}},{"$f":"Z51","v":{"$error":"#N/A"}},{"$f":"Z59","v":{"$error":"#N/A"}},{"$f":"Z67","v":{"$error":"#N/A"}},{"$f":"Z75","v":{"$error":"#N/A"}},{"$f":"Z83","v":{"$error":"#N/A"}},{"$f":"Z91","v":{"$error":"#N/A"}},{"$f":"Z99","v":{"$error":"#N/A"}},{"$f":"Z107","v":{"$error":"#N/A"}},{"$f":"AH51","v":{"$error":"#N/A"}},{"$f":"AH59","v":{"$error":"#N/A"}},{"$f":"AH67","v":{"$error":"#N/A"}},{"$f":"AH75","v":{"$error":"#N/A"}},{"$f":"AH83","v":{"$error":"#N/A"}},{"$f":"AH91","v":{"$error":"#N/A"}},{"$f":"AH99","v":{"$error":"#N/A"}},{"$f":"AH107","v":{"$error":"#N/A"}},{"$f":"AP51","v":{"$error":"#N/A"}},{"$f":"AP59","v":{"$error":"#N/A"}},{"$f":"AP67","v":{"$error":"#N/A"}},{"$f":"AP75","v":{"$error":"#N/A"}},{"$f":"AP83","v":{"$error":"#N/A"}},{"$f":"AP91","v":{"$error":"#N/A"}},{"$f":"AP99","v":{"$error":"#N/A"}},null,null,null,{"$f":"設定!C38","v":"祖母"},null,{"$f":"設定!E38","v":"祖母"},null,null,{"$f":"設定!I38","v":"普通食"},null,{"$f":"設定!K38","v":"普通"}]
[null,null,null,{"$f":"$R$52","v":0},{"$f":"$R$60","v":0},{"$f":"R68","v":0},{"$f":"R76","v":0},{"$f":"R84","v":0},{"$f":"R92","v":0},{"$f":"R100","v":0},{"$f":"R108","v":0},{"$f":"Z52","v":0},{"$f":"Z60","v":0},{"$f":"Z68","v":0},{"$f":"Z76","v":0},{"$f":"Z84","v":0},{"$f":"Z92","v":0},{"$f":"Z100","v":0},{"$f":"Z108","v":0},{"$f":"AH52","v":0},{"$f":"AH60","v":0},{"$f":"AH68","v":0},{"$f":"AH76","v":0},{"$f":"AH84","v":0},{"$f":"AH92","v":0},{"$f":"AH100","v":0},{"$f":"AH108","v":0},{"$f":"AP52","v":0},{"$f":"AP60","v":0},{"$f":"AP68","v":0},{"$f":"AP76","v":0},{"$f":"AP84","v":0},{"$f":"AP92","v":0},{"$f":"AP100","v":0},null,null,null,{"$f":"設定!C39","v":"祖父"},null,{"$f":"設定!E39","v":"祖父"},null,null,{"$f":"設定!I39","v":"普+一口大"},null,{"$f":"設定!K39","v":"一口"}]
[null,null,null,{"$f":"$R$53","v":0},{"$f":"$R$61","v":0},{"$f":"R69","v":0},{"$f":"R77","v":0},{"$f":"R85","v":0},{"$f":"R93","v":0},{"$f":"R101","v":0},{"$f":"R109","v":0},{"$f":"Z53","v":0},{"$f":"Z61","v":0},{"$f":"Z69","v":0},{"$f":"Z77","v":0},{"$f":"Z85","v":0},{"$f":"Z93","v":0},{"$f":"Z101","v":0},{"$f":"Z109","v":0},{"$f":"AH53","v":0},{"$f":"AH61","v":0},{"$f":"AH69","v":0},{"$f":"AH77","v":0},{"$f":"AH85","v":0},{"$f":"AH93","v":0},{"$f":"AH101","v":0},{"$f":"AH109","v":0},{"$f":"AP53","v":0},{"$f":"AP61","v":0},{"$f":"AP69","v":0},{"$f":"AP77","v":0},{"$f":"AP85","v":0},{"$f":"AP93","v":0},{"$f":"AP101","v":0},{"$f":"IFERROR(INT(AVERAGE(D149:AH152))& \"/\"&INT(AVERAGE(D153:AH156)),\"平均\")","v":"平均"},null,null,{"$f":"設定!C40","v":"従兄弟の父"},null,{"$f":"設定!E40","v":"叔父"},null,null,{"$f":"設定!I40","v":"普+キザミ"},null,{"$f":"設定!K40","v":"普キ"}]
[null,"食事箋",null,{"$f":"IF(COUNTIF('6月'!D40:AH40,\"*\"),INDEX('6月'!D40:AH40,MATCH(\"\",'6月'!D40:AH40,-1)),\"\")","v":""},null,null,null,null,null,null,null,null,null,null,null,null,null,null,null,null,null,null,null,null,null,null,null,null,null,null,null,null,null,null,null,null,null,{"$f":"設定!C41","v":"従兄弟の母"},null,{"$f":"設定!E41","v":"叔母"},null,null,{"$f":"設定!I41","v":"軟飯"},null,{"$f":"設定!K41","v":"軟飯"}]
[null,"形　態",null,{"$f":"IF(COUNTIF('6月'!D41:AH41,\"*\"),INDEX('6月'!D41:AH41,MATCH(\"\",'6月'!D41:AH41,-1)),\"\")","v":""},null,null,null,null,null,null,null,null,null,null,null,null,null,null,null,null,null,null,null,null,null,null,null,null,null,null,null,null,null,null,null,null,null,{"$f":"設定!C42","v":"従兄弟"},null,{"$f":"設定!E42","v":"ｲﾄｺ"},null,null,{"$f":"設定!I42","v":"軟+キザミ"},null,{"$f":"設定!K42","v":"軟キ"}]
[null,"身　長",null,{"$f":"IF(COUNT('6月'!D42:AH42),LOOKUP(MAX('6月'!D42:AH42)+1,'6月'!D42:AH42),\"\")","v":""},null,null,null,null,null,null,null,null,null,null,null,null,null,null,null,null,null,null,null,null,null,null,null,null,null,null,null,null,null,null,"BMI",null,null,{"$f":"設定!C43","v":"義理の母"},null,{"$f":"設定!E43","v":"義母"},null,null,{"$f":"設定!I43","v":"粥食"},null,{"$f":"設定!K43","v":"粥"}]
[null,"体　重",null,null,null,null,null,null,null,null,null,null,null,null,null,null,null,null,null,null,null,null,null,null,null,null,null,null,null,null,null,null,null,null,{"$f":"IF(ISERROR(INDEX(D39:AH39,MATCH(307,D39:AH39))/(INDEX(D38:AH38,MATCH(9E+307,D38:AH38))/100)^2)=TRUE,\"\",INDEX(D39:AH39,MATCH(307,D39:AH39))/(INDEX(D38:AH38,MATCH(9E+307,D38:AH38))/100)^2)","v":""},null,null,{"$f":"設定!C44","v":"義理の父"},null,{"$f":"設定!E44","v":"義父"},null,null,{"$f":"設定!I44","v":"粥+キザミ"},null,{"$f":"設定!K44","v":"粥キ"}]
[null,"Ｉ　Ｎ",null,null,null,null,null,null,null,null,null,null,null,null,null,null,null,null,null,null,null,null,null,null,null,null,null,null,null,null,null,null,null,null,{"$f":"IFERROR(INT(AVERAGE(D40:AH40)),\"平均\")","v":"平均"},null,null,{"$f":"設定!C45","v":"その他親類"},null,{"$f":"設定!E45","v":"親類"},null,null,{"$f":"設定!I45","v":"ミキサ－"},null,{"$f":"設定!K45","v":"ミキ"}]
[null,"ＯＵＴ",null,null,null,null,null,null,null,null,null,null,null,null,null,null,null,null,null,null,null,null,null,null,null,null,null,null,null,null,null,null,null,null,{"$f":"IFERROR(INT(AVERAGE(D41:AH41)),\"平均\")","v":"平均"},null,null,{"$f":"設定!C46","v":"福祉職員"},null,{"$f":"設定!E46","v":"福祉"},null,null,{"$f":"設定!I46","v":"普通流動"},null,{"$f":"設定!K46","v":"普流"}]
[null,"生　理",null,null,null,null,null,null,null,null,null,null,null,null,null,null,null,null,null,null,null,null,null,null,null,null,null,null,null,null,null,null,null,null,{"$f":"IF(ISERROR(AVERAGE(D42:AH42)),\" \",AVERAGE(D42:AH42))","v":" "},null,null,{"$f":"設定!C47","v":"施設職員"},null,{"$f":"設定!E47","v":"施設"},null,null,{"$f":"設定!I47","v":"濃厚流動"},null,{"$f":"設定!K47","v":"濃流"}]
[null,null,null,null,null,null,null,null,null,null,null,null,null,null,null,null,null,null,null,null,null,null,null,null,null,null,null,null,null,null,null,null,null,null,{"$f":"IF(ISERROR(AVERAGE(D43:AH43)),\" \",AVERAGE(D43:AH43))","v":" "},null,null,{"$f":"設定!C48","v":0},null,{"$f":"設定!E48","v":0},null,null,{"$f":"設定!H48","v":0},null,{"$f":"設定!J48","v":0}]
[null,null,null,null,null,null,null,null,null,null,null,null,null,null,null,null,null,null,null,null,null,null,null,null,null,null,null,null,null,null,null,null,null,null,{"$f":"COUNTA(D44:AH44)","v":0},null,null,{"$f":"設定!C49","v":0},null,{"$f":"設定!E49","v":0},null,null,{"$f":"設定!H49","v":0},null,{"$f":"設定!J49","v":0}]
[null,"日　付",null,1,2,3,4,5,6,7,8,9,10,11,12,13,14,15,16,17,18,19,20,21,22,23,24,25,26,27,28,29,30,31,null,null,null,{"$f":"設定!C50","v":0},null,{"$f":"設定!E50","v":0},null,null,{"$f":"設定!H50","v":0},null,{"$f":"設定!J50","v":0}]
[]
[null,{"$f":"$P$3","v":0},null,null,null,null,null,{"$f":"YEAR(I47)","v":2015},{"$f":"TODAY()","v":"2015-02-24"},{"$f":"TODAY()","v":42059}]
[null,"平常時記入",null,null,null,null,null,null,null,null,null,"熱発時記入"]
[null,"日","時間","T",null," P","BP",null,"便",null,null,"日","時間",null,"T",null,"P","BP",null,"日","時間",null,"T",null,"P","BP",null,"日","時間",null,"T",null,"P","BP",null,"日","時間",null,"T",null,"P","BP"]
[null,1,"10:00:00",null,null,null,null,null,null,null,null,1,null,null,null,null,null,null,null,9,null,null,null,null,null,null,null,17,null,null,null,null,null,null,null,25]
[null,2,"10:00:00",null,null,null,null,null,null,null,null,null,"10:00:00",null,{"$f":"IF($D$50=\"\",NA(),$D$50)","v":{"$error":"#N/A"}},null,{"$f":"IF($F$50=\"\",NA(),$F$50)","v":{"$error":"#N/A"}},{"$f":"IF($G$50=\"\",NA(),$G$50)","v":{"$error":"#N/A"}},null,null,"10:00:00",null,{"$f":"IF($D$58=\"\",NA(),$D$58)","v":{"$error":"#N/A"}},null,{"$f":"IF($F$58=\"\",NA(),$F$58)","v":{"$error":"#N/A"}},{"$f":"IF($G$58=\"\",NA(),$G$58)","v":{"$error":"#N/A"}},null,null,"10:00:00",null,{"$f":"IF($D$66=\"\",NA(),$D$66)","v":{"$error":"#N/A"}},null,{"$f":"IF($F$66=\"\",NA(),$F$66)","v":{"$error":"#N/A"}},{"$f":"IF($G$66=\"\",NA(),$G$66)","v":{"$error":"#N/A"}},null,null,"10:00:00",null,{"$f":"IF($D$74=\"\",NA(),$D$74)","v":{"$error":"#N/A"}},null,{"$f":"IF($F$74=\"\",NA(),$F$74)","v":{"$error":"#N/A"}},{"$f":"IF($G$74=\"\",NA(),$G$74)","v":{"$error":"#N/A"}}]
[null,3,"10:00:00",null,null,null,null,null,null,"☆"]
[null,4,"10:00:00"]
[null,5,"10:00:00",null,null,null,null,null,null,"コ"]
[null,6,"10:00:00",null,null,null,null,null,null,"ス"]
[null,7,"10:00:00",null,null,null,null,null,null,"モ"]
[null,8,"10:00:00",null,null,null,null,null,null,"ス"]
[null,9,"10:00:00",null,null,null,null,null,null,"へ",null,2,null,null,null,null,null,null,null,10,null,null,null,null,null,null,null,18,null,null,null,null,null,null,null,26]
[null,10,"10:00:00",null,null,null,null,null,null,"戻",null,null,"10:00:00",null,{"$f":"IF($D$51=\"\",NA(),$D$51)","v":{"$error":"#N/A"}},null,{"$f":"IF($F$51=\"\",NA(),$F$51)","v":{"$error":"#N/A"}},{"$f":"IF($G$51=\"\",NA(),$G$51)","v":{"$error":"#N/A"}},null,null,"10:00:00",null,{"$f":"IF($D$59=\"\",NA(),$D$59)","v":{"$error":"#N/A"}},null,{"$f":"IF($F$59=\"\",NA(),$F$59)","v":{"$error":"#N/A"}},{"$f":"IF($G$59=\"\",NA(),$G$59)","v":{"$error":"#N/A"}},null,null,"10:00:00",null,{"$f":"IF($D$67=\"\",NA(),$D$67)","v":{"$error":"#N/A"}},null,{"$f":"IF($F$67=\"\",NA(),$F$67)","v":{"$error":"#N/A"}},{"$f":"IF($G$67=\"\",NA(),$G$67)","v":{"$error":"#N/A"}},null,null,"10:00:00",null,{"$f":"IF($D$75=\"\",NA(),$D$75)","v":{"$error":"#N/A"}},null,{"$f":"IF($F$75=\"\",NA(),$F$75)","v":{"$error":"#N/A"}},{"$f":"IF($G$75=\"\",NA(),$G$75)","v":{"$error":"#N/A"}}]
[null,11,"10:00:00",null,null,null,null,null,null,"る"]
[null,12,"10:00:00"]
[null,13,"10:00:00"]
[null,14,"10:00:00",null,null,null,null,null,null,"（"]
[null,15,"10:00:00",null,null,null,null,null,null,"選"]
[null,16,"10:00:00",null,null,null,null,null,null,"択"]
[null,17,"10:00:00",null,null,null,null,null,null,"す",null,3,null,null,null,null,null,null,null,11,null,null,null,null,null,null,null,19,null,null,null,null,null,null,null,27]
[null,18,"10:00:00",null,null,null,null,null,null,"る",null,null,"10:00:00",null,{"$f":"IF($D$52=\"\",NA(),$D$52)","v":{"$error":"#N/A"}},null,{"$f":"IF($F$52=\"\",NA(),$F$52)","v":{"$error":"#N/A"}},{"$f":"IF($G$52=\"\",NA(),$G$52)","v":{"$error":"#N/A"}},null,null,"10:00:00",null,{"$f":"IF($D$60=\"\",NA(),$D$60)","v":{"$error":"#N/A"}},null,{"$f":"IF($F$60=\"\",NA(),$F$60)","v":{"$error":"#N/A"}},{"$f":"IF($G$60=\"\",NA(),$G$60)","v":{"$error":"#N/A"}},null,null,"10:00:00",null,{"$f":"IF($D$68=\"\",NA(),$D$68)","v":{"$error":"#N/A"}},null,{"$f":"IF($F$68=\"\",NA(),$F$68)","v":{"$error":"#N/A"}},{"$f":"IF($G$68=\"\",NA(),$G$68)","v":{"$error":"#N/A"}},null,null,"10:00:00",null,{"$f":"IF($D$76=\"\",NA(),$D$76)","v":{"$error":"#N/A"}},null,{"$f":"IF($F$76=\"\",NA(),$F$76)","v":{"$error":"#N/A"}},{"$f":"IF($G$76=\"\",NA(),$G$76)","v":{"$error":"#N/A"}}]
[null,19,"10:00:00",null,null,null,null,null,null,"だ"]
[null,20,"10:00:00",null,null,null,null,null,null,"け"]
[null,21,"10:00:00",null,null,null,null,null,null,"で"]
[null,22,"10:00:00",null,null,null,null,null,null,"移"]
[null,23,"10:00:00",null,null,null,null,null,null,"動"]
[null,24,"10:00:00",null,null,null,null,null,null,"し"]
[null,25,"10:00:00",null,null,null,null,null,null,"ま",null,4,null,null,null,null,null,null,null,12,null,null,null,null,null,null,null,20,null,null,null,null,null,null,null,28]
[null,26,"10:00:00",null,null,null,null,null,null,"す",null,null,"10:00:00",null,{"$f":"IF($D$53=\"\",NA(),$D$53)","v":{"$error":"#N/A"}},null,{"$f":"IF($F$53=\"\",NA(),$F$53)","v":{"$error":"#N/A"}},{"$f":"IF($G$53=\"\",NA(),$G$53)","v":{"$error":"#N/A"}},null,null,"10:00:00",null,{"$f":"IF($D$61=\"\",NA(),$D$61)","v":{"$error":"#N/A"}},null,{"$f":"IF($F$61=\"\",NA(),$F$61)","v":{"$error":"#N/A"}},{"$f":"IF($G$61=\"\",NA(),$G$61)","v":{"$error":"#N/A"}},null,null,"10:00:00",null,{"$f":"IF($D$69=\"\",NA(),$D$69)","v":{"$error":"#N/A"}},null,{"$f":"IF($F$69=\"\",NA(),$F$69)","v":{"$error":"#N/A"}},{"$f":"IF($G$69=\"\",NA(),$G$69)","v":{"$error":"#N/A"}},null,null,"10:00:00",null,{"$f":"IF($D$77=\"\",NA(),$D$77)","v":{"$error":"#N/A"}},null,{"$f":"IF($F$77=\"\",NA(),$F$77)","v":{"$error":"#N/A"}},{"$f":"IF($G$77=\"\",NA(),$G$77)","v":{"$error":"#N/A"}}]
[null,27,"10:00:00",null,null,null,null,null,null,"）"]
[null,28,"10:00:00"]
[null,29,"10:00:00"]
[null,30,"10:00:00"]
[null,31,"10:00:00"]
[]
[null,null,null,null,null,null,null,null,null,null,null,5,null,null,null,null,null,null,null,13,null,null,null,null,null,null,null,21,null,null,null,null,null,null,null,29]
[null,null,null,null,null,null,null,null,null,null,null,null,"10:00:00",null,{"$f":"IF($D$54=\"\",NA(),$D$54)","v":{"$error":"#N/A"}},null,{"$f":"IF($F$54=\"\",NA(),$F$54)","v":{"$error":"#N/A"}},{"$f":"IF($G$54=\"\",NA(),$G$54)","v":{"$error":"#N/A"}},null,null,"10:00:00",null,{"$f":"IF($D$62=\"\",NA(),$D$62)","v":{"$error":"#N/A"}},null,{"$f":"IF($F$62=\"\",NA(),$F$62)","v":{"$error":"#N/A"}},{"$f":"IF($G$62=\"\",NA(),$G$62)","v":{"$error":"#N/A"}},null,null,"10:00:00",null,{"$f":"IF($D$70=\"\",NA(),$D$70)","v":{"$error":"#N/A"}},null,{"$f":"IF($F$70=\"\",NA(),$F$70)","v":{"$error":"#N/A"}},{"$f":"IF($G$70=\"\",NA(),$G$70)","v":{"$error":"#N/A"}},null,null,"10:00:00",null,{"$f":"IF($D$78=\"\",NA(),$D$78)","v":{"$error":"#N/A"}},null,{"$f":"IF($F$78=\"\",NA(),$F$78)","v":{"$error":"#N/A"}},{"$f":"IF($G$78=\"\",NA(),$G$78)","v":{"$error":"#N/A"}}]
[]
[]
[]
[]
[]
[]
[null,null,null,null,null,null,null,null,null,null,null,6,null,null,null,null,null,null,null,14,null,null,null,null,null,null,null,22,null,null,null,null,null,null,null,30]
[null,null,null,null,null,null,null,null,null,null,null,null,"10:00:00",null,{"$f":"IF($D$55=\"\",NA(),$D$55)","v":{"$error":"#N/A"}},null,{"$f":"IF($F$55=\"\",NA(),$F$55)","v":{"$error":"#N/A"}},{"$f":"IF($G$55=\"\",NA(),$G$55)","v":{"$error":"#N/A"}},null,null,"10:00:00",null,{"$f":"IF($D$63=\"\",NA(),$D$63)","v":{"$error":"#N/A"}},null,{"$f":"IF($F$63=\"\",NA(),$F$63)","v":{"$error":"#N/A"}},{"$f":"IF($G$63=\"\",NA(),$G$63)","v":{"$error":"#N/A"}},null,null,"10:00:00",null,{"$f":"IF($D$71=\"\",NA(),$D$71)","v":{"$error":"#N/A"}},null,{"$f":"IF($F$71=\"\",NA(),$F$71)","v":{"$error":"#N/A"}},{"$f":"IF($G$71=\"\",NA(),$G$71)","v":{"$error":"#N/A"}},null,null,"10:00:00",null,{"$f":"IF($D$79=\"\",NA(),$D$79)","v":{"$error":"#N/A"}},null,{"$f":"IF($F$79=\"\",NA(),$F$79)","v":{"$error":"#N/A"}},{"$f":"IF($G$79=\"\",NA(),$G$79)","v":{"$error":"#N/A"}}]
[]
[]
[]
[]
[]
[]
[null,null,null,null,null,null,null,null,null,null,null,7,null,null,null,null,null,null,null,15,null,null,null,null,null,null,null,23,null,null,null,null,null,null,null,31]
[null,null,null,null,null,null,null,null,null,null,null,null,"10:00:00",null,{"$f":"IF($D$56=\"\",NA(),$D$56)","v":{"$error":"#N/A"}},null,{"$f":"IF($F$56=\"\",NA(),$F$56)","v":{"$error":"#N/A"}},{"$f":"IF($G$56=\"\",NA(),$G$56)","v":{"$error":"#N/A"}},null,null,"10:00:00",null,{"$f":"IF($D$64=\"\",NA(),$D$64)","v":{"$error":"#N/A"}},null,{"$f":"IF($F$64=\"\",NA(),$F$64)","v":{"$error":"#N/A"}},{"$f":"IF($G$64=\"\",NA(),$G$64)","v":{"$error":"#N/A"}},null,null,"10:00:00",null,{"$f":"IF($D$72=\"\",NA(),$D$72)","v":{"$error":"#N/A"}},null,{"$f":"IF($F$72=\"\",NA(),$F$72)","v":{"$error":"#N/A"}},{"$f":"IF($G$72=\"\",NA(),$G$72)","v":{"$error":"#N/A"}},null,null,"10:00:00",null,{"$f":"IF($D$80=\"\",NA(),$D$80)","v":{"$error":"#N/A"}},null,{"$f":"IF($F$80=\"\",NA(),$F$80)","v":{"$error":"#N/A"}},{"$f":"IF($G$80=\"\",NA(),$G$80)","v":{"$error":"#N/A"}}]
[]
[]
[]
[]
[]
[]
[null,null,null,null,null,null,null,null,null,null,null,8,null,null,null,null,null,null,null,16,null,null,null,null,null,null,null,24]
[null,null,null,null,null,null,null,null,null,null,null,null,"10:00:00",null,{"$f":"IF($D$57=\"\",NA(),$D$57)","v":{"$error":"#N/A"}},null,{"$f":"IF($F$57=\"\",NA(),$F$57)","v":{"$error":"#N/A"}},{"$f":"IF($G$57=\"\",NA(),$G$57)","v":{"$error":"#N/A"}},null,null,"10:00:00",null,{"$f":"IF($D$65=\"\",NA(),$D$65)","v":{"$error":"#N/A"}},null,{"$f":"IF($F$65=\"\",NA(),$F$65)","v":{"$error":"#N/A"}},{"$f":"IF($G$65=\"\",NA(),$G$65)","v":{"$error":"#N/A"}},null,null,"10:00:00",null,{"$f":"IF($D$73=\"\",NA(),$D$73)","v":{"$error":"#N/A"}},null,{"$f":"IF($F$73=\"\",NA(),$F$73)","v":{"$error":"#N/A"}},{"$f":"IF($G$73=\"\",NA(),$G$73)","v":{"$error":"#N/A"}}]
[]
[]
[]
[]
[]
[]
[]
[]
[]
[]
[]
[]
[]
[]
[]
[]
[]
[]
[]
[]
[]
[null,null,"Enterで入力画面へ"]
[null,null,"ｶｰｿﾙ初期位置",null,null,null,"日付チェック",null,null,null,"バイタルコピー"]
["管理欄",null,"入力に入る",null,null,null,"今日",{"$f":"NOW()","v":"2015-02-24T03:11:52.510"},null,null,{"$f":"IF($D$74=\"\",NA(),$D$74)","v":{"$error":"#N/A"}},null,{"$f":"IF($F$74=\"\",NA(),$F$74)","v":{"$error":"#N/A"}},{"$f":"IF($G$74=\"\",NA(),$G$74)","v":{"$error":"#N/A"}},null,{"$f":"K131&M131&N131","v":{"$error":"#N/A"}}]
[null,null,null,null,null,null,"日",{"$f":"DAY(H131)","v":24},null,null,null,null,null,null,null,""]
[null,null,null,null,null,null,"月",{"$f":"MONTH(H131)","v":2},null,null,null,null,null,null,null,""]
[null,null,null,null,null,null,null,null,null,null,null,null,null,null,null,""]
[null,null,null,null,null,null,"時",{"$f":"HOUR(H131)","v":3},null,null,null,null,null,null,null,""]
[null,null,null,null,null,null,null,null,null,null,null,null,null,null,null,""]
[null,null,null,null,null,null,null,null,null,null,null,null,null,null,null,""]
[null,null,null,null,null,null,null,null,null,null,null,null,null,null,null,""]
[null,null,null,null,null,null,null,null,null,null,null,null,null,null,null,""]
[null,null,"食事平均",null,null,null,null,null,null,null,null,null,null,null,null,""]
[null,null,"左",{"$f":"IF(D25=\"\", \"\", LEFT(D25,SEARCH(\".\",D25,1)-1)*1)","v":""},{"$f":"IF(E25=\"\", \"\", LEFT(E25,SEARCH(\".\",E25,1)-1)*1)","v":""},"","","","","","","","","","","","","","","","","","","","","","","","","","","","",""]
[null,null,null,{"$f":"IF(D26=\"\", \"\", LEFT(D26,SEARCH(\".\",D26,1)-1)*1)","v":""},"","","","","","","","","","","","","","","","","","","","","","","","","","","","","",""]
[null,null,null,"","","","","","","","","","","","","","","","","","","","","","","","","","","","","","",""]
[null,null,"右",{"$f":"IF(D25=\"\", \"\", RIGHT(D25,LEN(D25)-FIND(\".\",D25,1))*1)","v":""},{"$f":"IF(E25=\"\", \"\", RIGHT(E25,LEN(E25)-FIND(\".\",E25,1))*1)","v":""},"","","","","","","","","","","","","","","","","","","","","","","","","","","","",""]
[null,null,null,{"$f":"IF(D26=\"\", \"\", RIGHT(D26,LEN(D26)-FIND(\".\",D26,1))*1)","v":""},"","","","","","","","","","","","","","","","","","","","","","","","","","","","","",""]
[null,null,null,{"$f":"IF(D27=\"\", \"\", RIGHT(D27,LEN(D27)-FIND(\".\",D27,1))*1)","v":""},"","","","","","","","","","","","","","","","","","","","","","","","","","","","","",""]
[null,null,null,null,null,null,null,null,null,null,null,null,null,null,null,""]
[null,null,"BP平均",null,null,null,null,null,null,null,null,null,null,null,null,""]
[null,null,"左",{"$f":"IF(ISERROR(LEFT(D32,SEARCH(\"/\",D32,1)-1)*1),\"\",LEFT(D32,SEARCH(\"/\",D32,1)-1)*1)","v":""},{"$f":"IF(ISERROR(LEFT(E32,SEARCH(\"/\",E32,1)-1)*1),\"\",LEFT(E32,SEARCH(\"/\",E32,1)-1)*1)","v":""},"","","","","","","","","","","","","","","","","","","","","","","","","","","","",""]
[null,null,null,{"$f":"IF(ISERROR(LEFT(D33,SEARCH(\"/\",D33,1)-1)*1),\"\",LEFT(D33,SEARCH(\"/\",D33,1)-1)*1)","v":""},"","","","","","","","","","","","","","","","","","","","","","","","","","","","","",""]
[null,null,null,"","","","","","","","","","","","","","","","","","","","","","","","","","","","","","",""]
[null,null,null,"","","","","","","","","","","","","","","","","","","","","","","","","","","","","","",""]
[null,null,"右",{"$f":"IF(ISERROR(RIGHT(D32,LEN(D32)-FIND(\"/\",D32,1))*1),\"\",RIGHT(D32,LEN(D32)-FIND(\"/\",D32,1))*1)","v":""},{"$f":"IF(ISERROR(RIGHT(E32,LEN(E32)-FIND(\"/\",E32,1))*1),\"\",RIGHT(E32,LEN(E32)-FIND(\"/\",E32,1))*1)","v":""},{"$f":"IF(ISERROR(RIGHT(F32,LEN(F32)-FIND(\"/\",F32,1))*1),\"\",RIGHT(F32,LEN(F32)-FIND(\"/\",F32,1))*1)","v":""},"","","","","","","","","","","","","","","","","","","","","","","","","","","",""]
[null,null,null,{"$f":"IF(ISERROR(RIGHT(D33,LEN(D33)-FIND(\"/\",D33,1))*1),\"\",RIGHT(D33,LEN(D33)-FIND(\"/\",D33,1))*1)","v":""},"","","","","","","","","","","","","","","","","","","","","","","","","","","","","",""]
[null,null,null,"","","","","","","","","","","","","","","","","","","","","","","","","","","","","","",""]
[null,null,null,"","","","","","","","","","","","","","","","","","","","","","","","","","","","","","",""]
[null,null,null,null,null,null,null,null,null,null,null,null,null,null,null,""]
[null,null,null,null,null,null,null,null,null,null,null,null,null,null,null,""]
[null,null,null,null,null,null,null,null,null,null,null,null,null,null,null,""]
[null,null,null,null,null,null,null,null,null,null,null,null,null,null,null,""]
[null,null,null,null,null,null,null,null,null,null,null,null,null,null,null,{"$f":"K161&M161&N161","v":""}]

{"sheet":"8月","index":8,"n_rows":161,"n_cols":45,"rows_kept":161,"cut":false,"hidden":false,"merged":[[138,10,138,11],[138,13,138,14],[139,10,139,11],[160,10,160,11],[160,13,160,14],[147,10,147,11],[147,13,147,14],[139,13,139,14],[48,12,48,13],[48,14,48,15],[131,10,131,11],[131,13,131,14],[132,10,132,11],[132,13,132,14],[133,10,133,11],[133,13,133,14],[134,10,134,11],[134,13,134,14],[135,10,135,11],[135,13,135,14],[136,10,136,11],[136,13,136,14],[137,10,137,11],[137,13,137,14],[75,12,75,13],[61,12,61,13],[81,11,88,11],[81,12,81,13],[81,14,81,15],[92,12,92,13],[92,14,92,15],[89,12,89,13],[52,33,52,34],[52,36,52,37],[50,20,50,21],[50,22,50,23],[50,25,50,26],[52,22,52,23],[52,25,52,26],[52,28,52,29],[54,33,54,34],[54,36,54,37],[52,30,52,31],[53,28,53,29],[53,30,53,31],[50,28,50,29],[58,28,58,29],[60,25,60,26],[61,14,61,15],[63,36,63,37],[66,28,66,29],[69,25,69,26],[70,25,70,26],[68,30,68,31],[69,33,69,34],[70,30,70,31],[65,19,72,19],[65,20,65,21],[60,33,60,34],[65,22,65,23],[65,25,65,26],[23,1,23,2],[27,1,27,2],[28,1,30,2],[29,37,29,38],[30,37,30,38],[51,33,51,34],[49,25,49,26],[49,27,56,27],[49,28,49,29],[49,30,49,31],[50,30,50,31],[51,30,51,31],[49,20,49,21],[49,22,49,23],[53,20,53,21],[53,33,53,34],[53,36,53,37],[48,22,48,23],[48,36,48,37],[24,1,26,2],[31,1,34,2],[35,1,35,2],[56,33,56,34],[36,1,36,2],[37,1,37,2],[38,1,38,2],[53,41,53,42],[4,42,4,45],[18,1,18,2],[19,1,19,2],[20,1,20,2],[21,1,22,2],[16,1,16,2],[17,1,17,2],[2,10,3,12],[2,1,3,3],[1,7,1,9],[1,10,1,12],[13,37,13,40],[0,1,0,2],[0,5,0,6],[1,1,1,3],[1,4,1,6],[4,37,4,40],[5,37,9,40],[10,37,10,40],[11,37,11,40],[12,37,12,40],[16,39,16,40],[17,39,17,40],[18,39,18,40],[2,25,2,30],[3,25,3,30],[1,23,1,24],[2,23,3,24],[15,37,15,40],[16,37,16,38],[17,37,17,38],[54,38,54,39],[29,39,29,40],[30,39,30,40],[1,13,1,14],[2,15,3,20],[1,15,1,19],[1,25,1,31],[47,1,47,9],[47,11,47,18],[47,19,47,26],[47,27,47,34],[48,17,48,18],[48,20,48,21],[48,30,48,31],[48,33,48,34],[42,1,42,2],[43,1,43,2],[44,1,44,2],[46,1,46,5],[39,1,39,2],[40,1,40,2],[41,1,41,2],[48,25,48,26],[48,28,48,29],[48,3,48,4],[48,6,48,7],[51,25,51,26],[51,28,51,29],[53,38,53,39],[18,37,18,38],[21,39,21,40],[49,36,49,37],[56,41,56,42],[56,36,56,37],[48,38,48,39],[52,3,52,4],[52,6,52,7],[52,12,52,13],[52,14,52,15],[52,17,52,18],[52,20,52,21],[51,3,51,4],[51,6,51,7],[51,12,51,13],[51,14,51,15],[49,41,49,42],[50,3,50,4],[50,6,50,7],[50,12,50,13],[50,14,50,15],[50,17,50,18],[50,41,50,42],[49,38,49,39],[50,33,50,34],[50,36,50,37],[50,38,50,39],[49,33,49,34],[49,35,56,35],[51,41,51,42],[53,25,53,26],[56,38,56,39],[55,33,55,34],[55,36,55,37],[52,41,52,42],[51,36,51,37],[51,38,51,39],[54,41,54,42],[55,3,55,4],[55,6,55,7],[55,12,55,13],[55,14,55,15],[55,17,55,18],[55,20,55,21],[55,22,55,23],[55,25,55,26],[55,38,55,39],[54,20,54,21],[54,22,54,23],[54,25,54,26],[54,30,54,31],[54,28,54,29],[54,3,54,4],[54,6,54,7],[54,12,54,13],[54,14,54,15],[49,11,56,11],[53,3,53,4],[53,6,53,7],[53,12,53,13],[53,14,53,15],[49,12,49,13],[52,38,52,39],[51,20,51,21],[51,22,51,23],[53,22,53,23],[55,41,55,42],[57,3,57,4],[57,6,57,7],[57,11,64,11],[57,12,57,13],[57,14,57,15],[57,17,57,18],[57,19,64,19],[56,3,56,4],[56,6,56,7],[56,12,56,13],[56,14,56,15],[56,17,56,18],[56,20,56,21],[56,22,56,23],[56,25,56,26],[55,28,55,29],[55,30,55,31],[56,28,56,29],[56,30,56,31],[49,19,56,19],[54,17,54,18],[51,17,51,18],[53,17,53,18],[61,30,61,31],[60,17,60,18],[60,20,60,21],[60,28,60,29],[59,25,59,26],[49,14,49,15],[49,17,49,18],[59,3,59,4],[63,38,63,39],[57,35,64,35],[57,36,57,37],[57,38,57,39],[62,41,62,42],[60,41,60,42],[61,36,61,37],[64,41,64,42],[63,17,63,18],[63,20,63,21],[63,22,63,23],[63,30,63,31],[63,33,63,34],[61,41,61,42],[62,22,62,23],[62,36,62,37],[59,33,59,34],[59,36,59,37],[62,17,62,18],[62,20,62,21],[59,17,59,18],[61,38,61,39],[62,30,62,31],[57,33,57,34],[61,33,61,34],[62,33,62,34],[57,30,57,31],[58,30,58,31],[59,30,59,31],[60,30,60,31],[60,22,60,23],[58,38,58,39],[59,38,59,39],[59,28,59,29],[57,41,57,42],[58,3,58,4],[58,6,58,7],[58,12,58,13],[58,14,58,15],[58,17,58,18],[58,20,58,21],[58,22,58,23],[58,25,58,26],[57,20,57,21],[60,36,60,37],[60,38,60,39],[59,6,59,7],[59,12,59,13],[59,14,59,15],[57,22,57,23],[57,25,57,26],[57,27,64,27],[57,28,57,29],[61,28,61,29],[61,25,61,26],[62,25,62,26],[63,25,63,26],[63,28,63,29],[62,28,62,29],[62,38,62,39],[61,22,61,23],[61,17,61,18],[63,41,63,42],[61,20,61,21],[58,41,58,42],[59,20,59,21],[59,22,59,23],[64,33,64,34],[64,36,64,37],[64,38,64,39],[64,17,64,18],[64,20,64,21],[64,22,64,23],[64,25,64,26],[64,28,64,29],[64,3,64,4],[64,6,64,7],[64,12,64,13],[64,14,64,15],[58,33,58,34],[58,36,58,37],[63,3,63,4],[63,6,63,7],[63,12,63,13],[63,14,63,15],[62,3,62,4],[62,6,62,7],[62,12,62,13],[62,14,62,15],[61,3,61,4],[61,6,61,7],[59,41,59,42],[60,3,60,4],[60,6,60,7],[60,12,60,13],[60,14,60,15],[65,3,65,4],[65,6,65,7],[65,11,72,11],[65,12,65,13],[65,14,65,15],[65,17,65,18],[71,3,71,4],[71,6,71,7],[71,12,71,13],[71,14,71,15],[64,30,64,31],[72,33,72,34],[66,41,66,42],[67,3,67,4],[67,6,67,7],[67,12,67,13],[67,14,67,15],[67,17,67,18],[67,20,67,21],[67,22,67,23],[67,25,67,26],[67,28,67,29],[67,36,67,37],[67,38,67,39],[65,41,65,42],[66,3,66,4],[66,6,66,7],[66,12,66,13],[66,14,66,15],[66,17,66,18],[66,20,66,21],[66,22,66,23],[65,30,65,31],[65,36,65,37],[65,38,65,39],[66,33,66,34],[66,36,66,37],[66,38,66,39],[65,33,65,34],[65,35,72,35],[67,33,67,34],[68,33,68,34],[69,30,69,31],[66,30,66,31],[68,36,68,37],[68,38,68,39],[65,27,72,27],[65,28,65,29],[69,28,69,29],[66,25,66,26],[68,41,68,42],[69,3,69,4],[69,6,69,7],[69,12,69,13],[69,14,69,15],[69,17,69,18],[69,20,69,21],[69,22,69,23],[67,41,67,42],[68,3,68,4],[68,6,68,7],[68,12,68,13],[68,14,68,15],[68,17,68,18],[68,20,68,21],[68,22,68,23],[68,25,68,26],[68,28,68,29],[67,30,67,31],[77,41,77,42],[73,3,73,4],[73,6,73,7],[73,11,80,11],[73,12,73,13],[73,14,73,15],[73,17,73,18],[78,3,78,4],[78,6,78,7],[78,12,78,13],[78,14,78,15],[70,36,70,37],[70,38,70,39],[70,41,70,42],[71,33,71,34],[70,33,70,34],[69,36,69,37],[69,38,69,39],[69,41,69,42],[70,3,70,4],[70,6,70,7],[70,12,70,13],[70,14,70,15],[70,17,70,18],[70,20,70,21],[70,22,70,23],[71,25,71,26],[71,28,71,29],[70,28,70,29],[72,36,72,37],[72,38,72,39],[71,41,71,42],[72,3,72,4],[72,6,72,7],[72,12,72,13],[72,14,72,15],[72,17,72,18],[72,41,72,42],[71,17,71,18],[72,20,72,21],[72,22,72,23],[72,25,72,26],[72,28,72,29],[71,30,71,31],[71,20,71,21],[71,22,71,23],[72,30,72,31],[71,36,71,37],[71,38,71,39],[77,20,77,21],[77,22,77,23],[77,25,77,26],[77,33,77,34],[75,14,75,15],[75,17,75,18],[75,20,75,21],[76,3,76,4],[76,6,76,7],[76,12,76,13],[76,14,76,15],[75,3,75,4],[75,6,75,7],[74,3,74,4],[74,6,74,7],[74,12,74,13],[74,14,74,15],[74,17,74,18],[77,3,77,4],[77,6,77,7],[77,12,77,13],[77,14,77,15],[77,17,77,18],[76,33,76,34],[73,19,80,19],[73,20,73,21],[76,25,76,26],[76,28,76,29],[73,36,73,37],[73,38,73,39],[74,33,74,34],[74,36,74,37],[74,38,74,39],[75,33,75,34],[75,36,75,37],[75,38,75,39],[73,33,73,34],[73,35,80,35],[73,22,73,23],[78,36,78,37],[78,38,78,39],[78,22,78,23],[78,25,78,26],[77,38,77,39],[77,36,77,37],[76,36,76,37],[76,38,76,39],[76,41,76,42],[75,41,75,42],[76,17,76,18],[76,20,76,21],[80,41,80,42],[73,41,73,42],[74,30,74,31],[75,30,75,31],[76,30,76,31],[77,28,77,29],[77,30,77,31],[74,25,74,26],[74,28,74,29],[73,25,73,26],[80,36,80,37],[80,28,80,29],[80,30,80,31],[80,33,80,34],[80,38,80,39],[73,27,80,27],[74,20,74,21],[74,22,74,23],[74,41,74,42],[78,17,78,18],[78,20,78,21],[73,28,73,29],[73,30,73,31],[78,28,78,29],[75,22,75,23],[75,25,75,26],[75,28,75,29],[76,22,76,23],[81,17,81,18],[81,19,88,19],[80,12,80,13],[80,14,80,15],[80,17,80,18],[80,20,80,21],[80,22,80,23],[80,25,80,26],[79,36,79,37],[79,38,79,39],[78,41,78,42],[79,3,79,4],[79,6,79,7],[79,12,79,13],[79,14,79,15],[79,17,79,18],[79,41,79,42],[79,20,79,21],[79,22,79,23],[79,25,79,26],[79,28,79,29],[78,30,78,31],[78,33,78,34],[79,30,79,31],[79,33,79,34],[81,41,81,42],[82,12,82,13],[82,14,82,15],[82,17,82,18],[81,33,81,34],[81,35,88,35],[81,36,81,37],[81,38,81,39],[82,36,82,37],[82,38,82,39],[83,36,83,37],[83,38,83,39],[84,36,84,37],[81,20,81,21],[81,22,81,23],[81,25,81,26],[81,27,88,27],[81,28,81,29],[81,30,81,31],[86,30,86,31],[85,30,85,31],[83,33,83,34],[86,33,86,34],[86,36,86,37],[86,38,86,39],[88,33,88,34],[88,36,88,37],[88,38,88,39],[83,41,83,42],[84,12,84,13],[84,14,84,15],[84,17,84,18],[84,20,84,21],[84,22,84,23],[84,25,84,26],[84,28,84,29],[84,30,84,31],[82,33,82,34],[82,41,82,42],[83,12,83,13],[83,14,83,15],[83,17,83,18],[83,20,83,21],[83,22,83,23],[83,25,83,26],[83,28,83,29],[83,30,83,31],[84,38,84,39],[82,20,82,21],[82,22,82,23],[82,25,82,26],[82,28,82,29],[82,30,82,31],[86,41,86,42],[85,36,85,37],[85,38,85,39],[85,41,85,42],[85,33,85,34],[86,12,86,13],[86,14,86,15],[86,17,86,18],[86,20,86,21],[86,22,86,23],[86,25,86,26],[84,33,84,34],[86,28,86,29],[84,41,84,42],[85,12,85,13],[85,14,85,15],[85,17,85,18],[85,20,85,21],[85,22,85,23],[85,25,85,26],[85,28,85,29],[88,41,88,42],[88,22,88,23],[88,25,88,26],[88,28,88,29],[88,30,88,31],[88,12,88,13],[88,14,88,15],[88,17,88,18],[88,20,88,21],[87,33,87,34],[87,36,87,37],[87,12,87,13],[87,14,87,15],[87,17,87,18],[87,20,87,21],[87,38,87,39],[87,41,87,42],[87,22,87,23],[87,25,87,26],[87,28,87,29],[87,30,87,31],[92,17,92,18],[92,20,92,21],[90,41,90,42],[91,36,91,37],[91,38,91,39],[91,41,91,42],[90,22,90,23],[90,25,90,26],[89,33,89,34],[90,28,90,29],[90,30,90,31],[90,33,90,34],[91,33,91,34],[89,19,96,19],[89,20,89,21],[89,22,89,23],[89,25,89,26],[90,20,90,21],[91,20,91,21],[91,22,91,23],[92,28,92,29],[92,30,92,31],[89,27,96,27],[89,28,89,29],[89,30,89,31],[91,28,91,29],[91,30,91,31],[91,25,91,26],[95,33,95,34],[95,36,95,37],[89,14,89,15],[89,17,89,18],[90,12,90,13],[90,14,90,15],[90,17,90,18],[91,12,91,13],[91,14,91,15],[91,17,91,18],[93,33,93,34],[93,36,93,37],[93,12,93,13],[93,14,93,15],[93,17,93,18],[93,20,93,21],[93,38,93,39],[93,41,93,42],[93,22,93,23],[93,25,93,26],[93,28,93,29],[93,30,93,31],[92,33,92,34],[92,36,92,37],[92,38,92,39],[92,41,92,42],[89,35,96,35],[89,36,89,37],[89,38,89,39],[89,41,89,42],[90,36,90,37],[90,38,90,39],[92,22,92,23],[92,25,92,26],[95,12,95,13],[95,14,95,15],[95,17,95,18],[95,20,95,21],[95,38,95,39],[95,41,95,42],[95,22,95,23],[95,25,95,26],[95,28,95,29],[95,30,95,31],[94,33,94,34],[94,36,94,37],[94,38,94,39],[94,41,94,42],[94,22,94,23],[94,25,94,26],[94,28,94,29],[94,30,94,31],[94,12,94,13],[94,14,94,15],[94,17,94,18],[94,20,94,21],[97,11,104,11],[97,12,97,13],[97,14,97,15],[97,17,97,18],[98,12,98,13],[98,14,98,15],[98,17,98,18],[99,12,99,13],[99,14,99,15],[99,17,99,18],[96,33,96,34],[96,36,96,37],[96,38,96,39],[96,41,96,42],[96,22,96,23],[96,25,96,26],[96,28,96,29],[96,30,96,31],[96,12,96,13],[96,14,96,15],[96,17,96,18],[96,20,96,21],[89,11,96,11],[100,12,100,13],[100,14,100,15],[100,17,100,18],[100,20,100,21],[97,19,104,19],[97,20,97,21],[101,12,101,13],[101,14,101,15],[101,17,101,18],[101,20,101,21],[99,38,99,39],[99,41,99,42],[97,33,97,34],[98,28,98,29],[98,30,98,31],[98,33,98,34],[99,33,99,34],[97,30,97,31],[99,28,99,29],[99,30,99,31],[97,22,97,23],[97,25,97,26],[98,20,98,21],[98,22,98,23],[98,25,98,26],[99,20,99,21],[99,22,99,23],[99,25,99,26],[103,25,103,26],[103,28,103,29],[102,36,102,37],[102,38,102,39],[102,41,102,42],[102,22,102,23],[102,25,102,26],[102,28,102,29],[102,30,102,31],[101,33,101,34],[101,36,101,37],[101,38,101,39],[101,41,101,42],[101,22,101,23],[101,25,101,26],[101,28,101,29],[101,30,101,31],[97,27,104,27],[97,28,97,29],[100,33,100,34],[100,36,100,37],[100,22,100,23],[100,25,100,26],[100,28,100,29],[100,30,100,31],[100,38,100,39],[100,41,100,42],[104,14,104,15],[104,17,104,18],[104,20,104,21],[104,36,104,37],[104,22,104,23],[104,25,104,26],[104,28,104,29],[104,30,104,31],[104,38,104,39],[104,33,104,34],[103,41,103,42],[104,41,104,42],[103,30,103,31],[103,33,103,34],[103,36,103,37],[103,38,103,39],[103,14,103,15],[103,17,103,18],[103,20,103,21],[97,35,104,35],[97,36,97,37],[97,38,97,39],[97,41,97,42],[98,36,98,37],[98,38,98,39],[98,41,98,42],[99,36,99,37],[102,33,102,34],[102,14,102,15],[102,17,102,18],[102,20,102,21],[103,22,103,23],[107,28,107,29],[110,14,110,15],[110,17,110,18],[110,20,110,21],[107,17,107,18],[108,22,108,23],[108,25,108,26],[108,28,108,29],[106,25,106,26],[107,20,107,21],[107,22,107,23],[105,33,105,34],[106,28,106,29],[106,30,106,31],[106,33,106,34],[106,20,106,21],[106,22,106,23],[107,30,107,31],[106,14,106,15],[106,17,106,18],[107,14,107,15],[105,14,105,15],[105,17,105,18],[107,33,107,34],[105,19,112,19],[105,20,105,21],[105,22,105,23],[105,25,105,26],[107,25,107,26],[105,30,105,31],[108,33,108,34],[130,0,132,0],[130,2,130,4],[130,7,130,8],[105,11,112,11],[105,12,105,13],[107,12,107,13],[108,12,108,13],[108,14,108,15],[129,10,129,12],[112,22,112,23],[112,12,112,13],[112,14,112,15],[112,17,112,18],[112,20,112,21],[111,17,111,18],[111,20,111,21],[111,22,111,23],[110,22,110,23],[109,17,109,18],[109,20,109,21],[109,22,109,23],[108,17,108,18],[108,20,108,21],[130,10,130,11],[130,13,130,14],[109,14,109,15],[27,37,27,38],[28,37,28,38],[33,42,33,43],[112,33,112,34],[129,2,129,4],[129,6,129,8],[112,25,112,26],[112,28,112,29],[112,30,112,31],[111,12,111,13],[111,14,111,15],[111,25,111,26],[111,28,111,29],[111,30,111,31],[111,33,111,34],[110,25,110,26],[110,28,110,29],[110,30,110,31],[110,33,110,34],[109,25,109,26],[109,28,109,29],[109,30,109,31],[105,27,112,27],[105,28,105,29],[109,33,109,34],[49,3,49,4],[49,6,49,7],[44,42,44,43],[39,42,39,43],[40,42,40,43],[41,42,41,43],[108,30,108,31],[16,42,16,43],[17,42,17,43],[18,42,18,43],[35,39,35,40],[36,39,36,40],[36,37,36,38],[37,37,37,38],[38,37,38,38],[19,39,19,40],[35,37,35,38],[31,37,31,38],[32,37,32,38],[33,37,33,38],[34,37,34,38],[25,39,25,40],[26,39,26,40],[31,39,31,40],[32,39,32,40],[19,37,19,38],[20,37,20,38],[21,37,21,38],[22,37,22,38],[23,37,23,38],[24,37,24,38],[25,37,25,38],[26,37,26,38],[20,39,20,40],[27,39,27,40],[28,39,28,40],[23,39,23,40],[24,39,24,40],[22,39,22,40],[19,44,19,45],[20,44,20,45],[21,44,21,45],[14,44,14,45],[15,44,15,45],[16,44,16,45],[17,44,17,45],[28,42,28,43],[5,42,5,43],[6,42,6,43],[7,42,7,43],[8,42,8,43],[34,42,34,43],[9,42,9,43],[10,42,10,43],[11,42,14,43],[30,42,30,45],[19,42,19,43],[32,42,32,43],[5,44,5,45],[6,44,6,45],[7,44,7,45],[8,44,8,45],[9,44,9,45],[10,44,10,45],[11,44,11,45]],"merged_total":1062,"flags":["merged_cut"]}
[null,"体温表",null,null,null,{"$f":"設定!$F$7","v":2016},null,"年",null,8,"月"]
[null,"カルテ番号",null,null,"病棟",null,null,"入院形態",null,null,"主治医",null,null,"　姓名",null,{"$f":"'7月'!$P$2","v":0},null,null,null,null,null,null,null,"性別",null,"生年月日　",null,null,null,null,null,null,"担当Ns"]
[null,{"$f":"'7月'!B3","v":0},null,null,{"$f":"IF(COUNTIF('7月'!E3:G3,\"*\"),INDEX('7月'!E3:G3,MATCH(\"\",'7月'!E3:G3,-1)),\"\")","v":""},null,null,{"$f":"IF(COUNTIF('7月'!H3:J3,\"*\"),INDEX('7月'!H3:J3,MATCH(\"\",'7月'!H3:J3,-1)),\"\")","v":""},null,null,{"$f":"'7月'!K3","v":0},null,null,null,null,{"$f":"'7月'!$P$3","v":0},null,null,null,null,null,null,null,{"$f":"'7月'!$X$3","v":0},null,{"$f":"'7月'!$Z$3","v":"00:00:00"},null,null,null,null,null,{"$f":"DATEDIF(Z3,TODAY(),\"Y\")","v":115},{"$f":"'7月'!$AG$3","v":0}]
[null,null,null,null,"/","/","/","/","/","/",null,null,null,null,null,null,null,null,null,null,null,null,null,null,null,{"$f":"Z3","v":"00:00:00"},null,null,null,null,null,"歳"]
[null,null,null,null,null,null,null,null,null,null,null,null,null,null,null,null,null,null,null,null,null,null,null,null,null,null,null,null,null,null,null,null,null,null,null,null,null,{"$f":"設定!C10","v":"備考欄"},null,null,null,null,{"$f":"設定!I10","v":"食事箋"}]
[null,null,null,null,null,null,null,null,null,null,null,null,null,null,null,null,null,null,null,null,null,null,null,null,null,null,null,null,null,null,null,null,null,null,null,null,null,{"$f":"設定!C11","v":0},null,null,null,null,{"$f":"設定!I11","v":0},null,{"$f":"設定!K11","v":0}]
[null,null,null,null,null,null,null,null,null,null,null,null,null,null,null,null,null,null,null,null,null,null,null,null,null,null,null,null,null,null,null,null,null,null,null,null,null,null,null,null,null,null,{"$f":"設定!I12","v":"常食"},null,{"$f":"設定!K12","v":"常食"}]
[null,null,null,null,null,null,null,null,null,null,null,null,null,null,null,null,null,null,null,null,null,null,null,null,null,null,null,null,null,null,null,null,null,null,null,null,null,null,null,null,null,null,{"$f":"設定!I13","v":"心臓"},null,{"$f":"設定!K13","v":"心臓"}]
[null,null,null,null,null,null,null,null,null,null,null,null,null,null,null,null,null,null,null,null,null,null,null,null,null,null,null,null,null,null,null,null,null,null,null,null,null,null,null,null,null,null,{"$f":"設定!I14","v":"すい臓"},null,{"$f":"設定!K14","v":"膵臓"}]
[null,null,null,null,null,null,null,null,null,null,null,null,null,null,null,null,null,null,null,null,null,null,null,null,null,null,null,null,null,null,null,null,null,null,null,null,null,null,null,null,null,null,{"$f":"設定!I15","v":"じん臓"},null,{"$f":"設定!K15","v":"腎臓"}]
[null,null,null,null,null,null,null,null,null,null,null,null,null,null,null,null,null,null,null,null,null,null,null,null,null,null,null,null,null,null,null,null,null,null,null,null,null,{"$f":"'7月'!AL11","v":0},null,null,null,null,{"$f":"設定!I16","v":"高血圧"},null,{"$f":"設定!K16","v":"高血"}]
[null,null,null,null,null,null,null,null,null,null,null,null,null,null,null,null,null,null,null,null,null,null,null,null,null,null,null,null,null,null,null,null,null,null,null,null,null,{"$f":"'7月'!AL12","v":0},null,null,null,null,{"$f":"設定!I17","v":"糖尿"},null,{"$f":"設定!K17","v":"糖1200"}]
[null,null,null,null,null,null,null,null,null,null,null,null,null,null,null,null,null,null,null,null,null,null,null,null,null,null,null,null,null,null,null,null,null,null,null,null,null,{"$f":"'7月'!AL13","v":0},null,null,null,null,null,null,{"$f":"設定!K18","v":"糖1440"}]
[null,null,null,null,null,null,null,null,null,null,null,null,null,null,null,null,null,null,null,null,null,null,null,null,null,null,null,null,null,null,null,null,null,null,null,null,null,{"$f":"'7月'!AL14","v":0},null,null,null,null,null,null,{"$f":"設定!K19","v":"糖1600"}]
[null,null,null,null,null,null,null,null,null,null,null,null,null,null,null,null,null,null,null,null,null,null,null,null,null,null,null,null,null,null,null,null,null,null,null,null,null,null,null,null,null,null,null,null,{"$f":"設定!K20","v":"糖1800"}]
[null,null,null,null,null,null,null,null,null,null,null,null,null,null,null,null,null,null,null,null,null,null,null,null,null,null,null,null,null,null,null,null,null,null,null,null,null,{"$f":"設定!C21","v":"面会"},null,null,null,null,{"$f":"設定!I21","v":"肝臓A"},null,{"$f":"設定!K21","v":"肝Ａ"}]
[null,"日　付",null,1,2,3,4,5,6,7,8,9,10,11,12,13,14,15,16,17,18,19,20,21,22,23,24,25,26,27,28,29,30,31,"統計",null,null,{"$f":"設定!C22","v":0},null,{"$f":"設定!E22","v":0},null,null,{"$f":"設定!I22","v":"肝臓B"},null,{"$f":"設定!K22","v":"肝Ｂ"}]
[null,"行　動",null,null,null,null,null,null,null,null,null,null,null,null,null,null,null,null,null,null,null,null,null,null,null,null,null,null,null,null,null,null,null,null,null,null,null,{"$f":"設定!C23","v":"両親"},null,{"$f":"設定!E23","v":"両親"},null,null,{"$f":"設定!I23","v":"潰瘍"},null,{"$f":"設定!K23","v":"潰瘍"}]
[null,"時　間",null,null,null,null,null,null,null,null,null,null,null,null,null,null,null,null,null,null,null,null,null,null,null,null,null,null,null,null,null,null,null,null,null,null,null,{"$f":"設定!C24","v":"父"},null,{"$f":"設定!E24","v":"父"},null,null,{"$f":"設定!I24","v":"低残渣食"},null,{"$f":"設定!K24","v":"低残"}]
[null,"行　動",null,null,null,null,null,null,null,null,null,null,null,null,null,null,null,null,null,null,null,null,null,null,null,null,null,null,null,null,null,null,null,null,null,null,null,{"$f":"設定!C25","v":"母"},null,{"$f":"設定!E25","v":"母"},null,null,{"$f":"設定!I25","v":"貧血"},null,{"$f":"設定!K25","v":"貧血"}]
[null,"時　間",null,null,null,null,null,null,null,null,null,null,null,null,null,null,null,null,null,null,null,null,null,null,null,null,null,null,null,null,null,null,null,null,{"$f":"IF(COUNTIF(D18:AH21,\"外出\")+COUNTIF(D18:AH21,\"外泊\")=0,\"回数\",COUNTIF(D18:AH21,\"外出\")+COUNTIF(D18:AH21,\"外泊\"))","v":"回数"},null,null,{"$f":"設定!C26","v":"主人"},null,{"$f":"設定!E26","v":"夫"},null,null,{"$f":"設定!I26","v":"脂質異常"},null,{"$f":"設定!K26","v":"脂1200"}]
[null,"面　会",null,null,null,null,null,null,null,null,null,null,null,null,null,null,null,null,null,null,null,null,null,null,null,null,null,null,null,null,null,null,null,null,null,null,null,{"$f":"設定!C27","v":"奥方"},null,{"$f":"設定!E27","v":"妻"},null,null,null,null,{"$f":"設定!K27","v":"脂1440"}]
[null,null,null,null,null,null,null,null,null,null,null,null,null,null,null,null,null,null,null,null,null,null,null,null,null,null,null,null,null,null,null,null,null,null,{"$f":"IF(COUNTA(D22:AH23)=0,\"回数\",COUNTA(D22:AH23))","v":"回数"},null,null,{"$f":"設定!C28","v":"息子"},null,{"$f":"設定!E28","v":"息子"},null,null,null,null,{"$f":"設定!K28","v":"脂1600"}]
[null,"入　浴",null,null,null,null,null,null,null,null,null,null,null,null,null,null,null,null,null,null,null,null,null,null,null,null,null,null,null,null,null,null,null,null,{"$f":"IF(COUNTA(D24:AH24)=0,\"回数\",COUNTA(D24:AH24))","v":"回数"},null,null,{"$f":"設定!C29","v":"娘"},null,{"$f":"設定!E29","v":"娘"},null,null,null,null,{"$f":"設定!K29","v":"脂1800"}]
[null,"食　事",null,null,null,null,null,null,null,null,null,null,null,null,null,null,null,null,null,null,null,null,null,null,null,null,null,null,null,null,null,null,null,null,null,null,null,{"$f":"設定!C30","v":"兄"},null,{"$f":"設定!E30","v":"兄"},null,null,{"$f":"設定!I30","v":"検査食"},null,{"$f":"設定!K30","v":"検査"}]
[null,null,null,null,null,null,null,null,null,null,null,null,null,null,null,null,null,null,null,null,null,null,null,null,null,null,null,null,null,null,null,null,null,null,null,null,null,{"$f":"設定!C31","v":"弟"},null,{"$f":"設定!E31","v":"弟"},null,null,{"$f":"設定!I31","v":"絶食"},null,{"$f":"設定!K31","v":"絶食"}]
[null,null,null,null,null,null,null,null,null,null,null,null,null,null,null,null,null,null,null,null,null,null,null,null,null,null,null,null,null,null,null,null,null,null,{"$f":"IFERROR(INT(AVERAGE(D141:AH143))& \".\"&INT(AVERAGE(D144:AH146)),\"平均\")","v":"平均"},null,null,{"$f":"設定!C32","v":"姉"},null,{"$f":"設定!E32","v":"姉"},null,null,{"$f":"設定!I32","v":0},null,{"$f":"設定!K32","v":0}]
[null,"便　通",null,{"$f":"IF(ISBLANK(I51),\"\",I51)","v":""},{"$f":"IF(ISBLANK(I52),\"\",I52)","v":""},{"$f":"IF(ISBLANK(I53),\"\",I53)","v":""},{"$f":"IF(ISBLANK(I54),\"\",I54)","v":""},{"$f":"IF(ISBLANK(I55),\"\",I55)","v":""},{"$f":"IF(ISBLANK(I56),\"\",I56)","v":""},{"$f":"IF(ISBLANK(I57),\"\",I57)","v":""},{"$f":"IF(ISBLANK(I58),\"\",I58)","v":""},{"$f":"IF(ISBLANK(I59),\"\",I59)","v":""},{"$f":"IF(ISBLANK(I60),\"\",I60)","v":""},{"$f":"IF(ISBLANK(I61),\"\",I61)","v":""},{"$f":"IF(ISBLANK(I62),\"\",I62)","v":""},{"$f":"IF(ISBLANK(I63),\"\",I63)","v":""},{"$f":"IF(ISBLANK(I64),\"\",I64)","v":""},{"$f":"IF(ISBLANK(I65),\"\",I65)","v":""},{"$f":"IF(ISBLANK(I66),\"\",I66)","v":""},{"$f":"IF(ISBLANK(I67),\"\",I67)","v":""},{"$f":"IF(ISBLANK(I68),\"\",I68)","v":""},{"$f":"IF(ISBLANK(I69),\"\",I69)","v":""},{"$f":"IF(ISBLANK(I70),\"\",I70)","v":""},{"$f":"IF(ISBLANK(I71),\"\",I71)","v":""},{"$f":"IF(ISBLANK(I72),\"\",I72)","v":""},{"$f":"IF(ISBLANK(I73),\"\",I73)","v":""},{"$f":"IF(ISBLANK(I74),\"\",I74)","v":""},{"$f":"IF(ISBLANK(I75),\"\",I75)","v":""},{"$f":"IF(ISBLANK(I76),\"\",I76)","v":""},{"$f":"IF(ISBLANK(I77),\"\",I77)","v":""},{"$f":"IF(ISBLANK(I78),\"\",I78)","v":""},{"$f":"IF(ISBLANK(I79),\"\",I79)","v":""},{"$f":"IF(ISBLANK(I80),\"\",I80)","v":""},{"$f":"IF(ISBLANK('3月'!I50),\"\",'3月'!I50)","v":""},{"$f":"IF(COUNTIF(D28:AH28,0)=0,\"回数\",COUNTIF(D28:AH28,0))","v":"回数"},null,null,{"$f":"設定!C33","v":"妹"},null,{"$f":"設定!E33","v":"妹"},null,null,{"$f":"設定!I33","v":0},null,{"$f":"設定!K33","v":0}]
[null,"便処置",null,null,null,null,null,null,null,null,null,null,null,null,null,null,null,null,null,null,null,null,null,null,null,null,null,null,null,null,null,null,null,null,null,null,null,{"$f":"設定!C34","v":"孫"},null,{"$f":"設定!E34","v":"孫"},null,null,{"$f":"設定!I34","v":0},null,{"$f":"設定!K34","v":0}]
[null,null,null,null,null,null,null,null,null,null,null,null,null,null,null,null,null,null,null,null,null,null,null,null,null,null,null,null,null,null,null,null,null,null,{"$f":"IF(SUM(D29:AH31)=0,\"滴数\",SUM(D29:AH31))","v":"滴数"},null,null,{"$f":"設定!C35","v":"友人知人"},null,{"$f":"設定!E35","v":"知人"}]
[null,null,null,null,null,null,null,null,null,null,null,null,null,null,null,null,null,null,null,null,null,null,null,null,null,null,null,null,null,null,null,null,null,null,{"$f":"IF(AI30=\"滴数\",\"本数\",AI30/150)","v":"本数"},null,null,{"$f":"設定!C36","v":"子の夫"},null,{"$f":"設定!E36","v":"子夫"},null,null,{"$f":"設定!I36","v":"食事形態"}]
[null,"血　圧",null,{"$f":"$R$50","v":0},{"$f":"$R$58","v":0},{"$f":"R66","v":0},{"$f":"R74","v":0},{"$f":"R82","v":0},{"$f":"R90","v":0},{"$f":"R98","v":0},{"$f":"R106","v":0},{"$f":"Z50","v":0},{"$f":"Z58","v":0},{"$f":"Z66","v":0},{"$f":"Z74","v":0},{"$f":"Z82","v":0},{"$f":"Z90","v":0},{"$f":"Z98","v":0},{"$f":"Z106","v":0},{"$f":"AH50","v":0},{"$f":"AH58","v":0},{"$f":"AH66","v":0},{"$f":"AH74","v":0},{"$f":"AH82","v":0},{"$f":"AH90","v":0},{"$f":"AH98","v":0},{"$f":"AH106","v":0},{"$f":"AP50","v":0},{"$f":"AP58","v":0},{"$f":"AP66","v":0},{"$f":"AP74","v":0},{"$f":"AP82","v":0},{"$f":"AP90","v":0},{"$f":"AP98","v":0},null,null,null,{"$f":"設定!C37","v":"子の妻"},null,{"$f":"設定!E37","v":"子妻"},null,null,{"$f":"設定!I37","v":0},null,{"$f":"設定!K37","v":0}]
[null,null,null,{"$f":"$R$51","v":{"$error":"#N/A"}},{"$f":"$R$59","v":{"$error":"#N/A"}},{"$f":"R67","v":{"$error":"#N/A"}},{"$f":"R75","v":{"$error":"#N/A"}},{"$f":"R83","v":{"$error":"#N/A"}},{"$f":"R91","v":{"$error":"#N/A"}},{"$f":"R99","v":{"$error":"#N/A"}},{"$f":"R107","v":{"$error":"#N/A"}},{"$f":"Z51","v":{"$error":"#N/A"}},{"$f":"Z59","v":{"$error":"#N/A"}},{"$f":"Z67","v":{"$error":"#N/A"}},{"$f":"Z75","v":{"$error":"#N/A"}},{"$f":"Z83","v":{"$error":"#N/A"}},{"$f":"Z91","v":{"$error":"#N/A"}},{"$f":"Z99","v":{"$error":"#N/A"}},{"$f":"Z107","v":{"$error":"#N/A"}},{"$f":"AH51","v":{"$error":"#N/A"}},{"$f":"AH59","v":{"$error":"#N/A"}},{"$f":"AH67","v":{"$error":"#N/A"}},{"$f":"AH75","v":{"$error":"#N/A"}},{"$f":"AH83","v":{"$error":"#N/A"}},{"$f":"AH91","v":{"$error":"#N/A"}},{"$f":"AH99","v":{"$error":"#N/A"}},{"$f":"AH107","v":{"$error":"#N/A"}},{"$f":"AP51","v":{"$error":"#N/A"}},{"$f":"AP59","v":{"$error":"#N/A"}},{"$f":"AP67","v":{"$error":"#N/A"}},{"$f":"AP75","v":{"$error":"#N/A"}},{"$f":"AP83","v":{"$error":"#N/A"}},{"$f":"AP91","v":{"$error":"#N/A"}},{"$f":"AP99","v":{"$error":"#N/A"}},null,null,null,{"$f":"設定!C38","v":"祖母"},null,{"$f":"設定!E38","v":"祖母"},null,null,{"$f":"設定!I38","v":"普通食"},null,{"$f":"設定!K38","v":"普通"}]
[null,null,null,{"$f":"$R$52","v":0},{"$f":"$R$60","v":0},{"$f":"R68","v":0},{"$f":"R76","v":0},{"$f":"R84","v":0},{"$f":"R92","v":0},{"$f":"R100","v":0},{"$f":"R108","v":0},{"$f":"Z52","v":0},{"$f":"Z60","v":0},{"$f":"Z68","v":0},{"$f":"Z76","v":0},{"$f":"Z84","v":0},{"$f":"Z92","v":0},{"$f":"Z100","v":0},{"$f":"Z108","v":0},{"$f":"AH52","v":0},{"$f":"AH60","v":0},{"$f":"AH68","v":0},{"$f":"AH76","v":0},{"$f":"AH84","v":0},{"$f":"AH92","v":0},{"$f":"AH100","v":0},{"$f":"AH108","v":0},{"$f":"AP52","v":0},{"$f":"AP60","v":0},{"$f":"AP68","v":0},{"$f":"AP76","v":0},{"$f":"AP84","v":0},{"$f":"AP92","v":0},{"$f":"AP100","v":0},null,null,null,{"$f":"設定!C39","v":"祖父"},null,{"$f":"設定!E39","v":"祖父"},null,null,{"$f":"設定!I39","v":"普+一口大"},null,{"$f":"設定!K39","v":"一口"}]
[null,null,null,{"$f":"$R$53","v":0},{"$f":"$R$61","v":0},{"$f":"R69","v":0},{"$f":"R77","v":0},{"$f":"R85","v":0},{"$f":"R93","v":0},{"$f":"R101","v":0},{"$f":"R109","v":0},{"$f":"Z53","v":0},{"$f":"Z61","v":0},{"$f":"Z69","v":0},{"$f":"Z77","v":0},{"$f":"Z85","v":0},{"$f":"Z93","v":0},{"$f":"Z101","v":0},{"$f":"Z109","v":0},{"$f":"AH53","v":0},{"$f":"AH61","v":0},{"$f":"AH69","v":0},{"$f":"AH77","v":0},{"$f":"AH85","v":0},{"$f":"AH93","v":0},{"$f":"AH101","v":0},{"$f":"AH109","v":0},{"$f":"AP53","v":0},{"$f":"AP61","v":0},{"$f":"AP69","v":0},{"$f":"AP77","v":0},{"$f":"AP85","v":0},{"$f":"AP93","v":0},{"$f":"AP101","v":0},{"$f":"IFERROR(INT(AVERAGE(D149:AH152))& \"/\"&INT(AVERAGE(D153:AH156)),\"平均\")","v":"平均"},null,null,{"$f":"設定!C40","v":"従兄弟の父"},null,{"$f":"設定!E40","v":"叔父"},null,null,{"$f":"設定!I40","v":"普+キザミ"},null,{"$f":"設定!K40","v":"普キ"}]
[null,"食事箋",null,{"$f":"IF(COUNTIF('7月'!D40:AH40,\"*\"),INDEX('7月'!D40:AH40,MATCH(\"\",'7月'!D40:AH40,-1)),\"\")","v":""},null,null,null,null,null,null,null,null,null,null,null,null,null,null,null,null,null,null,null,null,null,null,null,null,null,null,null,null,null,null,null,null,null,{"$f":"設定!C41","v":"従兄弟の母"},null,{"$f":"設定!E41","v":"叔母"},null,null,{"$f":"設定!I41","v":"軟飯"},null,{"$f":"設定!K41","v":"軟飯"}]
[null,"形　態",null,{"$f":"IF(COUNTIF('1月'!D41:AH41,\"*\"),INDEX('1月'!D41:AH41,MATCH(\"\",'1月'!D41:AH41,-1)),\"\")","v":""},null,null,null,null,null,null,null,null,null,null,null,null,null,null,null,null,null,null,null,null,null,null,null,null,null,null,null,null,null,null,null,null,null,{"$f":"設定!C42","v":"従兄弟"},null,{"$f":"設定!E42","v":"ｲﾄｺ"},null,null,{"$f":"設定!I42","v":"軟+キザミ"},null,{"$f":"設定!K42","v":"軟キ"}]
[null,"身　長",null,{"$f":"IF(COUNT('1月'!D42:AH42),LOOKUP(MAX('1月'!D42:AH42)+1,'1月'!D42:AH42),\"\")","v":""},null,null,null,null,null,null,null,null,null,null,null,null,null,null,null,null,null,null,null,null,null,null,null,null,null,null,null,null,null,null,"BMI",null,null,{"$f":"設定!C43","v":"義理の母"},null,{"$f":"設定!E43","v":"義母"},null,null,{"$f":"設定!I43","v":"粥食"},null,{"$f":"設定!K43","v":"粥"}]
[null,"体　重",null,null,null,null,null,null,null,null,null,null,null,null,null,null,null,null,null,null,null,null,null,null,null,null,null,null,null,null,null,null,null,null,{"$f":"IF(ISERROR(INDEX(D39:AH39,MATCH(307,D39:AH39))/(INDEX(D38:AH38,MATCH(9E+307,D38:AH38))/100)^2)=TRUE,\"\",INDEX(D39:AH39,MATCH(307,D39:AH39))/(INDEX(D38:AH38,MATCH(9E+307,D38:AH38))/100)^2)","v":""},null,null,{"$f":"設定!C44","v":"義理の父"},null,{"$f":"設定!E44","v":"義父"},null,null,{"$f":"設定!I44","v":"粥+キザミ"},null,{"$f":"設定!K44","v":"粥キ"}]
[null,"Ｉ　Ｎ",null,null,null,null,null,null,null,null,null,null,null,null,null,null,null,null,null,null,null,null,null,null,null,null,null,null,null,null,null,null,null,null,{"$f":"IFERROR(INT(AVERAGE(D40:AH40)),\"平均\")","v":"平均"},null,null,{"$f":"設定!C45","v":"その他親類"},null,{"$f":"設定!E45","v":"親類"},null,null,{"$f":"設定!I45","v":"ミキサ－"},null,{"$f":"設定!K45","v":"ミキ"}]
[null,"ＯＵＴ",null,null,null,null,null,null,null,null,null,null,null,null,null,null,null,null,null,null,null,null,null,null,null,null,null,null,null,null,null,null,null,null,{"$f":"IFERROR(INT(AVERAGE(D41:AH41)),\"平均\")","v":"平均"},null,null,{"$f":"設定!C46","v":"福祉職員"},null,{"$f":"設定!E46","v":"福祉"},null,null,{"$f":"設定!I46","v":"普通流動"},null,{"$f":"設定!K46","v":"普流"}]
[null,"生　理",null,null,null,null,null,null,null,null,null,null,null,null,null,null,null,null,null,null,null,null,null,null,null,null,null,null,null,null,null,null,null,null,{"$f":"IF(ISERROR(AVERAGE(D42:AH42)),\" \",AVERAGE(D42:AH42))","v":" "},null,null,{"$f":"設定!C47","v":"施設職員"},null,{"$f":"設定!E47","v":"施設"},null,null,{"$f":"設定!I47","v":"濃厚流動"},null,{"$f":"設定!K47","v":"濃流"}]
[null,null,null,null,null,null,null,null,null,null,null,null,null,null,null,null,null,null,null,null,null,null,null,null,null,null,null,null,null,null,null,null,null,null,{"$f":"IF(ISERROR(AVERAGE(D43:AH43)),\" \",AVERAGE(D43:AH43))","v":" "},null,null,{"$f":"設定!C48","v":0},null,{"$f":"設定!E48","v":0},null,null,{"$f":"設定!H48","v":0},null,{"$f":"設定!J48","v":0}]
[null,null,null,null,null,null,null,null,null,null,null,null,null,null,null,null,null,null,null,null,null,null,null,null,null,null,null,null,null,null,null,null,null,null,{"$f":"COUNTA(D44:AH44)","v":0},null,null,{"$f":"設定!C49","v":0},null,{"$f":"設定!E49","v":0},null,null,{"$f":"設定!H49","v":0},null,{"$f":"設定!J49","v":0}]
[null,"日　付",null,1,2,3,4,5,6,7,8,9,10,11,12,13,14,15,16,17,18,19,20,21,22,23,24,25,26,27,28,29,30,31,null,null,null,{"$f":"設定!C50","v":0},null,{"$f":"設定!E50","v":0},null,null,{"$f":"設定!H50","v":0},null,{"$f":"設定!J50","v":0}]
[]
[null,{"$f":"$P$3","v":0},null,null,null,null,null,{"$f":"YEAR(I47)","v":2015},{"$f":"TODAY()","v":"2015-02-24"},{"$f":"TODAY()","v":42059}]
[null,"平常時記入",null,null,null,null,null,null,null,null,null,"熱発時記入"]
[null,"日","時間","T",null," P","BP",null,"便",null,null,"日","時間",null,"T",null,"P","BP",null,"日","時間",null,"T",null,"P","BP",null,"日","時間",null,"T",null,"P","BP",null,"日","時間",null,"T",null,"P","BP"]
[null,1,"10:00:00",null,null,null,null,null,null,null,null,1,null,null,null,null,null,null,null,9,null,null,null,null,null,null,null,17,null,null,null,null,null,null,null,25]
[null,2,"10:00:00",null,null,null,null,null,null,null,null,null,"10:00:00",null,{"$f":"IF($D$50=\"\",NA(),$D$50)","v":{"$error":"#N/A"}},null,{"$f":"IF($F$50=\"\",NA(),$F$50)","v":{"$error":"#N/A"}},{"$f":"IF($G$50=\"\",NA(),$G$50)","v":{"$error":"#N/A"}},null,null,"10:00:00",null,{"$f":"IF($D$58=\"\",NA(),$D$58)","v":{"$error":"#N/A"}},null,{"$f":"IF($F$58=\"\",NA(),$F$58)","v":{"$error":"#N/A"}},{"$f":"IF($G$58=\"\",NA(),$G$58)","v":{"$error":"#N/A"}},null,null,"10:00:00",null,{"$f":"IF($D$66=\"\",NA(),$D$66)","v":{"$error":"#N/A"}},null,{"$f":"IF($F$66=\"\",NA(),$F$66)","v":{"$error":"#N/A"}},{"$f":"IF($G$66=\"\",NA(),$G$66)","v":{"$error":"#N/A"}},null,null,"10:00:00",null,{"$f":"IF($D$74=\"\",NA(),$D$74)","v":{"$error":"#N/A"}},null,{"$f":"IF($F$74=\"\",NA(),$F$74)","v":{"$error":"#N/A"}},{"$f":"IF($G$74=\"\",NA(),$G$74)","v":{"$error":"#N/A"}}]
[null,3,"10:00:00",null,null,null,null,null,null,"☆"]
[null,4,"10:00:00"]
[null,5,"10:00:00",null,null,null,null,null,null,"コ"]
[null,6,"10:00:00",null,null,null,null,null,null,"ス"]
[null,7,"10:00:00",null,null,null,null,null,null,"モ"]
[null,8,"10:00:00",null,null,null,null,null,null,"ス"]
[null,9,"10:00:00",null,null,null,null,null,null,"へ",null,2,null,null,null,null,null,null,null,10,null,null,null,null,null,null,null,18,null,null,null,null,null,null,null,26]
[null,10,"10:00:00",null,null,null,null,null,null,"戻",null,null,"10:00:00",null,{"$f":"IF($D$51=\"\",NA(),$D$51)","v":{"$error":"#N/A"}},null,{"$f":"IF($F$51=\"\",NA(),$F$51)","v":{"$error":"#N/A"}},{"$f":"IF($G$51=\"\",NA(),$G$51)","v":{"$error":"#N/A"}},null,null,"10:00:00",null,{"$f":"IF($D$59=\"\",NA(),$D$59)","v":{"$error":"#N/A"}},null,{"$f":"IF($F$59=\"\",NA(),$F$59)","v":{"$error":"#N/A"}},{"$f":"IF($G$59=\"\",NA(),$G$59)","v":{"$error":"#N/A"}},null,null,"10:00:00",null,{"$f":"IF($D$67=\"\",NA(),$D$67)","v":{"$error":"#N/A"}},null,{"$f":"IF($F$67=\"\",NA(),$F$67)","v":{"$error":"#N/A"}},{"$f":"IF($G$67=\"\",NA(),$G$67)","v":{"$error":"#N/A"}},null,null,"10:00:00",null,{"$f":"IF($D$75=\"\",NA(),$D$75)","v":{"$error":"#N/A"}},null,{"$f":"IF($F$75=\"\",NA(),$F$75)","v":{"$error":"#N/A"}},{"$f":"IF($G$75=\"\",NA(),$G$75)","v":{"$error":"#N/A"}}]
[null,11,"10:00:00",null,null,null,null,null,null,"る"]
[null,12,"10:00:00"]
[null,13,"10:00:00"]
[null,14,"10:00:00",null,null,null,null,null,null,"（"]
[null,15,"10:00:00",null,null,null,null,null,null,"選"]
[null,16,"10:00:00",null,null,null,null,null,null,"択"]
[null,17,"10:00:00",null,null,null,null,null,null,"す",null,3,null,null,null,null,null,null,null,11,null,null,null,null,null,null,null,19,null,null,null,null,null,null,null,27]
[null,18,"10:00:00",null,null,null,null,null,null,"る",null,null,"10:00:00",null,{"$f":"IF($D$52=\"\",NA(),$D$52)","v":{"$error":"#N/A"}},null,{"$f":"IF($F$52=\"\",NA(),$F$52)","v":{"$error":"#N/A"}},{"$f":"IF($G$52=\"\",NA(),$G$52)","v":{"$error":"#N/A"}},null,null,"10:00:00",null,{"$f":"IF($D$60=\"\",NA(),$D$60)","v":{"$error":"#N/A"}},null,{"$f":"IF($F$60=\"\",NA(),$F$60)","v":{"$error":"#N/A"}},{"$f":"IF($G$60=\"\",NA(),$G$60)","v":{"$error":"#N/A"}},null,null,"10:00:00",null,{"$f":"IF($D$68=\"\",NA(),$D$68)","v":{"$error":"#N/A"}},null,{"$f":"IF($F$68=\"\",NA(),$F$68)","v":{"$error":"#N/A"}},{"$f":"IF($G$68=\"\",NA(),$G$68)","v":{"$error":"#N/A"}},null,null,"10:00:00",null,{"$f":"IF($D$76=\"\",NA(),$D$76)","v":{"$error":"#N/A"}},null,{"$f":"IF($F$76=\"\",NA(),$F$76)","v":{"$error":"#N/A"}},{"$f":"IF($G$76=\"\",NA(),$G$76)","v":{"$error":"#N/A"}}]
[null,19,"10:00:00",null,null,null,null,null,null,"だ"]
[null,20,"10:00:00",null,null,null,null,null,null,"け"]
[null,21,"10:00:00",null,null,null,null,null,null,"で"]
[null,22,"10:00:00",null,null,null,null,null,null,"移"]
[null,23,"10:00:00",null,null,null,null,null,null,"動"]
[null,24,"10:00:00",null,null,null,null,null,null,"し"]
[null,25,"10:00:00",null,null,null,null,null,null,"ま",null,4,null,null,null,null,null,null,null,12,null,null,null,null,null,null,null,20,null,null,null,null,null,null,null,28]
[null,26,"10:00:00",null,null,null,null,null,null,"す",null,null,"10:00:00",null,{"$f":"IF($D$53=\"\",NA(),$D$53)","v":{"$error":"#N/A"}},null,{"$f":"IF($F$53=\"\",NA(),$F$53)","v":{"$error":"#N/A"}},{"$f":"IF($G$53=\"\",NA(),$G$53)","v":{"$error":"#N/A"}},null,null,"10:00:00",null,{"$f":"IF($D$61=\"\",NA(),$D$61)","v":{"$error":"#N/A"}},null,{"$f":"IF($F$61=\"\",NA(),$F$61)","v":{"$error":"#N/A"}},{"$f":"IF($G$61=\"\",NA(),$G$61)","v":{"$error":"#N/A"}},null,null,"10:00:00",null,{"$f":"IF($D$69=\"\",NA(),$D$69)","v":{"$error":"#N/A"}},null,{"$f":"IF($F$69=\"\",NA(),$F$69)","v":{"$error":"#N/A"}},{"$f":"IF($G$69=\"\",NA(),$G$69)","v":{"$error":"#N/A"}},null,null,"10:00:00",null,{"$f":"IF($D$77=\"\",NA(),$D$77)","v":{"$error":"#N/A"}},null,{"$f":"IF($F$77=\"\",NA(),$F$77)","v":{"$error":"#N/A"}},{"$f":"IF($G$77=\"\",NA(),$G$77)","v":{"$error":"#N/A"}}]
[null,27,"10:00:00",null,null,null,null,null,null,"）"]
[null,28,"10:00:00"]
[null,29,"10:00:00"]
[null,30,"10:00:00"]
[null,31,"10:00:00"]
[]
[null,null,null,null,null,null,null,null,null,null,null,5,null,null,null,null,null,null,null,13,null,null,null,null,null,null,null,21,null,null,null,null,null,null,null,29]
[null,null,null,null,null,null,null,null,null,null,null,null,"10:00:00",null,{"$f":"IF($D$54=\"\",NA(),$D$54)","v":{"$error":"#N/A"}},null,{"$f":"IF($F$54=\"\",NA(),$F$54)","v":{"$error":"#N/A"}},{"$f":"IF($G$54=\"\",NA(),$G$54)","v":{"$error":"#N/A"}},null,null,"10:00:00",null,{"$f":"IF($D$62=\"\",NA(),$D$62)","v":{"$error":"#N/A"}},null,{"$f":"IF($F$62=\"\",NA(),$F$62)","v":{"$error":"#N/A"}},{"$f":"IF($G$62=\"\",NA(),$G$62)","v":{"$error":"#N/A"}},null,null,"10:00:00",null,{"$f":"IF($D$70=\"\",NA(),$D$70)","v":{"$error":"#N/A"}},null,{"$f":"IF($F$70=\"\",NA(),$F$70)","v":{"$error":"#N/A"}},{"$f":"IF($G$70=\"\",NA(),$G$70)","v":{"$error":"#N/A"}},null,null,"10:00:00",null,{"$f":"IF($D$78=\"\",NA(),$D$78)","v":{"$error":"#N/A"}},null,{"$f":"IF($F$78=\"\",NA(),$F$78)","v":{"$error":"#N/A"}},{"$f":"IF($G$78=\"\",NA(),$G$78)","v":{"$error":"#N/A"}}]
[]
[]
[]
[]
[]
[]
[null,null,null,null,null,null,null,null,null,null,null,6,null,null,null,null,null,null,null,14,null,null,null,null,null,null,null,22,null,null,null,null,null,null,null,30]
[null,null,null,null,null,null,null,null,null,null,null,null,"10:00:00",null,{"$f":"IF($D$55=\"\",NA(),$D$55)","v":{"$error":"#N/A"}},null,{"$f":"IF($F$55=\"\",NA(),$F$55)","v":{"$error":"#N/A"}},{"$f":"IF($G$55=\"\",NA(),$G$55)","v":{"$error":"#N/A"}},null,null,"10:00:00",null,{"$f":"IF($D$63=\"\",NA(),$D$63)","v":{"$error":"#N/A"}},null,{"$f":"IF($F$63=\"\",NA(),$F$63)","v":{"$error":"#N/A"}},{"$f":"IF($G$63=\"\",NA(),$G$63)","v":{"$error":"#N/A"}},null,null,"10:00:00",null,{"$f":"IF($D$71=\"\",NA(),$D$71)","v":{"$error":"#N/A"}},null,{"$f":"IF($F$71=\"\",NA(),$F$71)","v":{"$error":"#N/A"}},{"$f":"IF($G$71=\"\",NA(),$G$71)","v":{"$error":"#N/A"}},null,null,"10:00:00",null,{"$f":"IF($D$79=\"\",NA(),$D$79)","v":{"$error":"#N/A"}},null,{"$f":"IF($F$79=\"\",NA(),$F$79)","v":{"$error":"#N/A"}},{"$f":"IF($G$79=\"\",NA(),$G$79)","v":{"$error":"#N/A"}}]
[]
[]
[]
[]
[]
[]
[null,null,null,null,null,null,null,null,null,null,null,7,null,null,null,null,null,null,null,15,null,null,null,null,null,null,null,23,null,null,null,null,null,null,null,31]
[null,null,null,null,null,null,null,null,null,null,null,null,"10:00:00",null,{"$f":"IF($D$56=\"\",NA(),$D$56)","v":{"$error":"#N/A"}},null,{"$f":"IF($F$56=\"\",NA(),$F$56)","v":{"$error":"#N/A"}},{"$f":"IF($G$56=\"\",NA(),$G$56)","v":{"$error":"#N/A"}},null,null,"10:00:00",null,{"$f":"IF($D$64=\"\",NA(),$D$64)","v":{"$error":"#N/A"}},null,{"$f":"IF($F$64=\"\",NA(),$F$64)","v":{"$error":"#N/A"}},{"$f":"IF($G$64=\"\",NA(),$G$64)","v":{"$error":"#N/A"}},null,null,"10:00:00",null,{"$f":"IF($D$72=\"\",NA(),$D$72)","v":{"$error":"#N/A"}},null,{"$f":"IF($F$72=\"\",NA(),$F$72)","v":{"$error":"#N/A"}},{"$f":"IF($G$72=\"\",NA(),$G$72)","v":{"$error":"#N/A"}},null,null,"10:00:00",null,{"$f":"IF($D$80=\"\",NA(),$D$80)","v":{"$error":"#N/A"}},null,{"$f":"IF($F$80=\"\",NA(),$F$80)","v":{"$error":"#N/A"}},{"$f":"IF($G$80=\"\",NA(),$G$80)","v":{"$error":"#N/A"}}]
[]
[]
[]
[]
[]
[]
[null,null,null,null,null,null,null,null,null,null,null,8,null,null,null,null,null,null,null,16,null,null,null,null,null,null,null,24]
[null,null,null,null,null,null,null,null,null,null,null,null,"10:00:00",null,{"$f":"IF($D$57=\"\",NA(),$D$57)","v":{"$error":"#N/A"}},null,{"$f":"IF($F$57=\"\",NA(),$F$57)","v":{"$error":"#N/A"}},{"$f":"IF($G$57=\"\",NA(),$G$57)","v":{"$error":"#N/A"}},null,null,"10:00:00",null,{"$f":"IF($D$65=\"\",NA(),$D$65)","v":{"$error":"#N/A"}},null,{"$f":"IF($F$65=\"\",NA(),$F$65)","v":{"$error":"#N/A"}},{"$f":"IF($G$65=\"\",NA(),$G$65)","v":{"$error":"#N/A"}},null,null,"10:00:00",null,{"$f":"IF($D$73=\"\",NA(),$D$73)","v":{"$error":"#N/A"}},null,{"$f":"IF($F$73=\"\",NA(),$F$73)","v":{"$error":"#N/A"}},{"$f":"IF($G$73=\"\",NA(),$G$73)","v":{"$error":"#N/A"}}]
[]
[]
[]
[]
[]
[]
[]
[]
[]
[]
[]
[]
[]
[]
[]
[]
[]
[]
[]
[]
[]
[null,null,"Enterで入力画面へ"]
[null,null,"ｶｰｿﾙ初期位置",null,null,null,"日付チェック",null,null,null,"バイタルコピー"]
["管理欄",null,"入力に入る",null,null,null,"今日",{"$f":"NOW()","v":"2015-02-24T03:11:52.510"},null,null,{"$f":"IF($D$74=\"\",NA(),$D$74)","v":{"$error":"#N/A"}},null,{"$f":"IF($F$74=\"\",NA(),$F$74)","v":{"$error":"#N/A"}},{"$f":"IF($G$74=\"\",NA(),$G$74)","v":{"$error":"#N/A"}},null,{"$f":"K131&M131&N131","v":{"$error":"#N/A"}}]
[null,null,null,null,null,null,"日",{"$f":"DAY(H131)","v":24},null,null,null,null,null,null,null,""]
[null,null,null,null,null,null,"月",{"$f":"MONTH(H131)","v":2},null,null,null,null,null,null,null,""]
[null,null,null,null,null,null,null,null,null,null,null,null,null,null,null,""]
[null,null,null,null,null,null,"時",{"$f":"HOUR(H131)","v":3},null,null,null,null,null,null,null,""]
[null,null,null,null,null,null,null,null,null,null,null,null,null,null,null,""]
[null,null,null,null,null,null,null,null,null,null,null,null,null,null,null,""]
[null,null,null,null,null,null,null,null,null,null,null,null,null,null,null,""]
[null,null,null,null,null,null,null,null,null,null,null,null,null,null,null,""]
[null,null,"食事平均",null,null,null,null,null,null,null,null,null,null,null,null,""]
[null,null,"左",{"$f":"IF(D25=\"\", \"\", LEFT(D25,SEARCH(\".\",D25,1)-1)*1)","v":""},{"$f":"IF(E25=\"\", \"\", LEFT(E25,SEARCH(\".\",E25,1)-1)*1)","v":""},"","","","","","","","","","","","","","","","","","","","","","","","","","","","",""]
[null,null,null,{"$f":"IF(D26=\"\", \"\", LEFT(D26,SEARCH(\".\",D26,1)-1)*1)","v":""},"","","","","","","","","","","","","","","","","","","","","","","","","","","","","",""]
[null,null,null,"","","","","","","","","","","","","","","","","","","","","","","","","","","","","","",""]
[null,null,"右",{"$f":"IF(D25=\"\", \"\", RIGHT(D25,LEN(D25)-FIND(\".\",D25,1))*1)","v":""},{"$f":"IF(E25=\"\", \"\", RIGHT(E25,LEN(E25)-FIND(\".\",E25,1))*1)","v":""},"","","","","","","","","","","","","","","","","","","","","","","","","","","","",""]
[null,null,null,{"$f":"IF(D26=\"\", \"\", RIGHT(D26,LEN(D26)-FIND(\".\",D26,1))*1)","v":""},"","","","","","","","","","","","","","","","","","","","","","","","","","","","","",""]
[null,null,null,{"$f":"IF(D27=\"\", \"\", RIGHT(D27,LEN(D27)-FIND(\".\",D27,1))*1)","v":""},"","","","","","","","","","","","","","","","","","","","","","","","","","","","","",""]
[null,null,null,null,null,null,null,null,null,null,null,null,null,null,null,""]
[null,null,"BP平均",null,null,null,null,null,null,null,null,null,null,null,null,""]
[null,null,"左",{"$f":"IF(ISERROR(LEFT(D32,SEARCH(\"/\",D32,1)-1)*1),\"\",LEFT(D32,SEARCH(\"/\",D32,1)-1)*1)","v":""},{"$f":"IF(ISERROR(LEFT(E32,SEARCH(\"/\",E32,1)-1)*1),\"\",LEFT(E32,SEARCH(\"/\",E32,1)-1)*1)","v":""},"","","","","","","","","","","","","","","","","","","","","","","","","","","","",""]
[null,null,null,{"$f":"IF(ISERROR(LEFT(D33,SEARCH(\"/\",D33,1)-1)*1),\"\",LEFT(D33,SEARCH(\"/\",D33,1)-1)*1)","v":""},"","","","","","","","","","","","","","","","","","","","","","","","","","","","","",""]
[null,null,null,"","","","","","","","","","","","","","","","","","","","","","","","","","","","","","",""]
[null,null,null,"","","","","","","","","","","","","","","","","","","","","","","","","","","","","","",""]
[null,null,"右",{"$f":"IF(ISERROR(RIGHT(D32,LEN(D32)-FIND(\"/\",D32,1))*1),\"\",RIGHT(D32,LEN(D32)-FIND(\"/\",D32,1))*1)","v":""},{"$f":"IF(ISERROR(RIGHT(E32,LEN(E32)-FIND(\"/\",E32,1))*1),\"\",RIGHT(E32,LEN(E32)-FIND(\"/\",E32,1))*1)","v":""},{"$f":"IF(ISERROR(RIGHT(F32,LEN(F32)-FIND(\"/\",F32,1))*1),\"\",RIGHT(F32,LEN(F32)-FIND(\"/\",F32,1))*1)","v":""},"","","","","","","","","","","","","","","","","","","","","","","","","","","",""]
[null,null,null,{"$f":"IF(ISERROR(RIGHT(D33,LEN(D33)-FIND(\"/\",D33,1))*1),\"\",RIGHT(D33,LEN(D33)-FIND(\"/\",D33,1))*1)","v":""},"","","","","","","","","","","","","","","","","","","","","","","","","","","","","",""]
[null,null,null,"","","","","","","","","","","","","","","","","","","","","","","","","","","","","","",""]
[null,null,null,"","","","","","","","","","","","","","","","","","","","","","","","","","","","","","",""]
[null,null,null,null,null,null,null,null,null,null,null,null,null,null,null,""]
[null,null,null,null,null,null,null,null,null,null,null,null,null,null,null,""]
[null,null,null,null,null,null,null,null,null,null,null,null,null,null,null,""]
[null,null,null,null,null,null,null,null,null,null,null,null,null,null,null,""]
[null,null,null,null,null,null,null,null,null,null,null,null,null,null,null,{"$f":"K161&M161&N161","v":""}]

{"sheet":"9月","index":9,"n_rows":161,"n_cols":45,"rows_kept":161,"cut":false,"hidden":false,"merged":[[31,1,34,2],[35,1,35,2],[36,1,36,2],[37,1,37,2],[38,1,38,2],[24,1,26,2],[49,3,49,4],[49,6,49,7],[1,32,1,34],[2,32,3,34],[102,12,102,13],[1,23,1,24],[2,23,3,24],[102,22,102,23],[102,25,102,26],[103,12,103,13],[104,12,104,13],[100,12,100,13],[100,14,100,15],[100,17,100,18],[100,20,100,21],[100,22,100,23],[100,25,100,26],[100,28,100,29],[100,30,100,31],[96,12,96,13],[96,14,96,15],[96,30,96,31],[96,33,96,34],[93,30,93,31],[94,28,94,29],[92,33,92,34],[108,33,108,34],[109,14,109,15],[1,13,1,14],[2,15,3,20],[1,15,1,19],[1,25,1,31],[2,25,2,30],[3,25,3,30],[105,14,105,15],[105,33,105,34],[106,33,106,34],[107,33,107,34],[97,11,104,11],[97,12,97,13],[97,14,97,15],[97,17,97,18],[98,12,98,13],[98,14,98,15],[98,17,98,18],[99,12,99,13],[99,14,99,15],[108,22,108,23],[108,25,108,26],[109,22,109,23],[109,25,109,26],[109,30,109,31],[109,33,109,34],[108,30,108,31],[101,25,101,26],[101,33,101,34],[93,12,93,13],[93,14,93,15],[96,17,96,18],[96,20,96,21],[96,22,96,23],[96,25,96,26],[96,28,96,29],[41,37,41,38],[39,44,39,45],[40,44,40,45],[41,44,41,45],[40,37,40,38],[39,42,39,43],[40,42,40,43],[41,42,41,43],[39,39,39,40],[40,39,40,40],[44,37,44,38],[42,39,42,40],[43,39,43,40],[44,39,44,40],[43,37,43,38],[42,37,42,38],[44,42,44,43],[42,44,42,45],[43,44,43,45],[44,44,44,45],[42,42,42,43],[43,42,43,43],[41,39,41,40],[39,37,39,38],[95,17,95,18],[95,20,95,21],[95,22,95,23],[36,44,36,45],[37,44,37,45],[38,44,38,45],[35,42,35,43],[36,42,36,43],[37,42,37,43],[38,42,38,43],[32,44,32,45],[33,44,33,45],[34,44,34,45],[35,44,35,45],[32,39,32,40],[93,17,93,18],[93,20,93,21],[93,22,93,23],[34,42,34,43],[16,44,16,45],[17,44,17,45],[33,42,33,43],[5,44,5,45],[6,44,6,45],[7,44,7,45],[8,44,8,45],[14,44,14,45],[15,44,15,45],[9,44,9,45],[10,44,10,45],[11,44,11,45],[12,44,12,45],[20,44,20,45],[21,44,21,45],[22,44,22,45],[23,44,23,45],[24,44,24,45],[25,44,25,45],[7,42,7,43],[8,42,8,43],[16,42,16,43],[17,42,17,43],[9,42,9,43],[10,42,10,43],[11,42,14,43],[18,44,18,45],[27,39,27,40],[29,37,29,38],[30,37,30,38],[29,39,29,40],[30,39,30,40],[25,37,25,38],[26,37,26,38],[20,39,20,40],[11,37,11,40],[12,37,12,40],[33,39,33,40],[34,39,34,40],[23,39,23,40],[24,39,24,40],[28,37,28,38],[13,44,13,45],[24,42,24,43],[25,42,25,43],[26,42,26,43],[20,42,23,43],[18,42,18,43],[19,42,19,43],[15,42,15,43],[16,39,16,40],[27,44,27,45],[28,44,28,45],[31,42,31,43],[31,44,31,45],[28,42,28,43],[27,42,27,43],[19,44,19,45],[26,44,26,45],[112,30,112,31],[4,42,4,45],[15,37,15,40],[30,42,30,45],[16,37,16,38],[17,37,17,38],[18,37,18,38],[21,39,21,40],[22,39,22,40],[27,37,27,38],[28,39,28,40],[32,42,32,43],[19,37,19,38],[20,37,20,38],[21,37,21,38],[22,37,22,38],[23,37,23,38],[24,37,24,38],[17,39,17,40],[18,39,18,40],[19,39,19,40],[5,42,5,43],[6,42,6,43],[31,37,31,38],[32,37,32,38],[33,37,33,38],[13,37,13,40],[10,37,10,40],[34,37,34,38],[25,39,25,40],[26,39,26,40],[31,39,31,40],[112,14,112,15],[112,17,112,18],[112,20,112,21],[111,14,111,15],[111,12,111,13],[130,0,132,0],[130,2,130,4],[130,7,130,8],[105,11,112,11],[105,12,105,13],[107,12,107,13],[108,12,108,13],[110,12,110,13],[109,12,109,13],[106,12,106,13],[108,14,108,15],[129,10,129,12],[110,14,110,15],[110,17,110,18],[110,20,110,21],[107,17,107,18],[130,10,130,11],[130,13,130,14],[129,2,129,4],[129,6,129,8],[112,12,112,13],[131,10,131,11],[131,13,131,14],[132,10,132,11],[132,13,132,14],[109,17,109,18],[109,20,109,21],[111,28,111,29],[111,30,111,31],[111,33,111,34],[110,33,110,34],[110,22,110,23],[110,25,110,26],[110,28,110,29],[36,37,36,38],[110,30,110,31],[111,17,111,18],[111,20,111,21],[111,22,111,23],[111,25,111,26],[105,19,112,19],[105,20,105,21],[112,22,112,23],[108,17,108,18],[108,20,108,21],[106,25,106,26],[107,20,107,21],[107,22,107,23],[107,28,107,29],[108,28,108,29],[105,27,112,27],[105,28,105,29],[109,28,109,29],[105,17,105,18],[106,28,106,29],[106,30,106,31],[112,33,112,34],[112,25,112,26],[112,28,112,29],[103,41,103,42],[104,41,104,42],[104,14,104,15],[104,17,104,18],[104,20,104,21],[104,36,104,37],[104,22,104,23],[104,25,104,26],[104,28,104,29],[104,30,104,31],[105,22,105,23],[105,25,105,26],[106,20,106,21],[106,22,106,23],[107,30,107,31],[107,25,107,26],[105,30,105,31],[106,14,106,15],[106,17,106,18],[107,14,107,15],[97,27,104,27],[97,28,97,29],[97,30,97,31],[98,41,98,42],[99,36,99,37],[99,38,99,39],[99,41,99,42],[99,17,99,18],[99,33,99,34],[98,30,98,31],[98,33,98,34],[99,25,99,26],[102,17,102,18],[102,20,102,21],[103,22,103,23],[103,25,103,26],[103,28,103,29],[103,30,103,31],[103,33,103,34],[103,36,103,37],[103,38,103,39],[97,19,104,19],[97,20,97,21],[97,22,97,23],[97,25,97,26],[98,20,98,21],[98,22,98,23],[98,25,98,26],[99,20,99,21],[99,22,99,23],[97,33,97,34],[98,28,98,29],[104,38,104,39],[104,33,104,34],[100,36,100,37],[100,38,100,39],[100,41,100,42],[97,35,104,35],[97,36,97,37],[97,38,97,39],[97,41,97,42],[98,36,98,37],[98,38,98,39],[101,12,101,13],[101,14,101,15],[99,28,99,29],[99,30,99,31],[101,28,101,29],[101,30,101,31],[102,28,102,29],[100,33,100,34],[101,17,101,18],[101,20,101,21],[101,22,101,23],[101,36,101,37],[101,38,101,39],[101,41,101,42],[102,36,102,37],[102,38,102,39],[102,41,102,42],[102,33,102,34],[102,30,102,31],[103,14,103,15],[103,17,103,18],[103,20,103,21],[102,14,102,15],[92,36,92,37],[92,38,92,39],[92,41,92,42],[89,35,96,35],[89,36,89,37],[89,38,89,39],[89,41,89,42],[90,36,90,37],[90,38,90,39],[90,30,90,31],[90,33,90,34],[91,25,91,26],[90,41,90,42],[91,36,91,37],[91,38,91,39],[95,25,95,26],[95,28,95,29],[95,30,95,31],[95,33,95,34],[95,36,95,37],[95,38,95,39],[95,41,95,42],[91,41,91,42],[96,36,96,37],[96,38,96,39],[96,41,96,42],[88,12,88,13],[88,14,88,15],[88,17,88,18],[88,20,88,21],[88,22,88,23],[88,25,88,26],[88,33,88,34],[88,36,88,37],[88,38,88,39],[88,41,88,42],[93,25,93,26],[93,33,93,34],[93,36,93,37],[93,38,93,39],[93,41,93,42],[94,12,94,13],[94,14,94,15],[94,17,94,18],[94,36,94,37],[94,38,94,39],[94,41,94,42],[92,20,92,21],[92,22,92,23],[92,25,92,26],[92,28,92,29],[92,30,92,31],[89,27,96,27],[89,28,89,29],[89,30,89,31],[91,28,91,29],[91,30,91,31],[93,28,93,29],[89,11,96,11],[89,12,89,13],[89,14,89,15],[89,17,89,18],[90,12,90,13],[90,14,90,15],[90,17,90,18],[91,12,91,13],[91,14,91,15],[91,17,91,18],[91,33,91,34],[89,19,96,19],[89,20,89,21],[89,22,89,23],[89,25,89,26],[90,20,90,21],[90,22,90,23],[90,25,90,26],[91,20,91,21],[91,22,91,23],[89,33,89,34],[90,28,90,29],[94,20,94,21],[94,22,94,23],[94,25,94,26],[94,30,94,31],[94,33,94,34],[92,12,92,13],[92,14,92,15],[92,17,92,18],[95,12,95,13],[95,14,95,15],[86,12,86,13],[86,14,86,15],[86,17,86,18],[86,20,86,21],[86,22,86,23],[86,25,86,26],[86,28,86,29],[86,33,86,34],[86,36,86,37],[86,38,86,39],[86,41,86,42],[87,12,87,13],[87,14,87,15],[87,17,87,18],[87,20,87,21],[87,22,87,23],[87,25,87,26],[87,33,87,34],[87,36,87,37],[87,38,87,39],[87,41,87,42],[84,22,84,23],[84,25,84,26],[84,28,84,29],[84,30,84,31],[84,33,84,34],[84,41,84,42],[85,12,85,13],[85,14,85,15],[85,17,85,18],[85,20,85,21],[85,22,85,23],[85,25,85,26],[85,28,85,29],[85,30,85,31],[85,33,85,34],[85,36,85,37],[85,38,85,39],[85,41,85,42],[81,38,81,39],[82,36,82,37],[82,38,82,39],[83,36,83,37],[83,38,83,39],[84,36,84,37],[84,38,84,39],[81,41,81,42],[82,12,82,13],[82,14,82,15],[82,17,82,18],[82,20,82,21],[82,22,82,23],[82,25,82,26],[82,28,82,29],[82,30,82,31],[82,33,82,34],[82,41,82,42],[83,12,83,13],[83,14,83,15],[83,17,83,18],[83,20,83,21],[83,22,83,23],[83,25,83,26],[83,28,83,29],[83,30,83,31],[83,33,83,34],[83,41,83,42],[84,12,84,13],[84,14,84,15],[84,17,84,18],[84,20,84,21],[79,41,79,42],[80,12,80,13],[80,14,80,15],[80,17,80,18],[80,20,80,21],[80,22,80,23],[80,25,80,26],[80,28,80,29],[80,30,80,31],[80,33,80,34],[80,36,80,37],[80,38,80,39],[80,41,80,42],[81,11,88,11],[81,12,81,13],[81,14,81,15],[81,17,81,18],[81,19,88,19],[81,20,81,21],[81,22,81,23],[81,25,81,26],[81,27,88,27],[81,28,81,29],[81,30,81,31],[86,30,86,31],[87,28,87,29],[87,30,87,31],[88,28,88,29],[88,30,88,31],[81,33,81,34],[81,35,88,35],[81,36,81,37],[76,38,76,39],[76,41,76,42],[77,3,77,4],[77,6,77,7],[77,12,77,13],[77,14,77,15],[77,17,77,18],[77,20,77,21],[77,36,77,37],[77,38,77,39],[77,41,77,42],[78,3,78,4],[78,6,78,7],[78,12,78,13],[78,14,78,15],[78,17,78,18],[78,20,78,21],[78,33,78,34],[78,36,78,37],[78,38,78,39],[78,41,78,42],[73,27,80,27],[78,28,78,29],[79,33,79,34],[79,36,79,37],[79,38,79,39],[77,33,77,34],[79,22,79,23],[79,25,79,26],[79,28,79,29],[79,30,79,31],[73,19,80,19],[73,38,73,39],[74,33,74,34],[74,36,74,37],[74,38,74,39],[75,33,75,34],[75,36,75,37],[75,38,75,39],[73,41,73,42],[74,3,74,4],[74,6,74,7],[74,12,74,13],[74,14,74,15],[74,17,74,18],[74,20,74,21],[74,22,74,23],[74,25,74,26],[74,28,74,29],[74,41,74,42],[75,3,75,4],[75,6,75,7],[75,12,75,13],[75,14,75,15],[75,17,75,18],[75,20,75,21],[75,22,75,23],[75,25,75,26],[75,28,75,29],[75,41,75,42],[73,20,73,21],[73,22,73,23],[73,25,73,26],[73,30,73,31],[73,3,73,4],[73,6,73,7],[73,11,80,11],[73,12,73,13],[73,14,73,15],[73,17,73,18],[79,3,79,4],[79,17,79,18],[74,30,74,31],[75,30,75,31],[76,30,76,31],[77,28,77,29],[77,30,77,31],[73,28,73,29],[73,33,73,34],[73,35,80,35],[73,36,73,37],[76,3,76,4],[76,6,76,7],[76,12,76,13],[76,14,76,15],[76,17,76,18],[76,20,76,21],[76,22,76,23],[76,25,76,26],[76,28,76,29],[76,33,76,34],[76,36,76,37],[78,30,78,31],[72,17,72,18],[72,20,72,21],[65,11,72,11],[79,6,79,7],[79,12,79,13],[79,14,79,15],[79,20,79,21],[69,20,69,21],[65,19,72,19],[65,20,65,21],[72,22,72,23],[72,25,72,26],[72,28,72,29],[77,22,77,23],[77,25,77,26],[78,22,78,23],[78,25,78,26],[69,3,69,4],[69,6,69,7],[69,12,69,13],[69,14,69,15],[69,17,69,18],[65,3,65,4],[65,6,65,7],[69,22,69,23],[72,3,72,4],[72,6,72,7],[72,12,72,13],[72,14,72,15],[68,22,68,23],[67,22,67,23],[66,20,66,21],[69,41,69,42],[70,3,70,4],[70,6,70,7],[70,12,70,13],[70,14,70,15],[70,17,70,18],[70,20,70,21],[70,22,70,23],[70,36,70,37],[70,38,70,39],[70,41,70,42],[71,3,71,4],[71,6,71,7],[71,12,71,13],[71,14,71,15],[71,17,71,18],[71,20,71,21],[67,3,67,4],[67,6,67,7],[67,12,67,13],[67,14,67,15],[67,17,67,18],[67,20,67,21],[67,38,67,39],[67,25,67,26],[67,28,67,29],[67,41,67,42],[68,3,68,4],[68,6,68,7],[68,12,68,13],[68,14,68,15],[68,17,68,18],[68,20,68,21],[68,25,68,26],[68,28,68,29],[68,36,68,37],[68,38,68,39],[68,30,68,31],[69,30,69,31],[65,38,65,39],[66,33,66,34],[66,36,66,37],[66,38,66,39],[67,36,67,37],[65,33,65,34],[65,35,72,35],[67,33,67,34],[72,38,72,39],[65,41,65,42],[68,41,68,42],[72,41,72,42],[69,36,69,37],[69,38,69,39],[66,22,66,23],[66,41,66,42],[65,36,65,37],[71,22,71,23],[71,30,71,31],[71,33,71,34],[71,36,71,37],[71,38,71,39],[71,41,71,42],[72,30,72,31],[72,33,72,34],[72,36,72,37],[64,30,64,31],[64,33,64,34],[64,36,64,37],[64,38,64,39],[64,28,64,29],[65,12,65,13],[65,14,65,15],[65,17,65,18],[66,3,66,4],[66,6,66,7],[66,12,66,13],[66,14,66,15],[66,17,66,18],[65,22,65,23],[70,28,70,29],[65,25,65,26],[65,27,72,27],[65,28,65,29],[69,28,69,29],[66,25,66,26],[69,25,69,26],[70,25,70,26],[71,25,71,26],[71,28,71,29],[66,28,66,29],[68,33,68,34],[69,33,69,34],[70,30,70,31],[70,33,70,34],[65,30,65,31],[66,30,66,31],[67,30,67,31],[63,33,63,34],[61,41,61,42],[62,3,62,4],[62,6,62,7],[62,12,62,13],[62,14,62,15],[62,17,62,18],[62,20,62,21],[62,22,62,23],[62,36,62,37],[63,17,63,18],[63,20,63,21],[63,22,63,23],[63,30,63,31],[63,3,63,4],[63,6,63,7],[63,12,63,13],[63,14,63,15],[63,28,63,29],[63,41,63,42],[63,36,63,37],[63,38,63,39],[57,35,64,35],[57,36,57,37],[57,38,57,39],[62,41,62,42],[64,41,64,42],[60,41,60,42],[58,41,58,42],[64,3,64,4],[64,6,64,7],[64,12,64,13],[62,38,62,39],[58,25,58,26],[60,28,60,29],[61,38,61,39],[60,30,60,31],[60,33,60,34],[59,25,59,26],[60,38,60,39],[61,30,61,31],[59,33,59,34],[61,22,61,23],[61,36,61,37],[60,17,60,18],[60,20,60,21],[60,22,60,23],[60,25,60,26],[60,36,60,37],[61,17,61,18],[61,20,61,21],[57,33,57,34],[61,33,61,34],[62,33,62,34],[57,30,57,31],[58,30,58,31],[59,30,59,31],[59,36,59,37],[59,38,59,39],[59,28,59,29],[58,36,58,37],[58,38,58,39],[62,30,62,31],[57,41,57,42],[58,3,58,4],[58,6,58,7],[58,12,58,13],[58,14,58,15],[58,17,58,18],[58,20,58,21],[58,22,58,23],[57,19,64,19],[57,20,57,21],[59,3,59,4],[59,6,59,7],[59,12,59,13],[59,14,59,15],[59,41,59,42],[58,33,58,34],[59,17,59,18],[59,20,59,21],[59,22,59,23],[58,28,58,29],[57,3,57,4],[57,6,57,7],[57,11,64,11],[57,12,57,13],[57,14,57,15],[57,17,57,18],[60,3,60,4],[60,6,60,7],[60,12,60,13],[60,14,60,15],[57,22,57,23],[57,25,57,26],[57,27,64,27],[57,28,57,29],[61,28,61,29],[61,25,61,26],[62,25,62,26],[63,25,63,26],[62,28,62,29],[64,22,64,23],[61,3,61,4],[61,6,61,7],[61,12,61,13],[61,14,61,15],[64,14,64,15],[64,17,64,18],[64,20,64,21],[64,25,64,26],[54,3,54,4],[54,6,54,7],[54,12,54,13],[54,14,54,15],[49,11,56,11],[53,3,53,4],[53,6,53,7],[53,12,53,13],[49,12,49,13],[54,20,54,21],[54,22,54,23],[54,25,54,26],[52,22,52,23],[52,6,52,7],[52,12,52,13],[52,14,52,15],[50,25,50,26],[49,22,49,23],[55,3,55,4],[55,6,55,7],[55,12,55,13],[55,14,55,15],[55,17,55,18],[55,20,55,21],[55,22,55,23],[55,25,55,26],[56,3,56,4],[56,6,56,7],[56,12,56,13],[56,14,56,15],[56,17,56,18],[56,20,56,21],[50,3,50,4],[50,6,50,7],[50,12,50,13],[50,14,50,15],[50,17,50,18],[50,22,50,23],[50,41,50,42],[49,38,49,39],[52,17,52,18],[52,20,52,21],[51,12,51,13],[51,14,51,15],[51,20,51,21],[51,22,51,23],[52,30,52,31],[50,38,50,39],[51,3,51,4],[51,6,51,7],[52,38,52,39],[52,41,52,42],[52,3,52,4],[51,28,51,29],[52,33,52,34],[51,30,51,31],[49,14,49,15],[49,17,49,18],[49,19,56,19],[54,17,54,18],[51,17,51,18],[49,20,49,21],[53,14,53,15],[50,20,50,21],[54,33,54,34],[54,36,54,37],[50,33,50,34],[50,36,50,37],[54,30,54,31],[53,30,53,31],[49,33,49,34],[49,35,56,35],[51,41,51,42],[49,36,49,37],[51,33,51,34],[51,36,51,37],[51,38,51,39],[49,41,49,42],[53,36,53,37],[52,36,52,37],[53,33,53,34],[53,38,53,39],[53,41,53,42],[54,38,54,39],[54,41,54,42],[55,30,55,31],[55,33,55,34],[55,36,55,37],[55,38,55,39],[55,41,55,42],[56,30,56,31],[56,33,56,34],[56,36,56,37],[56,38,56,39],[56,41,56,42],[49,25,49,26],[49,27,56,27],[49,28,49,29],[49,30,49,31],[50,30,50,31],[50,28,50,29],[54,28,54,29],[52,25,52,26],[52,28,52,29],[51,25,51,26],[53,17,53,18],[53,20,53,21],[53,22,53,23],[53,25,53,26],[53,28,53,29],[55,28,55,29],[56,22,56,23],[56,25,56,26],[56,28,56,29],[48,25,48,26],[48,28,48,29],[48,6,48,7],[48,41,48,42],[48,36,48,37],[48,30,48,31],[48,33,48,34]],"merged_total":1062,"flags":["merged_cut"]}
[null,"体温表",null,null,null,{"$f":"設定!$F$7","v":2016},null,"年",null,9,"月"]
[null,"カルテ番号",null,null,"病棟",null,null,"入院形態",null,null,"主治医",null,null,"　姓名",null,{"$f":"'8月'!$P$2","v":0},null,null,null,null,null,null,null,"性別",null,"生年月日　",null,null,null,null,null,null,"担当Ns"]
[null,{"$f":"'8月'!B3","v":0},null,null,{"$f":"IF(COUNTIF('8月'!E3:G3,\"*\"),INDEX('8月'!E3:G3,MATCH(\"\",'8月'!E3:G3,-1)),\"\")","v":""},null,null,{"$f":"IF(COUNTIF('8月'!H3:J3,\"*\"),INDEX('8月'!H3:J3,MATCH(\"\",'8月'!H3:J3,-1)),\"\")","v":""},null,null,{"$f":"'8月'!K3","v":0},null,null,null,null,{"$f":"'8月'!$P$3","v":0},null,null,null,null,null,null,null,{"$f":"'8月'!$X$3","v":0},null,{"$f":"'8月'!$Z$3","v":"00:00:00"},null,null,null,null,null,{"$f":"DATEDIF(Z3,TODAY(),\"Y\")","v":115},{"$f":"'8月'!$AG$3","v":0}]
[null,null,null,null,"/","/","/","/","/","/",null,null,null,null,null,null,null,null,null,null,null,null,null,null,null,{"$f":"Z3","v":"00:00:00"},null,null,null,null,null,"歳"]
[null,null,null,null,null,null,null,null,null,null,null,null,null,null,null,null,null,null,null,null,null,null,null,null,null,null,null,null,null,null,null,null,null,null,null,null,null,{"$f":"設定!C10","v":"備考欄"},null,null,null,null,{"$f":"設定!I10","v":"食事箋"}]
[null,null,null,null,null,null,null,null,null,null,null,null,null,null,null,null,null,null,null,null,null,null,null,null,null,null,null,null,null,null,null,null,null,null,null,null,null,{"$f":"設定!C11","v":0},null,null,null,null,{"$f":"設定!I11","v":0},null,{"$f":"設定!K11","v":0}]
[null,null,null,null,null,null,null,null,null,null,null,null,null,null,null,null,null,null,null,null,null,null,null,null,null,null,null,null,null,null,null,null,null,null,null,null,null,null,null,null,null,null,{"$f":"設定!I12","v":"常食"},null,{"$f":"設定!K12","v":"常食"}]
[null,null,null,null,null,null,null,null,null,null,null,null,null,null,null,null,null,null,null,null,null,null,null,null,null,null,null,null,null,null,null,null,null,null,null,null,null,null,null,null,null,null,{"$f":"設定!I13","v":"心臓"},null,{"$f":"設定!K13","v":"心臓"}]
[null,null,null,null,null,null,null,null,null,null,null,null,null,null,null,null,null,null,null,null,null,null,null,null,null,null,null,null,null,null,null,null,null,null,null,null,null,null,null,null,null,null,{"$f":"設定!I14","v":"すい臓"},null,{"$f":"設定!K14","v":"膵臓"}]
[null,null,null,null,null,null,null,null,null,null,null,null,null,null,null,null,null,null,null,null,null,null,null,null,null,null,null,null,null,null,null,null,null,null,null,null,null,null,null,null,null,null,{"$f":"設定!I15","v":"じん臓"},null,{"$f":"設定!K15","v":"腎臓"}]
[null,null,null,null,null,null,null,null,null,null,null,null,null,null,null,null,null,null,null,null,null,null,null,null,null,null,null,null,null,null,null,null,null,null,null,null,null,{"$f":"'8月'!AL11","v":0},null,null,null,null,{"$f":"設定!I16","v":"高血圧"},null,{"$f":"設定!K16","v":"高血"}]
[null,null,null,null,null,null,null,null,null,null,null,null,null,null,null,null,null,null,null,null,null,null,null,null,null,null,null,null,null,null,null,null,null,null,null,null,null,{"$f":"'8月'!AL12","v":0},null,null,null,null,{"$f":"設定!I17","v":"糖尿"},null,{"$f":"設定!K17","v":"糖1200"}]
[null,null,null,null,null,null,null,null,null,null,null,null,null,null,null,null,null,null,null,null,null,null,null,null,null,null,null,null,null,null,null,null,null,null,null,null,null,{"$f":"'8月'!AL13","v":0},null,null,null,null,null,null,{"$f":"設定!K18","v":"糖1440"}]
[null,null,null,null,null,null,null,null,null,null,null,null,null,null,null,null,null,null,null,null,null,null,null,null,null,null,null,null,null,null,null,null,null,null,null,null,null,{"$f":"'8月'!AL14","v":0},null,null,null,null,null,null,{"$f":"設定!K19","v":"糖1600"}]
[null,null,null,null,null,null,null,null,null,null,null,null,null,null,null,null,null,null,null,null,null,null,null,null,null,null,null,null,null,null,null,null,null,null,null,null,null,null,null,null,null,null,null,null,{"$f":"設定!K20","v":"糖1800"}]
[null,null,null,null,null,null,null,null,null,null,null,null,null,null,null,null,null,null,null,null,null,null,null,null,null,null,null,null,null,null,null,null,null,null,null,null,null,{"$f":"設定!C21","v":"面会"},null,null,null,null,{"$f":"設定!I21","v":"肝臓A"},null,{"$f":"設定!K21","v":"肝Ａ"}]
[null,"日　付",null,1,2,3,4,5,6,7,8,9,10,11,12,13,14,15,16,17,18,19,20,21,22,23,24,25,26,27,28,29,30,31,"統計",null,null,{"$f":"設定!C22","v":0},null,{"$f":"設定!E22","v":0},null,null,{"$f":"設定!I22","v":"肝臓B"},null,{"$f":"設定!K22","v":"肝Ｂ"}]
[null,"行　動",null,null,null,null,null,null,null,null,null,null,null,null,null,null,null,null,null,null,null,null,null,null,null,null,null,null,null,null,null,null,null,null,null,null,null,{"$f":"設定!C23","v":"両親"},null,{"$f":"設定!E23","v":"両親"},null,null,{"$f":"設定!I23","v":"潰瘍"},null,{"$f":"設定!K23","v":"潰瘍"}]
[null,"時　間",null,null,null,null,null,null,null,null,null,null,null,null,null,null,null,null,null,null,null,null,null,null,null,null,null,null,null,null,null,null,null,null,null,null,null,{"$f":"設定!C24","v":"父"},null,{"$f":"設定!E24","v":"父"},null,null,{"$f":"設定!I24","v":"低残渣食"},null,{"$f":"設定!K24","v":"低残"}]
[null,"行　動",null,null,null,null,null,null,null,null,null,null,null,null,null,null,null,null,null,null,null,null,null,null,null,null,null,null,null,null,null,null,null,null,null,null,null,{"$f":"設定!C25","v":"母"},null,{"$f":"設定!E25","v":"母"},null,null,{"$f":"設定!I25","v":"貧血"},null,{"$f":"設定!K25","v":"貧血"}]
[null,"時　間",null,null,null,null,null,null,null,null,null,null,null,null,null,null,null,null,null,null,null,null,null,null,null,null,null,null,null,null,null,null,null,null,{"$f":"IF(COUNTIF(D18:AH21,\"外出\")+COUNTIF(D18:AH21,\"外泊\")=0,\"回数\",COUNTIF(D18:AH21,\"外出\")+COUNTIF(D18:AH21,\"外泊\"))","v":"回数"},null,null,{"$f":"設定!C26","v":"主人"},null,{"$f":"設定!E26","v":"夫"},null,null,{"$f":"設定!I26","v":"脂質異常"},null,{"$f":"設定!K26","v":"脂1200"}]
[null,"面　会",null,null,null,null,null,null,null,null,null,null,null,null,null,null,null,null,null,null,null,null,null,null,null,null,null,null,null,null,null,null,null,null,null,null,null,{"$f":"設定!C27","v":"奥方"},null,{"$f":"設定!E27","v":"妻"},null,null,null,null,{"$f":"設定!K27","v":"脂1440"}]
[null,null,null,null,null,null,null,null,null,null,null,null,null,null,null,null,null,null,null,null,null,null,null,null,null,null,null,null,null,null,null,null,null,null,{"$f":"IF(COUNTA(D22:AH23)=0,\"回数\",COUNTA(D22:AH23))","v":"回数"},null,null,{"$f":"設定!C28","v":"息子"},null,{"$f":"設定!E28","v":"息子"},null,null,null,null,{"$f":"設定!K28","v":"脂1600"}]
[null,"入　浴",null,null,null,null,null,null,null,null,null,null,null,null,null,null,null,null,null,null,null,null,null,null,null,null,null,null,null,null,null,null,null,null,{"$f":"IF(COUNTA(D24:AH24)=0,\"回数\",COUNTA(D24:AH24))","v":"回数"},null,null,{"$f":"設定!C29","v":"娘"},null,{"$f":"設定!E29","v":"娘"},null,null,null,null,{"$f":"設定!K29","v":"脂1800"}]
[null,"食　事",null,null,null,null,null,null,null,null,null,null,null,null,null,null,null,null,null,null,null,null,null,null,null,null,null,null,null,null,null,null,null,null,null,null,null,{"$f":"設定!C30","v":"兄"},null,{"$f":"設定!E30","v":"兄"},null,null,{"$f":"設定!I30","v":"検査食"},null,{"$f":"設定!K30","v":"検査"}]
[null,null,null,null,null,null,null,null,null,null,null,null,null,null,null,null,null,null,null,null,null,null,null,null,null,null,null,null,null,null,null,null,null,null,null,null,null,{"$f":"設定!C31","v":"弟"},null,{"$f":"設定!E31","v":"弟"},null,null,{"$f":"設定!I31","v":"絶食"},null,{"$f":"設定!K31","v":"絶食"}]
[null,null,null,null,null,null,null,null,null,null,null,null,null,null,null,null,null,null,null,null,null,null,null,null,null,null,null,null,null,null,null,null,null,null,{"$f":"IFERROR(INT(AVERAGE(D141:AH143))& \".\"&INT(AVERAGE(D144:AH146)),\"平均\")","v":"平均"},null,null,{"$f":"設定!C32","v":"姉"},null,{"$f":"設定!E32","v":"姉"},null,null,{"$f":"設定!I32","v":0},null,{"$f":"設定!K32","v":0}]
[null,"便　通",null,{"$f":"IF(ISBLANK(I51),\"\",I51)","v":""},{"$f":"IF(ISBLANK(I52),\"\",I52)","v":""},{"$f":"IF(ISBLANK(I53),\"\",I53)","v":""},{"$f":"IF(ISBLANK(I54),\"\",I54)","v":""},{"$f":"IF(ISBLANK(I55),\"\",I55)","v":""},{"$f":"IF(ISBLANK(I56),\"\",I56)","v":""},{"$f":"IF(ISBLANK(I57),\"\",I57)","v":""},{"$f":"IF(ISBLANK(I58),\"\",I58)","v":""},{"$f":"IF(ISBLANK(I59),\"\",I59)","v":""},{"$f":"IF(ISBLANK(I60),\"\",I60)","v":""},{"$f":"IF(ISBLANK(I61),\"\",I61)","v":""},{"$f":"IF(ISBLANK(I62),\"\",I62)","v":""},{"$f":"IF(ISBLANK(I63),\"\",I63)","v":""},{"$f":"IF(ISBLANK(I64),\"\",I64)","v":""},{"$f":"IF(ISBLANK(I65),\"\",I65)","v":""},{"$f":"IF(ISBLANK(I66),\"\",I66)","v":""},{"$f":"IF(ISBLANK(I67),\"\",I67)","v":""},{"$f":"IF(ISBLANK(I68),\"\",I68)","v":""},{"$f":"IF(ISBLANK(I69),\"\",I69)","v":""},{"$f":"IF(ISBLANK(I70),\"\",I70)","v":""},{"$f":"IF(ISBLANK(I71),\"\",I71)","v":""},{"$f":"IF(ISBLANK(I72),\"\",I72)","v":""},{"$f":"IF(ISBLANK(I73),\"\",I73)","v":""},{"$f":"IF(ISBLANK(I74),\"\",I74)","v":""},{"$f":"IF(ISBLANK(I75),\"\",I75)","v":""},{"$f":"IF(ISBLANK(I76),\"\",I76)","v":""},{"$f":"IF(ISBLANK(I77),\"\",I77)","v":""},{"$f":"IF(ISBLANK(I78),\"\",I78)","v":""},{"$f":"IF(ISBLANK(I79),\"\",I79)","v":""},{"$f":"IF(ISBLANK(I80),\"\",I80)","v":""},{"$f":"IF(ISBLANK('3月'!I50),\"\",'3月'!I50)","v":""},{"$f":"IF(COUNTIF(D28:AH28,0)=0,\"回数\",COUNTIF(D28:AH28,0))","v":"回数"},null,null,{"$f":"設定!C33","v":"妹"},null,{"$f":"設定!E33","v":"妹"},null,null,{"$f":"設定!I33","v":0},null,{"$f":"設定!K33","v":0}]
[null,"便処置",null,null,null,null,null,null,null,null,null,null,null,null,null,null,null,null,null,null,null,null,null,null,null,null,null,null,null,null,null,null,null,null,null,null,null,{"$f":"設定!C34","v":"孫"},null,{"$f":"設定!E34","v":"孫"},null,null,{"$f":"設定!I34","v":0},null,{"$f":"設定!K34","v":0}]
[null,null,null,null,null,null,null,null,null,null,null,null,null,null,null,null,null,null,null,null,null,null,null,null,null,null,null,null,null,null,null,null,null,null,{"$f":"IF(SUM(D29:AH31)=0,\"滴数\",SUM(D29:AH31))","v":"滴数"},null,null,{"$f":"設定!C35","v":"友人知人"},null,{"$f":"設定!E35","v":"知人"}]
[null,null,null,null,null,null,null,null,null,null,null,null,null,null,null,null,null,null,null,null,null,null,null,null,null,null,null,null,null,null,null,null,null,null,{"$f":"IF(AI30=\"滴数\",\"本数\",AI30/150)","v":"本数"},null,null,{"$f":"設定!C36","v":"子の夫"},null,{"$f":"設定!E36","v":"子夫"},null,null,{"$f":"設定!I36","v":"食事形態"}]
[null,"血　圧",null,{"$f":"$R$50","v":0},{"$f":"$R$58","v":0},{"$f":"R66","v":0},{"$f":"R74","v":0},{"$f":"R82","v":0},{"$f":"R90","v":0},{"$f":"R98","v":0},{"$f":"R106","v":0},{"$f":"Z50","v":0},{"$f":"Z58","v":0},{"$f":"Z66","v":0},{"$f":"Z74","v":0},{"$f":"Z82","v":0},{"$f":"Z90","v":0},{"$f":"Z98","v":0},{"$f":"Z106","v":0},{"$f":"AH50","v":0},{"$f":"AH58","v":0},{"$f":"AH66","v":0},{"$f":"AH74","v":0},{"$f":"AH82","v":0},{"$f":"AH90","v":0},{"$f":"AH98","v":0},{"$f":"AH106","v":0},{"$f":"AP50","v":0},{"$f":"AP58","v":0},{"$f":"AP66","v":0},{"$f":"AP74","v":0},{"$f":"AP82","v":0},{"$f":"AP90","v":0},{"$f":"AP98","v":0},null,null,null,{"$f":"設定!C37","v":"子の妻"},null,{"$f":"設定!E37","v":"子妻"},null,null,{"$f":"設定!I37","v":0},null,{"$f":"設定!K37","v":0}]
[null,null,null,{"$f":"$R$51","v":{"$error":"#N/A"}},{"$f":"$R$59","v":{"$error":"#N/A"}},{"$f":"R67","v":{"$error":"#N/A"}},{"$f":"R75","v":{"$error":"#N/A"}},{"$f":"R83","v":{"$error":"#N/A"}},{"$f":"R91","v":{"$error":"#N/A"}},{"$f":"R99","v":{"$error":"#N/A"}},{"$f":"R107","v":{"$error":"#N/A"}},{"$f":"Z51","v":{"$error":"#N/A"}},{"$f":"Z59","v":{"$error":"#N/A"}},{"$f":"Z67","v":{"$error":"#N/A"}},{"$f":"Z75","v":{"$error":"#N/A"}},{"$f":"Z83","v":{"$error":"#N/A"}},{"$f":"Z91","v":{"$error":"#N/A"}},{"$f":"Z99","v":{"$error":"#N/A"}},{"$f":"Z107","v":{"$error":"#N/A"}},{"$f":"AH51","v":{"$error":"#N/A"}},{"$f":"AH59","v":{"$error":"#N/A"}},{"$f":"AH67","v":{"$error":"#N/A"}},{"$f":"AH75","v":{"$error":"#N/A"}},{"$f":"AH83","v":{"$error":"#N/A"}},{"$f":"AH91","v":{"$error":"#N/A"}},{"$f":"AH99","v":{"$error":"#N/A"}},{"$f":"AH107","v":{"$error":"#N/A"}},{"$f":"AP51","v":{"$error":"#N/A"}},{"$f":"AP59","v":{"$error":"#N/A"}},{"$f":"AP67","v":{"$error":"#N/A"}},{"$f":"AP75","v":{"$error":"#N/A"}},{"$f":"AP83","v":{"$error":"#N/A"}},{"$f":"AP91","v":{"$error":"#N/A"}},{"$f":"AP99","v":{"$error":"#N/A"}},null,null,null,{"$f":"設定!C38","v":"祖母"},null,{"$f":"設定!E38","v":"祖母"},null,null,{"$f":"設定!I38","v":"普通食"},null,{"$f":"設定!K38","v":"普通"}]
[null,null,null,{"$f":"$R$52","v":0},{"$f":"$R$60","v":0},{"$f":"R68","v":0},{"$f":"R76","v":0},{"$f":"R84","v":0},{"$f":"R92","v":0},{"$f":"R100","v":0},{"$f":"R108","v":0},{"$f":"Z52","v":0},{"$f":"Z60","v":0},{"$f":"Z68","v":0},{"$f":"Z76","v":0},{"$f":"Z84","v":0},{"$f":"Z92","v":0},{"$f":"Z100","v":0},{"$f":"Z108","v":0},{"$f":"AH52","v":0},{"$f":"AH60","v":0},{"$f":"AH68","v":0},{"$f":"AH76","v":0},{"$f":"AH84","v":0},{"$f":"AH92","v":0},{"$f":"AH100","v":0},{"$f":"AH108","v":0},{"$f":"AP52","v":0},{"$f":"AP60","v":0},{"$f":"AP68","v":0},{"$f":"AP76","v":0},{"$f":"AP84","v":0},{"$f":"AP92","v":0},{"$f":"AP100","v":0},null,null,null,{"$f":"設定!C39","v":"祖父"},null,{"$f":"設定!E39","v":"祖父"},null,null,{"$f":"設定!I39","v":"普+一口大"},null,{"$f":"設定!K39","v":"一口"}]
[null,null,null,{"$f":"$R$53","v":0},{"$f":"$R$61","v":0},{"$f":"R69","v":0},{"$f":"R77","v":0},{"$f":"R85","v":0},{"$f":"R93","v":0},{"$f":"R101","v":0},{"$f":"R109","v":0},{"$f":"Z53","v":0},{"$f":"Z61","v":0},{"$f":"Z69","v":0},{"$f":"Z77","v":0},{"$f":"Z85","v":0},{"$f":"Z93","v":0},{"$f":"Z101","v":0},{"$f":"Z109","v":0},{"$f":"AH53","v":0},{"$f":"AH61","v":0},{"$f":"AH69","v":0},{"$f":"AH77","v":0},{"$f":"AH85","v":0},{"$f":"AH93","v":0},{"$f":"AH101","v":0},{"$f":"AH109","v":0},{"$f":"AP53","v":0},{"$f":"AP61","v":0},{"$f":"AP69","v":0},{"$f":"AP77","v":0},{"$f":"AP85","v":0},{"$f":"AP93","v":0},{"$f":"AP101","v":0},{"$f":"IFERROR(INT(AVERAGE(D149:AH152))& \"/\"&INT(AVERAGE(D153:AH156)),\"平均\")","v":"平均"},null,null,{"$f":"設定!C40","v":"従兄弟の父"},null,{"$f":"設定!E40","v":"叔父"},null,null,{"$f":"設定!I40","v":"普+キザミ"},null,{"$f":"設定!K40","v":"普キ"}]
[null,"食事箋",null,{"$f":"IF(COUNTIF('8月'!D40:AH40,\"*\"),INDEX('8月'!D40:AH40,MATCH(\"\",'8月'!D40:AH40,-1)),\"\")","v":""},null,null,null,null,null,null,null,null,null,null,null,null,null,null,null,null,null,null,null,null,null,null,null,null,null,null,null,null,null,null,null,null,null,{"$f":"設定!C41","v":"従兄弟の母"},null,{"$f":"設定!E41","v":"叔母"},null,null,{"$f":"設定!I41","v":"軟飯"},null,{"$f":"設定!K41","v":"軟飯"}]
[null,"形　態",null,{"$f":"IF(COUNTIF('8月'!D41:AH41,\"*\"),INDEX('8月'!D41:AH41,MATCH(\"\",'8月'!D41:AH41,-1)),\"\")","v":""},null,null,null,null,null,null,null,null,null,null,null,null,null,null,null,null,null,null,null,null,null,null,null,null,null,null,null,null,null,null,null,null,null,{"$f":"設定!C42","v":"従兄弟"},null,{"$f":"設定!E42","v":"ｲﾄｺ"},null,null,{"$f":"設定!I42","v":"軟+キザミ"},null,{"$f":"設定!K42","v":"軟キ"}]
[null,"身　長",null,{"$f":"IF(COUNT('8月'!D42:AH42),LOOKUP(MAX('8月'!D42:AH42)+1,'8月'!D42:AH42),\"\")","v":""},null,null,null,null,null,null,null,null,null,null,null,null,null,null,null,null,null,null,null,null,null,null,null,null,null,null,null,null,null,null,"BMI",null,null,{"$f":"設定!C43","v":"義理の母"},null,{"$f":"設定!E43","v":"義母"},null,null,{"$f":"設定!I43","v":"粥食"},null,{"$f":"設定!K43","v":"粥"}]
[null,"体　重",null,null,null,null,null,null,null,null,null,null,null,null,null,null,null,null,null,null,null,null,null,null,null,null,null,null,null,null,null,null,null,null,{"$f":"IF(ISERROR(INDEX(D39:AH39,MATCH(307,D39:AH39))/(INDEX(D38:AH38,MATCH(9E+307,D38:AH38))/100)^2)=TRUE,\"\",INDEX(D39:AH39,MATCH(307,D39:AH39))/(INDEX(D38:AH38,MATCH(9E+307,D38:AH38))/100)^2)","v":""},null,null,{"$f":"設定!C44","v":"義理の父"},null,{"$f":"設定!E44","v":"義父"},null,null,{"$f":"設定!I44","v":"粥+キザミ"},null,{"$f":"設定!K44","v":"粥キ"}]
[null,"Ｉ　Ｎ",null,null,null,null,null,null,null,null,null,null,null,null,null,null,null,null,null,null,null,null,null,null,null,null,null,null,null,null,null,null,null,null,{"$f":"IFERROR(INT(AVERAGE(D40:AH40)),\"平均\")","v":"平均"},null,null,{"$f":"設定!C45","v":"その他親類"},null,{"$f":"設定!E45","v":"親類"},null,null,{"$f":"設定!I45","v":"ミキサ－"},null,{"$f":"設定!K45","v":"ミキ"}]
[null,"ＯＵＴ",null,null,null,null,null,null,null,null,null,null,null,null,null,null,null,null,null,null,null,null,null,null,null,null,null,null,null,null,null,null,null,null,{"$f":"IFERROR(INT(AVERAGE(D41:AH41)),\"平均\")","v":"平均"},null,null,{"$f":"設定!C46","v":"福祉職員"},null,{"$f":"設定!E46","v":"福祉"},null,null,{"$f":"設定!I46","v":"普通流動"},null,{"$f":"設定!K46","v":"普流"}]
[null,"生　理",null,null,null,null,null,null,null,null,null,null,null,null,null,null,null,null,null,null,null,null,null,null,null,null,null,null,null,null,null,null,null,null,{"$f":"IF(ISERROR(AVERAGE(D42:AH42)),\" \",AVERAGE(D42:AH42))","v":" "},null,null,{"$f":"設定!C47","v":"施設職員"},null,{"$f":"設定!E47","v":"施設"},null,null,{"$f":"設定!I47","v":"濃厚流動"},null,{"$f":"設定!K47","v":"濃流"}]
[null,null,null,null,null,null,null,null,null,null,null,null,null,null,null,null,null,null,null,null,null,null,null,null,null,null,null,null,null,null,null,null,null,null,{"$f":"IF(ISERROR(AVERAGE(D43:AH43)),\" \",AVERAGE(D43:AH43))","v":" "},null,null,{"$f":"設定!C48","v":0},null,{"$f":"設定!E48","v":0},null,null,{"$f":"設定!H48","v":0},null,{"$f":"設定!J48","v":0}]
[null,null,null,null,null,null,null,null,null,null,null,null,null,null,null,null,null,null,null,null,null,null,null,null,null,null,null,null,null,null,null,null,null,null,{"$f":"COUNTA(D44:AH44)","v":0},null,null,{"$f":"設定!C49","v":0},null,{"$f":"設定!E49","v":0},null,null,{"$f":"設定!H49","v":0},null,{"$f":"設定!J49","v":0}]
[null,"日　付",null,1,2,3,4,5,6,7,8,9,10,11,12,13,14,15,16,17,18,19,20,21,22,23,24,25,26,27,28,29,30,31,null,null,null,{"$f":"設定!C50","v":0},null,{"$f":"設定!E50","v":0},null,null,{"$f":"設定!H50","v":0},null,{"$f":"設定!J50","v":0}]
[]
[null,{"$f":"$P$3","v":0},null,null,null,null,null,{"$f":"YEAR(I47)","v":2015},{"$f":"TODAY()","v":"2015-02-24"},{"$f":"TODAY()","v":42059}]
[null,"平常時記入",null,null,null,null,null,null,null,null,null,"熱発時記入"]
[null,"日","時間","T",null," P","BP",null,"便",null,null,"日","時間",null,"T",null,"P","BP",null,"日","時間",null,"T",null,"P","BP",null,"日","時間",null,"T",null,"P","BP",null,"日","時間",null,"T",null,"P","BP"]
[null,1,"10:00:00",null,null,null,null,null,null,null,null,1,null,null,null,null,null,null,null,9,null,null,null,null,null,null,null,17,null,null,null,null,null,null,null,25]
[null,2,"10:00:00",null,null,null,null,null,null,null,null,null,"10:00:00",null,{"$f":"IF($D$50=\"\",NA(),$D$50)","v":{"$error":"#N/A"}},null,{"$f":"IF($F$50=\"\",NA(),$F$50)","v":{"$error":"#N/A"}},{"$f":"IF($G$50=\"\",NA(),$G$50)","v":{"$error":"#N/A"}},null,null,"10:00:00",null,{"$f":"IF($D$58=\"\",NA(),$D$58)","v":{"$error":"#N/A"}},null,{"$f":"IF($F$58=\"\",NA(),$F$58)","v":{"$error":"#N/A"}},{"$f":"IF($G$58=\"\",NA(),$G$58)","v":{"$error":"#N/A"}},null,null,"10:00:00",null,{"$f":"IF($D$66=\"\",NA(),$D$66)","v":{"$error":"#N/A"}},null,{"$f":"IF($F$66=\"\",NA(),$F$66)","v":{"$error":"#N/A"}},{"$f":"IF($G$66=\"\",NA(),$G$66)","v":{"$error":"#N/A"}},null,null,"10:00:00",null,{"$f":"IF($D$74=\"\",NA(),$D$74)","v":{"$error":"#N/A"}},null,{"$f":"IF($F$74=\"\",NA(),$F$74)","v":{"$error":"#N/A"}},{"$f":"IF($G$74=\"\",NA(),$G$74)","v":{"$error":"#N/A"}}]
[null,3,"10:00:00",null,null,null,null,null,null,"☆"]
[null,4,"10:00:00"]
[null,5,"10:00:00",null,null,null,null,null,null,"コ"]
[null,6,"10:00:00",null,null,null,null,null,null,"ス"]
[null,7,"10:00:00",null,null,null,null,null,null,"モ"]
[null,8,"10:00:00",null,null,null,null,null,null,"ス"]
[null,9,"10:00:00",null,null,null,null,null,null,"へ",null,2,null,null,null,null,null,null,null,10,null,null,null,null,null,null,null,18,null,null,null,null,null,null,null,26]
[null,10,"10:00:00",null,null,null,null,null,null,"戻",null,null,"10:00:00",null,{"$f":"IF($D$51=\"\",NA(),$D$51)","v":{"$error":"#N/A"}},null,{"$f":"IF($F$51=\"\",NA(),$F$51)","v":{"$error":"#N/A"}},{"$f":"IF($G$51=\"\",NA(),$G$51)","v":{"$error":"#N/A"}},null,null,"10:00:00",null,{"$f":"IF($D$59=\"\",NA(),$D$59)","v":{"$error":"#N/A"}},null,{"$f":"IF($F$59=\"\",NA(),$F$59)","v":{"$error":"#N/A"}},{"$f":"IF($G$59=\"\",NA(),$G$59)","v":{"$error":"#N/A"}},null,null,"10:00:00",null,{"$f":"IF($D$67=\"\",NA(),$D$67)","v":{"$error":"#N/A"}},null,{"$f":"IF($F$67=\"\",NA(),$F$67)","v":{"$error":"#N/A"}},{"$f":"IF($G$67=\"\",NA(),$G$67)","v":{"$error":"#N/A"}},null,null,"10:00:00",null,{"$f":"IF($D$75=\"\",NA(),$D$75)","v":{"$error":"#N/A"}},null,{"$f":"IF($F$75=\"\",NA(),$F$75)","v":{"$error":"#N/A"}},{"$f":"IF($G$75=\"\",NA(),$G$75)","v":{"$error":"#N/A"}}]
[null,11,"10:00:00",null,null,null,null,null,null,"る"]
[null,12,"10:00:00"]
[null,13,"10:00:00"]
[null,14,"10:00:00",null,null,null,null,null,null,"（"]
[null,15,"10:00:00",null,null,null,null,null,null,"選"]
[null,16,"10:00:00",null,null,null,null,null,null,"択"]
[null,17,"10:00:00",null,null,null,null,null,null,"す",null,3,null,null,null,null,null,null,null,11,null,null,null,null,null,null,null,19,null,null,null,null,null,null,null,27]
[null,18,"10:00:00",null,null,null,null,null,null,"る",null,null,"10:00:00",null,{"$f":"IF($D$52=\"\",NA(),$D$52)","v":{"$error":"#N/A"}},null,{"$f":"IF($F$52=\"\",NA(),$F$52)","v":{"$error":"#N/A"}},{"$f":"IF($G$52=\"\",NA(),$G$52)","v":{"$error":"#N/A"}},null,null,"10:00:00",null,{"$f":"IF($D$60=\"\",NA(),$D$60)","v":{"$error":"#N/A"}},null,{"$f":"IF($F$60=\"\",NA(),$F$60)","v":{"$error":"#N/A"}},{"$f":"IF($G$60=\"\",NA(),$G$60)","v":{"$error":"#N/A"}},null,null,"10:00:00",null,{"$f":"IF($D$68=\"\",NA(),$D$68)","v":{"$error":"#N/A"}},null,{"$f":"IF($F$68=\"\",NA(),$F$68)","v":{"$error":"#N/A"}},{"$f":"IF($G$68=\"\",NA(),$G$68)","v":{"$error":"#N/A"}},null,null,"10:00:00",null,{"$f":"IF($D$76=\"\",NA(),$D$76)","v":{"$error":"#N/A"}},null,{"$f":"IF($F$76=\"\",NA(),$F$76)","v":{"$error":"#N/A"}},{"$f":"IF($G$76=\"\",NA(),$G$76)","v":{"$error":"#N/A"}}]
[null,19,"10:00:00",null,null,null,null,null,null,"だ"]
[null,20,"10:00:00",null,null,null,null,null,null,"け"]
[null,21,"10:00:00",null,null,null,null,null,null,"で"]
[null,22,"10:00:00",null,null,null,null,null,null,"移"]
[null,23,"10:00:00",null,null,null,null,null,null,"動"]
[null,24,"10:00:00",null,null,null,null,null,null,"し"]
[null,25,"10:00:00",null,null,null,null,null,null,"ま",null,4,null,null,null,null,null,null,null,12,null,null,null,null,null,null,null,20,null,null,null,null,null,null,null,28]
[null,26,"10:00:00",null,null,null,null,null,null,"す",null,null,"10:00:00",null,{"$f":"IF($D$53=\"\",NA(),$D$53)","v":{"$error":"#N/A"}},null,{"$f":"IF($F$53=\"\",NA(),$F$53)","v":{"$error":"#N/A"}},{"$f":"IF($G$53=\"\",NA(),$G$53)","v":{"$error":"#N/A"}},null,null,"10:00:00",null,{"$f":"IF($D$61=\"\",NA(),$D$61)","v":{"$error":"#N/A"}},null,{"$f":"IF($F$61=\"\",NA(),$F$61)","v":{"$error":"#N/A"}},{"$f":"IF($G$61=\"\",NA(),$G$61)","v":{"$error":"#N/A"}},null,null,"10:00:00",null,{"$f":"IF($D$69=\"\",NA(),$D$69)","v":{"$error":"#N/A"}},null,{"$f":"IF($F$69=\"\",NA(),$F$69)","v":{"$error":"#N/A"}},{"$f":"IF($G$69=\"\",NA(),$G$69)","v":{"$error":"#N/A"}},null,null,"10:00:00",null,{"$f":"IF($D$77=\"\",NA(),$D$77)","v":{"$error":"#N/A"}},null,{"$f":"IF($F$77=\"\",NA(),$F$77)","v":{"$error":"#N/A"}},{"$f":"IF($G$77=\"\",NA(),$G$77)","v":{"$error":"#N/A"}}]
[null,27,"10:00:00",null,null,null,null,null,null,"）"]
[null,28,"10:00:00"]
[null,29,"10:00:00"]
[null,30,"10:00:00"]
[null,31,"10:00:00"]
[]
[null,null,null,null,null,null,null,null,null,null,null,5,null,null,null,null,null,null,null,13,null,null,null,null,null,null,null,21,null,null,null,null,null,null,null,29]
[null,null,null,null,null,null,null,null,null,null,null,null,"10:00:00",null,{"$f":"IF($D$54=\"\",NA(),$D$54)","v":{"$error":"#N/A"}},null,{"$f":"IF($F$54=\"\",NA(),$F$54)","v":{"$error":"#N/A"}},{"$f":"IF($G$54=\"\",NA(),$G$54)","v":{"$error":"#N/A"}},null,null,"10:00:00",null,{"$f":"IF($D$62=\"\",NA(),$D$62)","v":{"$error":"#N/A"}},null,{"$f":"IF($F$62=\"\",NA(),$F$62)","v":{"$error":"#N/A"}},{"$f":"IF($G$62=\"\",NA(),$G$62)","v":{"$error":"#N/A"}},null,null,"10:00:00",null,{"$f":"IF($D$70=\"\",NA(),$D$70)","v":{"$error":"#N/A"}},null,{"$f":"IF($F$70=\"\",NA(),$F$70)","v":{"$error":"#N/A"}},{"$f":"IF($G$70=\"\",NA(),$G$70)","v":{"$error":"#N/A"}},null,null,"10:00:00",null,{"$f":"IF($D$78=\"\",NA(),$D$78)","v":{"$error":"#N/A"}},null,{"$f":"IF($F$78=\"\",NA(),$F$78)","v":{"$error":"#N/A"}},{"$f":"IF($G$78=\"\",NA(),$G$78)","v":{"$error":"#N/A"}}]
[]
[]
[]
[]
[]
[]
[null,null,null,null,null,null,null,null,null,null,null,6,null,null,null,null,null,null,null,14,null,null,null,null,null,null,null,22,null,null,null,null,null,null,null,30]
[null,null,null,null,null,null,null,null,null,null,null,null,"10:00:00",null,{"$f":"IF($D$55=\"\",NA(),$D$55)","v":{"$error":"#N/A"}},null,{"$f":"IF($F$55=\"\",NA(),$F$55)","v":{"$error":"#N/A"}},{"$f":"IF($G$55=\"\",NA(),$G$55)","v":{"$error":"#N/A"}},null,null,"10:00:00",null,{"$f":"IF($D$63=\"\",NA(),$D$63)","v":{"$error":"#N/A"}},null,{"$f":"IF($F$63=\"\",NA(),$F$63)","v":{"$error":"#N/A"}},{"$f":"IF($G$63=\"\",NA(),$G$63)","v":{"$error":"#N/A"}},null,null,"10:00:00",null,{"$f":"IF($D$71=\"\",NA(),$D$71)","v":{"$error":"#N/A"}},null,{"$f":"IF($F$71=\"\",NA(),$F$71)","v":{"$error":"#N/A"}},{"$f":"IF($G$71=\"\",NA(),$G$71)","v":{"$error":"#N/A"}},null,null,"10:00:00",null,{"$f":"IF($D$79=\"\",NA(),$D$79)","v":{"$error":"#N/A"}},null,{"$f":"IF($F$79=\"\",NA(),$F$79)","v":{"$error":"#N/A"}},{"$f":"IF($G$79=\"\",NA(),$G$79)","v":{"$error":"#N/A"}}]
[]
[]
[]
[]
[]
[]
[null,null,null,null,null,null,null,null,null,null,null,7,null,null,null,null,null,null,null,15,null,null,null,null,null,null,null,23,null,null,null,null,null,null,null,31]
[null,null,null,null,null,null,null,null,null,null,null,null,"10:00:00",null,{"$f":"IF($D$56=\"\",NA(),$D$56)","v":{"$error":"#N/A"}},null,{"$f":"IF($F$56=\"\",NA(),$F$56)","v":{"$error":"#N/A"}},{"$f":"IF($G$56=\"\",NA(),$G$56)","v":{"$error":"#N/A"}},null,null,"10:00:00",null,{"$f":"IF($D$64=\"\",NA(),$D$64)","v":{"$error":"#N/A"}},null,{"$f":"IF($F$64=\"\",NA(),$F$64)","v":{"$error":"#N/A"}},{"$f":"IF($G$64=\"\",NA(),$G$64)","v":{"$error":"#N/A"}},null,null,"10:00:00",null,{"$f":"IF($D$72=\"\",NA(),$D$72)","v":{"$error":"#N/A"}},null,{"$f":"IF($F$72=\"\",NA(),$F$72)","v":{"$error":"#N/A"}},{"$f":"IF($G$72=\"\",NA(),$G$72)","v":{"$error":"#N/A"}},null,null,"10:00:00",null,{"$f":"IF($D$80=\"\",NA(),$D$80)","v":{"$error":"#N/A"}},null,{"$f":"IF($F$80=\"\",NA(),$F$80)","v":{"$error":"#N/A"}},{"$f":"IF($G$80=\"\",NA(),$G$80)","v":{"$error":"#N/A"}}]
[]
[]
[]
[]
[]
[]
[null,null,null,null,null,null,null,null,null,null,null,8,null,null,null,null,null,null,null,16,null,null,null,null,null,null,null,24]
[null,null,null,null,null,null,null,null,null,null,null,null,"10:00:00",null,{"$f":"IF($D$57=\"\",NA(),$D$57)","v":{"$error":"#N/A"}},null,{"$f":"IF($F$57=\"\",NA(),$F$57)","v":{"$error":"#N/A"}},{"$f":"IF($G$57=\"\",NA(),$G$57)","v":{"$error":"#N/A"}},null,null,"10:00:00",null,{"$f":"IF($D$65=\"\",NA(),$D$65)","v":{"$error":"#N/A"}},null,{"$f":"IF($F$65=\"\",NA(),$F$65)","v":{"$error":"#N/A"}},{"$f":"IF($G$65=\"\",NA(),$G$65)","v":{"$error":"#N/A"}},null,null,"10:00:00",null,{"$f":"IF($D$73=\"\",NA(),$D$73)","v":{"$error":"#N/A"}},null,{"$f":"IF($F$73=\"\",NA(),$F$73)","v":{"$error":"#N/A"}},{"$f":"IF($G$73=\"\",NA(),$G$73)","v":{"$error":"#N/A"}}]
[]
[]
[]
[]
[]
[]
[]
[]
[]
[]
[]
[]
[]
[]
[]
[]
[]
[]
[]
[]
[]
[null,null,"Enterで入力画面へ"]
[null,null,"ｶｰｿﾙ初期位置",null,null,null,"日付チェック",null,null,null,"バイタルコピー"]
["管理欄",null,"入力に入る",null,null,null,"今日",{"$f":"NOW()","v":"2015-02-24T03:11:52.510"},null,null,{"$f":"IF($D$74=\"\",NA(),$D$74)","v":{"$error":"#N/A"}},null,{"$f":"IF($F$74=\"\",NA(),$F$74)","v":{"$error":"#N/A"}},{"$f":"IF($G$74=\"\",NA(),$G$74)","v":{"$error":"#N/A"}},null,{"$f":"K131&M131&N131","v":{"$error":"#N/A"}}]
[null,null,null,null,null,null,"日",{"$f":"DAY(H131)","v":24},null,null,null,null,null,null,null,""]
[null,null,null,null,null,null,"月",{"$f":"MONTH(H131)","v":2},null,null,null,null,null,null,null,""]
[null,null,null,null,null,null,null,null,null,null,null,null,null,null,null,""]
[null,null,null,null,null,null,"時",{"$f":"HOUR(H131)","v":3},null,null,null,null,null,null,null,""]
[null,null,null,null,null,null,null,null,null,null,null,null,null,null,null,""]
[null,null,null,null,null,null,null,null,null,null,null,null,null,null,null,""]
[null,null,null,null,null,null,null,null,null,null,null,null,null,null,null,""]
[null,null,null,null,null,null,null,null,null,null,null,null,null,null,null,""]
[null,null,"食事平均",null,null,null,null,null,null,null,null,null,null,null,null,""]
[null,null,"左",{"$f":"IF(D25=\"\", \"\", LEFT(D25,SEARCH(\".\",D25,1)-1)*1)","v":""},{"$f":"IF(E25=\"\", \"\", LEFT(E25,SEARCH(\".\",E25,1)-1)*1)","v":""},"","","","","","","","","","","","","","","","","","","","","","","","","","","","",""]
[null,null,null,{"$f":"IF(D26=\"\", \"\", LEFT(D26,SEARCH(\".\",D26,1)-1)*1)","v":""},"","","","","","","","","","","","","","","","","","","","","","","","","","","","","",""]
[null,null,null,"","","","","","","","","","","","","","","","","","","","","","","","","","","","","","",""]
[null,null,"右",{"$f":"IF(D25=\"\", \"\", RIGHT(D25,LEN(D25)-FIND(\".\",D25,1))*1)","v":""},{"$f":"IF(E25=\"\", \"\", RIGHT(E25,LEN(E25)-FIND(\".\",E25,1))*1)","v":""},"","","","","","","","","","","","","","","","","","","","","","","","","","","","",""]
[null,null,null,{"$f":"IF(D26=\"\", \"\", RIGHT(D26,LEN(D26)-FIND(\".\",D26,1))*1)","v":""},"","","","","","","","","","","","","","","","","","","","","","","","","","","","","",""]
[null,null,null,{"$f":"IF(D27=\"\", \"\", RIGHT(D27,LEN(D27)-FIND(\".\",D27,1))*1)","v":""},"","","","","","","","","","","","","","","","","","","","","","","","","","","","","",""]
[null,null,null,null,null,null,null,null,null,null,null,null,null,null,null,""]
[null,null,"BP平均",null,null,null,null,null,null,null,null,null,null,null,null,""]
[null,null,"左",{"$f":"IF(ISERROR(LEFT(D32,SEARCH(\"/\",D32,1)-1)*1),\"\",LEFT(D32,SEARCH(\"/\",D32,1)-1)*1)","v":""},{"$f":"IF(ISERROR(LEFT(E32,SEARCH(\"/\",E32,1)-1)*1),\"\",LEFT(E32,SEARCH(\"/\",E32,1)-1)*1)","v":""},"","","","","","","","","","","","","","","","","","","","","","","","","","","","",""]
[null,null,null,{"$f":"IF(ISERROR(LEFT(D33,SEARCH(\"/\",D33,1)-1)*1),\"\",LEFT(D33,SEARCH(\"/\",D33,1)-1)*1)","v":""},"","","","","","","","","","","","","","","","","","","","","","","","","","","","","",""]
[null,null,null,"","","","","","","","","","","","","","","","","","","","","","","","","","","","","","",""]
[null,null,null,"","","","","","","","","","","","","","","","","","","","","","","","","","","","","","",""]
[null,null,"右",{"$f":"IF(ISERROR(RIGHT(D32,LEN(D32)-FIND(\"/\",D32,1))*1),\"\",RIGHT(D32,LEN(D32)-FIND(\"/\",D32,1))*1)","v":""},{"$f":"IF(ISERROR(RIGHT(E32,LEN(E32)-FIND(\"/\",E32,1))*1),\"\",RIGHT(E32,LEN(E32)-FIND(\"/\",E32,1))*1)","v":""},{"$f":"IF(ISERROR(RIGHT(F32,LEN(F32)-FIND(\"/\",F32,1))*1),\"\",RIGHT(F32,LEN(F32)-FIND(\"/\",F32,1))*1)","v":""},"","","","","","","","","","","","","","","","","","","","","","","","","","","",""]
[null,null,null,{"$f":"IF(ISERROR(RIGHT(D33,LEN(D33)-FIND(\"/\",D33,1))*1),\"\",RIGHT(D33,LEN(D33)-FIND(\"/\",D33,1))*1)","v":""},"","","","","","","","","","","","","","","","","","","","","","","","","","","","","",""]
[null,null,null,"","","","","","","","","","","","","","","","","","","","","","","","","","","","","","",""]
[null,null,null,"","","","","","","","","","","","","","","","","","","","","","","","","","","","","","",""]
[null,null,null,null,null,null,null,null,null,null,null,null,null,null,null,""]
[null,null,null,null,null,null,null,null,null,null,null,null,null,null,null,""]
[null,null,null,null,null,null,null,null,null,null,null,null,null,null,null,""]
[null,null,null,null,null,null,null,null,null,null,null,null,null,null,null,""]
[null,null,null,null,null,null,null,null,null,null,null,null,null,null,null,{"$f":"K161&M161&N161","v":""}]

{"sheet":"10月","index":10,"n_rows":161,"n_cols":45,"rows_kept":161,"cut":false,"hidden":false,"merged":[[138,10,138,11],[138,13,138,14],[139,10,139,11],[160,10,160,11],[160,13,160,14],[147,10,147,11],[147,13,147,14],[139,13,139,14],[48,12,48,13],[48,14,48,15],[131,10,131,11],[131,13,131,14],[132,10,132,11],[132,13,132,14],[133,10,133,11],[133,13,133,14],[134,10,134,11],[134,13,134,14],[135,10,135,11],[135,13,135,14],[136,10,136,11],[136,13,136,14],[137,10,137,11],[137,13,137,14],[75,12,75,13],[61,12,61,13],[81,11,88,11],[81,12,81,13],[81,14,81,15],[92,12,92,13],[92,14,92,15],[89,12,89,13],[52,33,52,34],[52,36,52,37],[50,20,50,21],[50,22,50,23],[50,25,50,26],[52,22,52,23],[52,25,52,26],[52,28,52,29],[54,33,54,34],[54,36,54,37],[52,30,52,31],[53,28,53,29],[53,30,53,31],[50,28,50,29],[58,28,58,29],[60,25,60,26],[61,14,61,15],[63,36,63,37],[66,28,66,29],[69,25,69,26],[70,25,70,26],[68,30,68,31],[69,33,69,34],[70,30,70,31],[65,19,72,19],[65,20,65,21],[60,33,60,34],[65,22,65,23],[65,25,65,26],[23,1,23,2],[27,1,27,2],[28,1,30,2],[29,37,29,38],[30,37,30,38],[51,33,51,34],[49,25,49,26],[49,27,56,27],[49,28,49,29],[49,30,49,31],[50,30,50,31],[51,30,51,31],[49,20,49,21],[49,22,49,23],[53,20,53,21],[53,33,53,34],[53,36,53,37],[48,22,48,23],[48,36,48,37],[24,1,26,2],[31,1,34,2],[35,1,35,2],[56,33,56,34],[36,1,36,2],[37,1,37,2],[38,1,38,2],[53,41,53,42],[4,42,4,45],[18,1,18,2],[19,1,19,2],[20,1,20,2],[21,1,22,2],[16,1,16,2],[17,1,17,2],[2,10,3,12],[2,1,3,3],[1,7,1,9],[1,10,1,12],[13,37,13,40],[0,1,0,2],[0,5,0,6],[1,1,1,3],[1,4,1,6],[4,37,4,40],[5,37,9,40],[10,37,10,40],[11,37,11,40],[12,37,12,40],[16,39,16,40],[17,39,17,40],[18,39,18,40],[2,25,2,30],[3,25,3,30],[1,23,1,24],[2,23,3,24],[15,37,15,40],[16,37,16,38],[17,37,17,38],[54,38,54,39],[29,39,29,40],[30,39,30,40],[1,13,1,14],[2,15,3,20],[1,15,1,19],[1,25,1,31],[47,1,47,9],[47,11,47,18],[47,19,47,26],[47,27,47,34],[48,17,48,18],[48,20,48,21],[48,30,48,31],[48,33,48,34],[42,1,42,2],[43,1,43,2],[44,1,44,2],[46,1,46,5],[39,1,39,2],[40,1,40,2],[41,1,41,2],[48,25,48,26],[48,28,48,29],[48,3,48,4],[48,6,48,7],[51,25,51,26],[51,28,51,29],[53,38,53,39],[18,37,18,38],[21,39,21,40],[49,36,49,37],[56,41,56,42],[56,36,56,37],[48,38,48,39],[52,3,52,4],[52,6,52,7],[52,12,52,13],[52,14,52,15],[52,17,52,18],[52,20,52,21],[51,3,51,4],[51,6,51,7],[51,12,51,13],[51,14,51,15],[49,41,49,42],[50,3,50,4],[50,6,50,7],[50,12,50,13],[50,14,50,15],[50,17,50,18],[50,41,50,42],[49,38,49,39],[50,33,50,34],[50,36,50,37],[50,38,50,39],[49,33,49,34],[49,35,56,35],[51,41,51,42],[53,25,53,26],[56,38,56,39],[55,33,55,34],[55,36,55,37],[52,41,52,42],[51,36,51,37],[51,38,51,39],[54,41,54,42],[55,3,55,4],[55,6,55,7],[55,12,55,13],[55,14,55,15],[55,17,55,18],[55,20,55,21],[55,22,55,23],[55,25,55,26],[55,38,55,39],[54,20,54,21],[54,22,54,23],[54,25,54,26],[54,30,54,31],[54,28,54,29],[54,3,54,4],[54,6,54,7],[54,12,54,13],[54,14,54,15],[49,11,56,11],[53,3,53,4],[53,6,53,7],[53,12,53,13],[53,14,53,15],[49,12,49,13],[52,38,52,39],[51,20,51,21],[51,22,51,23],[53,22,53,23],[55,41,55,42],[57,3,57,4],[57,6,57,7],[57,11,64,11],[57,12,57,13],[57,14,57,15],[57,17,57,18],[57,19,64,19],[56,3,56,4],[56,6,56,7],[56,12,56,13],[56,14,56,15],[56,17,56,18],[56,20,56,21],[56,22,56,23],[56,25,56,26],[55,28,55,29],[55,30,55,31],[56,28,56,29],[56,30,56,31],[49,19,56,19],[54,17,54,18],[51,17,51,18],[53,17,53,18],[61,30,61,31],[60,17,60,18],[60,20,60,21],[60,28,60,29],[59,25,59,26],[49,14,49,15],[49,17,49,18],[59,3,59,4],[63,38,63,39],[57,35,64,35],[57,36,57,37],[57,38,57,39],[62,41,62,42],[60,41,60,42],[61,36,61,37],[64,41,64,42],[63,17,63,18],[63,20,63,21],[63,22,63,23],[63,30,63,31],[63,33,63,34],[61,41,61,42],[62,22,62,23],[62,36,62,37],[59,33,59,34],[59,36,59,37],[62,17,62,18],[62,20,62,21],[59,17,59,18],[61,38,61,39],[62,30,62,31],[57,33,57,34],[61,33,61,34],[62,33,62,34],[57,30,57,31],[58,30,58,31],[59,30,59,31],[60,30,60,31],[60,22,60,23],[58,38,58,39],[59,38,59,39],[59,28,59,29],[57,41,57,42],[58,3,58,4],[58,6,58,7],[58,12,58,13],[58,14,58,15],[58,17,58,18],[58,20,58,21],[58,22,58,23],[58,25,58,26],[57,20,57,21],[60,36,60,37],[60,38,60,39],[59,6,59,7],[59,12,59,13],[59,14,59,15],[57,22,57,23],[57,25,57,26],[57,27,64,27],[57,28,57,29],[61,28,61,29],[61,25,61,26],[62,25,62,26],[63,25,63,26],[63,28,63,29],[62,28,62,29],[62,38,62,39],[61,22,61,23],[61,17,61,18],[63,41,63,42],[61,20,61,21],[58,41,58,42],[59,20,59,21],[59,22,59,23],[64,33,64,34],[64,36,64,37],[64,38,64,39],[64,17,64,18],[64,20,64,21],[64,22,64,23],[64,25,64,26],[64,28,64,29],[64,3,64,4],[64,6,64,7],[64,12,64,13],[64,14,64,15],[58,33,58,34],[58,36,58,37],[63,3,63,4],[63,6,63,7],[63,12,63,13],[63,14,63,15],[62,3,62,4],[62,6,62,7],[62,12,62,13],[62,14,62,15],[61,3,61,4],[61,6,61,7],[59,41,59,42],[60,3,60,4],[60,6,60,7],[60,12,60,13],[60,14,60,15],[65,3,65,4],[65,6,65,7],[65,11,72,11],[65,12,65,13],[65,14,65,15],[65,17,65,18],[71,3,71,4],[71,6,71,7],[71,12,71,13],[71,14,71,15],[64,30,64,31],[72,33,72,34],[66,41,66,42],[67,3,67,4],[67,6,67,7],[67,12,67,13],[67,14,67,15],[67,17,67,18],[67,20,67,21],[67,22,67,23],[67,25,67,26],[67,28,67,29],[67,36,67,37],[67,38,67,39],[65,41,65,42],[66,3,66,4],[66,6,66,7],[66,12,66,13],[66,14,66,15],[66,17,66,18],[66,20,66,21],[66,22,66,23],[65,30,65,31],[65,36,65,37],[65,38,65,39],[66,33,66,34],[66,36,66,37],[66,38,66,39],[65,33,65,34],[65,35,72,35],[67,33,67,34],[68,33,68,34],[69,30,69,31],[66,30,66,31],[68,36,68,37],[68,38,68,39],[65,27,72,27],[65,28,65,29],[69,28,69,29],[66,25,66,26],[68,41,68,42],[69,3,69,4],[69,6,69,7],[69,12,69,13],[69,14,69,15],[69,17,69,18],[69,20,69,21],[69,22,69,23],[67,41,67,42],[68,3,68,4],[68,6,68,7],[68,12,68,13],[68,14,68,15],[68,17,68,18],[68,20,68,21],[68,22,68,23],[68,25,68,26],[68,28,68,29],[67,30,67,31],[77,41,77,42],[73,3,73,4],[73,6,73,7],[73,11,80,11],[73,12,73,13],[73,14,73,15],[73,17,73,18],[78,3,78,4],[78,6,78,7],[78,12,78,13],[78,14,78,15],[70,36,70,37],[70,38,70,39],[70,41,70,42],[71,33,71,34],[70,33,70,34],[69,36,69,37],[69,38,69,39],[69,41,69,42],[70,3,70,4],[70,6,70,7],[70,12,70,13],[70,14,70,15],[70,17,70,18],[70,20,70,21],[70,22,70,23],[71,25,71,26],[71,28,71,29],[70,28,70,29],[72,36,72,37],[72,38,72,39],[71,41,71,42],[72,3,72,4],[72,6,72,7],[72,12,72,13],[72,14,72,15],[72,17,72,18],[72,41,72,42],[71,17,71,18],[72,20,72,21],[72,22,72,23],[72,25,72,26],[72,28,72,29],[71,30,71,31],[71,20,71,21],[71,22,71,23],[72,30,72,31],[71,36,71,37],[71,38,71,39],[77,20,77,21],[77,22,77,23],[77,25,77,26],[77,33,77,34],[75,14,75,15],[75,17,75,18],[75,20,75,21],[76,3,76,4],[76,6,76,7],[76,12,76,13],[76,14,76,15],[75,3,75,4],[75,6,75,7],[74,3,74,4],[74,6,74,7],[74,12,74,13],[74,14,74,15],[74,17,74,18],[77,3,77,4],[77,6,77,7],[77,12,77,13],[77,14,77,15],[77,17,77,18],[76,33,76,34],[73,19,80,19],[73,20,73,21],[76,25,76,26],[76,28,76,29],[73,36,73,37],[73,38,73,39],[74,33,74,34],[74,36,74,37],[74,38,74,39],[75,33,75,34],[75,36,75,37],[75,38,75,39],[73,33,73,34],[73,35,80,35],[73,22,73,23],[78,36,78,37],[78,38,78,39],[78,22,78,23],[78,25,78,26],[77,38,77,39],[77,36,77,37],[76,36,76,37],[76,38,76,39],[76,41,76,42],[75,41,75,42],[76,17,76,18],[76,20,76,21],[80,41,80,42],[73,41,73,42],[74,30,74,31],[75,30,75,31],[76,30,76,31],[77,28,77,29],[77,30,77,31],[74,25,74,26],[74,28,74,29],[73,25,73,26],[80,36,80,37],[80,28,80,29],[80,30,80,31],[80,33,80,34],[80,38,80,39],[73,27,80,27],[74,20,74,21],[74,22,74,23],[74,41,74,42],[78,17,78,18],[78,20,78,21],[73,28,73,29],[73,30,73,31],[78,28,78,29],[75,22,75,23],[75,25,75,26],[75,28,75,29],[76,22,76,23],[81,17,81,18],[81,19,88,19],[80,12,80,13],[80,14,80,15],[80,17,80,18],[80,20,80,21],[80,22,80,23],[80,25,80,26],[79,36,79,37],[79,38,79,39],[78,41,78,42],[79,3,79,4],[79,6,79,7],[79,12,79,13],[79,14,79,15],[79,17,79,18],[79,41,79,42],[79,20,79,21],[79,22,79,23],[79,25,79,26],[79,28,79,29],[78,30,78,31],[78,33,78,34],[79,30,79,31],[79,33,79,34],[81,41,81,42],[82,12,82,13],[82,14,82,15],[82,17,82,18],[81,33,81,34],[81,35,88,35],[81,36,81,37],[81,38,81,39],[82,36,82,37],[82,38,82,39],[83,36,83,37],[83,38,83,39],[84,36,84,37],[81,20,81,21],[81,22,81,23],[81,25,81,26],[81,27,88,27],[81,28,81,29],[81,30,81,31],[86,30,86,31],[85,30,85,31],[83,33,83,34],[86,33,86,34],[86,36,86,37],[86,38,86,39],[88,33,88,34],[88,36,88,37],[88,38,88,39],[83,41,83,42],[84,12,84,13],[84,14,84,15],[84,17,84,18],[84,20,84,21],[84,22,84,23],[84,25,84,26],[84,28,84,29],[84,30,84,31],[82,33,82,34],[82,41,82,42],[83,12,83,13],[83,14,83,15],[83,17,83,18],[83,20,83,21],[83,22,83,23],[83,25,83,26],[83,28,83,29],[83,30,83,31],[84,38,84,39],[82,20,82,21],[82,22,82,23],[82,25,82,26],[82,28,82,29],[82,30,82,31],[86,41,86,42],[85,36,85,37],[85,38,85,39],[85,41,85,42],[85,33,85,34],[86,12,86,13],[86,14,86,15],[86,17,86,18],[86,20,86,21],[86,22,86,23],[86,25,86,26],[84,33,84,34],[86,28,86,29],[84,41,84,42],[85,12,85,13],[85,14,85,15],[85,17,85,18],[85,20,85,21],[85,22,85,23],[85,25,85,26],[85,28,85,29],[88,41,88,42],[88,22,88,23],[88,25,88,26],[88,28,88,29],[88,30,88,31],[88,12,88,13],[88,14,88,15],[88,17,88,18],[88,20,88,21],[87,33,87,34],[87,36,87,37],[87,12,87,13],[87,14,87,15],[87,17,87,18],[87,20,87,21],[87,38,87,39],[87,41,87,42],[87,22,87,23],[87,25,87,26],[87,28,87,29],[87,30,87,31],[92,17,92,18],[92,20,92,21],[90,41,90,42],[91,36,91,37],[91,38,91,39],[91,41,91,42],[90,22,90,23],[90,25,90,26],[89,33,89,34],[90,28,90,29],[90,30,90,31],[90,33,90,34],[91,33,91,34],[89,19,96,19],[89,20,89,21],[89,22,89,23],[89,25,89,26],[90,20,90,21],[91,20,91,21],[91,22,91,23],[92,28,92,29],[92,30,92,31],[89,27,96,27],[89,28,89,29],[89,30,89,31],[91,28,91,29],[91,30,91,31],[91,25,91,26],[95,33,95,34],[95,36,95,37],[89,14,89,15],[89,17,89,18],[90,12,90,13],[90,14,90,15],[90,17,90,18],[91,12,91,13],[91,14,91,15],[91,17,91,18],[93,33,93,34],[93,36,93,37],[93,12,93,13],[93,14,93,15],[93,17,93,18],[93,20,93,21],[93,38,93,39],[93,41,93,42],[93,22,93,23],[93,25,93,26],[93,28,93,29],[93,30,93,31],[92,33,92,34],[92,36,92,37],[92,38,92,39],[92,41,92,42],[89,35,96,35],[89,36,89,37],[89,38,89,39],[89,41,89,42],[90,36,90,37],[90,38,90,39],[92,22,92,23],[92,25,92,26],[95,12,95,13],[95,14,95,15],[95,17,95,18],[95,20,95,21],[95,38,95,39],[95,41,95,42],[95,22,95,23],[95,25,95,26],[95,28,95,29],[95,30,95,31],[94,33,94,34],[94,36,94,37],[94,38,94,39],[94,41,94,42],[94,22,94,23],[94,25,94,26],[94,28,94,29],[94,30,94,31],[94,12,94,13],[94,14,94,15],[94,17,94,18],[94,20,94,21],[97,11,104,11],[97,12,97,13],[97,14,97,15],[97,17,97,18],[98,12,98,13],[98,14,98,15],[98,17,98,18],[99,12,99,13],[99,14,99,15],[99,17,99,18],[96,33,96,34],[96,36,96,37],[96,38,96,39],[96,41,96,42],[96,22,96,23],[96,25,96,26],[96,28,96,29],[96,30,96,31],[96,12,96,13],[96,14,96,15],[96,17,96,18],[96,20,96,21],[89,11,96,11],[100,12,100,13],[100,14,100,15],[100,17,100,18],[100,20,100,21],[97,19,104,19],[97,20,97,21],[101,12,101,13],[101,14,101,15],[101,17,101,18],[101,20,101,21],[99,38,99,39],[99,41,99,42],[97,33,97,34],[98,28,98,29],[98,30,98,31],[98,33,98,34],[99,33,99,34],[97,30,97,31],[99,28,99,29],[99,30,99,31],[97,22,97,23],[97,25,97,26],[98,20,98,21],[98,22,98,23],[98,25,98,26],[99,20,99,21],[99,22,99,23],[99,25,99,26],[103,25,103,26],[103,28,103,29],[102,36,102,37],[102,38,102,39],[102,41,102,42],[102,22,102,23],[102,25,102,26],[102,28,102,29],[102,30,102,31],[101,33,101,34],[101,36,101,37],[101,38,101,39],[101,41,101,42],[101,22,101,23],[101,25,101,26],[101,28,101,29],[101,30,101,31],[97,27,104,27],[97,28,97,29],[100,33,100,34],[100,36,100,37],[100,22,100,23],[100,25,100,26],[100,28,100,29],[100,30,100,31],[100,38,100,39],[100,41,100,42],[104,14,104,15],[104,17,104,18],[104,20,104,21],[104,36,104,37],[104,22,104,23],[104,25,104,26],[104,28,104,29],[104,30,104,31],[104,38,104,39],[104,33,104,34],[103,41,103,42],[104,41,104,42],[103,30,103,31],[103,33,103,34],[103,36,103,37],[103,38,103,39],[103,14,103,15],[103,17,103,18],[103,20,103,21],[97,35,104,35],[97,36,97,37],[97,38,97,39],[97,41,97,42],[98,36,98,37],[98,38,98,39],[98,41,98,42],[99,36,99,37],[102,33,102,34],[102,14,102,15],[102,17,102,18],[102,20,102,21],[103,22,103,23],[107,28,107,29],[110,14,110,15],[110,17,110,18],[110,20,110,21],[107,17,107,18],[108,22,108,23],[108,25,108,26],[108,28,108,29],[106,25,106,26],[107,20,107,21],[107,22,107,23],[105,33,105,34],[106,28,106,29],[106,30,106,31],[106,33,106,34],[106,20,106,21],[106,22,106,23],[107,30,107,31],[106,14,106,15],[106,17,106,18],[107,14,107,15],[105,14,105,15],[105,17,105,18],[107,33,107,34],[105,19,112,19],[105,20,105,21],[105,22,105,23],[105,25,105,26],[107,25,107,26],[105,30,105,31],[108,33,108,34],[130,0,132,0],[130,2,130,4],[130,7,130,8],[105,11,112,11],[105,12,105,13],[107,12,107,13],[108,12,108,13],[108,14,108,15],[129,10,129,12],[112,22,112,23],[112,12,112,13],[112,14,112,15],[112,17,112,18],[112,20,112,21],[111,17,111,18],[111,20,111,21],[111,22,111,23],[110,22,110,23],[109,17,109,18],[109,20,109,21],[109,22,109,23],[108,17,108,18],[108,20,108,21],[130,10,130,11],[130,13,130,14],[109,14,109,15],[27,37,27,38],[28,37,28,38],[33,42,33,43],[112,33,112,34],[129,2,129,4],[129,6,129,8],[112,25,112,26],[112,28,112,29],[112,30,112,31],[111,12,111,13],[111,14,111,15],[111,25,111,26],[111,28,111,29],[111,30,111,31],[111,33,111,34],[110,25,110,26],[110,28,110,29],[110,30,110,31],[110,33,110,34],[109,25,109,26],[109,28,109,29],[109,30,109,31],[105,27,112,27],[105,28,105,29],[109,33,109,34],[49,3,49,4],[49,6,49,7],[44,42,44,43],[39,42,39,43],[40,42,40,43],[41,42,41,43],[108,30,108,31],[16,42,16,43],[17,42,17,43],[18,42,18,43],[35,39,35,40],[36,39,36,40],[36,37,36,38],[37,37,37,38],[38,37,38,38],[19,39,19,40],[35,37,35,38],[31,37,31,38],[32,37,32,38],[33,37,33,38],[34,37,34,38],[25,39,25,40],[26,39,26,40],[31,39,31,40],[32,39,32,40],[19,37,19,38],[20,37,20,38],[21,37,21,38],[22,37,22,38],[23,37,23,38],[24,37,24,38],[25,37,25,38],[26,37,26,38],[20,39,20,40],[27,39,27,40],[28,39,28,40],[23,39,23,40],[24,39,24,40],[22,39,22,40],[19,44,19,45],[20,44,20,45],[21,44,21,45],[14,44,14,45],[15,44,15,45],[16,44,16,45],[17,44,17,45],[28,42,28,43],[5,42,5,43],[6,42,6,43],[7,42,7,43],[8,42,8,43],[34,42,34,43],[9,42,9,43],[10,42,10,43],[11,42,14,43],[30,42,30,45],[19,42,19,43],[32,42,32,43],[5,44,5,45],[6,44,6,45],[7,44,7,45],[8,44,8,45],[9,44,9,45],[10,44,10,45],[11,44,11,45]],"merged_total":1062,"flags":["merged_cut"]}
[null,"体温表",null,null,null,{"$f":"設定!$F$7","v":2016},null,"年",null,10,"月"]
[null,"カルテ番号",null,null,"病棟",null,null,"入院形態",null,null,"主治医",null,null,"　姓名",null,{"$f":"'9月'!$P$2","v":0},null,null,null,null,null,null,null,"性別",null,"生年月日　",null,null,null,null,null,null,"担当Ns"]
[null,{"$f":"'9月'!B3","v":0},null,null,{"$f":"IF(COUNTIF('9月'!E3:G3,\"*\"),INDEX('9月'!E3:G3,MATCH(\"\",'9月'!E3:G3,-1)),\"\")","v":""},null,null,{"$f":"IF(COUNTIF('9月'!H3:J3,\"*\"),INDEX('9月'!H3:J3,MATCH(\"\",'9月'!H3:J3,-1)),\"\")","v":""},null,null,{"$f":"'9月'!K3","v":0},null,null,null,null,{"$f":"'9月'!$P$3","v":0},null,null,null,null,null,null,null,{"$f":"'9月'!$X$3","v":0},null,{"$f":"'9月'!$Z$3","v":"00:00:00"},null,null,null,null,null,{"$f":"DATEDIF(Z3,TODAY(),\"Y\")","v":115},{"$f":"'9月'!$AG$3","v":0}]
[null,null,null,null,"/","/","/","/","/","/",null,null,null,null,null,null,null,null,null,null,null,null,null,null,null,{"$f":"Z3","v":"00:00:00"},null,null,null,null,null,"歳"]
[null,null,null,null,null,null,null,null,null,null,null,null,null,null,null,null,null,null,null,null,null,null,null,null,null,null,null,null,null,null,null,null,null,null,null,null,null,{"$f":"設定!C10","v":"備考欄"},null,null,null,null,{"$f":"設定!I10","v":"食事箋"}]
[null,null,null,null,null,null,null,null,null,null,null,null,null,null,null,null,null,null,null,null,null,null,null,null,null,null,null,null,null,null,null,null,null,null,null,null,null,{"$f":"設定!C11","v":0},null,null,null,null,{"$f":"設定!I11","v":0},null,{"$f":"設定!K11","v":0}]
[null,null,null,null,null,null,null,null,null,null,null,null,null,null,null,null,null,null,null,null,null,null,null,null,null,null,null,null,null,null,null,null,null,null,null,null,null,null,null,null,null,null,{"$f":"設定!I12","v":"常食"},null,{"$f":"設定!K12","v":"常食"}]
[null,null,null,null,null,null,null,null,null,null,null,null,null,null,null,null,null,null,null,null,null,null,null,null,null,null,null,null,null,null,null,null,null,null,null,null,null,null,null,null,null,null,{"$f":"設定!I13","v":"心臓"},null,{"$f":"設定!K13","v":"心臓"}]
[null,null,null,null,null,null,null,null,null,null,null,null,null,null,null,null,null,null,null,null,null,null,null,null,null,null,null,null,null,null,null,null,null,null,null,null,null,null,null,null,null,null,{"$f":"設定!I14","v":"すい臓"},null,{"$f":"設定!K14","v":"膵臓"}]
[null,null,null,null,null,null,null,null,null,null,null,null,null,null,null,null,null,null,null,null,null,null,null,null,null,null,null,null,null,null,null,null,null,null,null,null,null,null,null,null,null,null,{"$f":"設定!I15","v":"じん臓"},null,{"$f":"設定!K15","v":"腎臓"}]
[null,null,null,null,null,null,null,null,null,null,null,null,null,null,null,null,null,null,null,null,null,null,null,null,null,null,null,null,null,null,null,null,null,null,null,null,null,{"$f":"'9月'!AL11","v":0},null,null,null,null,{"$f":"設定!I16","v":"高血圧"},null,{"$f":"設定!K16","v":"高血"}]
[null,null,null,null,null,null,null,null,null,null,null,null,null,null,null,null,null,null,null,null,null,null,null,null,null,null,null,null,null,null,null,null,null,null,null,null,null,{"$f":"'9月'!AL12","v":0},null,null,null,null,{"$f":"設定!I17","v":"糖尿"},null,{"$f":"設定!K17","v":"糖1200"}]
[null,null,null,null,null,null,null,null,null,null,null,null,null,null,null,null,null,null,null,null,null,null,null,null,null,null,null,null,null,null,null,null,null,null,null,null,null,{"$f":"'9月'!AL13","v":0},null,null,null,null,null,null,{"$f":"設定!K18","v":"糖1440"}]
[null,null,null,null,null,null,null,null,null,null,null,null,null,null,null,null,null,null,null,null,null,null,null,null,null,null,null,null,null,null,null,null,null,null,null,null,null,{"$f":"'9月'!AL14","v":0},null,null,null,null,null,null,{"$f":"設定!K19","v":"糖1600"}]
[null,null,null,null,null,null,null,null,null,null,null,null,null,null,null,null,null,null,null,null,null,null,null,null,null,null,null,null,null,null,null,null,null,null,null,null,null,null,null,null,null,null,null,null,{"$f":"設定!K20","v":"糖1800"}]
[null,null,null,null,null,null,null,null,null,null,null,null,null,null,null,null,null,null,null,null,null,null,null,null,null,null,null,null,null,null,null,null,null,null,null,null,null,{"$f":"設定!C21","v":"面会"},null,null,null,null,{"$f":"設定!I21","v":"肝臓A"},null,{"$f":"設定!K21","v":"肝Ａ"}]
[null,"日　付",null,1,2,3,4,5,6,7,8,9,10,11,12,13,14,15,16,17,18,19,20,21,22,23,24,25,26,27,28,29,30,31,"統計",null,null,{"$f":"設定!C22","v":0},null,{"$f":"設定!E22","v":0},null,null,{"$f":"設定!I22","v":"肝臓B"},null,{"$f":"設定!K22","v":"肝Ｂ"}]
[null,"行　動",null,null,null,null,null,null,null,null,null,null,null,null,null,null,null,null,null,null,null,null,null,null,null,null,null,null,null,null,null,null,null,null,null,null,null,{"$f":"設定!C23","v":"両親"},null,{"$f":"設定!E23","v":"両親"},null,null,{"$f":"設定!I23","v":"潰瘍"},null,{"$f":"設定!K23","v":"潰瘍"}]
[null,"時　間",null,null,null,null,null,null,null,null,null,null,null,null,null,null,null,null,null,null,null,null,null,null,null,null,null,null,null,null,null,null,null,null,null,null,null,{"$f":"設定!C24","v":"父"},null,{"$f":"設定!E24","v":"父"},null,null,{"$f":"設定!I24","v":"低残渣食"},null,{"$f":"設定!K24","v":"低残"}]
[null,"行　動",null,null,null,null,null,null,null,null,null,null,null,null,null,null,null,null,null,null,null,null,null,null,null,null,null,null,null,null,null,null,null,null,null,null,null,{"$f":"設定!C25","v":"母"},null,{"$f":"設定!E25","v":"母"},null,null,{"$f":"設定!I25","v":"貧血"},null,{"$f":"設定!K25","v":"貧血"}]
[null,"時　間",null,null,null,null,null,null,null,null,null,null,null,null,null,null,null,null,null,null,null,null,null,null,null,null,null,null,null,null,null,null,null,null,{"$f":"IF(COUNTIF(D18:AH21,\"外出\")+COUNTIF(D18:AH21,\"外泊\")=0,\"回数\",COUNTIF(D18:AH21,\"外出\")+COUNTIF(D18:AH21,\"外泊\"))","v":"回数"},null,null,{"$f":"設定!C26","v":"主人"},null,{"$f":"設定!E26","v":"夫"},null,null,{"$f":"設定!I26","v":"脂質異常"},null,{"$f":"設定!K26","v":"脂1200"}]
[null,"面　会",null,null,null,null,null,null,null,null,null,null,null,null,null,null,null,null,null,null,null,null,null,null,null,null,null,null,null,null,null,null,null,null,null,null,null,{"$f":"設定!C27","v":"奥方"},null,{"$f":"設定!E27","v":"妻"},null,null,null,null,{"$f":"設定!K27","v":"脂1440"}]
[null,null,null,null,null,null,null,null,null,null,null,null,null,null,null,null,null,null,null,null,null,null,null,null,null,null,null,null,null,null,null,null,null,null,{"$f":"IF(COUNTA(D22:AH23)=0,\"回数\",COUNTA(D22:AH23))","v":"回数"},null,null,{"$f":"設定!C28","v":"息子"},null,{"$f":"設定!E28","v":"息子"},null,null,null,null,{"$f":"設定!K28","v":"脂1600"}]
[null,"入　浴",null,null,null,null,null,null,null,null,null,null,null,null,null,null,null,null,null,null,null,null,null,null,null,null,null,null,null,null,null,null,null,null,{"$f":"IF(COUNTA(D24:AH24)=0,\"回数\",COUNTA(D24:AH24))","v":"回数"},null,null,{"$f":"設定!C29","v":"娘"},null,{"$f":"設定!E29","v":"娘"},null,null,null,null,{"$f":"設定!K29","v":"脂1800"}]
[null,"食　事",null,null,null,null,null,null,null,null,null,null,null,null,null,null,null,null,null,null,null,null,null,null,null,null,null,null,null,null,null,null,null,null,null,null,null,{"$f":"設定!C30","v":"兄"},null,{"$f":"設定!E30","v":"兄"},null,null,{"$f":"設定!I30","v":"検査食"},null,{"$f":"設定!K30","v":"検査"}]
[null,null,null,null,null,null,null,null,null,null,null,null,null,null,null,null,null,null,null,null,null,null,null,null,null,null,null,null,null,null,null,null,null,null,null,null,null,{"$f":"設定!C31","v":"弟"},null,{"$f":"設定!E31","v":"弟"},null,null,{"$f":"設定!I31","v":"絶食"},null,{"$f":"設定!K31","v":"絶食"}]
[null,null,null,null,null,null,null,null,null,null,null,null,null,null,null,null,null,null,null,null,null,null,null,null,null,null,null,null,null,null,null,null,null,null,{"$f":"IFERROR(INT(AVERAGE(D141:AH143))& \".\"&INT(AVERAGE(D144:AH146)),\"平均\")","v":"平均"},null,null,{"$f":"設定!C32","v":"姉"},null,{"$f":"設定!E32","v":"姉"},null,null,{"$f":"設定!I32","v":0},null,{"$f":"設定!K32","v":0}]
[null,"便　通",null,{"$f":"IF(ISBLANK(I51),\"\",I51)","v":""},{"$f":"IF(ISBLANK(I52),\"\",I52)","v":""},{"$f":"IF(ISBLANK(I53),\"\",I53)","v":""},{"$f":"IF(ISBLANK(I54),\"\",I54)","v":""},{"$f":"IF(ISBLANK(I55),\"\",I55)","v":""},{"$f":"IF(ISBLANK(I56),\"\",I56)","v":""},{"$f":"IF(ISBLANK(I57),\"\",I57)","v":""},{"$f":"IF(ISBLANK(I58),\"\",I58)","v":""},{"$f":"IF(ISBLANK(I59),\"\",I59)","v":""},{"$f":"IF(ISBLANK(I60),\"\",I60)","v":""},{"$f":"IF(ISBLANK(I61),\"\",I61)","v":""},{"$f":"IF(ISBLANK(I62),\"\",I62)","v":""},{"$f":"IF(ISBLANK(I63),\"\",I63)","v":""},{"$f":"IF(ISBLANK(I64),\"\",I64)","v":""},{"$f":"IF(ISBLANK(I65),\"\",I65)","v":""},{"$f":"IF(ISBLANK(I66),\"\",I66)","v":""},{"$f":"IF(ISBLANK(I67),\"\",I67)","v":""},{"$f":"IF(ISBLANK(I68),\"\",I68)","v":""},{"$f":"IF(ISBLANK(I69),\"\",I69)","v":""},{"$f":"IF(ISBLANK(I70),\"\",I70)","v":""},{"$f":"IF(ISBLANK(I71),\"\",I71)","v":""},{"$f":"IF(ISBLANK(I72),\"\",I72)","v":""},{"$f":"IF(ISBLANK(I73),\"\",I73)","v":""},{"$f":"IF(ISBLANK(I74),\"\",I74)","v":""},{"$f":"IF(ISBLANK(I75),\"\",I75)","v":""},{"$f":"IF(ISBLANK(I76),\"\",I76)","v":""},{"$f":"IF(ISBLANK(I77),\"\",I77)","v":""},{"$f":"IF(ISBLANK(I78),\"\",I78)","v":""},{"$f":"IF(ISBLANK(I79),\"\",I79)","v":""},{"$f":"IF(ISBLANK(I80),\"\",I80)","v":""},{"$f":"IF(ISBLANK('3月'!I50),\"\",'3月'!I50)","v":""},{"$f":"IF(COUNTIF(D28:AH28,0)=0,\"回数\",COUNTIF(D28:AH28,0))","v":"回数"},null,null,{"$f":"設定!C33","v":"妹"},null,{"$f":"設定!E33","v":"妹"},null,null,{"$f":"設定!I33","v":0},null,{"$f":"設定!K33","v":0}]
[null,"便処置",null,null,null,null,null,null,null,null,null,null,null,null,null,null,null,null,null,null,null,null,null,null,null,null,null,null,null,null,null,null,null,null,null,null,null,{"$f":"設定!C34","v":"孫"},null,{"$f":"設定!E34","v":"孫"},null,null,{"$f":"設定!I34","v":0},null,{"$f":"設定!K34","v":0}]
[null,null,null,null,null,null,null,null,null,null,null,null,null,null,null,null,null,null,null,null,null,null,null,null,null,null,null,null,null,null,null,null,null,null,{"$f":"IF(SUM(D29:AH31)=0,\"滴数\",SUM(D29:AH31))","v":"滴数"},null,null,{"$f":"設定!C35","v":"友人知人"},null,{"$f":"設定!E35","v":"知人"}]
[null,null,null,null,null,null,null,null,null,null,null,null,null,null,null,null,null,null,null,null,null,null,null,null,null,null,null,null,null,null,null,null,null,null,{"$f":"IF(AI30=\"滴数\",\"本数\",AI30/150)","v":"本数"},null,null,{"$f":"設定!C36","v":"子の夫"},null,{"$f":"設定!E36","v":"子夫"},null,null,{"$f":"設定!I36","v":"食事形態"}]
[null,"血　圧",null,{"$f":"$R$50","v":0},{"$f":"$R$58","v":0},{"$f":"R66","v":0},{"$f":"R74","v":0},{"$f":"R82","v":0},{"$f":"R90","v":0},{"$f":"R98","v":0},{"$f":"R106","v":0},{"$f":"Z50","v":0},{"$f":"Z58","v":0},{"$f":"Z66","v":0},{"$f":"Z74","v":0},{"$f":"Z82","v":0},{"$f":"Z90","v":0},{"$f":"Z98","v":0},{"$f":"Z106","v":0},{"$f":"AH50","v":0},{"$f":"AH58","v":0},{"$f":"AH66","v":0},{"$f":"AH74","v":0},{"$f":"AH82","v":0},{"$f":"AH90","v":0},{"$f":"AH98","v":0},{"$f":"AH106","v":0},{"$f":"AP50","v":0},{"$f":"AP58","v":0},{"$f":"AP66","v":0},{"$f":"AP74","v":0},{"$f":"AP82","v":0},{"$f":"AP90","v":0},{"$f":"AP98","v":0},null,null,null,{"$f":"設定!C37","v":"子の妻"},null,{"$f":"設定!E37","v":"子妻"},null,null,{"$f":"設定!I37","v":0},null,{"$f":"設定!K37","v":0}]
[null,null,null,{"$f":"$R$51","v":{"$error":"#N/A"}},{"$f":"$R$59","v":{"$error":"#N/A"}},{"$f":"R67","v":{"$error":"#N/A"}},{"$f":"R75","v":{"$error":"#N/A"}},{"$f":"R83","v":{"$error":"#N/A"}},{"$f":"R91","v":{"$error":"#N/A"}},{"$f":"R99","v":{"$error":"#N/A"}},{"$f":"R107","v":{"$error":"#N/A"}},{"$f":"Z51","v":{"$error":"#N/A"}},{"$f":"Z59","v":{"$error":"#N/A"}},{"$f":"Z67","v":{"$error":"#N/A"}},{"$f":"Z75","v":{"$error":"#N/A"}},{"$f":"Z83","v":{"$error":"#N/A"}},{"$f":"Z91","v":{"$error":"#N/A"}},{"$f":"Z99","v":{"$error":"#N/A"}},{"$f":"Z107","v":{"$error":"#N/A"}},{"$f":"AH51","v":{"$error":"#N/A"}},{"$f":"AH59","v":{"$error":"#N/A"}},{"$f":"AH67","v":{"$error":"#N/A"}},{"$f":"AH75","v":{"$error":"#N/A"}},{"$f":"AH83","v":{"$error":"#N/A"}},{"$f":"AH91","v":{"$error":"#N/A"}},{"$f":"AH99","v":{"$error":"#N/A"}},{"$f":"AH107","v":{"$error":"#N/A"}},{"$f":"AP51","v":{"$error":"#N/A"}},{"$f":"AP59","v":{"$error":"#N/A"}},{"$f":"AP67","v":{"$error":"#N/A"}},{"$f":"AP75","v":{"$error":"#N/A"}},{"$f":"AP83","v":{"$error":"#N/A"}},{"$f":"AP91","v":{"$error":"#N/A"}},{"$f":"AP99","v":{"$error":"#N/A"}},null,null,null,{"$f":"設定!C38","v":"祖母"},null,{"$f":"設定!E38","v":"祖母"},null,null,{"$f":"設定!I38","v":"普通食"},null,{"$f":"設定!K38","v":"普通"}]
[null,null,null,{"$f":"$R$52","v":0},{"$f":"$R$60","v":0},{"$f":"R68","v":0},{"$f":"R76","v":0},{"$f":"R84","v":0},{"$f":"R92","v":0},{"$f":"R100","v":0},{"$f":"R108","v":0},{"$f":"Z52","v":0},{"$f":"Z60","v":0},{"$f":"Z68","v":0},{"$f":"Z76","v":0},{"$f":"Z84","v":0},{"$f":"Z92","v":0},{"$f":"Z100","v":0},{"$f":"Z108","v":0},{"$f":"AH52","v":0},{"$f":"AH60","v":0},{"$f":"AH68","v":0},{"$f":"AH76","v":0},{"$f":"AH84","v":0},{"$f":"AH92","v":0},{"$f":"AH100","v":0},{"$f":"AH108","v":0},{"$f":"AP52","v":0},{"$f":"AP60","v":0},{"$f":"AP68","v":0},{"$f":"AP76","v":0},{"$f":"AP84","v":0},{"$f":"AP92","v":0},{"$f":"AP100","v":0},null,null,null,{"$f":"設定!C39","v":"祖父"},null,{"$f":"設定!E39","v":"祖父"},null,null,{"$f":"設定!I39","v":"普+一口大"},null,{"$f":"設定!K39","v":"一口"}]
[null,null,null,{"$f":"$R$53","v":0},{"$f":"$R$61","v":0},{"$f":"R69","v":0},{"$f":"R77","v":0},{"$f":"R85","v":0},{"$f":"R93","v":0},{"$f":"R101","v":0},{"$f":"R109","v":0},{"$f":"Z53","v":0},{"$f":"Z61","v":0},{"$f":"Z69","v":0},{"$f":"Z77","v":0},{"$f":"Z85","v":0},{"$f":"Z93","v":0},{"$f":"Z101","v":0},{"$f":"Z109","v":0},{"$f":"AH53","v":0},{"$f":"AH61","v":0},{"$f":"AH69","v":0},{"$f":"AH77","v":0},{"$f":"AH85","v":0},{"$f":"AH93","v":0},{"$f":"AH101","v":0},{"$f":"AH109","v":0},{"$f":"AP53","v":0},{"$f":"AP61","v":0},{"$f":"AP69","v":0},{"$f":"AP77","v":0},{"$f":"AP85","v":0},{"$f":"AP93","v":0},{"$f":"AP101","v":0},{"$f":"IFERROR(INT(AVERAGE(D149:AH152))& \"/\"&INT(AVERAGE(D153:AH156)),\"平均\")","v":"平均"},null,null,{"$f":"設定!C40","v":"従兄弟の父"},null,{"$f":"設定!E40","v":"叔父"},null,null,{"$f":"設定!I40","v":"普+キザミ"},null,{"$f":"設定!K40","v":"普キ"}]
[null,"食事箋",null,{"$f":"IF(COUNTIF('9月'!D40:AH40,\"*\"),INDEX('9月'!D40:AH40,MATCH(\"\",'9月'!D40:AH40,-1)),\"\")","v":""},null,null,null,null,null,null,null,null,null,null,null,null,null,null,null,null,null,null,null,null,null,null,null,null,null,null,null,null,null,null,null,null,null,{"$f":"設定!C41","v":"従兄弟の母"},null,{"$f":"設定!E41","v":"叔母"},null,null,{"$f":"設定!I41","v":"軟飯"},null,{"$f":"設定!K41","v":"軟飯"}]
[null,"形　態",null,{"$f":"IF(COUNTIF('9月'!D41:AH41,\"*\"),INDEX('9月'!D41:AH41,MATCH(\"\",'9月'!D41:AH41,-1)),\"\")","v":""},null,null,null,null,null,null,null,null,null,null,null,null,null,null,null,null,null,null,null,null,null,null,null,null,null,null,null,null,null,null,null,null,null,{"$f":"設定!C42","v":"従兄弟"},null,{"$f":"設定!E42","v":"ｲﾄｺ"},null,null,{"$f":"設定!I42","v":"軟+キザミ"},null,{"$f":"設定!K42","v":"軟キ"}]
[null,"身　長",null,{"$f":"IF(COUNT('9月'!D42:AH42),LOOKUP(MAX('9月'!D42:AH42)+1,'9月'!D42:AH42),\"\")","v":""},null,null,null,null,null,null,null,null,null,null,null,null,null,null,null,null,null,null,null,null,null,null,null,null,null,null,null,null,null,null,"BMI",null,null,{"$f":"設定!C43","v":"義理の母"},null,{"$f":"設定!E43","v":"義母"},null,null,{"$f":"設定!I43","v":"粥食"},null,{"$f":"設定!K43","v":"粥"}]
[null,"体　重",null,null,null,null,null,null,null,null,null,null,null,null,null,null,null,null,null,null,null,null,null,null,null,null,null,null,null,null,null,null,null,null,{"$f":"IF(ISERROR(INDEX(D39:AH39,MATCH(307,D39:AH39))/(INDEX(D38:AH38,MATCH(9E+307,D38:AH38))/100)^2)=TRUE,\"\",INDEX(D39:AH39,MATCH(307,D39:AH39))/(INDEX(D38:AH38,MATCH(9E+307,D38:AH38))/100)^2)","v":""},null,null,{"$f":"設定!C44","v":"義理の父"},null,{"$f":"設定!E44","v":"義父"},null,null,{"$f":"設定!I44","v":"粥+キザミ"},null,{"$f":"設定!K44","v":"粥キ"}]
[null,"Ｉ　Ｎ",null,null,null,null,null,null,null,null,null,null,null,null,null,null,null,null,null,null,null,null,null,null,null,null,null,null,null,null,null,null,null,null,{"$f":"IFERROR(INT(AVERAGE(D40:AH40)),\"平均\")","v":"平均"},null,null,{"$f":"設定!C45","v":"その他親類"},null,{"$f":"設定!E45","v":"親類"},null,null,{"$f":"設定!I45","v":"ミキサ－"},null,{"$f":"設定!K45","v":"ミキ"}]
[null,"ＯＵＴ",null,null,null,null,null,null,null,null,null,null,null,null,null,null,null,null,null,null,null,null,null,null,null,null,null,null,null,null,null,null,null,null,{"$f":"IFERROR(INT(AVERAGE(D41:AH41)),\"平均\")","v":"平均"},null,null,{"$f":"設定!C46","v":"福祉職員"},null,{"$f":"設定!E46","v":"福祉"},null,null,{"$f":"設定!I46","v":"普通流動"},null,{"$f":"設定!K46","v":"普流"}]
[null,"生　理",null,null,null,null,null,null,null,null,null,null,null,null,null,null,null,null,null,null,null,null,null,null,null,null,null,null,null,null,null,null,null,null,{"$f":"IF(ISERROR(AVERAGE(D42:AH42)),\" \",AVERAGE(D42:AH42))","v":" "},null,null,{"$f":"設定!C47","v":"施設職員"},null,{"$f":"設定!E47","v":"施設"},null,null,{"$f":"設定!I47","v":"濃厚流動"},null,{"$f":"設定!K47","v":"濃流"}]
[null,null,null,null,null,null,null,null,null,null,null,null,null,null,null,null,null,null,null,null,null,null,null,null,null,null,null,null,null,null,null,null,null,null,{"$f":"IF(ISERROR(AVERAGE(D43:AH43)),\" \",AVERAGE(D43:AH43))","v":" "},null,null,{"$f":"設定!C48","v":0},null,{"$f":"設定!E48","v":0},null,null,{"$f":"設定!H48","v":0},null,{"$f":"設定!J48","v":0}]
[null,null,null,null,null,null,null,null,null,null,null,null,null,null,null,null,null,null,null,null,null,null,null,null,null,null,null,null,null,null,null,null,null,null,{"$f":"COUNTA(D44:AH44)","v":0},null,null,{"$f":"設定!C49","v":0},null,{"$f":"設定!E49","v":0},null,null,{"$f":"設定!H49","v":0},null,{"$f":"設定!J49","v":0}]
[null,"日　付",null,1,2,3,4,5,6,7,8,9,10,11,12,13,14,15,16,17,18,19,20,21,22,23,24,25,26,27,28,29,30,31,null,null,null,{"$f":"設定!C50","v":0},null,{"$f":"設定!E50","v":0},null,null,{"$f":"設定!H50","v":0},null,{"$f":"設定!J50","v":0}]
[]
[null,{"$f":"$P$3","v":0},null,null,null,null,null,{"$f":"YEAR(I47)","v":2015},{"$f":"TODAY()","v":"2015-02-24"},{"$f":"TODAY()","v":42059}]
[null,"平常時記入",null,null,null,null,null,null,null,null,null,"熱発時記入"]
[null,"日","時間","T",null," P","BP",null,"便",null,null,"日","時間",null,"T",null,"P","BP",null,"日","時間",null,"T",null,"P","BP",null,"日","時間",null,"T",null,"P","BP",null,"日","時間",null,"T",null,"P","BP"]
[null,1,"10:00:00",null,null,null,null,null,null,null,null,1,null,null,null,null,null,null,null,9,null,null,null,null,null,null,null,17,null,null,null,null,null,null,null,25]
[null,2,"10:00:00",null,null,null,null,null,null,null,null,null,"10:00:00",null,{"$f":"IF($D$50=\"\",NA(),$D$50)","v":{"$error":"#N/A"}},null,{"$f":"IF($F$50=\"\",NA(),$F$50)","v":{"$error":"#N/A"}},{"$f":"IF($G$50=\"\",NA(),$G$50)","v":{"$error":"#N/A"}},null,null,"10:00:00",null,{"$f":"IF($D$58=\"\",NA(),$D$58)","v":{"$error":"#N/A"}},null,{"$f":"IF($F$58=\"\",NA(),$F$58)","v":{"$error":"#N/A"}},{"$f":"IF($G$58=\"\",NA(),$G$58)","v":{"$error":"#N/A"}},null,null,"10:00:00",null,{"$f":"IF($D$66=\"\",NA(),$D$66)","v":{"$error":"#N/A"}},null,{"$f":"IF($F$66=\"\",NA(),$F$66)","v":{"$error":"#N/A"}},{"$f":"IF($G$66=\"\",NA(),$G$66)","v":{"$error":"#N/A"}},null,null,"10:00:00",null,{"$f":"IF($D$74=\"\",NA(),$D$74)","v":{"$error":"#N/A"}},null,{"$f":"IF($F$74=\"\",NA(),$F$74)","v":{"$error":"#N/A"}},{"$f":"IF($G$74=\"\",NA(),$G$74)","v":{"$error":"#N/A"}}]
[null,3,"10:00:00",null,null,null,null,null,null,"☆"]
[null,4,"10:00:00"]
[null,5,"10:00:00",null,null,null,null,null,null,"コ"]
[null,6,"10:00:00",null,null,null,null,null,null,"ス"]
[null,7,"10:00:00",null,null,null,null,null,null,"モ"]
[null,8,"10:00:00",null,null,null,null,null,null,"ス"]
[null,9,"10:00:00",null,null,null,null,null,null,"へ",null,2,null,null,null,null,null,null,null,10,null,null,null,null,null,null,null,18,null,null,null,null,null,null,null,26]
[null,10,"10:00:00",null,null,null,null,null,null,"戻",null,null,"10:00:00",null,{"$f":"IF($D$51=\"\",NA(),$D$51)","v":{"$error":"#N/A"}},null,{"$f":"IF($F$51=\"\",NA(),$F$51)","v":{"$error":"#N/A"}},{"$f":"IF($G$51=\"\",NA(),$G$51)","v":{"$error":"#N/A"}},null,null,"10:00:00",null,{"$f":"IF($D$59=\"\",NA(),$D$59)","v":{"$error":"#N/A"}},null,{"$f":"IF($F$59=\"\",NA(),$F$59)","v":{"$error":"#N/A"}},{"$f":"IF($G$59=\"\",NA(),$G$59)","v":{"$error":"#N/A"}},null,null,"10:00:00",null,{"$f":"IF($D$67=\"\",NA(),$D$67)","v":{"$error":"#N/A"}},null,{"$f":"IF($F$67=\"\",NA(),$F$67)","v":{"$error":"#N/A"}},{"$f":"IF($G$67=\"\",NA(),$G$67)","v":{"$error":"#N/A"}},null,null,"10:00:00",null,{"$f":"IF($D$75=\"\",NA(),$D$75)","v":{"$error":"#N/A"}},null,{"$f":"IF($F$75=\"\",NA(),$F$75)","v":{"$error":"#N/A"}},{"$f":"IF($G$75=\"\",NA(),$G$75)","v":{"$error":"#N/A"}}]
[null,11,"10:00:00",null,null,null,null,null,null,"る"]
[null,12,"10:00:00"]
[null,13,"10:00:00"]
[null,14,"10:00:00",null,null,null,null,null,null,"（"]
[null,15,"10:00:00",null,null,null,null,null,null,"選"]
[null,16,"10:00:00",null,null,null,null,null,null,"択"]
[null,17,"10:00:00",null,null,null,null,null,null,"す",null,3,null,null,null,null,null,null,null,11,null,null,null,null,null,null,null,19,null,null,null,null,null,null,null,27]
[null,18,"10:00:00",null,null,null,null,null,null,"る",null,null,"10:00:00",null,{"$f":"IF($D$52=\"\",NA(),$D$52)","v":{"$error":"#N/A"}},null,{"$f":"IF($F$52=\"\",NA(),$F$52)","v":{"$error":"#N/A"}},{"$f":"IF($G$52=\"\",NA(),$G$52)","v":{"$error":"#N/A"}},null,null,"10:00:00",null,{"$f":"IF($D$60=\"\",NA(),$D$60)","v":{"$error":"#N/A"}},null,{"$f":"IF($F$60=\"\",NA(),$F$60)","v":{"$error":"#N/A"}},{"$f":"IF($G$60=\"\",NA(),$G$60)","v":{"$error":"#N/A"}},null,null,"10:00:00",null,{"$f":"IF($D$68=\"\",NA(),$D$68)","v":{"$error":"#N/A"}},null,{"$f":"IF($F$68=\"\",NA(),$F$68)","v":{"$error":"#N/A"}},{"$f":"IF($G$68=\"\",NA(),$G$68)","v":{"$error":"#N/A"}},null,null,"10:00:00",null,{"$f":"IF($D$76=\"\",NA(),$D$76)","v":{"$error":"#N/A"}},null,{"$f":"IF($F$76=\"\",NA(),$F$76)","v":{"$error":"#N/A"}},{"$f":"IF($G$76=\"\",NA(),$G$76)","v":{"$error":"#N/A"}}]
[null,19,"10:00:00",null,null,null,null,null,null,"だ"]
[null,20,"10:00:00",null,null,null,null,null,null,"け"]
[null,21,"10:00:00",null,null,null,null,null,null,"で"]
[null,22,"10:00:00",null,null,null,null,null,null,"移"]
[null,23,"10:00:00",null,null,null,null,null,null,"動"]
[null,24,"10:00:00",null,null,null,null,null,null,"し"]
[null,25,"10:00:00",null,null,null,null,null,null,"ま",null,4,null,null,null,null,null,null,null,12,null,null,null,null,null,null,null,20,null,null,null,null,null,null,null,28]
[null,26,"10:00:00",null,null,null,null,null,null,"す",null,null,"10:00:00",null,{"$f":"IF($D$53=\"\",NA(),$D$53)","v":{"$error":"#N/A"}},null,{"$f":"IF($F$53=\"\",NA(),$F$53)","v":{"$error":"#N/A"}},{"$f":"IF($G$53=\"\",NA(),$G$53)","v":{"$error":"#N/A"}},null,null,"10:00:00",null,{"$f":"IF($D$61=\"\",NA(),$D$61)","v":{"$error":"#N/A"}},null,{"$f":"IF($F$61=\"\",NA(),$F$61)","v":{"$error":"#N/A"}},{"$f":"IF($G$61=\"\",NA(),$G$61)","v":{"$error":"#N/A"}},null,null,"10:00:00",null,{"$f":"IF($D$69=\"\",NA(),$D$69)","v":{"$error":"#N/A"}},null,{"$f":"IF($F$69=\"\",NA(),$F$69)","v":{"$error":"#N/A"}},{"$f":"IF($G$69=\"\",NA(),$G$69)","v":{"$error":"#N/A"}},null,null,"10:00:00",null,{"$f":"IF($D$77=\"\",NA(),$D$77)","v":{"$error":"#N/A"}},null,{"$f":"IF($F$77=\"\",NA(),$F$77)","v":{"$error":"#N/A"}},{"$f":"IF($G$77=\"\",NA(),$G$77)","v":{"$error":"#N/A"}}]
[null,27,"10:00:00",null,null,null,null,null,null,"）"]
[null,28,"10:00:00"]
[null,29,"10:00:00"]
[null,30,"10:00:00"]
[null,31,"10:00:00"]
[]
[null,null,null,null,null,null,null,null,null,null,null,5,null,null,null,null,null,null,null,13,null,null,null,null,null,null,null,21,null,null,null,null,null,null,null,29]
[null,null,null,null,null,null,null,null,null,null,null,null,"10:00:00",null,{"$f":"IF($D$54=\"\",NA(),$D$54)","v":{"$error":"#N/A"}},null,{"$f":"IF($F$54=\"\",NA(),$F$54)","v":{"$error":"#N/A"}},{"$f":"IF($G$54=\"\",NA(),$G$54)","v":{"$error":"#N/A"}},null,null,"10:00:00",null,{"$f":"IF($D$62=\"\",NA(),$D$62)","v":{"$error":"#N/A"}},null,{"$f":"IF($F$62=\"\",NA(),$F$62)","v":{"$error":"#N/A"}},{"$f":"IF($G$62=\"\",NA(),$G$62)","v":{"$error":"#N/A"}},null,null,"10:00:00",null,{"$f":"IF($D$70=\"\",NA(),$D$70)","v":{"$error":"#N/A"}},null,{"$f":"IF($F$70=\"\",NA(),$F$70)","v":{"$error":"#N/A"}},{"$f":"IF($G$70=\"\",NA(),$G$70)","v":{"$error":"#N/A"}},null,null,"10:00:00",null,{"$f":"IF($D$78=\"\",NA(),$D$78)","v":{"$error":"#N/A"}},null,{"$f":"IF($F$78=\"\",NA(),$F$78)","v":{"$error":"#N/A"}},{"$f":"IF($G$78=\"\",NA(),$G$78)","v":{"$error":"#N/A"}}]
[]
[]
[]
[]
[]
[]
[null,null,null,null,null,null,null,null,null,null,null,6,null,null,null,null,null,null,null,14,null,null,null,null,null,null,null,22,null,null,null,null,null,null,null,30]
[null,null,null,null,null,null,null,null,null,null,null,null,"10:00:00",null,{"$f":"IF($D$55=\"\",NA(),$D$55)","v":{"$error":"#N/A"}},null,{"$f":"IF($F$55=\"\",NA(),$F$55)","v":{"$error":"#N/A"}},{"$f":"IF($G$55=\"\",NA(),$G$55)","v":{"$error":"#N/A"}},null,null,"10:00:00",null,{"$f":"IF($D$63=\"\",NA(),$D$63)","v":{"$error":"#N/A"}},null,{"$f":"IF($F$63=\"\",NA(),$F$63)","v":{"$error":"#N/A"}},{"$f":"IF($G$63=\"\",NA(),$G$63)","v":{"$error":"#N/A"}},null,null,"10:00:00",null,{"$f":"IF($D$71=\"\",NA(),$D$71)","v":{"$error":"#N/A"}},null,{"$f":"IF($F$71=\"\",NA(),$F$71)","v":{"$error":"#N/A"}},{"$f":"IF($G$71=\"\",NA(),$G$71)","v":{"$error":"#N/A"}},null,null,"10:00:00",null,{"$f":"IF($D$79=\"\",NA(),$D$79)","v":{"$error":"#N/A"}},null,{"$f":"IF($F$79=\"\",NA(),$F$79)","v":{"$error":"#N/A"}},{"$f":"IF($G$79=\"\",NA(),$G$79)","v":{"$error":"#N/A"}}]
[]
[]
[]
[]
[]
[]
[null,null,null,null,null,null,null,null,null,null,null,7,null,null,null,null,null,null,null,15,null,null,null,null,null,null,null,23,null,null,null,null,null,null,null,31]
[null,null,null,null,null,null,null,null,null,null,null,null,"10:00:00",null,{"$f":"IF($D$56=\"\",NA(),$D$56)","v":{"$error":"#N/A"}},null,{"$f":"IF($F$56=\"\",NA(),$F$56)","v":{"$error":"#N/A"}},{"$f":"IF($G$56=\"\",NA(),$G$56)","v":{"$error":"#N/A"}},null,null,"10:00:00",null,{"$f":"IF($D$64=\"\",NA(),$D$64)","v":{"$error":"#N/A"}},null,{"$f":"IF($F$64=\"\",NA(),$F$64)","v":{"$error":"#N/A"}},{"$f":"IF($G$64=\"\",NA(),$G$64)","v":{"$error":"#N/A"}},null,null,"10:00:00",null,{"$f":"IF($D$72=\"\",NA(),$D$72)","v":{"$error":"#N/A"}},null,{"$f":"IF($F$72=\"\",NA(),$F$72)","v":{"$error":"#N/A"}},{"$f":"IF($G$72=\"\",NA(),$G$72)","v":{"$error":"#N/A"}},null,null,"10:00:00",null,{"$f":"IF($D$80=\"\",NA(),$D$80)","v":{"$error":"#N/A"}},null,{"$f":"IF($F$80=\"\",NA(),$F$80)","v":{"$error":"#N/A"}},{"$f":"IF($G$80=\"\",NA(),$G$80)","v":{"$error":"#N/A"}}]
[]
[]
[]
[]
[]
[]
[null,null,null,null,null,null,null,null,null,null,null,8,null,null,null,null,null,null,null,16,null,null,null,null,null,null,null,24]
[null,null,null,null,null,null,null,null,null,null,null,null,"10:00:00",null,{"$f":"IF($D$57=\"\",NA(),$D$57)","v":{"$error":"#N/A"}},null,{"$f":"IF($F$57=\"\",NA(),$F$57)","v":{"$error":"#N/A"}},{"$f":"IF($G$57=\"\",NA(),$G$57)","v":{"$error":"#N/A"}},null,null,"10:00:00",null,{"$f":"IF($D$65=\"\",NA(),$D$65)","v":{"$error":"#N/A"}},null,{"$f":"IF($F$65=\"\",NA(),$F$65)","v":{"$error":"#N/A"}},{"$f":"IF($G$65=\"\",NA(),$G$65)","v":{"$error":"#N/A"}},null,null,"10:00:00",null,{"$f":"IF($D$73=\"\",NA(),$D$73)","v":{"$error":"#N/A"}},null,{"$f":"IF($F$73=\"\",NA(),$F$73)","v":{"$error":"#N/A"}},{"$f":"IF($G$73=\"\",NA(),$G$73)","v":{"$error":"#N/A"}}]
[]
[]
[]
[]
[]
[]
[]
[]
[]
[]
[]
[]
[]
[]
[]
[]
[]
[]
[]
[]
[]
[null,null,"Enterで入力画面へ"]
[null,null,"ｶｰｿﾙ初期位置",null,null,null,"日付チェック",null,null,null,"バイタルコピー"]
["管理欄",null,"入力に入る",null,null,null,"今日",{"$f":"NOW()","v":"2015-02-24T03:11:52.510"},null,null,{"$f":"IF($D$74=\"\",NA(),$D$74)","v":{"$error":"#N/A"}},null,{"$f":"IF($F$74=\"\",NA(),$F$74)","v":{"$error":"#N/A"}},{"$f":"IF($G$74=\"\",NA(),$G$74)","v":{"$error":"#N/A"}},null,{"$f":"K131&M131&N131","v":{"$error":"#N/A"}}]
[null,null,null,null,null,null,"日",{"$f":"DAY(H131)","v":24},null,null,null,null,null,null,null,""]
[null,null,null,null,null,null,"月",{"$f":"MONTH(H131)","v":2},null,null,null,null,null,null,null,""]
[null,null,null,null,null,null,null,null,null,null,null,null,null,null,null,""]
[null,null,null,null,null,null,"時",{"$f":"HOUR(H131)","v":3},null,null,null,null,null,null,null,""]
[null,null,null,null,null,null,null,null,null,null,null,null,null,null,null,""]
[null,null,null,null,null,null,null,null,null,null,null,null,null,null,null,""]
[null,null,null,null,null,null,null,null,null,null,null,null,null,null,null,""]
[null,null,null,null,null,null,null,null,null,null,null,null,null,null,null,""]
[null,null,"食事平均",null,null,null,null,null,null,null,null,null,null,null,null,""]
[null,null,"左",{"$f":"IF(D25=\"\", \"\", LEFT(D25,SEARCH(\".\",D25,1)-1)*1)","v":""},{"$f":"IF(E25=\"\", \"\", LEFT(E25,SEARCH(\".\",E25,1)-1)*1)","v":""},"","","","","","","","","","","","","","","","","","","","","","","","","","","","",""]
[null,null,null,{"$f":"IF(D26=\"\", \"\", LEFT(D26,SEARCH(\".\",D26,1)-1)*1)","v":""},"","","","","","","","","","","","","","","","","","","","","","","","","","","","","",""]
[null,null,null,"","","","","","","","","","","","","","","","","","","","","","","","","","","","","","",""]
[null,null,"右",{"$f":"IF(D25=\"\", \"\", RIGHT(D25,LEN(D25)-FIND(\".\",D25,1))*1)","v":""},{"$f":"IF(E25=\"\", \"\", RIGHT(E25,LEN(E25)-FIND(\".\",E25,1))*1)","v":""},"","","","","","","","","","","","","","","","","","","","","","","","","","","","",""]
[null,null,null,{"$f":"IF(D26=\"\", \"\", RIGHT(D26,LEN(D26)-FIND(\".\",D26,1))*1)","v":""},"","","","","","","","","","","","","","","","","","","","","","","","","","","","","",""]
[null,null,null,{"$f":"IF(D27=\"\", \"\", RIGHT(D27,LEN(D27)-FIND(\".\",D27,1))*1)","v":""},"","","","","","","","","","","","","","","","","","","","","","","","","","","","","",""]
[null,null,null,null,null,null,null,null,null,null,null,null,null,null,null,""]
[null,null,"BP平均",null,null,null,null,null,null,null,null,null,null,null,null,""]
[null,null,"左",{"$f":"IF(ISERROR(LEFT(D32,SEARCH(\"/\",D32,1)-1)*1),\"\",LEFT(D32,SEARCH(\"/\",D32,1)-1)*1)","v":""},{"$f":"IF(ISERROR(LEFT(E32,SEARCH(\"/\",E32,1)-1)*1),\"\",LEFT(E32,SEARCH(\"/\",E32,1)-1)*1)","v":""},"","","","","","","","","","","","","","","","","","","","","","","","","","","","",""]
[null,null,null,{"$f":"IF(ISERROR(LEFT(D33,SEARCH(\"/\",D33,1)-1)*1),\"\",LEFT(D33,SEARCH(\"/\",D33,1)-1)*1)","v":""},"","","","","","","","","","","","","","","","","","","","","","","","","","","","","",""]
[null,null,null,"","","","","","","","","","","","","","","","","","","","","","","","","","","","","","",""]
[null,null,null,"","","","","","","","","","","","","","","","","","","","","","","","","","","","","","",""]
[null,null,"右",{"$f":"IF(ISERROR(RIGHT(D32,LEN(D32)-FIND(\"/\",D32,1))*1),\"\",RIGHT(D32,LEN(D32)-FIND(\"/\",D32,1))*1)","v":""},{"$f":"IF(ISERROR(RIGHT(E32,LEN(E32)-FIND(\"/\",E32,1))*1),\"\",RIGHT(E32,LEN(E32)-FIND(\"/\",E32,1))*1)","v":""},{"$f":"IF(ISERROR(RIGHT(F32,LEN(F32)-FIND(\"/\",F32,1))*1),\"\",RIGHT(F32,LEN(F32)-FIND(\"/\",F32,1))*1)","v":""},"","","","","","","","","","","","","","","","","","","","","","","","","","","",""]
[null,null,null,{"$f":"IF(ISERROR(RIGHT(D33,LEN(D33)-FIND(\"/\",D33,1))*1),\"\",RIGHT(D33,LEN(D33)-FIND(\"/\",D33,1))*1)","v":""},"","","","","","","","","","","","","","","","","","","","","","","","","","","","","",""]
[null,null,null,"","","","","","","","","","","","","","","","","","","","","","","","","","","","","","",""]
[null,null,null,"","","","","","","","","","","","","","","","","","","","","","","","","","","","","","",""]
[null,null,null,null,null,null,null,null,null,null,null,null,null,null,null,""]
[null,null,null,null,null,null,null,null,null,null,null,null,null,null,null,""]
[null,null,null,null,null,null,null,null,null,null,null,null,null,null,null,""]
[null,null,null,null,null,null,null,null,null,null,null,null,null,null,null,""]
[null,null,null,null,null,null,null,null,null,null,null,null,null,null,null,{"$f":"K161&M161&N161","v":""}]

{"sheet":"11月","index":11,"n_rows":161,"n_cols":45,"rows_kept":161,"cut":false,"hidden":false,"merged":[[31,1,34,2],[35,1,35,2],[36,1,36,2],[37,1,37,2],[38,1,38,2],[24,1,26,2],[49,3,49,4],[49,6,49,7],[1,32,1,34],[2,32,3,34],[102,12,102,13],[1,23,1,24],[2,23,3,24],[102,22,102,23],[102,25,102,26],[103,12,103,13],[104,12,104,13],[100,12,100,13],[100,14,100,15],[100,17,100,18],[100,20,100,21],[100,22,100,23],[100,25,100,26],[100,28,100,29],[100,30,100,31],[96,12,96,13],[96,14,96,15],[96,30,96,31],[96,33,96,34],[93,30,93,31],[94,28,94,29],[92,33,92,34],[108,33,108,34],[109,14,109,15],[1,13,1,14],[2,15,3,20],[1,15,1,19],[1,25,1,31],[2,25,2,30],[3,25,3,30],[105,14,105,15],[105,33,105,34],[106,33,106,34],[107,33,107,34],[97,11,104,11],[97,12,97,13],[97,14,97,15],[97,17,97,18],[98,12,98,13],[98,14,98,15],[98,17,98,18],[99,12,99,13],[99,14,99,15],[108,22,108,23],[108,25,108,26],[109,22,109,23],[109,25,109,26],[109,30,109,31],[109,33,109,34],[108,30,108,31],[101,25,101,26],[101,33,101,34],[93,12,93,13],[93,14,93,15],[96,17,96,18],[96,20,96,21],[96,22,96,23],[96,25,96,26],[96,28,96,29],[41,37,41,38],[39,44,39,45],[40,44,40,45],[41,44,41,45],[40,37,40,38],[39,42,39,43],[40,42,40,43],[41,42,41,43],[39,39,39,40],[40,39,40,40],[44,37,44,38],[42,39,42,40],[43,39,43,40],[44,39,44,40],[43,37,43,38],[42,37,42,38],[44,42,44,43],[42,44,42,45],[43,44,43,45],[44,44,44,45],[42,42,42,43],[43,42,43,43],[41,39,41,40],[39,37,39,38],[95,17,95,18],[95,20,95,21],[95,22,95,23],[36,44,36,45],[37,44,37,45],[38,44,38,45],[35,42,35,43],[36,42,36,43],[37,42,37,43],[38,42,38,43],[32,44,32,45],[33,44,33,45],[34,44,34,45],[35,44,35,45],[32,39,32,40],[93,17,93,18],[93,20,93,21],[93,22,93,23],[34,42,34,43],[16,44,16,45],[17,44,17,45],[33,42,33,43],[5,44,5,45],[6,44,6,45],[7,44,7,45],[8,44,8,45],[14,44,14,45],[15,44,15,45],[9,44,9,45],[10,44,10,45],[11,44,11,45],[12,44,12,45],[20,44,20,45],[21,44,21,45],[22,44,22,45],[23,44,23,45],[24,44,24,45],[25,44,25,45],[7,42,7,43],[8,42,8,43],[16,42,16,43],[17,42,17,43],[9,42,9,43],[10,42,10,43],[11,42,14,43],[18,44,18,45],[27,39,27,40],[29,37,29,38],[30,37,30,38],[29,39,29,40],[30,39,30,40],[25,37,25,38],[26,37,26,38],[20,39,20,40],[11,37,11,40],[12,37,12,40],[33,39,33,40],[34,39,34,40],[23,39,23,40],[24,39,24,40],[28,37,28,38],[13,44,13,45],[24,42,24,43],[25,42,25,43],[26,42,26,43],[20,42,23,43],[18,42,18,43],[19,42,19,43],[15,42,15,43],[16,39,16,40],[27,44,27,45],[28,44,28,45],[31,42,31,43],[31,44,31,45],[28,42,28,43],[27,42,27,43],[19,44,19,45],[26,44,26,45],[112,30,112,31],[4,42,4,45],[15,37,15,40],[30,42,30,45],[16,37,16,38],[17,37,17,38],[18,37,18,38],[21,39,21,40],[22,39,22,40],[27,37,27,38],[28,39,28,40],[32,42,32,43],[19,37,19,38],[20,37,20,38],[21,37,21,38],[22,37,22,38],[23,37,23,38],[24,37,24,38],[17,39,17,40],[18,39,18,40],[19,39,19,40],[5,42,5,43],[6,42,6,43],[31,37,31,38],[32,37,32,38],[33,37,33,38],[13,37,13,40],[10,37,10,40],[34,37,34,38],[25,39,25,40],[26,39,26,40],[31,39,31,40],[112,14,112,15],[112,17,112,18],[112,20,112,21],[111,14,111,15],[111,12,111,13],[130,0,132,0],[130,2,130,4],[130,7,130,8],[105,11,112,11],[105,12,105,13],[107,12,107,13],[108,12,108,13],[110,12,110,13],[109,12,109,13],[106,12,106,13],[108,14,108,15],[129,10,129,12],[110,14,110,15],[110,17,110,18],[110,20,110,21],[107,17,107,18],[130,10,130,11],[130,13,130,14],[129,2,129,4],[129,6,129,8],[112,12,112,13],[131,10,131,11],[131,13,131,14],[132,10,132,11],[132,13,132,14],[109,17,109,18],[109,20,109,21],[111,28,111,29],[111,30,111,31],[111,33,111,34],[110,33,110,34],[110,22,110,23],[110,25,110,26],[110,28,110,29],[36,37,36,38],[110,30,110,31],[111,17,111,18],[111,20,111,21],[111,22,111,23],[111,25,111,26],[105,19,112,19],[105,20,105,21],[112,22,112,23],[108,17,108,18],[108,20,108,21],[106,25,106,26],[107,20,107,21],[107,22,107,23],[107,28,107,29],[108,28,108,29],[105,27,112,27],[105,28,105,29],[109,28,109,29],[105,17,105,18],[106,28,106,29],[106,30,106,31],[112,33,112,34],[112,25,112,26],[112,28,112,29],[103,41,103,42],[104,41,104,42],[104,14,104,15],[104,17,104,18],[104,20,104,21],[104,36,104,37],[104,22,104,23],[104,25,104,26],[104,28,104,29],[104,30,104,31],[105,22,105,23],[105,25,105,26],[106,20,106,21],[106,22,106,23],[107,30,107,31],[107,25,107,26],[105,30,105,31],[106,14,106,15],[106,17,106,18],[107,14,107,15],[97,27,104,27],[97,28,97,29],[97,30,97,31],[98,41,98,42],[99,36,99,37],[99,38,99,39],[99,41,99,42],[99,17,99,18],[99,33,99,34],[98,30,98,31],[98,33,98,34],[99,25,99,26],[102,17,102,18],[102,20,102,21],[103,22,103,23],[103,25,103,26],[103,28,103,29],[103,30,103,31],[103,33,103,34],[103,36,103,37],[103,38,103,39],[97,19,104,19],[97,20,97,21],[97,22,97,23],[97,25,97,26],[98,20,98,21],[98,22,98,23],[98,25,98,26],[99,20,99,21],[99,22,99,23],[97,33,97,34],[98,28,98,29],[104,38,104,39],[104,33,104,34],[100,36,100,37],[100,38,100,39],[100,41,100,42],[97,35,104,35],[97,36,97,37],[97,38,97,39],[97,41,97,42],[98,36,98,37],[98,38,98,39],[101,12,101,13],[101,14,101,15],[99,28,99,29],[99,30,99,31],[101,28,101,29],[101,30,101,31],[102,28,102,29],[100,33,100,34],[101,17,101,18],[101,20,101,21],[101,22,101,23],[101,36,101,37],[101,38,101,39],[101,41,101,42],[102,36,102,37],[102,38,102,39],[102,41,102,42],[102,33,102,34],[102,30,102,31],[103,14,103,15],[103,17,103,18],[103,20,103,21],[102,14,102,15],[92,36,92,37],[92,38,92,39],[92,41,92,42],[89,35,96,35],[89,36,89,37],[89,38,89,39],[89,41,89,42],[90,36,90,37],[90,38,90,39],[90,30,90,31],[90,33,90,34],[91,25,91,26],[90,41,90,42],[91,36,91,37],[91,38,91,39],[95,25,95,26],[95,28,95,29],[95,30,95,31],[95,33,95,34],[95,36,95,37],[95,38,95,39],[95,41,95,42],[91,41,91,42],[96,36,96,37],[96,38,96,39],[96,41,96,42],[88,12,88,13],[88,14,88,15],[88,17,88,18],[88,20,88,21],[88,22,88,23],[88,25,88,26],[88,33,88,34],[88,36,88,37],[88,38,88,39],[88,41,88,42],[93,25,93,26],[93,33,93,34],[93,36,93,37],[93,38,93,39],[93,41,93,42],[94,12,94,13],[94,14,94,15],[94,17,94,18],[94,36,94,37],[94,38,94,39],[94,41,94,42],[92,20,92,21],[92,22,92,23],[92,25,92,26],[92,28,92,29],[92,30,92,31],[89,27,96,27],[89,28,89,29],[89,30,89,31],[91,28,91,29],[91,30,91,31],[93,28,93,29],[89,11,96,11],[89,12,89,13],[89,14,89,15],[89,17,89,18],[90,12,90,13],[90,14,90,15],[90,17,90,18],[91,12,91,13],[91,14,91,15],[91,17,91,18],[91,33,91,34],[89,19,96,19],[89,20,89,21],[89,22,89,23],[89,25,89,26],[90,20,90,21],[90,22,90,23],[90,25,90,26],[91,20,91,21],[91,22,91,23],[89,33,89,34],[90,28,90,29],[94,20,94,21],[94,22,94,23],[94,25,94,26],[94,30,94,31],[94,33,94,34],[92,12,92,13],[92,14,92,15],[92,17,92,18],[95,12,95,13],[95,14,95,15],[86,12,86,13],[86,14,86,15],[86,17,86,18],[86,20,86,21],[86,22,86,23],[86,25,86,26],[86,28,86,29],[86,33,86,34],[86,36,86,37],[86,38,86,39],[86,41,86,42],[87,12,87,13],[87,14,87,15],[87,17,87,18],[87,20,87,21],[87,22,87,23],[87,25,87,26],[87,33,87,34],[87,36,87,37],[87,38,87,39],[87,41,87,42],[84,22,84,23],[84,25,84,26],[84,28,84,29],[84,30,84,31],[84,33,84,34],[84,41,84,42],[85,12,85,13],[85,14,85,15],[85,17,85,18],[85,20,85,21],[85,22,85,23],[85,25,85,26],[85,28,85,29],[85,30,85,31],[85,33,85,34],[85,36,85,37],[85,38,85,39],[85,41,85,42],[81,38,81,39],[82,36,82,37],[82,38,82,39],[83,36,83,37],[83,38,83,39],[84,36,84,37],[84,38,84,39],[81,41,81,42],[82,12,82,13],[82,14,82,15],[82,17,82,18],[82,20,82,21],[82,22,82,23],[82,25,82,26],[82,28,82,29],[82,30,82,31],[82,33,82,34],[82,41,82,42],[83,12,83,13],[83,14,83,15],[83,17,83,18],[83,20,83,21],[83,22,83,23],[83,25,83,26],[83,28,83,29],[83,30,83,31],[83,33,83,34],[83,41,83,42],[84,12,84,13],[84,14,84,15],[84,17,84,18],[84,20,84,21],[79,41,79,42],[80,12,80,13],[80,14,80,15],[80,17,80,18],[80,20,80,21],[80,22,80,23],[80,25,80,26],[80,28,80,29],[80,30,80,31],[80,33,80,34],[80,36,80,37],[80,38,80,39],[80,41,80,42],[81,11,88,11],[81,12,81,13],[81,14,81,15],[81,17,81,18],[81,19,88,19],[81,20,81,21],[81,22,81,23],[81,25,81,26],[81,27,88,27],[81,28,81,29],[81,30,81,31],[86,30,86,31],[87,28,87,29],[87,30,87,31],[88,28,88,29],[88,30,88,31],[81,33,81,34],[81,35,88,35],[81,36,81,37],[76,38,76,39],[76,41,76,42],[77,3,77,4],[77,6,77,7],[77,12,77,13],[77,14,77,15],[77,17,77,18],[77,20,77,21],[77,36,77,37],[77,38,77,39],[77,41,77,42],[78,3,78,4],[78,6,78,7],[78,12,78,13],[78,14,78,15],[78,17,78,18],[78,20,78,21],[78,33,78,34],[78,36,78,37],[78,38,78,39],[78,41,78,42],[73,27,80,27],[78,28,78,29],[79,33,79,34],[79,36,79,37],[79,38,79,39],[77,33,77,34],[79,22,79,23],[79,25,79,26],[79,28,79,29],[79,30,79,31],[73,19,80,19],[73,38,73,39],[74,33,74,34],[74,36,74,37],[74,38,74,39],[75,33,75,34],[75,36,75,37],[75,38,75,39],[73,41,73,42],[74,3,74,4],[74,6,74,7],[74,12,74,13],[74,14,74,15],[74,17,74,18],[74,20,74,21],[74,22,74,23],[74,25,74,26],[74,28,74,29],[74,41,74,42],[75,3,75,4],[75,6,75,7],[75,12,75,13],[75,14,75,15],[75,17,75,18],[75,20,75,21],[75,22,75,23],[75,25,75,26],[75,28,75,29],[75,41,75,42],[73,20,73,21],[73,22,73,23],[73,25,73,26],[73,30,73,31],[73,3,73,4],[73,6,73,7],[73,11,80,11],[73,12,73,13],[73,14,73,15],[73,17,73,18],[79,3,79,4],[79,17,79,18],[74,30,74,31],[75,30,75,31],[76,30,76,31],[77,28,77,29],[77,30,77,31],[73,28,73,29],[73,33,73,34],[73,35,80,35],[73,36,73,37],[76,3,76,4],[76,6,76,7],[76,12,76,13],[76,14,76,15],[76,17,76,18],[76,20,76,21],[76,22,76,23],[76,25,76,26],[76,28,76,29],[76,33,76,34],[76,36,76,37],[78,30,78,31],[72,17,72,18],[72,20,72,21],[65,11,72,11],[79,6,79,7],[79,12,79,13],[79,14,79,15],[79,20,79,21],[69,20,69,21],[65,19,72,19],[65,20,65,21],[72,22,72,23],[72,25,72,26],[72,28,72,29],[77,22,77,23],[77,25,77,26],[78,22,78,23],[78,25,78,26],[69,3,69,4],[69,6,69,7],[69,12,69,13],[69,14,69,15],[69,17,69,18],[65,3,65,4],[65,6,65,7],[69,22,69,23],[72,3,72,4],[72,6,72,7],[72,12,72,13],[72,14,72,15],[68,22,68,23],[67,22,67,23],[66,20,66,21],[69,41,69,42],[70,3,70,4],[70,6,70,7],[70,12,70,13],[70,14,70,15],[70,17,70,18],[70,20,70,21],[70,22,70,23],[70,36,70,37],[70,38,70,39],[70,41,70,42],[71,3,71,4],[71,6,71,7],[71,12,71,13],[71,14,71,15],[71,17,71,18],[71,20,71,21],[67,3,67,4],[67,6,67,7],[67,12,67,13],[67,14,67,15],[67,17,67,18],[67,20,67,21],[67,38,67,39],[67,25,67,26],[67,28,67,29],[67,41,67,42],[68,3,68,4],[68,6,68,7],[68,12,68,13],[68,14,68,15],[68,17,68,18],[68,20,68,21],[68,25,68,26],[68,28,68,29],[68,36,68,37],[68,38,68,39],[68,30,68,31],[69,30,69,31],[65,38,65,39],[66,33,66,34],[66,36,66,37],[66,38,66,39],[67,36,67,37],[65,33,65,34],[65,35,72,35],[67,33,67,34],[72,38,72,39],[65,41,65,42],[68,41,68,42],[72,41,72,42],[69,36,69,37],[69,38,69,39],[66,22,66,23],[66,41,66,42],[65,36,65,37],[71,22,71,23],[71,30,71,31],[71,33,71,34],[71,36,71,37],[71,38,71,39],[71,41,71,42],[72,30,72,31],[72,33,72,34],[72,36,72,37],[64,30,64,31],[64,33,64,34],[64,36,64,37],[64,38,64,39],[64,28,64,29],[65,12,65,13],[65,14,65,15],[65,17,65,18],[66,3,66,4],[66,6,66,7],[66,12,66,13],[66,14,66,15],[66,17,66,18],[65,22,65,23],[70,28,70,29],[65,25,65,26],[65,27,72,27],[65,28,65,29],[69,28,69,29],[66,25,66,26],[69,25,69,26],[70,25,70,26],[71,25,71,26],[71,28,71,29],[66,28,66,29],[68,33,68,34],[69,33,69,34],[70,30,70,31],[70,33,70,34],[65,30,65,31],[66,30,66,31],[67,30,67,31],[63,33,63,34],[61,41,61,42],[62,3,62,4],[62,6,62,7],[62,12,62,13],[62,14,62,15],[62,17,62,18],[62,20,62,21],[62,22,62,23],[62,36,62,37],[63,17,63,18],[63,20,63,21],[63,22,63,23],[63,30,63,31],[63,3,63,4],[63,6,63,7],[63,12,63,13],[63,14,63,15],[63,28,63,29],[63,41,63,42],[63,36,63,37],[63,38,63,39],[57,35,64,35],[57,36,57,37],[57,38,57,39],[62,41,62,42],[64,41,64,42],[60,41,60,42],[58,41,58,42],[64,3,64,4],[64,6,64,7],[64,12,64,13],[62,38,62,39],[58,25,58,26],[60,28,60,29],[61,38,61,39],[60,30,60,31],[60,33,60,34],[59,25,59,26],[60,38,60,39],[61,30,61,31],[59,33,59,34],[61,22,61,23],[61,36,61,37],[60,17,60,18],[60,20,60,21],[60,22,60,23],[60,25,60,26],[60,36,60,37],[61,17,61,18],[61,20,61,21],[57,33,57,34],[61,33,61,34],[62,33,62,34],[57,30,57,31],[58,30,58,31],[59,30,59,31],[59,36,59,37],[59,38,59,39],[59,28,59,29],[58,36,58,37],[58,38,58,39],[62,30,62,31],[57,41,57,42],[58,3,58,4],[58,6,58,7],[58,12,58,13],[58,14,58,15],[58,17,58,18],[58,20,58,21],[58,22,58,23],[57,19,64,19],[57,20,57,21],[59,3,59,4],[59,6,59,7],[59,12,59,13],[59,14,59,15],[59,41,59,42],[58,33,58,34],[59,17,59,18],[59,20,59,21],[59,22,59,23],[58,28,58,29],[57,3,57,4],[57,6,57,7],[57,11,64,11],[57,12,57,13],[57,14,57,15],[57,17,57,18],[60,3,60,4],[60,6,60,7],[60,12,60,13],[60,14,60,15],[57,22,57,23],[57,25,57,26],[57,27,64,27],[57,28,57,29],[61,28,61,29],[61,25,61,26],[62,25,62,26],[63,25,63,26],[62,28,62,29],[64,22,64,23],[61,3,61,4],[61,6,61,7],[61,12,61,13],[61,14,61,15],[64,14,64,15],[64,17,64,18],[64,20,64,21],[64,25,64,26],[54,3,54,4],[54,6,54,7],[54,12,54,13],[54,14,54,15],[49,11,56,11],[53,3,53,4],[53,6,53,7],[53,12,53,13],[49,12,49,13],[54,20,54,21],[54,22,54,23],[54,25,54,26],[52,22,52,23],[52,6,52,7],[52,12,52,13],[52,14,52,15],[50,25,50,26],[49,22,49,23],[55,3,55,4],[55,6,55,7],[55,12,55,13],[55,14,55,15],[55,17,55,18],[55,20,55,21],[55,22,55,23],[55,25,55,26],[56,3,56,4],[56,6,56,7],[56,12,56,13],[56,14,56,15],[56,17,56,18],[56,20,56,21],[50,3,50,4],[50,6,50,7],[50,12,50,13],[50,14,50,15],[50,17,50,18],[50,22,50,23],[50,41,50,42],[49,38,49,39],[52,17,52,18],[52,20,52,21],[51,12,51,13],[51,14,51,15],[51,20,51,21],[51,22,51,23],[52,30,52,31],[50,38,50,39],[51,3,51,4],[51,6,51,7],[52,38,52,39],[52,41,52,42],[52,3,52,4],[51,28,51,29],[52,33,52,34],[51,30,51,31],[49,14,49,15],[49,17,49,18],[49,19,56,19],[54,17,54,18],[51,17,51,18],[49,20,49,21],[53,14,53,15],[50,20,50,21],[54,33,54,34],[54,36,54,37],[50,33,50,34],[50,36,50,37],[54,30,54,31],[53,30,53,31],[49,33,49,34],[49,35,56,35],[51,41,51,42],[49,36,49,37],[51,33,51,34],[51,36,51,37],[51,38,51,39],[49,41,49,42],[53,36,53,37],[52,36,52,37],[53,33,53,34],[53,38,53,39],[53,41,53,42],[54,38,54,39],[54,41,54,42],[55,30,55,31],[55,33,55,34],[55,36,55,37],[55,38,55,39],[55,41,55,42],[56,30,56,31],[56,33,56,34],[56,36,56,37],[56,38,56,39],[56,41,56,42],[49,25,49,26],[49,27,56,27],[49,28,49,29],[49,30,49,31],[50,30,50,31],[50,28,50,29],[54,28,54,29],[52,25,52,26],[52,28,52,29],[51,25,51,26],[53,17,53,18],[53,20,53,21],[53,22,53,23],[53,25,53,26],[53,28,53,29],[55,28,55,29],[56,22,56,23],[56,25,56,26],[56,28,56,29],[48,25,48,26],[48,28,48,29],[48,6,48,7],[48,41,48,42],[48,36,48,37],[48,30,48,31],[48,33,48,34]],"merged_total":1062,"flags":["merged_cut"]}
[null,"体温表",null,null,null,{"$f":"設定!$F$7","v":2016},null,"年",null,11,"月"]
[null,"カルテ番号",null,null,"病棟",null,null,"入院形態",null,null,"主治医",null,null,"　姓名",null,{"$f":"'10月'!$P$2","v":0},null,null,null,null,null,null,null,"性別",null,"生年月日　",null,null,null,null,null,null,"担当Ns"]
[null,{"$f":"'10月'!B3","v":0},null,null,{"$f":"IF(COUNTIF('10月'!E3:G3,\"*\"),INDEX('10月'!E3:G3,MATCH(\"\",'10月'!E3:G3,-1)),\"\")","v":""},null,null,{"$f":"IF(COUNTIF('10月'!H3:J3,\"*\"),INDEX('10月'!H3:J3,MATCH(\"\",'10月'!H3:J3,-1)),\"\")","v":""},null,null,{"$f":"'10月'!K3","v":0},null,null,null,null,{"$f":"'10月'!$P$3","v":0},null,null,null,null,null,null,null,{"$f":"'10月'!$X$3","v":0},null,{"$f":"'10月'!$Z$3","v":"00:00:00"},null,null,null,null,null,{"$f":"DATEDIF(Z3,TODAY(),\"Y\")","v":115},{"$f":"'10月'!$AG$3","v":0}]
[null,null,null,null,"/","/","/","/","/","/",null,null,null,null,null,null,null,null,null,null,null,null,null,null,null,{"$f":"Z3","v":"00:00:00"},null,null,null,null,null,"歳"]
[null,null,null,null,null,null,null,null,null,null,null,null,null,null,null,null,null,null,null,null,null,null,null,null,null,null,null,null,null,null,null,null,null,null,null,null,null,{"$f":"設定!C10","v":"備考欄"},null,null,null,null,{"$f":"設定!I10","v":"食事箋"}]
[null,null,null,null,null,null,null,null,null,null,null,null,null,null,null,null,null,null,null,null,null,null,null,null,null,null,null,null,null,null,null,null,null,null,null,null,null,{"$f":"設定!C11","v":0},null,null,null,null,{"$f":"設定!I11","v":0},null,{"$f":"設定!K11","v":0}]
[null,null,null,null,null,null,null,null,null,null,null,null,null,null,null,null,null,null,null,null,null,null,null,null,null,null,null,null,null,null,null,null,null,null,null,null,null,null,null,null,null,null,{"$f":"設定!I12","v":"常食"},null,{"$f":"設定!K12","v":"常食"}]
[null,null,null,null,null,null,null,null,null,null,null,null,null,null,null,null,null,null,null,null,null,null,null,null,null,null,null,null,null,null,null,null,null,null,null,null,null,null,null,null,null,null,{"$f":"設定!I13","v":"心臓"},null,{"$f":"設定!K13","v":"心臓"}]
[null,null,null,null,null,null,null,null,null,null,null,null,null,null,null,null,null,null,null,null,null,null,null,null,null,null,null,null,null,null,null,null,null,null,null,null,null,null,null,null,null,null,{"$f":"設定!I14","v":"すい臓"},null,{"$f":"設定!K14","v":"膵臓"}]
[null,null,null,null,null,null,null,null,null,null,null,null,null,null,null,null,null,null,null,null,null,null,null,null,null,null,null,null,null,null,null,null,null,null,null,null,null,null,null,null,null,null,{"$f":"設定!I15","v":"じん臓"},null,{"$f":"設定!K15","v":"腎臓"}]
[null,null,null,null,null,null,null,null,null,null,null,null,null,null,null,null,null,null,null,null,null,null,null,null,null,null,null,null,null,null,null,null,null,null,null,null,null,{"$f":"'10月'!AL11","v":0},null,null,null,null,{"$f":"設定!I16","v":"高血圧"},null,{"$f":"設定!K16","v":"高血"}]
[null,null,null,null,null,null,null,null,null,null,null,null,null,null,null,null,null,null,null,null,null,null,null,null,null,null,null,null,null,null,null,null,null,null,null,null,null,{"$f":"'10月'!AL9","v":0},null,null,null,null,{"$f":"設定!I17","v":"糖尿"},null,{"$f":"設定!K17","v":"糖1200"}]
[null,null,null,null,null,null,null,null,null,null,null,null,null,null,null,null,null,null,null,null,null,null,null,null,null,null,null,null,null,null,null,null,null,null,null,null,null,{"$f":"'10月'!AL10","v":0},null,null,null,null,null,null,{"$f":"設定!K18","v":"糖1440"}]
[null,null,null,null,null,null,null,null,null,null,null,null,null,null,null,null,null,null,null,null,null,null,null,null,null,null,null,null,null,null,null,null,null,null,null,null,null,{"$f":"'10月'!AL11","v":0},null,null,null,null,null,null,{"$f":"設定!K19","v":"糖1600"}]
[null,null,null,null,null,null,null,null,null,null,null,null,null,null,null,null,null,null,null,null,null,null,null,null,null,null,null,null,null,null,null,null,null,null,null,null,null,null,null,null,null,null,null,null,{"$f":"設定!K20","v":"糖1800"}]
[null,null,null,null,null,null,null,null,null,null,null,null,null,null,null,null,null,null,null,null,null,null,null,null,null,null,null,null,null,null,null,null,null,null,null,null,null,{"$f":"設定!C21","v":"面会"},null,null,null,null,{"$f":"設定!I21","v":"肝臓A"},null,{"$f":"設定!K21","v":"肝Ａ"}]
[null,"日　付",null,1,2,3,4,5,6,7,8,9,10,11,12,13,14,15,16,17,18,19,20,21,22,23,24,25,26,27,28,29,30,31,"統計",null,null,{"$f":"設定!C22","v":0},null,{"$f":"設定!E22","v":0},null,null,{"$f":"設定!I22","v":"肝臓B"},null,{"$f":"設定!K22","v":"肝Ｂ"}]
[null,"行　動",null,null,null,null,null,null,null,null,null,null,null,null,null,null,null,null,null,null,null,null,null,null,null,null,null,null,null,null,null,null,null,null,null,null,null,{"$f":"設定!C23","v":"両親"},null,{"$f":"設定!E23","v":"両親"},null,null,{"$f":"設定!I23","v":"潰瘍"},null,{"$f":"設定!K23","v":"潰瘍"}]
[null,"時　間",null,null,null,null,null,null,null,null,null,null,null,null,null,null,null,null,null,null,null,null,null,null,null,null,null,null,null,null,null,null,null,null,null,null,null,{"$f":"設定!C24","v":"父"},null,{"$f":"設定!E24","v":"父"},null,null,{"$f":"設定!I24","v":"低残渣食"},null,{"$f":"設定!K24","v":"低残"}]
[null,"行　動",null,null,null,null,null,null,null,null,null,null,null,null,null,null,null,null,null,null,null,null,null,null,null,null,null,null,null,null,null,null,null,null,null,null,null,{"$f":"設定!C25","v":"母"},null,{"$f":"設定!E25","v":"母"},null,null,{"$f":"設定!I25","v":"貧血"},null,{"$f":"設定!K25","v":"貧血"}]
[null,"時　間",null,null,null,null,null,null,null,null,null,null,null,null,null,null,null,null,null,null,null,null,null,null,null,null,null,null,null,null,null,null,null,null,{"$f":"IF(COUNTIF(D18:AH21,\"外出\")+COUNTIF(D18:AH21,\"外泊\")=0,\"回数\",COUNTIF(D18:AH21,\"外出\")+COUNTIF(D18:AH21,\"外泊\"))","v":"回数"},null,null,{"$f":"設定!C26","v":"主人"},null,{"$f":"設定!E26","v":"夫"},null,null,{"$f":"設定!I26","v":"脂質異常"},null,{"$f":"設定!K26","v":"脂1200"}]
[null,"面　会",null,null,null,null,null,null,null,null,null,null,null,null,null,null,null,null,null,null,null,null,null,null,null,null,null,null,null,null,null,null,null,null,null,null,null,{"$f":"設定!C27","v":"奥方"},null,{"$f":"設定!E27","v":"妻"},null,null,null,null,{"$f":"設定!K27","v":"脂1440"}]
[null,null,null,null,null,null,null,null,null,null,null,null,null,null,null,null,null,null,null,null,null,null,null,null,null,null,null,null,null,null,null,null,null,null,{"$f":"IF(COUNTA(D22:AH23)=0,\"回数\",COUNTA(D22:AH23))","v":"回数"},null,null,{"$f":"設定!C28","v":"息子"},null,{"$f":"設定!E28","v":"息子"},null,null,null,null,{"$f":"設定!K28","v":"脂1600"}]
[null,"入　浴",null,null,null,null,null,null,null,null,null,null,null,null,null,null,null,null,null,null,null,null,null,null,null,null,null,null,null,null,null,null,null,null,{"$f":"IF(COUNTA(D24:AH24)=0,\"回数\",COUNTA(D24:AH24))","v":"回数"},null,null,{"$f":"設定!C29","v":"娘"},null,{"$f":"設定!E29","v":"娘"},null,null,null,null,{"$f":"設定!K29","v":"脂1800"}]
[null,"食　事",null,null,null,null,null,null,null,null,null,null,null,null,null,null,null,null,null,null,null,null,null,null,null,null,null,null,null,null,null,null,null,null,null,null,null,{"$f":"設定!C30","v":"兄"},null,{"$f":"設定!E30","v":"兄"},null,null,{"$f":"設定!I30","v":"検査食"},null,{"$f":"設定!K30","v":"検査"}]
[null,null,null,null,null,null,null,null,null,null,null,null,null,null,null,null,null,null,null,null,null,null,null,null,null,null,null,null,null,null,null,null,null,null,null,null,null,{"$f":"設定!C31","v":"弟"},null,{"$f":"設定!E31","v":"弟"},null,null,{"$f":"設定!I31","v":"絶食"},null,{"$f":"設定!K31","v":"絶食"}]
[null,null,null,null,null,null,null,null,null,null,null,null,null,null,null,null,null,null,null,null,null,null,null,null,null,null,null,null,null,null,null,null,null,null,{"$f":"IFERROR(INT(AVERAGE(D141:AH143))& \".\"&INT(AVERAGE(D144:AH146)),\"平均\")","v":"平均"},null,null,{"$f":"設定!C32","v":"姉"},null,{"$f":"設定!E32","v":"姉"},null,null,{"$f":"設定!I32","v":0},null,{"$f":"設定!K32","v":0}]
[null,"便　通",null,{"$f":"IF(ISBLANK(I51),\"\",I51)","v":""},{"$f":"IF(ISBLANK(I52),\"\",I52)","v":""},{"$f":"IF(ISBLANK(I53),\"\",I53)","v":""},{"$f":"IF(ISBLANK(I54),\"\",I54)","v":""},{"$f":"IF(ISBLANK(I55),\"\",I55)","v":""},{"$f":"IF(ISBLANK(I56),\"\",I56)","v":""},{"$f":"IF(ISBLANK(I57),\"\",I57)","v":""},{"$f":"IF(ISBLANK(I58),\"\",I58)","v":""},{"$f":"IF(ISBLANK(I59),\"\",I59)","v":""},{"$f":"IF(ISBLANK(I60),\"\",I60)","v":""},{"$f":"IF(ISBLANK(I61),\"\",I61)","v":""},{"$f":"IF(ISBLANK(I62),\"\",I62)","v":""},{"$f":"IF(ISBLANK(I63),\"\",I63)","v":""},{"$f":"IF(ISBLANK(I64),\"\",I64)","v":""},{"$f":"IF(ISBLANK(I65),\"\",I65)","v":""},{"$f":"IF(ISBLANK(I66),\"\",I66)","v":""},{"$f":"IF(ISBLANK(I67),\"\",I67)","v":""},{"$f":"IF(ISBLANK(I68),\"\",I68)","v":""},{"$f":"IF(ISBLANK(I69),\"\",I69)","v":""},{"$f":"IF(ISBLANK(I70),\"\",I70)","v":""},{"$f":"IF(ISBLANK(I71),\"\",I71)","v":""},{"$f":"IF(ISBLANK(I72),\"\",I72)","v":""},{"$f":"IF(ISBLANK(I73),\"\",I73)","v":""},{"$f":"IF(ISBLANK(I74),\"\",I74)","v":""},{"$f":"IF(ISBLANK(I75),\"\",I75)","v":""},{"$f":"IF(ISBLANK(I76),\"\",I76)","v":""},{"$f":"IF(ISBLANK(I77),\"\",I77)","v":""},{"$f":"IF(ISBLANK(I78),\"\",I78)","v":""},{"$f":"IF(ISBLANK(I79),\"\",I79)","v":""},{"$f":"IF(ISBLANK(I80),\"\",I80)","v":""},{"$f":"IF(ISBLANK('3月'!I50),\"\",'3月'!I50)","v":""},{"$f":"IF(COUNTIF(D28:AH28,0)=0,\"回数\",COUNTIF(D28:AH28,0))","v":"回数"},null,null,{"$f":"設定!C33","v":"妹"},null,{"$f":"設定!E33","v":"妹"},null,null,{"$f":"設定!I33","v":0},null,{"$f":"設定!K33","v":0}]
[null,"便処置",null,null,null,null,null,null,null,null,null,null,null,null,null,null,null,null,null,null,null,null,null,null,null,null,null,null,null,null,null,null,null,null,null,null,null,{"$f":"設定!C34","v":"孫"},null,{"$f":"設定!E34","v":"孫"},null,null,{"$f":"設定!I34","v":0},null,{"$f":"設定!K34","v":0}]
[null,null,null,null,null,null,null,null,null,null,null,null,null,null,null,null,null,null,null,null,null,null,null,null,null,null,null,null,null,null,null,null,null,null,{"$f":"IF(SUM(D29:AH31)=0,\"滴数\",SUM(D29:AH31))","v":"滴数"},null,null,{"$f":"設定!C35","v":"友人知人"},null,{"$f":"設定!E35","v":"知人"}]
[null,null,null,null,null,null,null,null,null,null,null,null,null,null,null,null,null,null,null,null,null,null,null,null,null,null,null,null,null,null,null,null,null,null,{"$f":"IF(AI30=\"滴数\",\"本数\",AI30/150)","v":"本数"},null,null,{"$f":"設定!C36","v":"子の夫"},null,{"$f":"設定!E36","v":"子夫"},null,null,{"$f":"設定!I36","v":"食事形態"}]
[null,"血　圧",null,{"$f":"$R$50","v":0},{"$f":"$R$58","v":0},{"$f":"R66","v":0},{"$f":"R74","v":0},{"$f":"R82","v":0},{"$f":"R90","v":0},{"$f":"R98","v":0},{"$f":"R106","v":0},{"$f":"Z50","v":0},{"$f":"Z58","v":0},{"$f":"Z66","v":0},{"$f":"Z74","v":0},{"$f":"Z82","v":0},{"$f":"Z90","v":0},{"$f":"Z98","v":0},{"$f":"Z106","v":0},{"$f":"AH50","v":0},{"$f":"AH58","v":0},{"$f":"AH66","v":0},{"$f":"AH74","v":0},{"$f":"AH82","v":0},{"$f":"AH90","v":0},{"$f":"AH98","v":0},{"$f":"AH106","v":0},{"$f":"AP50","v":0},{"$f":"AP58","v":0},{"$f":"AP66","v":0},{"$f":"AP74","v":0},{"$f":"AP82","v":0},{"$f":"AP90","v":0},{"$f":"AP98","v":0},null,null,null,{"$f":"設定!C37","v":"子の妻"},null,{"$f":"設定!E37","v":"子妻"},null,null,{"$f":"設定!I37","v":0},null,{"$f":"設定!K37","v":0}]
[null,null,null,{"$f":"$R$51","v":{"$error":"#N/A"}},{"$f":"$R$59","v":{"$error":"#N/A"}},{"$f":"R67","v":{"$error":"#N/A"}},{"$f":"R75","v":{"$error":"#N/A"}},{"$f":"R83","v":{"$error":"#N/A"}},{"$f":"R91","v":{"$error":"#N/A"}},{"$f":"R99","v":{"$error":"#N/A"}},{"$f":"R107","v":{"$error":"#N/A"}},{"$f":"Z51","v":{"$error":"#N/A"}},{"$f":"Z59","v":{"$error":"#N/A"}},{"$f":"Z67","v":{"$error":"#N/A"}},{"$f":"Z75","v":{"$error":"#N/A"}},{"$f":"Z83","v":{"$error":"#N/A"}},{"$f":"Z91","v":{"$error":"#N/A"}},{"$f":"Z99","v":{"$error":"#N/A"}},{"$f":"Z107","v":{"$error":"#N/A"}},{"$f":"AH51","v":{"$error":"#N/A"}},{"$f":"AH59","v":{"$error":"#N/A"}},{"$f":"AH67","v":{"$error":"#N/A"}},{"$f":"AH75","v":{"$error":"#N/A"}},{"$f":"AH83","v":{"$error":"#N/A"}},{"$f":"AH91","v":{"$error":"#N/A"}},{"$f":"AH99","v":{"$error":"#N/A"}},{"$f":"AH107","v":{"$error":"#N/A"}},{"$f":"AP51","v":{"$error":"#N/A"}},{"$f":"AP59","v":{"$error":"#N/A"}},{"$f":"AP67","v":{"$error":"#N/A"}},{"$f":"AP75","v":{"$error":"#N/A"}},{"$f":"AP83","v":{"$error":"#N/A"}},{"$f":"AP91","v":{"$error":"#N/A"}},{"$f":"AP99","v":{"$error":"#N/A"}},null,null,null,{"$f":"設定!C38","v":"祖母"},null,{"$f":"設定!E38","v":"祖母"},null,null,{"$f":"設定!I38","v":"普通食"},null,{"$f":"設定!K38","v":"普通"}]
[null,null,null,{"$f":"$R$52","v":0},{"$f":"$R$60","v":0},{"$f":"R68","v":0},{"$f":"R76","v":0},{"$f":"R84","v":0},{"$f":"R92","v":0},{"$f":"R100","v":0},{"$f":"R108","v":0},{"$f":"Z52","v":0},{"$f":"Z60","v":0},{"$f":"Z68","v":0},{"$f":"Z76","v":0},{"$f":"Z84","v":0},{"$f":"Z92","v":0},{"$f":"Z100","v":0},{"$f":"Z108","v":0},{"$f":"AH52","v":0},{"$f":"AH60","v":0},{"$f":"AH68","v":0},{"$f":"AH76","v":0},{"$f":"AH84","v":0},{"$f":"AH92","v":0},{"$f":"AH100","v":0},{"$f":"AH108","v":0},{"$f":"AP52","v":0},{"$f":"AP60","v":0},{"$f":"AP68","v":0},{"$f":"AP76","v":0},{"$f":"AP84","v":0},{"$f":"AP92","v":0},{"$f":"AP100","v":0},null,null,null,{"$f":"設定!C39","v":"祖父"},null,{"$f":"設定!E39","v":"祖父"},null,null,{"$f":"設定!I39","v":"普+一口大"},null,{"$f":"設定!K39","v":"一口"}]
[null,null,null,{"$f":"$R$53","v":0},{"$f":"$R$61","v":0},{"$f":"R69","v":0},{"$f":"R77","v":0},{"$f":"R85","v":0},{"$f":"R93","v":0},{"$f":"R101","v":0},{"$f":"R109","v":0},{"$f":"Z53","v":0},{"$f":"Z61","v":0},{"$f":"Z69","v":0},{"$f":"Z77","v":0},{"$f":"Z85","v":0},{"$f":"Z93","v":0},{"$f":"Z101","v":0},{"$f":"Z109","v":0},{"$f":"AH53","v":0},{"$f":"AH61","v":0},{"$f":"AH69","v":0},{"$f":"AH77","v":0},{"$f":"AH85","v":0},{"$f":"AH93","v":0},{"$f":"AH101","v":0},{"$f":"AH109","v":0},{"$f":"AP53","v":0},{"$f":"AP61","v":0},{"$f":"AP69","v":0},{"$f":"AP77","v":0},{"$f":"AP85","v":0},{"$f":"AP93","v":0},{"$f":"AP101","v":0},{"$f":"IFERROR(INT(AVERAGE(D149:AH152))& \"/\"&INT(AVERAGE(D153:AH156)),\"平均\")","v":"平均"},null,null,{"$f":"設定!C40","v":"従兄弟の父"},null,{"$f":"設定!E40","v":"叔父"},null,null,{"$f":"設定!I40","v":"普+キザミ"},null,{"$f":"設定!K40","v":"普キ"}]
[null,"食事箋",null,{"$f":"IF(COUNTIF('10月'!D40:AH40,\"*\"),INDEX('10月'!D40:AH40,MATCH(\"\",'10月'!D40:AH40,-1)),\"\")","v":""},null,null,null,null,null,null,null,null,null,null,null,null,null,null,null,null,null,null,null,null,null,null,null,null,null,null,null,null,null,null,null,null,null,{"$f":"設定!C41","v":"従兄弟の母"},null,{"$f":"設定!E41","v":"叔母"},null,null,{"$f":"設定!I41","v":"軟飯"},null,{"$f":"設定!K41","v":"軟飯"}]
[null,"形　態",null,{"$f":"IF(COUNTIF('10月'!D41:AH41,\"*\"),INDEX('10月'!D41:AH41,MATCH(\"\",'10月'!D41:AH41,-1)),\"\")","v":""},null,null,null,null,null,null,null,null,null,null,null,null,null,null,null,null,null,null,null,null,null,null,null,null,null,null,null,null,null,null,null,null,null,{"$f":"設定!C42","v":"従兄弟"},null,{"$f":"設定!E42","v":"ｲﾄｺ"},null,null,{"$f":"設定!I42","v":"軟+キザミ"},null,{"$f":"設定!K42","v":"軟キ"}]
[null,"身　長",null,{"$f":"IF(COUNT('10月'!D42:AH42),LOOKUP(MAX('10月'!D42:AH42)+1,'10月'!D42:AH42),\"\")","v":""},null,null,null,null,null,null,null,null,null,null,null,null,null,null,null,null,null,null,null,null,null,null,null,null,null,null,null,null,null,null,"BMI",null,null,{"$f":"設定!C43","v":"義理の母"},null,{"$f":"設定!E43","v":"義母"},null,null,{"$f":"設定!I43","v":"粥食"},null,{"$f":"設定!K43","v":"粥"}]
[null,"体　重",null,null,null,null,null,null,null,null,null,null,null,null,null,null,null,null,null,null,null,null,null,null,null,null,null,null,null,null,null,null,null,null,{"$f":"IF(ISERROR(INDEX(D39:AH39,MATCH(307,D39:AH39))/(INDEX(D38:AH38,MATCH(9E+307,D38:AH38))/100)^2)=TRUE,\"\",INDEX(D39:AH39,MATCH(307,D39:AH39))/(INDEX(D38:AH38,MATCH(9E+307,D38:AH38))/100)^2)","v":""},null,null,{"$f":"設定!C44","v":"義理の父"},null,{"$f":"設定!E44","v":"義父"},null,null,{"$f":"設定!I44","v":"粥+キザミ"},null,{"$f":"設定!K44","v":"粥キ"}]
[null,"Ｉ　Ｎ",null,null,null,null,null,null,null,null,null,null,null,null,null,null,null,null,null,null,null,null,null,null,null,null,null,null,null,null,null,null,null,null,{"$f":"IFERROR(INT(AVERAGE(D40:AH40)),\"平均\")","v":"平均"},null,null,{"$f":"設定!C45","v":"その他親類"},null,{"$f":"設定!E45","v":"親類"},null,null,{"$f":"設定!I45","v":"ミキサ－"},null,{"$f":"設定!K45","v":"ミキ"}]
[null,"ＯＵＴ",null,null,null,null,null,null,null,null,null,null,null,null,null,null,null,null,null,null,null,null,null,null,null,null,null,null,null,null,null,null,null,null,{"$f":"IFERROR(INT(AVERAGE(D41:AH41)),\"平均\")","v":"平均"},null,null,{"$f":"設定!C46","v":"福祉職員"},null,{"$f":"設定!E46","v":"福祉"},null,null,{"$f":"設定!I46","v":"普通流動"},null,{"$f":"設定!K46","v":"普流"}]
[null,"生　理",null,null,null,null,null,null,null,null,null,null,null,null,null,null,null,null,null,null,null,null,null,null,null,null,null,null,null,null,null,null,null,null,{"$f":"IF(ISERROR(AVERAGE(D42:AH42)),\" \",AVERAGE(D42:AH42))","v":" "},null,null,{"$f":"設定!C47","v":"施設職員"},null,{"$f":"設定!E47","v":"施設"},null,null,{"$f":"設定!I47","v":"濃厚流動"},null,{"$f":"設定!K47","v":"濃流"}]
[null,null,null,null,null,null,null,null,null,null,null,null,null,null,null,null,null,null,null,null,null,null,null,null,null,null,null,null,null,null,null,null,null,null,{"$f":"IF(ISERROR(AVERAGE(D43:AH43)),\" \",AVERAGE(D43:AH43))","v":" "},null,null,{"$f":"設定!C48","v":0},null,{"$f":"設定!E48","v":0},null,null,{"$f":"設定!H48","v":0},null,{"$f":"設定!J48","v":0}]
[null,null,null,null,null,null,null,null,null,null,null,null,null,null,null,null,null,null,null,null,null,null,null,null,null,null,null,null,null,null,null,null,null,null,{"$f":"COUNTA(D44:AH44)","v":0},null,null,{"$f":"設定!C49","v":0},null,{"$f":"設定!E49","v":0},null,null,{"$f":"設定!H49","v":0},null,{"$f":"設定!J49","v":0}]
[null,"日　付",null,1,2,3,4,5,6,7,8,9,10,11,12,13,14,15,16,17,18,19,20,21,22,23,24,25,26,27,28,29,30,31,null,null,null,{"$f":"設定!C50","v":0},null,{"$f":"設定!E50","v":0},null,null,{"$f":"設定!H50","v":0},null,{"$f":"設定!J50","v":0}]
[]
[null,{"$f":"$P$3","v":0},null,null,null,null,null,{"$f":"YEAR(I47)","v":2015},{"$f":"TODAY()","v":"2015-02-24"},{"$f":"TODAY()","v":42059}]
[null,"平常時記入",null,null,null,null,null,null,null,null,null,"熱発時記入"]
[null,"日","時間","T",null," P","BP",null,"便",null,null,"日","時間",null,"T",null,"P","BP",null,"日","時間",null,"T",null,"P","BP",null,"日","時間",null,"T",null,"P","BP",null,"日","時間",null,"T",null,"P","BP"]
[null,1,"10:00:00",null,null,null,null,null,null,null,null,1,null,null,null,null,null,null,null,9,null,null,null,null,null,null,null,17,null,null,null,null,null,null,null,25]
[null,2,"10:00:00",null,null,null,null,null,null,null,null,null,"10:00:00",null,{"$f":"IF($D$50=\"\",NA(),$D$50)","v":{"$error":"#N/A"}},null,{"$f":"IF($F$50=\"\",NA(),$F$50)","v":{"$error":"#N/A"}},{"$f":"IF($G$50=\"\",NA(),$G$50)","v":{"$error":"#N/A"}},null,null,"10:00:00",null,{"$f":"IF($D$58=\"\",NA(),$D$58)","v":{"$error":"#N/A"}},null,{"$f":"IF($F$58=\"\",NA(),$F$58)","v":{"$error":"#N/A"}},{"$f":"IF($G$58=\"\",NA(),$G$58)","v":{"$error":"#N/A"}},null,null,"10:00:00",null,{"$f":"IF($D$66=\"\",NA(),$D$66)","v":{"$error":"#N/A"}},null,{"$f":"IF($F$66=\"\",NA(),$F$66)","v":{"$error":"#N/A"}},{"$f":"IF($G$66=\"\",NA(),$G$66)","v":{"$error":"#N/A"}},null,null,"10:00:00",null,{"$f":"IF($D$74=\"\",NA(),$D$74)","v":{"$error":"#N/A"}},null,{"$f":"IF($F$74=\"\",NA(),$F$74)","v":{"$error":"#N/A"}},{"$f":"IF($G$74=\"\",NA(),$G$74)","v":{"$error":"#N/A"}}]
[null,3,"10:00:00",null,null,null,null,null,null,"☆"]
[null,4,"10:00:00"]
[null,5,"10:00:00",null,null,null,null,null,null,"コ"]
[null,6,"10:00:00",null,null,null,null,null,null,"ス"]
[null,7,"10:00:00",null,null,null,null,null,null,"モ"]
[null,8,"10:00:00",null,null,null,null,null,null,"ス"]
[null,9,"10:00:00",null,null,null,null,null,null,"へ",null,2,null,null,null,null,null,null,null,10,null,null,null,null,null,null,null,18,null,null,null,null,null,null,null,26]
[null,10,"10:00:00",null,null,null,null,null,null,"戻",null,null,"10:00:00",null,{"$f":"IF($D$51=\"\",NA(),$D$51)","v":{"$error":"#N/A"}},null,{"$f":"IF($F$51=\"\",NA(),$F$51)","v":{"$error":"#N/A"}},{"$f":"IF($G$51=\"\",NA(),$G$51)","v":{"$error":"#N/A"}},null,null,"10:00:00",null,{"$f":"IF($D$59=\"\",NA(),$D$59)","v":{"$error":"#N/A"}},null,{"$f":"IF($F$59=\"\",NA(),$F$59)","v":{"$error":"#N/A"}},{"$f":"IF($G$59=\"\",NA(),$G$59)","v":{"$error":"#N/A"}},null,null,"10:00:00",null,{"$f":"IF($D$67=\"\",NA(),$D$67)","v":{"$error":"#N/A"}},null,{"$f":"IF($F$67=\"\",NA(),$F$67)","v":{"$error":"#N/A"}},{"$f":"IF($G$67=\"\",NA(),$G$67)","v":{"$error":"#N/A"}},null,null,"10:00:00",null,{"$f":"IF($D$75=\"\",NA(),$D$75)","v":{"$error":"#N/A"}},null,{"$f":"IF($F$75=\"\",NA(),$F$75)","v":{"$error":"#N/A"}},{"$f":"IF($G$75=\"\",NA(),$G$75)","v":{"$error":"#N/A"}}]
[null,11,"10:00:00",null,null,null,null,null,null,"る"]
[null,12,"10:00:00"]
[null,13,"10:00:00"]
[null,14,"10:00:00",null,null,null,null,null,null,"（"]
[null,15,"10:00:00",null,null,null,null,null,null,"選"]
[null,16,"10:00:00",null,null,null,null,null,null,"択"]
[null,17,"10:00:00",null,null,null,null,null,null,"す",null,3,null,null,null,null,null,null,null,11,null,null,null,null,null,null,null,19,null,null,null,null,null,null,null,27]
[null,18,"10:00:00",null,null,null,null,null,null,"る",null,null,"10:00:00",null,{"$f":"IF($D$52=\"\",NA(),$D$52)","v":{"$error":"#N/A"}},null,{"$f":"IF($F$52=\"\",NA(),$F$52)","v":{"$error":"#N/A"}},{"$f":"IF($G$52=\"\",NA(),$G$52)","v":{"$error":"#N/A"}},null,null,"10:00:00",null,{"$f":"IF($D$60=\"\",NA(),$D$60)","v":{"$error":"#N/A"}},null,{"$f":"IF($F$60=\"\",NA(),$F$60)","v":{"$error":"#N/A"}},{"$f":"IF($G$60=\"\",NA(),$G$60)","v":{"$error":"#N/A"}},null,null,"10:00:00",null,{"$f":"IF($D$68=\"\",NA(),$D$68)","v":{"$error":"#N/A"}},null,{"$f":"IF($F$68=\"\",NA(),$F$68)","v":{"$error":"#N/A"}},{"$f":"IF($G$68=\"\",NA(),$G$68)","v":{"$error":"#N/A"}},null,null,"10:00:00",null,{"$f":"IF($D$76=\"\",NA(),$D$76)","v":{"$error":"#N/A"}},null,{"$f":"IF($F$76=\"\",NA(),$F$76)","v":{"$error":"#N/A"}},{"$f":"IF($G$76=\"\",NA(),$G$76)","v":{"$error":"#N/A"}}]
[null,19,"10:00:00",null,null,null,null,null,null,"だ"]
[null,20,"10:00:00",null,null,null,null,null,null,"け"]
[null,21,"10:00:00",null,null,null,null,null,null,"で"]
[null,22,"10:00:00",null,null,null,null,null,null,"移"]
[null,23,"10:00:00",null,null,null,null,null,null,"動"]
[null,24,"10:00:00",null,null,null,null,null,null,"し"]
[null,25,"10:00:00",null,null,null,null,null,null,"ま",null,4,null,null,null,null,null,null,null,12,null,null,null,null,null,null,null,20,null,null,null,null,null,null,null,28]
[null,26,"10:00:00",null,null,null,null,null,null,"す",null,null,"10:00:00",null,{"$f":"IF($D$53=\"\",NA(),$D$53)","v":{"$error":"#N/A"}},null,{"$f":"IF($F$53=\"\",NA(),$F$53)","v":{"$error":"#N/A"}},{"$f":"IF($G$53=\"\",NA(),$G$53)","v":{"$error":"#N/A"}},null,null,"10:00:00",null,{"$f":"IF($D$61=\"\",NA(),$D$61)","v":{"$error":"#N/A"}},null,{"$f":"IF($F$61=\"\",NA(),$F$61)","v":{"$error":"#N/A"}},{"$f":"IF($G$61=\"\",NA(),$G$61)","v":{"$error":"#N/A"}},null,null,"10:00:00",null,{"$f":"IF($D$69=\"\",NA(),$D$69)","v":{"$error":"#N/A"}},null,{"$f":"IF($F$69=\"\",NA(),$F$69)","v":{"$error":"#N/A"}},{"$f":"IF($G$69=\"\",NA(),$G$69)","v":{"$error":"#N/A"}},null,null,"10:00:00",null,{"$f":"IF($D$77=\"\",NA(),$D$77)","v":{"$error":"#N/A"}},null,{"$f":"IF($F$77=\"\",NA(),$F$77)","v":{"$error":"#N/A"}},{"$f":"IF($G$77=\"\",NA(),$G$77)","v":{"$error":"#N/A"}}]
[null,27,"10:00:00",null,null,null,null,null,null,"）"]
[null,28,"10:00:00"]
[null,29,"10:00:00"]
[null,30,"10:00:00"]
[null,31,"10:00:00"]
[]
[null,null,null,null,null,null,null,null,null,null,null,5,null,null,null,null,null,null,null,13,null,null,null,null,null,null,null,21,null,null,null,null,null,null,null,29]
[null,null,null,null,null,null,null,null,null,null,null,null,"10:00:00",null,{"$f":"IF($D$54=\"\",NA(),$D$54)","v":{"$error":"#N/A"}},null,{"$f":"IF($F$54=\"\",NA(),$F$54)","v":{"$error":"#N/A"}},{"$f":"IF($G$54=\"\",NA(),$G$54)","v":{"$error":"#N/A"}},null,null,"10:00:00",null,{"$f":"IF($D$62=\"\",NA(),$D$62)","v":{"$error":"#N/A"}},null,{"$f":"IF($F$62=\"\",NA(),$F$62)","v":{"$error":"#N/A"}},{"$f":"IF($G$62=\"\",NA(),$G$62)","v":{"$error":"#N/A"}},null,null,"10:00:00",null,{"$f":"IF($D$70=\"\",NA(),$D$70)","v":{"$error":"#N/A"}},null,{"$f":"IF($F$70=\"\",NA(),$F$70)","v":{"$error":"#N/A"}},{"$f":"IF($G$70=\"\",NA(),$G$70)","v":{"$error":"#N/A"}},null,null,"10:00:00",null,{"$f":"IF($D$78=\"\",NA(),$D$78)","v":{"$error":"#N/A"}},null,{"$f":"IF($F$78=\"\",NA(),$F$78)","v":{"$error":"#N/A"}},{"$f":"IF($G$78=\"\",NA(),$G$78)","v":{"$error":"#N/A"}}]
[]
[]
[]
[]
[]
[]
[null,null,null,null,null,null,null,null,null,null,null,6,null,null,null,null,null,null,null,14,null,null,null,null,null,null,null,22,null,null,null,null,null,null,null,30]
[null,null,null,null,null,null,null,null,null,null,null,null,"10:00:00",null,{"$f":"IF($D$55=\"\",NA(),$D$55)","v":{"$error":"#N/A"}},null,{"$f":"IF($F$55=\"\",NA(),$F$55)","v":{"$error":"#N/A"}},{"$f":"IF($G$55=\"\",NA(),$G$55)","v":{"$error":"#N/A"}},null,null,"10:00:00",null,{"$f":"IF($D$63=\"\",NA(),$D$63)","v":{"$error":"#N/A"}},null,{"$f":"IF($F$63=\"\",NA(),$F$63)","v":{"$error":"#N/A"}},{"$f":"IF($G$63=\"\",NA(),$G$63)","v":{"$error":"#N/A"}},null,null,"10:00:00",null,{"$f":"IF($D$71=\"\",NA(),$D$71)","v":{"$error":"#N/A"}},null,{"$f":"IF($F$71=\"\",NA(),$F$71)","v":{"$error":"#N/A"}},{"$f":"IF($G$71=\"\",NA(),$G$71)","v":{"$error":"#N/A"}},null,null,"10:00:00",null,{"$f":"IF($D$79=\"\",NA(),$D$79)","v":{"$error":"#N/A"}},null,{"$f":"IF($F$79=\"\",NA(),$F$79)","v":{"$error":"#N/A"}},{"$f":"IF($G$79=\"\",NA(),$G$79)","v":{"$error":"#N/A"}}]
[]
[]
[]
[]
[]
[]
[null,null,null,null,null,null,null,null,null,null,null,7,null,null,null,null,null,null,null,15,null,null,null,null,null,null,null,23,null,null,null,null,null,null,null,31]
[null,null,null,null,null,null,null,null,null,null,null,null,"10:00:00",null,{"$f":"IF($D$56=\"\",NA(),$D$56)","v":{"$error":"#N/A"}},null,{"$f":"IF($F$56=\"\",NA(),$F$56)","v":{"$error":"#N/A"}},{"$f":"IF($G$56=\"\",NA(),$G$56)","v":{"$error":"#N/A"}},null,null,"10:00:00",null,{"$f":"IF($D$64=\"\",NA(),$D$64)","v":{"$error":"#N/A"}},null,{"$f":"IF($F$64=\"\",NA(),$F$64)","v":{"$error":"#N/A"}},{"$f":"IF($G$64=\"\",NA(),$G$64)","v":{"$error":"#N/A"}},null,null,"10:00:00",null,{"$f":"IF($D$72=\"\",NA(),$D$72)","v":{"$error":"#N/A"}},null,{"$f":"IF($F$72=\"\",NA(),$F$72)","v":{"$error":"#N/A"}},{"$f":"IF($G$72=\"\",NA(),$G$72)","v":{"$error":"#N/A"}},null,null,"10:00:00",null,{"$f":"IF($D$80=\"\",NA(),$D$80)","v":{"$error":"#N/A"}},null,{"$f":"IF($F$80=\"\",NA(),$F$80)","v":{"$error":"#N/A"}},{"$f":"IF($G$80=\"\",NA(),$G$80)","v":{"$error":"#N/A"}}]
[]
[]
[]
[]
[]
[]
[null,null,null,null,null,null,null,null,null,null,null,8,null,null,null,null,null,null,null,16,null,null,null,null,null,null,null,24]
[null,null,null,null,null,null,null,null,null,null,null,null,"10:00:00",null,{"$f":"IF($D$57=\"\",NA(),$D$57)","v":{"$error":"#N/A"}},null,{"$f":"IF($F$57=\"\",NA(),$F$57)","v":{"$error":"#N/A"}},{"$f":"IF($G$57=\"\",NA(),$G$57)","v":{"$error":"#N/A"}},null,null,"10:00:00",null,{"$f":"IF($D$65=\"\",NA(),$D$65)","v":{"$error":"#N/A"}},null,{"$f":"IF($F$65=\"\",NA(),$F$65)","v":{"$error":"#N/A"}},{"$f":"IF($G$65=\"\",NA(),$G$65)","v":{"$error":"#N/A"}},null,null,"10:00:00",null,{"$f":"IF($D$73=\"\",NA(),$D$73)","v":{"$error":"#N/A"}},null,{"$f":"IF($F$73=\"\",NA(),$F$73)","v":{"$error":"#N/A"}},{"$f":"IF($G$73=\"\",NA(),$G$73)","v":{"$error":"#N/A"}}]
[]
[]
[]
[]
[]
[]
[]
[]
[]
[]
[]
[]
[]
[]
[]
[]
[]
[]
[]
[]
[]
[null,null,"Enterで入力画面へ"]
[null,null,"ｶｰｿﾙ初期位置",null,null,null,"日付チェック",null,null,null,"バイタルコピー"]
["管理欄",null,"入力に入る",null,null,null,"今日",{"$f":"NOW()","v":"2015-02-24T03:11:52.510"},null,null,{"$f":"IF($D$74=\"\",NA(),$D$74)","v":{"$error":"#N/A"}},null,{"$f":"IF($F$74=\"\",NA(),$F$74)","v":{"$error":"#N/A"}},{"$f":"IF($G$74=\"\",NA(),$G$74)","v":{"$error":"#N/A"}},null,{"$f":"K131&M131&N131","v":{"$error":"#N/A"}}]
[null,null,null,null,null,null,"日",{"$f":"DAY(H131)","v":24},null,null,null,null,null,null,null,""]
[null,null,null,null,null,null,"月",{"$f":"MONTH(H131)","v":2},null,null,null,null,null,null,null,""]
[null,null,null,null,null,null,null,null,null,null,null,null,null,null,null,""]
[null,null,null,null,null,null,"時",{"$f":"HOUR(H131)","v":3},null,null,null,null,null,null,null,""]
[null,null,null,null,null,null,null,null,null,null,null,null,null,null,null,""]
[null,null,null,null,null,null,null,null,null,null,null,null,null,null,null,""]
[null,null,null,null,null,null,null,null,null,null,null,null,null,null,null,""]
[null,null,null,null,null,null,null,null,null,null,null,null,null,null,null,""]
[null,null,"食事平均",null,null,null,null,null,null,null,null,null,null,null,null,""]
[null,null,"左",{"$f":"IF(D25=\"\", \"\", LEFT(D25,SEARCH(\".\",D25,1)-1)*1)","v":""},{"$f":"IF(E25=\"\", \"\", LEFT(E25,SEARCH(\".\",E25,1)-1)*1)","v":""},"","","","","","","","","","","","","","","","","","","","","","","","","","","","",""]
[null,null,null,{"$f":"IF(D26=\"\", \"\", LEFT(D26,SEARCH(\".\",D26,1)-1)*1)","v":""},"","","","","","","","","","","","","","","","","","","","","","","","","","","","","",""]
[null,null,null,"","","","","","","","","","","","","","","","","","","","","","","","","","","","","","",""]
[null,null,"右",{"$f":"IF(D25=\"\", \"\", RIGHT(D25,LEN(D25)-FIND(\".\",D25,1))*1)","v":""},{"$f":"IF(E25=\"\", \"\", RIGHT(E25,LEN(E25)-FIND(\".\",E25,1))*1)","v":""},"","","","","","","","","","","","","","","","","","","","","","","","","","","","",""]
[null,null,null,{"$f":"IF(D26=\"\", \"\", RIGHT(D26,LEN(D26)-FIND(\".\",D26,1))*1)","v":""},"","","","","","","","","","","","","","","","","","","","","","","","","","","","","",""]
[null,null,null,{"$f":"IF(D27=\"\", \"\", RIGHT(D27,LEN(D27)-FIND(\".\",D27,1))*1)","v":""},"","","","","","","","","","","","","","","","","","","","","","","","","","","","","",""]
[null,null,null,null,null,null,null,null,null,null,null,null,null,null,null,""]
[null,null,"BP平均",null,null,null,null,null,null,null,null,null,null,null,null,""]
[null,null,"左",{"$f":"IF(ISERROR(LEFT(D32,SEARCH(\"/\",D32,1)-1)*1),\"\",LEFT(D32,SEARCH(\"/\",D32,1)-1)*1)","v":""},{"$f":"IF(ISERROR(LEFT(E32,SEARCH(\"/\",E32,1)-1)*1),\"\",LEFT(E32,SEARCH(\"/\",E32,1)-1)*1)","v":""},"","","","","","","","","","","","","","","","","","","","","","","","","","","","",""]
[null,null,null,{"$f":"IF(ISERROR(LEFT(D33,SEARCH(\"/\",D33,1)-1)*1),\"\",LEFT(D33,SEARCH(\"/\",D33,1)-1)*1)","v":""},"","","","","","","","","","","","","","","","","","","","","","","","","","","","","",""]
[null,null,null,"","","","","","","","","","","","","","","","","","","","","","","","","","","","","","",""]
[null,null,null,"","","","","","","","","","","","","","","","","","","","","","","","","","","","","","",""]
[null,null,"右",{"$f":"IF(ISERROR(RIGHT(D32,LEN(D32)-FIND(\"/\",D32,1))*1),\"\",RIGHT(D32,LEN(D32)-FIND(\"/\",D32,1))*1)","v":""},{"$f":"IF(ISERROR(RIGHT(E32,LEN(E32)-FIND(\"/\",E32,1))*1),\"\",RIGHT(E32,LEN(E32)-FIND(\"/\",E32,1))*1)","v":""},{"$f":"IF(ISERROR(RIGHT(F32,LEN(F32)-FIND(\"/\",F32,1))*1),\"\",RIGHT(F32,LEN(F32)-FIND(\"/\",F32,1))*1)","v":""},"","","","","","","","","","","","","","","","","","","","","","","","","","","",""]
[null,null,null,{"$f":"IF(ISERROR(RIGHT(D33,LEN(D33)-FIND(\"/\",D33,1))*1),\"\",RIGHT(D33,LEN(D33)-FIND(\"/\",D33,1))*1)","v":""},"","","","","","","","","","","","","","","","","","","","","","","","","","","","","",""]
[null,null,null,"","","","","","","","","","","","","","","","","","","","","","","","","","","","","","",""]
[null,null,null,"","","","","","","","","","","","","","","","","","","","","","","","","","","","","","",""]
[null,null,null,null,null,null,null,null,null,null,null,null,null,null,null,""]
[null,null,null,null,null,null,null,null,null,null,null,null,null,null,null,""]
[null,null,null,null,null,null,null,null,null,null,null,null,null,null,null,""]
[null,null,null,null,null,null,null,null,null,null,null,null,null,null,null,""]
[null,null,null,null,null,null,null,null,null,null,null,null,null,null,null,{"$f":"K161&M161&N161","v":""}]

{"sheet":"12月","index":12,"n_rows":161,"n_cols":45,"rows_kept":161,"cut":false,"hidden":false,"merged":[[138,10,138,11],[138,13,138,14],[139,10,139,11],[160,10,160,11],[160,13,160,14],[147,10,147,11],[147,13,147,14],[139,13,139,14],[48,12,48,13],[48,14,48,15],[131,10,131,11],[131,13,131,14],[132,10,132,11],[132,13,132,14],[133,10,133,11],[133,13,133,14],[134,10,134,11],[134,13,134,14],[135,10,135,11],[135,13,135,14],[136,10,136,11],[136,13,136,14],[137,10,137,11],[137,13,137,14],[75,12,75,13],[61,12,61,13],[81,11,88,11],[81,12,81,13],[81,14,81,15],[92,12,92,13],[92,14,92,15],[89,12,89,13],[52,33,52,34],[52,36,52,37],[50,20,50,21],[50,22,50,23],[50,25,50,26],[52,22,52,23],[52,25,52,26],[52,28,52,29],[54,33,54,34],[54,36,54,37],[52,30,52,31],[53,28,53,29],[53,30,53,31],[50,28,50,29],[58,28,58,29],[60,25,60,26],[61,14,61,15],[63,36,63,37],[66,28,66,29],[69,25,69,26],[70,25,70,26],[68,30,68,31],[69,33,69,34],[70,30,70,31],[65,19,72,19],[65,20,65,21],[60,33,60,34],[65,22,65,23],[65,25,65,26],[23,1,23,2],[27,1,27,2],[28,1,30,2],[29,37,29,38],[30,37,30,38],[51,33,51,34],[49,25,49,26],[49,27,56,27],[49,28,49,29],[49,30,49,31],[50,30,50,31],[51,30,51,31],[49,20,49,21],[49,22,49,23],[53,20,53,21],[53,33,53,34],[53,36,53,37],[48,22,48,23],[48,36,48,37],[24,1,26,2],[31,1,34,2],[35,1,35,2],[56,33,56,34],[36,1,36,2],[37,1,37,2],[38,1,38,2],[53,41,53,42],[4,42,4,45],[18,1,18,2],[19,1,19,2],[20,1,20,2],[21,1,22,2],[16,1,16,2],[17,1,17,2],[2,10,3,12],[2,1,3,3],[1,7,1,9],[1,10,1,12],[13,37,13,40],[0,1,0,2],[0,5,0,6],[1,1,1,3],[1,4,1,6],[4,37,4,40],[5,37,9,40],[10,37,10,40],[11,37,11,40],[12,37,12,40],[16,39,16,40],[17,39,17,40],[18,39,18,40],[2,25,2,30],[3,25,3,30],[1,23,1,24],[2,23,3,24],[15,37,15,40],[16,37,16,38],[17,37,17,38],[54,38,54,39],[29,39,29,40],[30,39,30,40],[1,13,1,14],[2,15,3,20],[1,15,1,19],[1,25,1,31],[47,1,47,9],[47,11,47,18],[47,19,47,26],[47,27,47,34],[48,17,48,18],[48,20,48,21],[48,30,48,31],[48,33,48,34],[42,1,42,2],[43,1,43,2],[44,1,44,2],[46,1,46,5],[39,1,39,2],[40,1,40,2],[41,1,41,2],[48,25,48,26],[48,28,48,29],[48,3,48,4],[48,6,48,7],[51,25,51,26],[51,28,51,29],[53,38,53,39],[18,37,18,38],[21,39,21,40],[49,36,49,37],[56,41,56,42],[56,36,56,37],[48,38,48,39],[52,3,52,4],[52,6,52,7],[52,12,52,13],[52,14,52,15],[52,17,52,18],[52,20,52,21],[51,3,51,4],[51,6,51,7],[51,12,51,13],[51,14,51,15],[49,41,49,42],[50,3,50,4],[50,6,50,7],[50,12,50,13],[50,14,50,15],[50,17,50,18],[50,41,50,42],[49,38,49,39],[50,33,50,34],[50,36,50,37],[50,38,50,39],[49,33,49,34],[49,35,56,35],[51,41,51,42],[53,25,53,26],[56,38,56,39],[55,33,55,34],[55,36,55,37],[52,41,52,42],[51,36,51,37],[51,38,51,39],[54,41,54,42],[55,3,55,4],[55,6,55,7],[55,12,55,13],[55,14,55,15],[55,17,55,18],[55,20,55,21],[55,22,55,23],[55,25,55,26],[55,38,55,39],[54,20,54,21],[54,22,54,23],[54,25,54,26],[54,30,54,31],[54,28,54,29],[54,3,54,4],[54,6,54,7],[54,12,54,13],[54,14,54,15],[49,11,56,11],[53,3,53,4],[53,6,53,7],[53,12,53,13],[53,14,53,15],[49,12,49,13],[52,38,52,39],[51,20,51,21],[51,22,51,23],[53,22,53,23],[55,41,55,42],[57,3,57,4],[57,6,57,7],[57,11,64,11],[57,12,57,13],[57,14,57,15],[57,17,57,18],[57,19,64,19],[56,3,56,4],[56,6,56,7],[56,12,56,13],[56,14,56,15],[56,17,56,18],[56,20,56,21],[56,22,56,23],[56,25,56,26],[55,28,55,29],[55,30,55,31],[56,28,56,29],[56,30,56,31],[49,19,56,19],[54,17,54,18],[51,17,51,18],[53,17,53,18],[61,30,61,31],[60,17,60,18],[60,20,60,21],[60,28,60,29],[59,25,59,26],[49,14,49,15],[49,17,49,18],[59,3,59,4],[63,38,63,39],[57,35,64,35],[57,36,57,37],[57,38,57,39],[62,41,62,42],[60,41,60,42],[61,36,61,37],[64,41,64,42],[63,17,63,18],[63,20,63,21],[63,22,63,23],[63,30,63,31],[63,33,63,34],[61,41,61,42],[62,22,62,23],[62,36,62,37],[59,33,59,34],[59,36,59,37],[62,17,62,18],[62,20,62,21],[59,17,59,18],[61,38,61,39],[62,30,62,31],[57,33,57,34],[61,33,61,34],[62,33,62,34],[57,30,57,31],[58,30,58,31],[59,30,59,31],[60,30,60,31],[60,22,60,23],[58,38,58,39],[59,38,59,39],[59,28,59,29],[57,41,57,42],[58,3,58,4],[58,6,58,7],[58,12,58,13],[58,14,58,15],[58,17,58,18],[58,20,58,21],[58,22,58,23],[58,25,58,26],[57,20,57,21],[60,36,60,37],[60,38,60,39],[59,6,59,7],[59,12,59,13],[59,14,59,15],[57,22,57,23],[57,25,57,26],[57,27,64,27],[57,28,57,29],[61,28,61,29],[61,25,61,26],[62,25,62,26],[63,25,63,26],[63,28,63,29],[62,28,62,29],[62,38,62,39],[61,22,61,23],[61,17,61,18],[63,41,63,42],[61,20,61,21],[58,41,58,42],[59,20,59,21],[59,22,59,23],[64,33,64,34],[64,36,64,37],[64,38,64,39],[64,17,64,18],[64,20,64,21],[64,22,64,23],[64,25,64,26],[64,28,64,29],[64,3,64,4],[64,6,64,7],[64,12,64,13],[64,14,64,15],[58,33,58,34],[58,36,58,37],[63,3,63,4],[63,6,63,7],[63,12,63,13],[63,14,63,15],[62,3,62,4],[62,6,62,7],[62,12,62,13],[62,14,62,15],[61,3,61,4],[61,6,61,7],[59,41,59,42],[60,3,60,4],[60,6,60,7],[60,12,60,13],[60,14,60,15],[65,3,65,4],[65,6,65,7],[65,11,72,11],[65,12,65,13],[65,14,65,15],[65,17,65,18],[71,3,71,4],[71,6,71,7],[71,12,71,13],[71,14,71,15],[64,30,64,31],[72,33,72,34],[66,41,66,42],[67,3,67,4],[67,6,67,7],[67,12,67,13],[67,14,67,15],[67,17,67,18],[67,20,67,21],[67,22,67,23],[67,25,67,26],[67,28,67,29],[67,36,67,37],[67,38,67,39],[65,41,65,42],[66,3,66,4],[66,6,66,7],[66,12,66,13],[66,14,66,15],[66,17,66,18],[66,20,66,21],[66,22,66,23],[65,30,65,31],[65,36,65,37],[65,38,65,39],[66,33,66,34],[66,36,66,37],[66,38,66,39],[65,33,65,34],[65,35,72,35],[67,33,67,34],[68,33,68,34],[69,30,69,31],[66,30,66,31],[68,36,68,37],[68,38,68,39],[65,27,72,27],[65,28,65,29],[69,28,69,29],[66,25,66,26],[68,41,68,42],[69,3,69,4],[69,6,69,7],[69,12,69,13],[69,14,69,15],[69,17,69,18],[69,20,69,21],[69,22,69,23],[67,41,67,42],[68,3,68,4],[68,6,68,7],[68,12,68,13],[68,14,68,15],[68,17,68,18],[68,20,68,21],[68,22,68,23],[68,25,68,26],[68,28,68,29],[67,30,67,31],[77,41,77,42],[73,3,73,4],[73,6,73,7],[73,11,80,11],[73,12,73,13],[73,14,73,15],[73,17,73,18],[78,3,78,4],[78,6,78,7],[78,12,78,13],[78,14,78,15],[70,36,70,37],[70,38,70,39],[70,41,70,42],[71,33,71,34],[70,33,70,34],[69,36,69,37],[69,38,69,39],[69,41,69,42],[70,3,70,4],[70,6,70,7],[70,12,70,13],[70,14,70,15],[70,17,70,18],[70,20,70,21],[70,22,70,23],[71,25,71,26],[71,28,71,29],[70,28,70,29],[72,36,72,37],[72,38,72,39],[71,41,71,42],[72,3,72,4],[72,6,72,7],[72,12,72,13],[72,14,72,15],[72,17,72,18],[72,41,72,42],[71,17,71,18],[72,20,72,21],[72,22,72,23],[72,25,72,26],[72,28,72,29],[71,30,71,31],[71,20,71,21],[71,22,71,23],[72,30,72,31],[71,36,71,37],[71,38,71,39],[77,20,77,21],[77,22,77,23],[77,25,77,26],[77,33,77,34],[75,14,75,15],[75,17,75,18],[75,20,75,21],[76,3,76,4],[76,6,76,7],[76,12,76,13],[76,14,76,15],[75,3,75,4],[75,6,75,7],[74,3,74,4],[74,6,74,7],[74,12,74,13],[74,14,74,15],[74,17,74,18],[77,3,77,4],[77,6,77,7],[77,12,77,13],[77,14,77,15],[77,17,77,18],[76,33,76,34],[73,19,80,19],[73,20,73,21],[76,25,76,26],[76,28,76,29],[73,36,73,37],[73,38,73,39],[74,33,74,34],[74,36,74,37],[74,38,74,39],[75,33,75,34],[75,36,75,37],[75,38,75,39],[73,33,73,34],[73,35,80,35],[73,22,73,23],[78,36,78,37],[78,38,78,39],[78,22,78,23],[78,25,78,26],[77,38,77,39],[77,36,77,37],[76,36,76,37],[76,38,76,39],[76,41,76,42],[75,41,75,42],[76,17,76,18],[76,20,76,21],[80,41,80,42],[73,41,73,42],[74,30,74,31],[75,30,75,31],[76,30,76,31],[77,28,77,29],[77,30,77,31],[74,25,74,26],[74,28,74,29],[73,25,73,26],[80,36,80,37],[80,28,80,29],[80,30,80,31],[80,33,80,34],[80,38,80,39],[73,27,80,27],[74,20,74,21],[74,22,74,23],[74,41,74,42],[78,17,78,18],[78,20,78,21],[73,28,73,29],[73,30,73,31],[78,28,78,29],[75,22,75,23],[75,25,75,26],[75,28,75,29],[76,22,76,23],[81,17,81,18],[81,19,88,19],[80,12,80,13],[80,14,80,15],[80,17,80,18],[80,20,80,21],[80,22,80,23],[80,25,80,26],[79,36,79,37],[79,38,79,39],[78,41,78,42],[79,3,79,4],[79,6,79,7],[79,12,79,13],[79,14,79,15],[79,17,79,18],[79,41,79,42],[79,20,79,21],[79,22,79,23],[79,25,79,26],[79,28,79,29],[78,30,78,31],[78,33,78,34],[79,30,79,31],[79,33,79,34],[81,41,81,42],[82,12,82,13],[82,14,82,15],[82,17,82,18],[81,33,81,34],[81,35,88,35],[81,36,81,37],[81,38,81,39],[82,36,82,37],[82,38,82,39],[83,36,83,37],[83,38,83,39],[84,36,84,37],[81,20,81,21],[81,22,81,23],[81,25,81,26],[81,27,88,27],[81,28,81,29],[81,30,81,31],[86,30,86,31],[85,30,85,31],[83,33,83,34],[86,33,86,34],[86,36,86,37],[86,38,86,39],[88,33,88,34],[88,36,88,37],[88,38,88,39],[83,41,83,42],[84,12,84,13],[84,14,84,15],[84,17,84,18],[84,20,84,21],[84,22,84,23],[84,25,84,26],[84,28,84,29],[84,30,84,31],[82,33,82,34],[82,41,82,42],[83,12,83,13],[83,14,83,15],[83,17,83,18],[83,20,83,21],[83,22,83,23],[83,25,83,26],[83,28,83,29],[83,30,83,31],[84,38,84,39],[82,20,82,21],[82,22,82,23],[82,25,82,26],[82,28,82,29],[82,30,82,31],[86,41,86,42],[85,36,85,37],[85,38,85,39],[85,41,85,42],[85,33,85,34],[86,12,86,13],[86,14,86,15],[86,17,86,18],[86,20,86,21],[86,22,86,23],[86,25,86,26],[84,33,84,34],[86,28,86,29],[84,41,84,42],[85,12,85,13],[85,14,85,15],[85,17,85,18],[85,20,85,21],[85,22,85,23],[85,25,85,26],[85,28,85,29],[88,41,88,42],[88,22,88,23],[88,25,88,26],[88,28,88,29],[88,30,88,31],[88,12,88,13],[88,14,88,15],[88,17,88,18],[88,20,88,21],[87,33,87,34],[87,36,87,37],[87,12,87,13],[87,14,87,15],[87,17,87,18],[87,20,87,21],[87,38,87,39],[87,41,87,42],[87,22,87,23],[87,25,87,26],[87,28,87,29],[87,30,87,31],[92,17,92,18],[92,20,92,21],[90,41,90,42],[91,36,91,37],[91,38,91,39],[91,41,91,42],[90,22,90,23],[90,25,90,26],[89,33,89,34],[90,28,90,29],[90,30,90,31],[90,33,90,34],[91,33,91,34],[89,19,96,19],[89,20,89,21],[89,22,89,23],[89,25,89,26],[90,20,90,21],[91,20,91,21],[91,22,91,23],[92,28,92,29],[92,30,92,31],[89,27,96,27],[89,28,89,29],[89,30,89,31],[91,28,91,29],[91,30,91,31],[91,25,91,26],[95,33,95,34],[95,36,95,37],[89,14,89,15],[89,17,89,18],[90,12,90,13],[90,14,90,15],[90,17,90,18],[91,12,91,13],[91,14,91,15],[91,17,91,18],[93,33,93,34],[93,36,93,37],[93,12,93,13],[93,14,93,15],[93,17,93,18],[93,20,93,21],[93,38,93,39],[93,41,93,42],[93,22,93,23],[93,25,93,26],[93,28,93,29],[93,30,93,31],[92,33,92,34],[92,36,92,37],[92,38,92,39],[92,41,92,42],[89,35,96,35],[89,36,89,37],[89,38,89,39],[89,41,89,42],[90,36,90,37],[90,38,90,39],[92,22,92,23],[92,25,92,26],[95,12,95,13],[95,14,95,15],[95,17,95,18],[95,20,95,21],[95,38,95,39],[95,41,95,42],[95,22,95,23],[95,25,95,26],[95,28,95,29],[95,30,95,31],[94,33,94,34],[94,36,94,37],[94,38,94,39],[94,41,94,42],[94,22,94,23],[94,25,94,26],[94,28,94,29],[94,30,94,31],[94,12,94,13],[94,14,94,15],[94,17,94,18],[94,20,94,21],[97,11,104,11],[97,12,97,13],[97,14,97,15],[97,17,97,18],[98,12,98,13],[98,14,98,15],[98,17,98,18],[99,12,99,13],[99,14,99,15],[99,17,99,18],[96,33,96,34],[96,36,96,37],[96,38,96,39],[96,41,96,42],[96,22,96,23],[96,25,96,26],[96,28,96,29],[96,30,96,31],[96,12,96,13],[96,14,96,15],[96,17,96,18],[96,20,96,21],[89,11,96,11],[100,12,100,13],[100,14,100,15],[100,17,100,18],[100,20,100,21],[97,19,104,19],[97,20,97,21],[101,12,101,13],[101,14,101,15],[101,17,101,18],[101,20,101,21],[99,38,99,39],[99,41,99,42],[97,33,97,34],[98,28,98,29],[98,30,98,31],[98,33,98,34],[99,33,99,34],[97,30,97,31],[99,28,99,29],[99,30,99,31],[97,22,97,23],[97,25,97,26],[98,20,98,21],[98,22,98,23],[98,25,98,26],[99,20,99,21],[99,22,99,23],[99,25,99,26],[103,25,103,26],[103,28,103,29],[102,36,102,37],[102,38,102,39],[102,41,102,42],[102,22,102,23],[102,25,102,26],[102,28,102,29],[102,30,102,31],[101,33,101,34],[101,36,101,37],[101,38,101,39],[101,41,101,42],[101,22,101,23],[101,25,101,26],[101,28,101,29],[101,30,101,31],[97,27,104,27],[97,28,97,29],[100,33,100,34],[100,36,100,37],[100,22,100,23],[100,25,100,26],[100,28,100,29],[100,30,100,31],[100,38,100,39],[100,41,100,42],[104,14,104,15],[104,17,104,18],[104,20,104,21],[104,36,104,37],[104,22,104,23],[104,25,104,26],[104,28,104,29],[104,30,104,31],[104,38,104,39],[104,33,104,34],[103,41,103,42],[104,41,104,42],[103,30,103,31],[103,33,103,34],[103,36,103,37],[103,38,103,39],[103,14,103,15],[103,17,103,18],[103,20,103,21],[97,35,104,35],[97,36,97,37],[97,38,97,39],[97,41,97,42],[98,36,98,37],[98,38,98,39],[98,41,98,42],[99,36,99,37],[102,33,102,34],[102,14,102,15],[102,17,102,18],[102,20,102,21],[103,22,103,23],[107,28,107,29],[110,14,110,15],[110,17,110,18],[110,20,110,21],[107,17,107,18],[108,22,108,23],[108,25,108,26],[108,28,108,29],[106,25,106,26],[107,20,107,21],[107,22,107,23],[105,33,105,34],[106,28,106,29],[106,30,106,31],[106,33,106,34],[106,20,106,21],[106,22,106,23],[107,30,107,31],[106,14,106,15],[106,17,106,18],[107,14,107,15],[105,14,105,15],[105,17,105,18],[107,33,107,34],[105,19,112,19],[105,20,105,21],[105,22,105,23],[105,25,105,26],[107,25,107,26],[105,30,105,31],[108,33,108,34],[130,0,132,0],[130,2,130,4],[130,7,130,8],[105,11,112,11],[105,12,105,13],[107,12,107,13],[108,12,108,13],[108,14,108,15],[129,10,129,12],[112,22,112,23],[112,12,112,13],[112,14,112,15],[112,17,112,18],[112,20,112,21],[111,17,111,18],[111,20,111,21],[111,22,111,23],[110,22,110,23],[109,17,109,18],[109,20,109,21],[109,22,109,23],[108,17,108,18],[108,20,108,21],[130,10,130,11],[130,13,130,14],[109,14,109,15],[27,37,27,38],[28,37,28,38],[33,42,33,43],[112,33,112,34],[129,2,129,4],[129,6,129,8],[112,25,112,26],[112,28,112,29],[112,30,112,31],[111,12,111,13],[111,14,111,15],[111,25,111,26],[111,28,111,29],[111,30,111,31],[111,33,111,34],[110,25,110,26],[110,28,110,29],[110,30,110,31],[110,33,110,34],[109,25,109,26],[109,28,109,29],[109,30,109,31],[105,27,112,27],[105,28,105,29],[109,33,109,34],[49,3,49,4],[49,6,49,7],[44,42,44,43],[39,42,39,43],[40,42,40,43],[41,42,41,43],[108,30,108,31],[16,42,16,43],[17,42,17,43],[18,42,18,43],[35,39,35,40],[36,39,36,40],[36,37,36,38],[37,37,37,38],[38,37,38,38],[19,39,19,40],[35,37,35,38],[31,37,31,38],[32,37,32,38],[33,37,33,38],[34,37,34,38],[25,39,25,40],[26,39,26,40],[31,39,31,40],[32,39,32,40],[19,37,19,38],[20,37,20,38],[21,37,21,38],[22,37,22,38],[23,37,23,38],[24,37,24,38],[25,37,25,38],[26,37,26,38],[20,39,20,40],[27,39,27,40],[28,39,28,40],[23,39,23,40],[24,39,24,40],[22,39,22,40],[19,44,19,45],[20,44,20,45],[21,44,21,45],[14,44,14,45],[15,44,15,45],[16,44,16,45],[17,44,17,45],[28,42,28,43],[5,42,5,43],[6,42,6,43],[7,42,7,43],[8,42,8,43],[34,42,34,43],[9,42,9,43],[10,42,10,43],[11,42,14,43],[30,42,30,45],[19,42,19,43],[32,42,32,43],[5,44,5,45],[6,44,6,45],[7,44,7,45],[8,44,8,45],[9,44,9,45],[10,44,10,45],[11,44,11,45]],"merged_total":1062,"flags":["merged_cut"]}
[null,"体温表",null,null,null,{"$f":"設定!$F$7","v":2016},null,"年",null,12,"月"]
[null,"カルテ番号",null,null,"病棟",null,null,"入院形態",null,null,"主治医",null,null,"　姓名",null,{"$f":"'11月'!$P$2","v":0},null,null,null,null,null,null,null,"性別",null,"生年月日　",null,null,null,null,null,null,"担当Ns"]
[null,{"$f":"'11月'!B3","v":0},null,null,{"$f":"IF(COUNTIF('11月'!E3:G3,\"*\"),INDEX('11月'!E3:G3,MATCH(\"\",'11月'!E3:G3,-1)),\"\")","v":""},null,null,{"$f":"IF(COUNTIF('11月'!H3:J3,\"*\"),INDEX('11月'!H3:J3,MATCH(\"\",'11月'!H3:J3,-1)),\"\")","v":""},null,null,{"$f":"'11月'!K3","v":0},null,null,null,null,{"$f":"'11月'!$P$3","v":0},null,null,null,null,null,null,null,{"$f":"'11月'!$X$3","v":0},null,{"$f":"'11月'!$Z$3","v":"00:00:00"},null,null,null,null,null,{"$f":"DATEDIF(Z3,TODAY(),\"Y\")","v":115}]
[null,null,null,null,"/","/","/","/","/","/",null,null,null,null,null,null,null,null,null,null,null,null,null,null,null,{"$f":"Z3","v":"00:00:00"},null,null,null,null,null,"歳"]
[null,null,null,null,null,null,null,null,null,null,null,null,null,null,null,null,null,null,null,null,null,null,null,null,null,null,null,null,null,null,null,null,null,null,null,null,null,{"$f":"設定!C10","v":"備考欄"},null,null,null,null,{"$f":"設定!I10","v":"食事箋"}]
[null,null,null,null,null,null,null,null,null,null,null,null,null,null,null,null,null,null,null,null,null,null,null,null,null,null,null,null,null,null,null,null,null,null,null,null,null,{"$f":"設定!C11","v":0},null,null,null,null,{"$f":"設定!I11","v":0},null,{"$f":"設定!K11","v":0}]
[null,null,null,null,null,null,null,null,null,null,null,null,null,null,null,null,null,null,null,null,null,null,null,null,null,null,null,null,null,null,null,null,null,null,null,null,null,null,null,null,null,null,{"$f":"設定!I12","v":"常食"},null,{"$f":"設定!K12","v":"常食"}]
[null,null,null,null,null,null,null,null,null,null,null,null,null,null,null,null,null,null,null,null,null,null,null,null,null,null,null,null,null,null,null,null,null,null,null,null,null,null,null,null,null,null,{"$f":"設定!I13","v":"心臓"},null,{"$f":"設定!K13","v":"心臓"}]
[null,null,null,null,null,null,null,null,null,null,null,null,null,null,null,null,null,null,null,null,null,null,null,null,null,null,null,null,null,null,null,null,null,null,null,null,null,null,null,null,null,null,{"$f":"設定!I14","v":"すい臓"},null,{"$f":"設定!K14","v":"膵臓"}]
[null,null,null,null,null,null,null,null,null,null,null,null,null,null,null,null,null,null,null,null,null,null,null,null,null,null,null,null,null,null,null,null,null,null,null,null,null,null,null,null,null,null,{"$f":"設定!I15","v":"じん臓"},null,{"$f":"設定!K15","v":"腎臓"}]
[null,null,null,null,null,null,null,null,null,null,null,null,null,null,null,null,null,null,null,null,null,null,null,null,null,null,null,null,null,null,null,null,null,null,null,null,null,{"$f":"'11月'!AL11","v":0},null,null,null,null,{"$f":"設定!I16","v":"高血圧"},null,{"$f":"設定!K16","v":"高血"}]
[null,null,null,null,null,null,null,null,null,null,null,null,null,null,null,null,null,null,null,null,null,null,null,null,null,null,null,null,null,null,null,null,null,null,null,null,null,{"$f":"'11月'!AL12","v":0},null,null,null,null,{"$f":"設定!I17","v":"糖尿"},null,{"$f":"設定!K17","v":"糖1200"}]
[null,null,null,null,null,null,null,null,null,null,null,null,null,null,null,null,null,null,null,null,null,null,null,null,null,null,null,null,null,null,null,null,null,null,null,null,null,{"$f":"'11月'!AL13","v":0},null,null,null,null,null,null,{"$f":"設定!K18","v":"糖1440"}]
[null,null,null,null,null,null,null,null,null,null,null,null,null,null,null,null,null,null,null,null,null,null,null,null,null,null,null,null,null,null,null,null,null,null,null,null,null,{"$f":"'11月'!AL14","v":0},null,null,null,null,null,null,{"$f":"設定!K19","v":"糖1600"}]
[null,null,null,null,null,null,null,null,null,null,null,null,null,null,null,null,null,null,null,null,null,null,null,null,null,null,null,null,null,null,null,null,null,null,null,null,null,null,null,null,null,null,null,null,{"$f":"設定!K20","v":"糖1800"}]
[null,null,null,null,null,null,null,null,null,null,null,null,null,null,null,null,null,null,null,null,null,null,null,null,null,null,null,null,null,null,null,null,null,null,null,null,null,{"$f":"設定!C21","v":"面会"},null,null,null,null,{"$f":"設定!I21","v":"肝臓A"},null,{"$f":"設定!K21","v":"肝Ａ"}]
[null,"日　付",null,1,2,3,4,5,6,7,8,9,10,11,12,13,14,15,16,17,18,19,20,21,22,23,24,25,26,27,28,29,30,31,"統計",null,null,{"$f":"設定!C22","v":0},null,{"$f":"設定!E22","v":0},null,null,{"$f":"設定!I22","v":"肝臓B"},null,{"$f":"設定!K22","v":"肝Ｂ"}]
[null,"行　動",null,null,null,null,null,null,null,null,null,null,null,null,null,null,null,null,null,null,null,null,null,null,null,null,null,null,null,null,null,null,null,null,null,null,null,{"$f":"設定!C23","v":"両親"},null,{"$f":"設定!E23","v":"両親"},null,null,{"$f":"設定!I23","v":"潰瘍"},null,{"$f":"設定!K23","v":"潰瘍"}]
[null,"時　間",null,null,null,null,null,null,null,null,null,null,null,null,null,null,null,null,null,null,null,null,null,null,null,null,null,null,null,null,null,null,null,null,null,null,null,{"$f":"設定!C24","v":"父"},null,{"$f":"設定!E24","v":"父"},null,null,{"$f":"設定!I24","v":"低残渣食"},null,{"$f":"設定!K24","v":"低残"}]
[null,"行　動",null,null,null,null,null,null,null,null,null,null,null,null,null,null,null,null,null,null,null,null,null,null,null,null,null,null,null,null,null,null,null,null,null,null,null,{"$f":"設定!C25","v":"母"},null,{"$f":"設定!E25","v":"母"},null,null,{"$f":"設定!I25","v":"貧血"},null,{"$f":"設定!K25","v":"貧血"}]
[null,"時　間",null,null,null,null,null,null,null,null,null,null,null,null,null,null,null,null,null,null,null,null,null,null,null,null,null,null,null,null,null,null,null,null,{"$f":"IF(COUNTIF(D18:AH21,\"外出\")+COUNTIF(D18:AH21,\"外泊\")=0,\"回数\",COUNTIF(D18:AH21,\"外出\")+COUNTIF(D18:AH21,\"外泊\"))","v":"回数"},null,null,{"$f":"設定!C26","v":"主人"},null,{"$f":"設定!E26","v":"夫"},null,null,{"$f":"設定!I26","v":"脂質異常"},null,{"$f":"設定!K26","v":"脂1200"}]
[null,"面　会",null,null,null,null,null,null,null,null,null,null,null,null,null,null,null,null,null,null,null,null,null,null,null,null,null,null,null,null,null,null,null,null,null,null,null,{"$f":"設定!C27","v":"奥方"},null,{"$f":"設定!E27","v":"妻"},null,null,null,null,{"$f":"設定!K27","v":"脂1440"}]
[null,null,null,null,null,null,null,null,null,null,null,null,null,null,null,null,null,null,null,null,null,null,null,null,null,null,null,null,null,null,null,null,null,null,{"$f":"IF(COUNTA(D22:AH23)=0,\"回数\",COUNTA(D22:AH23))","v":"回数"},null,null,{"$f":"設定!C28","v":"息子"},null,{"$f":"設定!E28","v":"息子"},null,null,null,null,{"$f":"設定!K28","v":"脂1600"}]
[null,"入　浴",null,null,null,null,null,null,null,null,null,null,null,null,null,null,null,null,null,null,null,null,null,null,null,null,null,null,null,null,null,null,null,null,{"$f":"IF(COUNTA(D24:AH24)=0,\"回数\",COUNTA(D24:AH24))","v":"回数"},null,null,{"$f":"設定!C29","v":"娘"},null,{"$f":"設定!E29","v":"娘"},null,null,null,null,{"$f":"設定!K29","v":"脂1800"}]
[null,"食　事",null,null,null,null,null,null,null,null,null,null,null,null,null,null,null,null,null,null,null,null,null,null,null,null,null,null,null,null,null,null,null,null,null,null,null,{"$f":"設定!C30","v":"兄"},null,{"$f":"設定!E30","v":"兄"},null,null,{"$f":"設定!I30","v":"検査食"},null,{"$f":"設定!K30","v":"検査"}]
[null,null,null,null,null,null,null,null,null,null,null,null,null,null,null,null,null,null,null,null,null,null,null,null,null,null,null,null,null,null,null,null,null,null,null,null,null,{"$f":"設定!C31","v":"弟"},null,{"$f":"設定!E31","v":"弟"},null,null,{"$f":"設定!I31","v":"絶食"},null,{"$f":"設定!K31","v":"絶食"}]
[null,null,null,null,null,null,null,null,null,null,null,null,null,null,null,null,null,null,null,null,null,null,null,null,null,null,null,null,null,null,null,null,null,null,{"$f":"IFERROR(INT(AVERAGE(D141:AH143))& \".\"&INT(AVERAGE(D144:AH146)),\"平均\")","v":"平均"},null,null,{"$f":"設定!C32","v":"姉"},null,{"$f":"設定!E32","v":"姉"},null,null,{"$f":"設定!I32","v":0},null,{"$f":"設定!K32","v":0}]
[null,"便　通",null,{"$f":"IF(ISBLANK(I51),\"\",I51)","v":""},{"$f":"IF(ISBLANK(I52),\"\",I52)","v":""},{"$f":"IF(ISBLANK(I53),\"\",I53)","v":""},{"$f":"IF(ISBLANK(I54),\"\",I54)","v":""},{"$f":"IF(ISBLANK(I55),\"\",I55)","v":""},{"$f":"IF(ISBLANK(I56),\"\",I56)","v":""},{"$f":"IF(ISBLANK(I57),\"\",I57)","v":""},{"$f":"IF(ISBLANK(I58),\"\",I58)","v":""},{"$f":"IF(ISBLANK(I59),\"\",I59)","v":""},{"$f":"IF(ISBLANK(I60),\"\",I60)","v":""},{"$f":"IF(ISBLANK(I61),\"\",I61)","v":""},{"$f":"IF(ISBLANK(I62),\"\",I62)","v":""},{"$f":"IF(ISBLANK(I63),\"\",I63)","v":""},{"$f":"IF(ISBLANK(I64),\"\",I64)","v":""},{"$f":"IF(ISBLANK(I65),\"\",I65)","v":""},{"$f":"IF(ISBLANK(I66),\"\",I66)","v":""},{"$f":"IF(ISBLANK(I67),\"\",I67)","v":""},{"$f":"IF(ISBLANK(I68),\"\",I68)","v":""},{"$f":"IF(ISBLANK(I69),\"\",I69)","v":""},{"$f":"IF(ISBLANK(I70),\"\",I70)","v":""},{"$f":"IF(ISBLANK(I71),\"\",I71)","v":""},{"$f":"IF(ISBLANK(I72),\"\",I72)","v":""},{"$f":"IF(ISBLANK(I73),\"\",I73)","v":""},{"$f":"IF(ISBLANK(I74),\"\",I74)","v":""},{"$f":"IF(ISBLANK(I75),\"\",I75)","v":""},{"$f":"IF(ISBLANK(I76),\"\",I76)","v":""},{"$f":"IF(ISBLANK(I77),\"\",I77)","v":""},{"$f":"IF(ISBLANK(I78),\"\",I78)","v":""},{"$f":"IF(ISBLANK(I79),\"\",I79)","v":""},{"$f":"IF(ISBLANK(I80),\"\",I80)","v":""},"2017へ",{"$f":"IF(COUNTIF(D28:AH28,0)=0,\"回数\",COUNTIF(D28:AH28,0))","v":"回数"},null,null,{"$f":"設定!C33","v":"妹"},null,{"$f":"設定!E33","v":"妹"},null,null,{"$f":"設定!I33","v":0},null,{"$f":"設定!K33","v":0}]
[null,"便処置",null,null,null,null,null,null,null,null,null,null,null,null,null,null,null,null,null,null,null,null,null,null,null,null,null,null,null,null,null,null,null,null,null,null,null,{"$f":"設定!C34","v":"孫"},null,{"$f":"設定!E34","v":"孫"},null,null,{"$f":"設定!I34","v":0},null,{"$f":"設定!K34","v":0}]
[null,null,null,null,null,null,null,null,null,null,null,null,null,null,null,null,null,null,null,null,null,null,null,null,null,null,null,null,null,null,null,null,null,null,{"$f":"IF(SUM(D29:AH31)=0,\"滴数\",SUM(D29:AH31))","v":"滴数"},null,null,{"$f":"設定!C35","v":"友人知人"},null,{"$f":"設定!E35","v":"知人"}]
[null,null,null,null,null,null,null,null,null,null,null,null,null,null,null,null,null,null,null,null,null,null,null,null,null,null,null,null,null,null,null,null,null,null,{"$f":"IF(AI30=\"滴数\",\"本数\",AI30/150)","v":"本数"},null,null,{"$f":"設定!C36","v":"子の夫"},null,{"$f":"設定!E36","v":"子夫"},null,null,{"$f":"設定!I36","v":"食事形態"}]
[null,"血　圧",null,{"$f":"$R$50","v":0},{"$f":"$R$58","v":0},{"$f":"R66","v":0},{"$f":"R74","v":0},{"$f":"R82","v":0},{"$f":"R90","v":0},{"$f":"R98","v":0},{"$f":"R106","v":0},{"$f":"Z50","v":0},{"$f":"Z58","v":0},{"$f":"Z66","v":0},{"$f":"Z74","v":0},{"$f":"Z82","v":0},{"$f":"Z90","v":0},{"$f":"Z98","v":0},{"$f":"Z106","v":0},{"$f":"AH50","v":0},{"$f":"AH58","v":0},{"$f":"AH66","v":0},{"$f":"AH74","v":0},{"$f":"AH82","v":0},{"$f":"AH90","v":0},{"$f":"AH98","v":0},{"$f":"AH106","v":0},{"$f":"AP50","v":0},{"$f":"AP58","v":0},{"$f":"AP66","v":0},{"$f":"AP74","v":0},{"$f":"AP82","v":0},{"$f":"AP90","v":0},{"$f":"AP98","v":0},null,null,null,{"$f":"設定!C37","v":"子の妻"},null,{"$f":"設定!E37","v":"子妻"},null,null,{"$f":"設定!I37","v":0},null,{"$f":"設定!K37","v":0}]
[null,null,null,{"$f":"$R$51","v":{"$error":"#N/A"}},{"$f":"$R$59","v":{"$error":"#N/A"}},{"$f":"R67","v":{"$error":"#N/A"}},{"$f":"R75","v":{"$error":"#N/A"}},{"$f":"R83","v":{"$error":"#N/A"}},{"$f":"R91","v":{"$error":"#N/A"}},{"$f":"R99","v":{"$error":"#N/A"}},{"$f":"R107","v":{"$error":"#N/A"}},{"$f":"Z51","v":{"$error":"#N/A"}},{"$f":"Z59","v":{"$error":"#N/A"}},{"$f":"Z67","v":{"$error":"#N/A"}},{"$f":"Z75","v":{"$error":"#N/A"}},{"$f":"Z83","v":{"$error":"#N/A"}},{"$f":"Z91","v":{"$error":"#N/A"}},{"$f":"Z99","v":{"$error":"#N/A"}},{"$f":"Z107","v":{"$error":"#N/A"}},{"$f":"AH51","v":{"$error":"#N/A"}},{"$f":"AH59","v":{"$error":"#N/A"}},{"$f":"AH67","v":{"$error":"#N/A"}},{"$f":"AH75","v":{"$error":"#N/A"}},{"$f":"AH83","v":{"$error":"#N/A"}},{"$f":"AH91","v":{"$error":"#N/A"}},{"$f":"AH99","v":{"$error":"#N/A"}},{"$f":"AH107","v":{"$error":"#N/A"}},{"$f":"AP51","v":{"$error":"#N/A"}},{"$f":"AP59","v":{"$error":"#N/A"}},{"$f":"AP67","v":{"$error":"#N/A"}},{"$f":"AP75","v":{"$error":"#N/A"}},{"$f":"AP83","v":{"$error":"#N/A"}},{"$f":"AP91","v":{"$error":"#N/A"}},{"$f":"AP99","v":{"$error":"#N/A"}},null,null,null,{"$f":"設定!C38","v":"祖母"},null,{"$f":"設定!E38","v":"祖母"},null,null,{"$f":"設定!I38","v":"普通食"},null,{"$f":"設定!K38","v":"普通"}]
[null,null,null,{"$f":"$R$52","v":0},{"$f":"$R$60","v":0},{"$f":"R68","v":0},{"$f":"R76","v":0},{"$f":"R84","v":0},{"$f":"R92","v":0},{"$f":"R100","v":0},{"$f":"R108","v":0},{"$f":"Z52","v":0},{"$f":"Z60","v":0},{"$f":"Z68","v":0},{"$f":"Z76","v":0},{"$f":"Z84","v":0},{"$f":"Z92","v":0},{"$f":"Z100","v":0},{"$f":"Z108","v":0},{"$f":"AH52","v":0},{"$f":"AH60","v":0},{"$f":"AH68","v":0},{"$f":"AH76","v":0},{"$f":"AH84","v":0},{"$f":"AH92","v":0},{"$f":"AH100","v":0},{"$f":"AH108","v":0},{"$f":"AP52","v":0},{"$f":"AP60","v":0},{"$f":"AP68","v":0},{"$f":"AP76","v":0},{"$f":"AP84","v":0},{"$f":"AP92","v":0},{"$f":"AP100","v":0},null,null,null,{"$f":"設定!C39","v":"祖父"},null,{"$f":"設定!E39","v":"祖父"},null,null,{"$f":"設定!I39","v":"普+一口大"},null,{"$f":"設定!K39","v":"一口"}]
[null,null,null,{"$f":"$R$53","v":0},{"$f":"$R$61","v":0},{"$f":"R69","v":0},{"$f":"R77","v":0},{"$f":"R85","v":0},{"$f":"R93","v":0},{"$f":"R101","v":0},{"$f":"R109","v":0},{"$f":"Z53","v":0},{"$f":"Z61","v":0},{"$f":"Z69","v":0},{"$f":"Z77","v":0},{"$f":"Z85","v":0},{"$f":"Z93","v":0},{"$f":"Z101","v":0},{"$f":"Z109","v":0},{"$f":"AH53","v":0},{"$f":"AH61","v":0},{"$f":"AH69","v":0},{"$f":"AH77","v":0},{"$f":"AH85","v":0},{"$f":"AH93","v":0},{"$f":"AH101","v":0},{"$f":"AH109","v":0},{"$f":"AP53","v":0},{"$f":"AP61","v":0},{"$f":"AP69","v":0},{"$f":"AP77","v":0},{"$f":"AP85","v":0},{"$f":"AP93","v":0},{"$f":"AP101","v":0},{"$f":"IFERROR(INT(AVERAGE(D149:AH152))& \"/\"&INT(AVERAGE(D153:AH156)),\"平均\")","v":"平均"},null,null,{"$f":"設定!C40","v":"従兄弟の父"},null,{"$f":"設定!E40","v":"叔父"},null,null,{"$f":"設定!I40","v":"普+キザミ"},null,{"$f":"設定!K40","v":"普キ"}]
[null,"食事箋",null,{"$f":"IF(COUNTIF('11月'!D40:AH40,\"*\"),INDEX('11月'!D40:AH40,MATCH(\"\",'11月'!D40:AH40,-1)),\"\")","v":""},null,null,null,null,null,null,null,null,null,null,null,null,null,null,null,null,null,null,null,null,null,null,null,null,null,null,null,null,null,null,null,null,null,{"$f":"設定!C41","v":"従兄弟の母"},null,{"$f":"設定!E41","v":"叔母"},null,null,{"$f":"設定!I41","v":"軟飯"},null,{"$f":"設定!K41","v":"軟飯"}]
[null,"形　態",null,{"$f":"IF(COUNTIF('11月'!D41:AH41,\"*\"),INDEX('11月'!D41:AH41,MATCH(\"\",'11月'!D41:AH41,-1)),\"\")","v":""},null,null,null,null,null,null,null,null,null,null,null,null,null,null,null,null,null,null,null,null,null,null,null,null,null,null,null,null,null,null,null,null,null,{"$f":"設定!C42","v":"従兄弟"},null,{"$f":"設定!E42","v":"ｲﾄｺ"},null,null,{"$f":"設定!I42","v":"軟+キザミ"},null,{"$f":"設定!K42","v":"軟キ"}]
[null,"身　長",null,{"$f":"IF(COUNT('11月'!D42:AH42),LOOKUP(MAX('11月'!D42:AH42)+1,'11月'!D42:AH42),\"\")","v":""},null,null,null,null,null,null,null,null,null,null,null,null,null,null,null,null,null,null,null,null,null,null,null,null,null,null,null,null,null,null,"BMI",null,null,{"$f":"設定!C43","v":"義理の母"},null,{"$f":"設定!E43","v":"義母"},null,null,{"$f":"設定!I43","v":"粥食"},null,{"$f":"設定!K43","v":"粥"}]
[null,"体　重",null,null,null,null,null,null,null,null,null,null,null,null,null,null,null,null,null,null,null,null,null,null,null,null,null,null,null,null,null,null,null,null,{"$f":"IF(ISERROR(INDEX(D39:AH39,MATCH(307,D39:AH39))/(INDEX(D38:AH38,MATCH(9E+307,D38:AH38))/100)^2)=TRUE,\"\",INDEX(D39:AH39,MATCH(307,D39:AH39))/(INDEX(D38:AH38,MATCH(9E+307,D38:AH38))/100)^2)","v":""},null,null,{"$f":"設定!C44","v":"義理の父"},null,{"$f":"設定!E44","v":"義父"},null,null,{"$f":"設定!I44","v":"粥+キザミ"},null,{"$f":"設定!K44","v":"粥キ"}]
[null,"Ｉ　Ｎ",null,null,null,null,null,null,null,null,null,null,null,null,null,null,null,null,null,null,null,null,null,null,null,null,null,null,null,null,null,null,null,null,{"$f":"IFERROR(INT(AVERAGE(D40:AH40)),\"平均\")","v":"平均"},null,null,{"$f":"設定!C45","v":"その他親類"},null,{"$f":"設定!E45","v":"親類"},null,null,{"$f":"設定!I45","v":"ミキサ－"},null,{"$f":"設定!K45","v":"ミキ"}]
[null,"ＯＵＴ",null,null,null,null,null,null,null,null,null,null,null,null,null,null,null,null,null,null,null,null,null,null,null,null,null,null,null,null,null,null,null,null,{"$f":"IFERROR(INT(AVERAGE(D41:AH41)),\"平均\")","v":"平均"},null,null,{"$f":"設定!C46","v":"福祉職員"},null,{"$f":"設定!E46","v":"福祉"},null,null,{"$f":"設定!I46","v":"普通流動"},null,{"$f":"設定!K46","v":"普流"}]
[null,"生　理",null,null,null,null,null,null,null,null,null,null,null,null,null,null,null,null,null,null,null,null,null,null,null,null,null,null,null,null,null,null,null,null,{"$f":"IF(ISERROR(AVERAGE(D42:AH42)),\" \",AVERAGE(D42:AH42))","v":" "},null,null,{"$f":"設定!C47","v":"施設職員"},null,{"$f":"設定!E47","v":"施設"},null,null,{"$f":"設定!I47","v":"濃厚流動"},null,{"$f":"設定!K47","v":"濃流"}]
[null,null,null,null,null,null,null,null,null,null,null,null,null,null,null,null,null,null,null,null,null,null,null,null,null,null,null,null,null,null,null,null,null,null,{"$f":"IF(ISERROR(AVERAGE(D43:AH43)),\" \",AVERAGE(D43:AH43))","v":" "},null,null,{"$f":"設定!C48","v":0},null,{"$f":"設定!E48","v":0},null,null,{"$f":"設定!H48","v":0},null,{"$f":"設定!J48","v":0}]
[null,null,null,null,null,null,null,null,null,null,null,null,null,null,null,null,null,null,null,null,null,null,null,null,null,null,null,null,null,null,null,null,null,null,{"$f":"COUNTA(D44:AH44)","v":0},null,null,{"$f":"設定!C49","v":0},null,{"$f":"設定!E49","v":0},null,null,{"$f":"設定!H49","v":0},null,{"$f":"設定!J49","v":0}]
[null,"日　付",null,1,2,3,4,5,6,7,8,9,10,11,12,13,14,15,16,17,18,19,20,21,22,23,24,25,26,27,28,29,30,31,null,null,null,{"$f":"設定!C50","v":0},null,{"$f":"設定!E50","v":0},null,null,{"$f":"設定!H50","v":0},null,{"$f":"設定!J50","v":0}]
[]
[null,{"$f":"$P$3","v":0},null,null,null,null,null,{"$f":"YEAR(I47)","v":2015},{"$f":"TODAY()","v":"2015-02-24"},{"$f":"TODAY()","v":42059}]
[null,"平常時記入",null,null,null,null,null,null,null,null,null,"熱発時記入"]
[null,"日","時間","T",null," P","BP",null,"便",null,null,"日","時間",null,"T",null,"P","BP",null,"日","時間",null,"T",null,"P","BP",null,"日","時間",null,"T",null,"P","BP",null,"日","時間",null,"T",null,"P","BP"]
[null,1,"9:00",null,null,null,null,null,null,null,null,1,null,null,null,null,null,null,null,9,null,null,null,null,null,null,null,17,null,null,null,null,null,null,null,25]
[null,2,"9:00",null,null,null,null,null,null,null,null,null,"9:00",null,{"$f":"IF($D$50=\"\",NA(),$D$50)","v":{"$error":"#N/A"}},null,{"$f":"IF($F$50=\"\",NA(),$F$50)","v":{"$error":"#N/A"}},{"$f":"IF($G$50=\"\",NA(),$G$50)","v":{"$error":"#N/A"}},null,null,"9:00",null,{"$f":"IF($D$58=\"\",NA(),$D$58)","v":{"$error":"#N/A"}},null,{"$f":"IF($F$58=\"\",NA(),$F$58)","v":{"$error":"#N/A"}},{"$f":"IF($G$58=\"\",NA(),$G$58)","v":{"$error":"#N/A"}},null,null,"9:00",null,{"$f":"IF($D$66=\"\",NA(),$D$66)","v":{"$error":"#N/A"}},null,{"$f":"IF($F$66=\"\",NA(),$F$66)","v":{"$error":"#N/A"}},{"$f":"IF($G$66=\"\",NA(),$G$66)","v":{"$error":"#N/A"}},null,null,"9:00",null,{"$f":"IF($D$74=\"\",NA(),$D$74)","v":{"$error":"#N/A"}},null,{"$f":"IF($F$74=\"\",NA(),$F$74)","v":{"$error":"#N/A"}},{"$f":"IF($G$74=\"\",NA(),$G$74)","v":{"$error":"#N/A"}}]
[null,3,"9:00",null,null,null,null,null,null,"☆"]
[null,4,"9:00"]
[null,5,"9:00",null,null,null,null,null,null,"コ"]
[null,6,"9:00",null,null,null,null,null,null,"ス"]
[null,7,"9:00",null,null,null,null,null,null,"モ"]
[null,8,"9:00",null,null,null,null,null,null,"ス"]
[null,9,"9:00",null,null,null,null,null,null,"へ",null,2,null,null,null,null,null,null,null,10,null,null,null,null,null,null,null,18,null,null,null,null,null,null,null,26]
[null,10,"9:00",null,null,null,null,null,null,"戻",null,null,"9:00",null,{"$f":"IF($D$51=\"\",NA(),$D$51)","v":{"$error":"#N/A"}},null,{"$f":"IF($F$51=\"\",NA(),$F$51)","v":{"$error":"#N/A"}},{"$f":"IF($G$51=\"\",NA(),$G$51)","v":{"$error":"#N/A"}},null,null,"9:00",null,{"$f":"IF($D$59=\"\",NA(),$D$59)","v":{"$error":"#N/A"}},null,{"$f":"IF($F$59=\"\",NA(),$F$59)","v":{"$error":"#N/A"}},{"$f":"IF($G$59=\"\",NA(),$G$59)","v":{"$error":"#N/A"}},null,null,"9:00",null,{"$f":"IF($D$67=\"\",NA(),$D$67)","v":{"$error":"#N/A"}},null,{"$f":"IF($F$67=\"\",NA(),$F$67)","v":{"$error":"#N/A"}},{"$f":"IF($G$67=\"\",NA(),$G$67)","v":{"$error":"#N/A"}},null,null,"9:00",null,{"$f":"IF($D$75=\"\",NA(),$D$75)","v":{"$error":"#N/A"}},null,{"$f":"IF($F$75=\"\",NA(),$F$75)","v":{"$error":"#N/A"}},{"$f":"IF($G$75=\"\",NA(),$G$75)","v":{"$error":"#N/A"}}]
[null,11,"9:00",null,null,null,null,null,null,"る"]
[null,12,"9:00"]
[null,13,"9:00"]
[null,14,"9:00",null,null,null,null,null,null,"（"]
[null,15,"9:00",null,null,null,null,null,null,"選"]
[null,16,"9:00",null,null,null,null,null,null,"択"]
[null,17,"9:00",null,null,null,null,null,null,"す",null,3,null,null,null,null,null,null,null,11,null,null,null,null,null,null,null,19,null,null,null,null,null,null,null,27]
[null,18,"9:00",null,null,null,null,null,null,"る",null,null,"9:00",null,{"$f":"IF($D$52=\"\",NA(),$D$52)","v":{"$error":"#N/A"}},null,{"$f":"IF($F$52=\"\",NA(),$F$52)","v":{"$error":"#N/A"}},{"$f":"IF($G$52=\"\",NA(),$G$52)","v":{"$error":"#N/A"}},null,null,"9:00",null,{"$f":"IF($D$60=\"\",NA(),$D$60)","v":{"$error":"#N/A"}},null,{"$f":"IF($F$60=\"\",NA(),$F$60)","v":{"$error":"#N/A"}},{"$f":"IF($G$60=\"\",NA(),$G$60)","v":{"$error":"#N/A"}},null,null,"9:00",null,{"$f":"IF($D$68=\"\",NA(),$D$68)","v":{"$error":"#N/A"}},null,{"$f":"IF($F$68=\"\",NA(),$F$68)","v":{"$error":"#N/A"}},{"$f":"IF($G$68=\"\",NA(),$G$68)","v":{"$error":"#N/A"}},null,null,"9:00",null,{"$f":"IF($D$76=\"\",NA(),$D$76)","v":{"$error":"#N/A"}},null,{"$f":"IF($F$76=\"\",NA(),$F$76)","v":{"$error":"#N/A"}},{"$f":"IF($G$76=\"\",NA(),$G$76)","v":{"$error":"#N/A"}}]
[null,19,"9:00",null,null,null,null,null,null,"だ"]
[null,20,"9:00",null,null,null,null,null,null,"け"]
[null,21,"9:00",null,null,null,null,null,null,"で"]
[null,22,"9:00",null,null,null,null,null,null,"移"]
[null,23,"9:00",null,null,null,null,null,null,"動"]
[null,24,"9:00",null,null,null,null,null,null,"し"]
[null,25,"9:00",null,null,null,null,null,null,"ま",null,4,null,null,null,null,null,null,null,12,null,null,null,null,null,null,null,20,null,null,null,null,null,null,null,28]
[null,26,"9:00",null,null,null,null,null,null,"す",null,null,"9:00",null,{"$f":"IF($D$53=\"\",NA(),$D$53)","v":{"$error":"#N/A"}},null,{"$f":"IF($F$53=\"\",NA(),$F$53)","v":{"$error":"#N/A"}},{"$f":"IF($G$53=\"\",NA(),$G$53)","v":{"$error":"#N/A"}},null,null,"9:00",null,{"$f":"IF($D$61=\"\",NA(),$D$61)","v":{"$error":"#N/A"}},null,{"$f":"IF($F$61=\"\",NA(),$F$61)","v":{"$error":"#N/A"}},{"$f":"IF($G$61=\"\",NA(),$G$61)","v":{"$error":"#N/A"}},null,null,"9:00",null,{"$f":"IF($D$69=\"\",NA(),$D$69)","v":{"$error":"#N/A"}},null,{"$f":"IF($F$69=\"\",NA(),$F$69)","v":{"$error":"#N/A"}},{"$f":"IF($G$69=\"\",NA(),$G$69)","v":{"$error":"#N/A"}},null,null,"9:00",null,{"$f":"IF($D$77=\"\",NA(),$D$77)","v":{"$error":"#N/A"}},null,{"$f":"IF($F$77=\"\",NA(),$F$77)","v":{"$error":"#N/A"}},{"$f":"IF($G$77=\"\",NA(),$G$77)","v":{"$error":"#N/A"}}]
[null,27,"9:00",null,null,null,null,null,null,"）"]
[null,28,"9:00"]
[null,29,"9:00"]
[null,30,"9:00"]
[null,31,"9:00"]
[]
[null,null,null,null,null,null,null,null,null,null,null,5,null,null,null,null,null,null,null,13,null,null,null,null,null,null,null,21,null,null,null,null,null,null,null,29]
[null,null,null,null,null,null,null,null,null,null,null,null,"9:00",null,{"$f":"IF($D$54=\"\",NA(),$D$54)","v":{"$error":"#N/A"}},null,{"$f":"IF($F$54=\"\",NA(),$F$54)","v":{"$error":"#N/A"}},{"$f":"IF($G$54=\"\",NA(),$G$54)","v":{"$error":"#N/A"}},null,null,"9:00",null,{"$f":"IF($D$62=\"\",NA(),$D$62)","v":{"$error":"#N/A"}},null,{"$f":"IF($F$62=\"\",NA(),$F$62)","v":{"$error":"#N/A"}},{"$f":"IF($G$62=\"\",NA(),$G$62)","v":{"$error":"#N/A"}},null,null,"9:00",null,{"$f":"IF($D$70=\"\",NA(),$D$70)","v":{"$error":"#N/A"}},null,{"$f":"IF($F$70=\"\",NA(),$F$70)","v":{"$error":"#N/A"}},{"$f":"IF($G$70=\"\",NA(),$G$70)","v":{"$error":"#N/A"}},null,null,"9:00",null,{"$f":"IF($D$78=\"\",NA(),$D$78)","v":{"$error":"#N/A"}},null,{"$f":"IF($F$78=\"\",NA(),$F$78)","v":{"$error":"#N/A"}},{"$f":"IF($G$78=\"\",NA(),$G$78)","v":{"$error":"#N/A"}}]
[]
[]
[]
[]
[]
[]
[null,null,null,null,null,null,null,null,null,null,null,6,null,null,null,null,null,null,null,14,null,null,null,null,null,null,null,22,null,null,null,null,null,null,null,30]
[null,null,null,null,null,null,null,null,null,null,null,null,"9:00",null,{"$f":"IF($D$55=\"\",NA(),$D$55)","v":{"$error":"#N/A"}},null,{"$f":"IF($F$55=\"\",NA(),$F$55)","v":{"$error":"#N/A"}},{"$f":"IF($G$55=\"\",NA(),$G$55)","v":{"$error":"#N/A"}},null,null,"9:00",null,{"$f":"IF($D$63=\"\",NA(),$D$63)","v":{"$error":"#N/A"}},null,{"$f":"IF($F$63=\"\",NA(),$F$63)","v":{"$error":"#N/A"}},{"$f":"IF($G$63=\"\",NA(),$G$63)","v":{"$error":"#N/A"}},null,null,"9:00",null,{"$f":"IF($D$71=\"\",NA(),$D$71)","v":{"$error":"#N/A"}},null,{"$f":"IF($F$71=\"\",NA(),$F$71)","v":{"$error":"#N/A"}},{"$f":"IF($G$71=\"\",NA(),$G$71)","v":{"$error":"#N/A"}},null,null,"9:00",null,{"$f":"IF($D$79=\"\",NA(),$D$79)","v":{"$error":"#N/A"}},null,{"$f":"IF($F$79=\"\",NA(),$F$79)","v":{"$error":"#N/A"}},{"$f":"IF($G$79=\"\",NA(),$G$79)","v":{"$error":"#N/A"}}]
[]
[]
[]
[]
[]
[]
[null,null,null,null,null,null,null,null,null,null,null,7,null,null,null,null,null,null,null,15,null,null,null,null,null,null,null,23,null,null,null,null,null,null,null,31]
[null,null,null,null,null,null,null,null,null,null,null,null,"9:00",null,{"$f":"IF($D$56=\"\",NA(),$D$56)","v":{"$error":"#N/A"}},null,{"$f":"IF($F$56=\"\",NA(),$F$56)","v":{"$error":"#N/A"}},{"$f":"IF($G$56=\"\",NA(),$G$56)","v":{"$error":"#N/A"}},null,null,"9:00",null,{"$f":"IF($D$64=\"\",NA(),$D$64)","v":{"$error":"#N/A"}},null,{"$f":"IF($F$64=\"\",NA(),$F$64)","v":{"$error":"#N/A"}},{"$f":"IF($G$64=\"\",NA(),$G$64)","v":{"$error":"#N/A"}},null,null,"9:00",null,{"$f":"IF($D$72=\"\",NA(),$D$72)","v":{"$error":"#N/A"}},null,{"$f":"IF($F$72=\"\",NA(),$F$72)","v":{"$error":"#N/A"}},{"$f":"IF($G$72=\"\",NA(),$G$72)","v":{"$error":"#N/A"}},null,null,"9:00",null,{"$f":"IF($D$80=\"\",NA(),$D$80)","v":{"$error":"#N/A"}},null,{"$f":"IF($F$80=\"\",NA(),$F$80)","v":{"$error":"#N/A"}},{"$f":"IF($G$80=\"\",NA(),$G$80)","v":{"$error":"#N/A"}}]
[]
[]
[]
[]
[]
[]
[null,null,null,null,null,null,null,null,null,null,null,8,null,null,null,null,null,null,null,16,null,null,null,null,null,null,null,24]
[null,null,null,null,null,null,null,null,null,null,null,null,"9:00",null,{"$f":"IF($D$57=\"\",NA(),$D$57)","v":{"$error":"#N/A"}},null,{"$f":"IF($F$57=\"\",NA(),$F$57)","v":{"$error":"#N/A"}},{"$f":"IF($G$57=\"\",NA(),$G$57)","v":{"$error":"#N/A"}},null,null,"9:00",null,{"$f":"IF($D$65=\"\",NA(),$D$65)","v":{"$error":"#N/A"}},null,{"$f":"IF($F$65=\"\",NA(),$F$65)","v":{"$error":"#N/A"}},{"$f":"IF($G$65=\"\",NA(),$G$65)","v":{"$error":"#N/A"}},null,null,"9:00",null,{"$f":"IF($D$73=\"\",NA(),$D$73)","v":{"$error":"#N/A"}},null,{"$f":"IF($F$73=\"\",NA(),$F$73)","v":{"$error":"#N/A"}},{"$f":"IF($G$73=\"\",NA(),$G$73)","v":{"$error":"#N/A"}}]
[]
[]
[]
[]
[]
[]
[]
[]
[]
[]
[]
[]
[]
[]
[]
[]
[]
[]
[]
[]
[]
[null,null,"Enterで入力画面へ"]
[null,null,"ｶｰｿﾙ初期位置",null,null,null,"日付チェック",null,null,null,"バイタルコピー"]
["管理欄",null,"入力に入る",null,null,null,"今日",{"$f":"NOW()","v":"2015-02-24T03:11:52.510"},null,null,{"$f":"IF($D$74=\"\",NA(),$D$74)","v":{"$error":"#N/A"}},null,{"$f":"IF($F$74=\"\",NA(),$F$74)","v":{"$error":"#N/A"}},{"$f":"IF($G$74=\"\",NA(),$G$74)","v":{"$error":"#N/A"}},null,{"$f":"K131&M131&N131","v":{"$error":"#N/A"}}]
[null,null,null,null,null,null,"日",{"$f":"DAY(H131)","v":24},null,null,null,null,null,null,null,""]
[null,null,null,null,null,null,"月",{"$f":"MONTH(H131)","v":2},null,null,null,null,null,null,null,""]
[null,null,null,null,null,null,null,null,null,null,null,null,null,null,null,""]
[null,null,null,null,null,null,"時",{"$f":"HOUR(H131)","v":3},null,null,null,null,null,null,null,""]
[null,null,null,null,null,null,null,null,null,null,null,null,null,null,null,""]
[null,null,null,null,null,null,null,null,null,null,null,null,null,null,null,""]
[null,null,null,null,null,null,null,null,null,null,null,null,null,null,null,""]
[null,null,null,null,null,null,null,null,null,null,null,null,null,null,null,""]
[null,null,"食事平均",null,null,null,null,null,null,null,null,null,null,null,null,""]
[null,null,"左",{"$f":"IF(D25=\"\", \"\", LEFT(D25,SEARCH(\".\",D25,1)-1)*1)","v":""},{"$f":"IF(E25=\"\", \"\", LEFT(E25,SEARCH(\".\",E25,1)-1)*1)","v":""},"","","","","","","","","","","","","","","","","","","","","","","","","","","","",""]
[null,null,null,{"$f":"IF(D26=\"\", \"\", LEFT(D26,SEARCH(\".\",D26,1)-1)*1)","v":""},"","","","","","","","","","","","","","","","","","","","","","","","","","","","","",""]
[null,null,null,"","","","","","","","","","","","","","","","","","","","","","","","","","","","","","",""]
[null,null,"右",{"$f":"IF(D25=\"\", \"\", RIGHT(D25,LEN(D25)-FIND(\".\",D25,1))*1)","v":""},{"$f":"IF(E25=\"\", \"\", RIGHT(E25,LEN(E25)-FIND(\".\",E25,1))*1)","v":""},"","","","","","","","","","","","","","","","","","","","","","","","","","","","",""]
[null,null,null,{"$f":"IF(D26=\"\", \"\", RIGHT(D26,LEN(D26)-FIND(\".\",D26,1))*1)","v":""},"","","","","","","","","","","","","","","","","","","","","","","","","","","","","",""]
[null,null,null,{"$f":"IF(D27=\"\", \"\", RIGHT(D27,LEN(D27)-FIND(\".\",D27,1))*1)","v":""},"","","","","","","","","","","","","","","","","","","","","","","","","","","","","",""]
[null,null,null,null,null,null,null,null,null,null,null,null,null,null,null,""]
[null,null,"BP平均",null,null,null,null,null,null,null,null,null,null,null,null,""]
[null,null,"左",{"$f":"IF(ISERROR(LEFT(D32,SEARCH(\"/\",D32,1)-1)*1),\"\",LEFT(D32,SEARCH(\"/\",D32,1)-1)*1)","v":""},{"$f":"IF(ISERROR(LEFT(E32,SEARCH(\"/\",E32,1)-1)*1),\"\",LEFT(E32,SEARCH(\"/\",E32,1)-1)*1)","v":""},"","","","","","","","","","","","","","","","","","","","","","","","","","","","",""]
[null,null,null,{"$f":"IF(ISERROR(LEFT(D33,SEARCH(\"/\",D33,1)-1)*1),\"\",LEFT(D33,SEARCH(\"/\",D33,1)-1)*1)","v":""},"","","","","","","","","","","","","","","","","","","","","","","","","","","","","",""]
[null,null,null,"","","","","","","","","","","","","","","","","","","","","","","","","","","","","","",""]
[null,null,null,"","","","","","","","","","","","","","","","","","","","","","","","","","","","","","",""]
[null,null,"右",{"$f":"IF(ISERROR(RIGHT(D32,LEN(D32)-FIND(\"/\",D32,1))*1),\"\",RIGHT(D32,LEN(D32)-FIND(\"/\",D32,1))*1)","v":""},{"$f":"IF(ISERROR(RIGHT(E32,LEN(E32)-FIND(\"/\",E32,1))*1),\"\",RIGHT(E32,LEN(E32)-FIND(\"/\",E32,1))*1)","v":""},{"$f":"IF(ISERROR(RIGHT(F32,LEN(F32)-FIND(\"/\",F32,1))*1),\"\",RIGHT(F32,LEN(F32)-FIND(\"/\",F32,1))*1)","v":""},"","","","","","","","","","","","","","","","","","","","","","","","","","","",""]
[null,null,null,{"$f":"IF(ISERROR(RIGHT(D33,LEN(D33)-FIND(\"/\",D33,1))*1),\"\",RIGHT(D33,LEN(D33)-FIND(\"/\",D33,1))*1)","v":""},"","","","","","","","","","","","","","","","","","","","","","","","","","","","","",""]
[null,null,null,"","","","","","","","","","","","","","","","","","","","","","","","","","","","","","",""]
[null,null,null,"","","","","","","","","","","","","","","","","","","","","","","","","","","","","","",""]
[null,null,null,null,null,null,null,null,null,null,null,null,null,null,null,""]
[null,null,null,null,null,null,null,null,null,null,null,null,null,null,null,""]
[null,null,null,null,null,null,null,null,null,null,null,null,null,null,null,""]
[null,null,null,null,null,null,null,null,null,null,null,null,null,null,null,""]
[null,null,null,null,null,null,null,null,null,null,null,null,null,null,null,{"$f":"K161&M161&N161","v":""}]