{"text_format":"1","workbook":"xlsx","n_sheets":13,"sheets":["1月","2月","3月","4月","5月","6月","7月","8月","9月","10月","11月","12月","設定"],"not_rendered":{"charts":12,"images":1,"macros":1,"external_links":0,"defined_names":20,"comments":3,"pivot_tables":0},"unopened":[],"bounds":{"document_bytes":16777216,"sheet_cells":100000,"rows_first":2000,"rows_last":500,"rows_between":2000,"halvings":0,"cell_chars":16384,"cell_head_chars":4096},"cells_cut":0,"cells_raw":0,"read":"whole","date_system":"1900"}

{"sheet":"1月","index":0,"n_rows":161,"n_cols":52,"rows_kept":161,"cut":false,"hidden":false,"merged":[[91,33,91,34],[92,33,92,34],[97,33,97,34],[88,33,88,34],[111,33,111,34],[112,33,112,34],[101,33,101,34],[102,33,102,34],[103,33,103,34],[104,33,104,34],[93,33,93,34],[94,33,94,34],[95,33,95,34],[96,33,96,34],[105,33,105,34],[106,33,106,34],[107,33,107,34],[110,33,110,34],[108,33,108,34],[109,33,109,34],[64,33,64,34],[57,35,64,35],[74,36,74,37],[69,33,69,34],[70,33,70,34],[71,33,71,34],[72,33,72,34],[61,33,61,34],[62,33,62,34],[57,33,57,34],[58,33,58,34],[59,33,59,34],[60,33,60,34],[65,33,65,34],[66,33,66,34],[67,33,67,34],[68,33,68,34],[73,33,73,34],[74,33,74,34],[56,3,56,4],[55,3,55,4],[54,3,54,4],[53,3,53,4],[53,14,53,15],[52,3,52,4],[63,12,63,13],[63,14,63,15],[57,3,57,4],[60,3,60,4],[59,3,59,4],[56,6,56,7],[58,6,58,7],[59,6,59,7],[57,6,57,7],[57,11,64,11],[60,6,60,7],[61,6,61,7],[61,3,61,4],[62,6,62,7],[58,3,58,4],[54,6,54,7],[54,12,54,13],[54,14,54,15],[52,6,52,7],[52,12,52,13],[55,6,55,7],[55,12,55,13],[57,14,57,15],[57,12,57,13],[55,14,55,15],[55,17,55,18],[55,20,55,21],[52,14,52,15],[56,20,56,21],[63,3,63,4],[62,3,62,4],[59,14,59,15],[59,17,59,18],[59,20,59,21],[64,12,64,13],[63,6,63,7],[60,12,60,13],[60,14,60,15],[62,14,62,15],[61,17,61,18],[61,20,61,21],[64,6,64,7],[137,10,137,11],[137,13,137,14],[138,10,138,11],[138,13,138,14],[135,10,135,11],[135,13,135,14],[136,10,136,11],[136,13,136,14],[133,10,133,11],[133,13,133,14],[134,13,134,14],[134,10,134,11],[74,6,74,7],[79,6,79,7],[70,3,70,4],[69,3,69,4],[68,3,68,4],[67,3,67,4],[66,3,66,4],[64,3,64,4],[73,6,73,7],[75,6,75,7],[78,6,78,7],[76,6,76,7],[77,6,77,7],[71,3,71,4],[71,6,71,7],[65,3,65,4],[65,6,65,7],[79,3,79,4],[89,11,96,11],[81,11,88,11],[82,12,82,13],[82,14,82,15],[76,3,76,4],[74,3,74,4],[73,3,73,4],[72,3,72,4],[78,3,78,4],[75,3,75,4],[74,12,74,13],[74,14,74,15],[77,3,77,4],[73,11,80,11],[73,12,73,13],[73,14,73,15],[76,12,76,13],[84,12,84,13],[84,14,84,15],[96,14,96,15],[90,12,90,13],[92,14,92,15],[93,14,93,15],[80,1,80,9],[74,17,74,18],[74,20,74,21],[74,22,74,23],[74,25,74,26],[79,12,79,13],[79,14,79,15],[79,20,79,21],[77,17,77,18],[77,20,77,21],[77,12,77,13],[77,14,77,15],[78,22,78,23],[78,12,78,13],[78,14,78,15],[78,17,78,18],[78,20,78,21],[73,19,80,19],[73,20,73,21],[73,22,73,23],[76,14,76,15],[80,12,80,13],[80,14,80,15],[80,17,80,18],[80,20,80,21],[69,22,69,23],[71,12,71,13],[71,14,71,15],[70,6,70,7],[65,22,65,23],[68,22,68,23],[71,17,71,18],[71,20,71,21],[67,22,67,23],[71,22,71,23],[70,22,70,23],[65,20,65,21],[69,20,69,21],[70,17,70,18],[66,14,66,15],[70,20,70,21],[66,17,66,18],[67,14,67,15],[65,14,65,15],[65,19,72,19],[59,28,59,29],[61,22,61,23],[62,30,62,31],[61,30,61,31],[64,22,64,23],[68,20,68,21],[65,17,65,18],[67,20,67,21],[70,12,70,13],[70,14,70,15],[64,17,64,18],[65,30,65,31],[66,30,66,31],[67,30,67,31],[67,25,67,26],[70,28,70,29],[67,28,67,29],[66,28,66,29],[65,25,65,26],[66,25,66,26],[66,22,66,23],[68,25,68,26],[59,22,59,23],[68,28,68,29],[54,22,54,23],[52,22,52,23],[55,36,55,37],[56,36,56,37],[63,22,63,23],[48,36,48,37],[53,17,53,18],[53,20,53,21],[53,22,53,23],[53,25,53,26],[56,25,56,26],[55,22,55,23],[55,25,55,26],[48,30,48,31],[51,17,51,18],[52,17,52,18],[52,20,52,21],[62,22,62,23],[63,20,63,21],[62,17,62,18],[63,17,63,18],[60,28,60,29],[63,30,63,31],[62,20,62,21],[48,25,48,26],[48,28,48,29],[53,38,53,39],[50,20,50,21],[49,14,49,15],[49,17,49,18],[49,19,56,19],[54,17,54,18],[52,30,52,31],[54,25,54,26],[56,28,56,29],[56,30,56,31],[55,28,55,29],[55,30,55,31],[56,14,56,15],[56,17,56,18],[56,22,56,23],[53,28,53,29],[54,38,54,39],[54,30,54,31],[53,30,53,31],[49,27,56,27],[49,28,49,29],[54,28,54,29],[52,25,52,26],[51,25,51,26],[49,25,49,26],[51,38,51,39],[52,38,52,39],[52,28,52,29],[50,41,50,42],[49,38,49,39],[51,41,51,42],[52,36,52,37],[49,30,49,31],[50,30,50,31],[51,30,51,31],[56,41,56,42],[55,38,55,39],[55,41,55,42],[52,41,52,42],[49,41,49,42],[53,41,53,42],[48,41,48,42],[56,38,56,39],[50,36,50,37],[54,41,54,42],[53,36,53,37],[54,36,54,37],[48,14,48,15],[48,17,48,18],[48,20,48,21],[48,6,48,7],[48,38,48,39],[50,38,50,39],[49,36,49,37],[51,36,51,37],[4,37,4,40],[49,35,56,35],[49,33,49,34],[50,33,50,34],[51,33,51,34],[52,33,52,34],[53,33,53,34],[54,33,54,34],[55,33,55,34],[56,33,56,34],[51,12,51,13],[51,14,51,15],[51,20,51,21],[51,22,51,23],[56,12,56,13],[48,33,48,34],[48,3,48,4],[47,19,47,26],[0,1,0,2],[0,5,0,6],[1,4,1,6],[1,1,1,3],[28,1,30,2],[24,1,26,2],[42,1,42,2],[47,1,47,9],[47,11,47,18],[1,25,1,31],[2,25,2,30],[1,7,1,9],[16,1,16,2],[17,1,17,2],[2,1,3,3],[18,1,18,2],[1,23,1,24],[40,1,40,2],[41,1,41,2],[48,12,48,13],[46,6,46,7],[48,22,48,23],[2,23,3,24],[19,1,19,2],[20,1,20,2],[21,1,22,2],[23,1,23,2],[39,1,39,2],[43,1,43,2],[44,1,44,2],[46,1,46,5],[2,10,3,11],[2,12,3,13],[31,1,34,2],[35,1,35,2],[36,1,36,2],[37,1,37,2],[38,1,38,2],[45,1,45,11],[1,14,1,15],[1,10,1,13],[2,15,3,21],[0,12,0,22],[51,3,51,4],[51,6,51,7],[49,22,49,23],[51,28,51,29],[50,28,50,29],[50,25,50,26],[49,3,49,4],[49,6,49,7],[49,20,49,21],[50,3,50,4],[50,6,50,7],[50,12,50,13],[50,14,50,15],[50,17,50,18],[50,22,50,23],[49,11,56,11],[53,6,53,7],[53,12,53,13],[49,12,49,13],[54,20,54,21],[58,12,58,13],[58,14,58,15],[57,19,64,19],[57,20,57,21],[59,12,59,13],[57,22,57,23],[60,17,60,18],[60,20,60,21],[64,14,64,15],[60,22,60,23],[61,12,61,13],[61,14,61,15],[62,12,62,13],[58,17,58,18],[58,20,58,21],[58,22,58,23],[57,17,57,18],[65,41,65,42],[65,38,65,39],[65,35,72,35],[69,25,69,26],[70,25,70,26],[57,30,57,31],[58,30,58,31],[59,30,59,31],[60,30,60,31],[59,25,59,26],[63,41,63,42],[63,38,63,39],[63,28,63,29],[69,38,69,39],[62,38,62,39],[58,25,58,26],[57,25,57,26],[57,27,64,27],[57,28,57,29],[61,28,61,29],[61,25,61,26],[62,25,62,26],[63,25,63,26],[62,28,62,29],[66,41,66,42],[67,38,67,39],[72,38,72,39],[69,41,69,42],[71,38,71,39],[71,41,71,42],[72,30,72,31],[70,41,70,42],[70,38,70,39],[68,38,68,39],[72,41,72,42],[71,30,71,31],[68,41,68,42],[67,41,67,42],[66,38,66,39],[68,36,68,37],[69,36,69,37],[70,36,70,37],[71,36,71,37],[72,36,72,37],[66,36,66,37],[70,30,70,31],[69,30,69,31],[68,30,68,31],[57,38,57,39],[62,41,62,42],[64,41,64,42],[60,41,60,42],[64,25,64,26],[64,30,64,31],[64,38,64,39],[64,28,64,29],[61,41,61,42],[60,25,60,26],[57,41,57,42],[59,41,59,42],[59,38,59,39],[58,41,58,42],[60,38,60,39],[58,38,58,39],[57,36,57,37],[59,36,59,37],[60,36,60,37],[61,36,61,37],[62,36,62,37],[63,36,63,37],[64,36,64,37],[58,28,58,29],[61,38,61,39],[64,20,64,21],[63,33,63,34],[58,36,58,37],[65,36,65,37],[67,36,67,37],[72,6,72,7],[72,12,72,13],[72,14,72,15],[66,6,66,7],[66,12,66,13],[67,6,67,7],[67,12,67,13],[67,17,67,18],[68,6,68,7],[68,12,68,13],[68,14,68,15],[68,17,68,18],[65,11,72,11],[69,6,69,7],[69,12,69,13],[69,14,69,15],[69,17,69,18],[65,12,65,13],[71,28,71,29],[69,28,69,29],[65,27,72,27],[65,28,65,29],[66,20,66,21],[71,25,71,26],[75,12,75,13],[75,14,75,15],[75,17,75,18],[75,20,75,21],[75,22,75,23],[75,28,75,29],[75,25,75,26],[73,27,80,27],[72,28,72,29],[77,22,77,23],[73,25,73,26],[72,17,72,18],[72,20,72,21],[72,22,72,23],[72,25,72,26],[78,25,78,26],[76,20,76,21],[79,17,79,18],[75,38,75,39],[75,33,75,34],[76,33,76,34],[75,30,75,31],[80,28,80,29],[80,30,80,31],[76,22,76,23],[76,25,76,26],[76,28,76,29],[78,33,78,34],[79,33,79,34],[80,33,80,34],[77,25,77,26],[80,22,80,23],[79,22,79,23],[77,41,77,42],[79,28,79,29],[73,30,73,31],[74,30,74,31],[79,41,79,42],[80,41,80,42],[75,41,75,42],[76,41,76,42],[73,41,73,42],[74,41,74,42],[76,38,76,39],[79,30,79,31],[78,30,78,31],[78,41,78,42],[80,38,80,39],[73,28,73,29],[73,38,73,39],[74,38,74,39],[74,28,74,29],[73,35,80,35],[76,30,76,31],[77,28,77,29],[77,30,77,31],[77,33,77,34],[76,17,76,18],[73,17,73,18],[79,25,79,26],[80,25,80,26],[83,20,83,21],[81,38,81,39],[82,38,82,39],[83,38,83,39],[84,28,84,29],[84,30,84,31],[84,22,84,23],[84,25,84,26],[82,17,82,18],[82,20,82,21],[82,22,82,23],[82,25,82,26],[83,17,83,18],[84,17,84,18],[84,20,84,21],[78,38,78,39],[78,28,78,29],[73,36,73,37],[75,36,75,37],[76,36,76,37],[81,33,81,34],[82,33,82,34],[83,33,83,34],[84,33,84,34],[82,36,82,37],[85,33,85,34],[83,22,83,23],[83,25,83,26],[81,12,81,13],[81,14,81,15],[81,17,81,18],[81,19,88,19],[81,20,81,21],[81,22,81,23],[81,25,81,26],[88,12,88,13],[88,14,88,15],[88,17,88,18],[88,20,88,21],[88,22,88,23],[88,25,88,26],[87,25,87,26],[84,41,84,42],[85,12,85,13],[85,14,85,15],[85,17,85,18],[85,20,85,21],[85,22,85,23],[85,25,85,26],[85,30,85,31],[81,35,88,35],[82,41,82,42],[83,12,83,13],[83,14,83,15],[85,41,85,42],[81,27,88,27],[81,28,81,29],[88,36,88,37],[82,28,82,29],[82,30,82,31],[81,30,81,31],[86,30,86,31],[87,12,87,13],[87,14,87,15],[87,17,87,18],[87,20,87,21],[87,38,87,39],[87,41,87,42],[86,12,86,13],[86,14,86,15],[86,17,86,18],[86,20,86,21],[86,22,86,23],[86,25,86,26],[86,38,86,39],[86,33,86,34],[87,33,87,34],[87,28,87,29],[87,30,87,31],[86,28,86,29],[96,17,96,18],[96,20,96,21],[96,22,96,23],[96,25,96,26],[93,30,93,31],[94,28,94,29],[94,12,94,13],[94,14,94,15],[94,17,94,18],[94,20,94,21],[94,22,94,23],[94,25,94,26],[93,12,93,13],[89,19,96,19],[96,12,96,13],[89,30,89,31],[91,28,91,29],[89,12,89,13],[89,14,89,15],[90,14,90,15],[95,14,95,15],[95,17,95,18],[92,12,92,13],[89,17,89,18],[92,17,92,18],[92,20,92,21],[92,22,92,23],[89,22,89,23],[90,17,90,18],[91,12,91,13],[91,14,91,15],[91,17,91,18],[89,20,89,21],[90,22,90,23],[93,17,93,18],[93,20,93,21],[93,22,93,23],[93,25,93,26],[91,25,91,26],[97,11,104,11],[97,12,97,13],[97,14,97,15],[97,17,97,18],[98,12,98,13],[98,14,98,15],[98,17,98,18],[99,14,99,15],[99,17,99,18],[104,12,104,13],[101,12,101,13],[101,14,101,15],[101,17,101,18],[104,14,104,15],[104,17,104,18],[103,14,103,15],[95,12,95,13],[103,17,103,18],[102,14,102,15],[100,12,100,13],[99,12,99,13],[102,12,102,13],[103,12,103,13],[103,30,103,31],[101,41,101,42],[98,28,98,29],[98,36,98,37],[100,14,100,15],[100,17,100,18],[102,17,102,18],[97,19,104,19],[97,20,97,21],[97,22,97,23],[97,25,97,26],[98,20,98,21],[98,22,98,23],[98,25,98,26],[99,20,99,21],[99,22,99,23],[102,22,102,23],[100,22,100,23],[100,25,100,26],[101,20,101,21],[112,14,112,15],[130,10,130,11],[97,41,97,42],[98,38,98,39],[98,41,98,42],[104,20,104,21],[104,22,104,23],[104,25,104,26],[103,25,103,26],[104,30,104,31],[97,35,104,35],[99,28,99,29],[98,30,98,31],[99,25,99,26],[99,38,99,39],[101,28,101,29],[97,38,97,39],[103,22,103,23],[102,38,102,39],[103,20,103,21],[102,20,102,21],[103,28,103,29],[104,28,104,29],[101,30,101,31],[112,12,112,13],[111,12,111,13],[105,27,112,27],[130,0,132,0],[130,2,130,4],[130,7,130,8],[105,11,112,11],[105,12,105,13],[107,12,107,13],[108,12,108,13],[110,12,110,13],[109,12,109,13],[106,12,106,13],[129,10,129,12],[131,10,131,11],[131,13,131,14],[129,2,129,4],[132,10,132,11],[132,13,132,14],[107,14,107,15],[105,14,105,15],[109,14,109,15],[130,13,130,14],[129,6,129,8],[111,14,111,15],[106,14,106,15],[106,17,106,18],[105,17,105,18],[106,28,106,29],[106,30,106,31],[108,17,108,18],[108,20,108,21],[106,25,106,26],[107,20,107,21],[107,22,107,23],[107,28,107,29],[107,17,107,18],[108,14,108,15],[111,17,111,18],[111,20,111,21],[111,22,111,23],[110,22,110,23],[110,14,110,15],[112,28,112,29],[111,28,111,29],[110,17,110,18],[110,20,110,21],[110,28,110,29],[110,30,110,31],[112,30,112,31],[112,22,112,23],[105,19,112,19],[111,25,111,26],[112,25,112,26],[111,30,111,31],[105,30,105,31],[110,25,110,26],[105,28,105,29],[109,28,109,29],[109,30,109,31],[112,17,112,18],[112,20,112,21],[102,25,102,26],[102,28,102,29],[102,30,102,31],[108,22,108,23],[108,30,108,31],[101,22,101,23],[101,25,101,26],[100,20,100,21],[13,37,13,40],[99,30,99,31],[100,28,100,29],[90,25,90,26],[91,20,91,21],[91,22,91,23],[95,20,95,21],[95,22,95,23],[95,28,95,29],[95,30,95,31],[94,30,94,31],[93,28,93,29],[92,25,92,26],[90,20,90,21],[95,25,95,26],[87,22,87,23],[11,37,11,40],[12,37,12,40],[86,36,86,37],[87,36,87,37],[103,36,103,37],[97,36,97,37],[99,36,99,37],[100,36,100,37],[101,36,101,37],[89,36,89,37],[100,38,100,39],[103,38,103,39],[101,38,101,39],[84,38,84,39],[85,38,85,39],[93,36,93,37],[94,36,94,37],[95,36,95,37],[81,36,81,37],[83,36,83,37],[88,38,88,39],[77,36,77,37],[79,38,79,39],[77,38,77,39],[95,41,95,42],[96,36,96,37],[90,41,90,42],[92,28,92,29],[92,30,92,31],[96,28,96,29],[96,30,96,31],[96,38,96,39],[96,41,96,42],[91,36,91,37],[92,36,92,37],[93,38,93,39],[93,41,93,42],[92,38,92,39],[92,41,92,42],[89,35,96,35],[89,38,89,39],[91,41,91,42],[95,38,95,39],[94,38,94,39],[94,41,94,42],[91,30,91,31],[89,33,89,34],[90,33,90,34],[89,41,89,42],[90,38,90,39],[90,36,90,37],[90,28,90,29],[90,30,90,31],[91,38,91,39],[0,25,0,34],[81,41,81,42],[78,36,78,37],[79,36,79,37],[80,36,80,37],[89,27,96,27],[89,28,89,29],[84,36,84,37],[85,36,85,37],[85,28,85,29],[89,25,89,26],[88,30,88,31],[86,41,86,42],[88,41,88,42],[83,28,83,29],[83,30,83,31],[83,41,83,42],[88,28,88,29],[100,41,100,42],[99,41,99,42],[100,30,100,31],[102,36,102,37],[103,41,103,42],[104,41,104,42],[102,41,102,42],[98,33,98,34],[99,33,99,34],[100,33,100,34],[104,38,104,39],[5,37,10,40],[1,16,1,21],[104,36,104,37],[147,28,147,29],[147,31,147,32],[1,32,1,34],[108,28,108,29],[2,32,3,34],[3,25,3,30],[109,17,109,18],[106,20,106,21],[106,22,106,23],[107,30,107,31],[107,25,107,26],[109,20,109,21],[109,22,109,23],[109,25,109,26],[108,25,108,26],[105,20,105,21],[105,22,105,23],[105,25,105,26],[97,27,104,27],[97,28,97,29],[97,30,97,31]]}
[null,"体温表",null,null,null,{"$f":"設定!$F$7","v":2017},null,"年",null,1,"月",null,null,null,null,null,null,null,null,null,null,null,null,null,null,"伊都の丘病院"]
[null,"★カルテ番号",null,null,"★病棟",null,null,"★入院形態",null,null,"★主治医",null,null,null,"　★姓名",null,null,null,null,null,null,null,null,"★性別",null,"★生年月日　",null,null,null,null,null,null,"★担当Ns"]
[null,null,null,null,null,null,null,null,null,null,null,null,null,null,null,{"$f":"REPLACE(LEFT(CELL(\"filename\",$A$1),FIND(\".\",CELL(\"filename\",$A$1))-1),1,FIND(\"[\",CELL(\"filename\",$A$1)),)","v":"新体温表 - バックアップ９１ー"},null,null,null,null,null,null,null,null,null,"ここに生年月日を記入",null,null,null,null,null,{"$f":"IF(ISERROR(DATEDIF(Z3,DATE(設定!F7,1,31),\"Y\"))=TRUE,\"\",DATEDIF(Z3,DATE(設定!F7,1,31),\"Y\"))","v":""}]
[null,null,null,null,"/","/","/","/","/","/",null,null,null,null,null,null,null,null,null,null,null,null,null,null,null,{"$f":"SUBSTITUTE(Z3,\"ここに生年月日を記入\",\"\")","v":""},null,null,null,null,null,"歳"]
[null,null,null,null,null,null,null,null,null,null,null,null,null,null,null,null,null,null,null,null,null,null,null,null,null,null,null,null,null,null,null,null,null,null,null,null,null,{"$f":"設定!C11","v":"便利ボタン"}]
[]
[]
[]
[]
[]
[]
[null,null,null,null,null,null,null,null,null,null,null,null,null,null,null,null,null,null,null,null,null,null,null,null,null,null,null,null,null,null,null,null,null,null,null,null,null,{"$f":"設定!C18","v":" ※自動保存されます"}]
[null,null,null,null,null,null,null,null,null,null,null,null,null,null,null,null,null,null,null,null,null,null,null,null,null,null,null,null,null,null,null,null,null,null,null,null,null,{"$f":"設定!C19","v":0}]
[null,null,null,null,null,null,null,null,null,null,null,null,null,null,null,null,null,null,null,null,null,null,null,null,null,null,null,null,null,null,null,null,null,null,null,null,null,{"$f":"設定!C20","v":0}]
[]
[]
[null,"日　付",null,1,2,3,4,5,6,7,8,9,10,11,12,13,14,15,16,17,18,19,20,21,22,23,24,25,26,27,28,29,30,31,"統計"]
[null,"行　動"]
[null,"時　間"]
[null,"行　動"]
[null,"時　間",null,null,null,null,null,null,null,null,null,null,null,null,null,null,null,null,null,null,null,null,null,null,null,null,null,null,null,null,null,null,null,null,{"$f":"IF(COUNTIF(D18:AH21,\"外出\")+COUNTIF(D18:AH21,\"外泊\")=0,\"回数\",COUNTIF(D18:AH21,\"外出\")+COUNTIF(D18:AH21,\"外泊\"))","v":"回数"}]
[null,"面　会"]
[null,null,null,null,null,null,null,null,null,null,null,null,null,null,null,null,null,null,null,null,null,null,null,null,null,null,null,null,null,null,null,null,null,null,{"$f":"IF(COUNTA(D22:AH22)=0,\"回数\",COUNTA(D22:AH22))","v":"回数"}]
[null,"入　浴",null,null,null,null,null,null,null,null,null,null,null,null,null,null,null,null,null,null,null,null,null,null,null,null,null,null,null,null,null,null,null,null,{"$f":"IF(COUNTA(D24:AH24)=0,\"回数\",COUNTA(D24:AH24))","v":"回数"}]
[null,"食　事"]
[]
[null,null,null,null,null,null,null,null,null,null,null,null,null,null,null,null,null,null,null,null,null,null,null,null,null,null,null,null,null,null,null,null,null,null,{"$f":"IFERROR(INT(AVERAGE(V141:AZ143))& \"/\"&INT(AVERAGE(V144:AZ146)),\"平均\")","v":"平均"}]
[null,"便通",null,{"$f":"IF(ISBLANK(I50),\"\",I50)","v":""},{"$f":"IF(ISBLANK(I51),\"\",I51)","v":""},{"$f":"IF(ISBLANK(I52),\"\",I52)","v":""},{"$f":"IF(ISBLANK(I53),\"\",I53)","v":""},{"$f":"IF(ISBLANK(I54),\"\",I54)","v":""},{"$f":"IF(ISBLANK(I55),\"\",I55)","v":""},{"$f":"IF(ISBLANK(I56),\"\",I56)","v":""},{"$f":"IF(ISBLANK(I57),\"\",I57)","v":""},{"$f":"IF(ISBLANK(I58),\"\",I58)","v":""},{"$f":"IF(ISBLANK(I59),\"\",I59)","v":""},{"$f":"IF(ISBLANK(I60),\"\",I60)","v":""},{"$f":"IF(ISBLANK(I61),\"\",I61)","v":""},{"$f":"IF(ISBLANK(I62),\"\",I62)","v":""},{"$f":"IF(ISBLANK(I63),\"\",I63)","v":""},{"$f":"IF(ISBLANK(I64),\"\",I64)","v":""},{"$f":"IF(ISBLANK(I65),\"\",I65)","v":""},{"$f":"IF(ISBLANK(I66),\"\",I66)","v":""},{"$f":"IF(ISBLANK(I67),\"\",I67)","v":""},{"$f":"IF(ISBLANK(I68),\"\",I68)","v":""},{"$f":"IF(ISBLANK(I69),\"\",I69)","v":""},{"$f":"IF(ISBLANK(I70),\"\",I70)","v":""},{"$f":"IF(ISBLANK(I71),\"\",I71)","v":""},{"$f":"IF(ISBLANK(I72),\"\",I72)","v":""},{"$f":"IF(ISBLANK(I73),\"\",I73)","v":""},{"$f":"IF(ISBLANK(I74),\"\",I74)","v":""},{"$f":"IF(ISBLANK(I75),\"\",I75)","v":""},{"$f":"IF(ISBLANK(I76),\"\",I76)","v":""},{"$f":"IF(ISBLANK(I77),\"\",I77)","v":""},{"$f":"IF(ISBLANK(I78),\"\",I78)","v":""},{"$f":"IF(ISBLANK(I79),\"\",I79)","v":""},{"$f":"IF(ISBLANK(I80),\"\",I80)","v":""},{"$f":"IF(COUNTIF(E28:AH28,0)=0,\"回数\",COUNTIF(E28:AH28,0))","v":"回数"}]
[null,"便処置"]
[null,null,null,"　",null,null,null,null,null,null,null,null,null,null,null,null,null,null,null,null,null,null,null,null,null,null,null,null,null,null,null,null,null,null,{"$f":"IF(SUM(V136:AZ138)=0,\"滴数\",SUM(V136:AZ138))","v":"滴数"}]
[null,null,null,null,null,null,null,null,null,null,null,null,null,null,null,null,null,null,null,null,null,null,null,null,null,null,null,null,null,null,null,null,null,null,{"$f":"IF(AI30=\"滴数\",\"本数\",AI30/150)","v":"本数"}]
[null,"血　圧",null,{"$f":"$R$50","v":0},{"$f":"$R$58","v":0},{"$f":"R66","v":0},{"$f":"R74","v":0},{"$f":"R82","v":0},{"$f":"R90","v":0},{"$f":"R98","v":0},{"$f":"R106","v":0},{"$f":"Z50","v":0},{"$f":"Z58","v":0},{"$f":"Z66","v":0},{"$f":"Z74","v":0},{"$f":"Z82","v":0},{"$f":"Z90","v":0},{"$f":"Z98","v":0},{"$f":"Z106","v":0},{"$f":"AH50","v":0},{"$f":"AH58","v":0},{"$f":"AH66","v":0},{"$f":"AH74","v":0},{"$f":"AH82","v":0},{"$f":"AH90","v":0},{"$f":"AH98","v":0},{"$f":"AH106","v":0},{"$f":"AP50","v":0},{"$f":"AP58","v":0},{"$f":"AP66","v":0},{"$f":"AP74","v":0},{"$f":"AP82","v":0},{"$f":"AP90","v":0},{"$f":"AP98","v":0}]
[null,null,null,{"$f":" IF(ISERROR($R$51),\"\",($R$51))","v":""},{"$f":" IF(ISERROR($R$59),\"\",($R$59))","v":""},{"$f":" IF(ISERROR($R$67),\"\",($R$67))","v":""},{"$f":" IF(ISERROR($R$75),\"\",($R$75))","v":""},{"$f":" IF(ISERROR($R$83),\"\",($R$83))","v":""},{"$f":" IF(ISERROR($R$91),\"\",($R$91))","v":""},{"$f":" IF(ISERROR($R$99),\"\",($R$99))","v":""},{"$f":" IF(ISERROR($R$107),\"\",($R$107))","v":""},{"$f":" IF(ISERROR($Z$51),\"\",($Z$51))","v":""},{"$f":" IF(ISERROR($Z$59),\"\",($Z$59))","v":""},{"$f":" IF(ISERROR($Z$67),\"\",($Z$67))","v":""},{"$f":" IF(ISERROR($Z$75),\"\",($Z$75))","v":""},{"$f":" IF(ISERROR($Z$83),\"\",($Z$83))","v":""},{"$f":" IF(ISERROR($Z$91),\"\",($Z$91))","v":""},{"$f":" IF(ISERROR($Z$99),\"\",($Z$99))","v":""},{"$f":" IF(ISERROR($Z$107),\"\",($Z$107))","v":""},{"$f":" IF(ISERROR($AH$51),\"\",($AH$51))","v":""},{"$f":" IF(ISERROR($AH$59),\"\",($AH$59))","v":""},{"$f":" IF(ISERROR($AH$67),\"\",($AH$67))","v":""},{"$f":" IF(ISERROR($AH$75),\"\",($AH$75))","v":""},{"$f":" IF(ISERROR($AH$83),\"\",($AH$83))","v":""},{"$f":" IF(ISERROR($AH$91),\"\",($AH$91))","v":""},{"$f":" IF(ISERROR($AH$99),\"\",($AH$99))","v":""},{"$f":" IF(ISERROR($AH$107),\"\",($AH$107))","v":""},{"$f":" IF(ISERROR($AP$51),\"\",($AP$51))","v":""},{"$f":" IF(ISERROR($AP$59),\"\",($AP$59))","v":""},{"$f":" IF(ISERROR($AP$67),\"\",($AP$67))","v":""},{"$f":" IF(ISERROR($AP$75),\"\",($AP$75))","v":""},{"$f":" IF(ISERROR($AP$83),\"\",($AP$83))","v":""},{"$f":" IF(ISERROR($AP$91),\"\",($AP$91))","v":""},{"$f":" IF(ISERROR($AP$99),\"\",($AP$99))","v":""}]
[null,null,null,{"$f":"$R$52","v":0},{"$f":"$R$60","v":0},{"$f":"R68","v":0},{"$f":"R76","v":0},{"$f":"R84","v":0},{"$f":"R92","v":0},{"$f":"R100","v":0},{"$f":"R108","v":0},{"$f":"Z52","v":0},{"$f":"Z60","v":0},{"$f":"Z68","v":0},{"$f":"Z76","v":0},{"$f":"Z84","v":0},{"$f":"Z92","v":0},{"$f":"Z100","v":0},{"$f":"Z108","v":0},{"$f":"AH52","v":0},{"$f":"AH60","v":0},{"$f":"AH68","v":0},{"$f":"AH76","v":0},{"$f":"AH84","v":0},{"$f":"AH92","v":0},{"$f":"AH100","v":0},{"$f":"AH108","v":0},{"$f":"AP52","v":0},{"$f":"AP60","v":0},{"$f":"AP68","v":0},{"$f":"AP76","v":0},{"$f":"AP84","v":0},{"$f":"AP92","v":0},{"$f":"AP100","v":0}]
[null,null,null,{"$f":"$R$53","v":0},{"$f":"$R$61","v":0},{"$f":"R69","v":0},{"$f":"R77","v":0},{"$f":"R85","v":0},{"$f":"R93","v":0},{"$f":"R101","v":0},{"$f":"R109","v":0},{"$f":"Z53","v":0},{"$f":"Z61","v":0},{"$f":"Z69","v":0},{"$f":"Z77","v":0},{"$f":"Z85","v":0},{"$f":"Z93","v":0},{"$f":"Z101","v":0},{"$f":"Z109","v":0},{"$f":"AH53","v":0},{"$f":"AH61","v":0},{"$f":"AH69","v":0},{"$f":"AH77","v":0},{"$f":"AH85","v":0},{"$f":"AH93","v":0},{"$f":"AH101","v":0},{"$f":"AH109","v":0},{"$f":"AP53","v":0},{"$f":"AP61","v":0},{"$f":"AP69","v":0},{"$f":"AP77","v":0},{"$f":"AP85","v":0},{"$f":"AP93","v":0},{"$f":"AP101","v":0},{"$f":"IFERROR(INT(AVERAGE(V149:AZ152))& \"/\"&INT(AVERAGE(V153:AZ156)),\"平均\")","v":"平均"}]
[null,"★食事箋"]
[null,"★形　態"]
[null,"★身　長",null,null,null,null,null,null,null,null,null,null,null,null,null,null,null,null,null,null,null,null,null,null,null,null,null,null,null,null,null,null,null,null,"BMI"]
[null,"体　重",null,null,null,null,null,null,null,null,null,null,null,null,null,null,null,null,null,null,null,null,null,null,null,null,null,null,null,null,null,null,null,null,{"$f":"IF(ISERROR(INDEX(D39:AH39,MATCH(307,D39:AH39))/(INDEX(D38:AH38,MATCH(9E+307,D38:AH38))/100)^2)=TRUE,\"\",INDEX(D39:AH39,MATCH(307,D39:AH39))/(INDEX(D38:AH38,MATCH(9E+307,D38:AH38))/100)^2)","v":""}]
[null,"Ｉ　Ｎ",null,null,null,null,null,null,null,null,null,null,null,null,null,null,null,null,null,null,null,null,null,null,null,null,null,null,null,null,null,null,null,null,{"$f":"IFERROR(INT(AVERAGE(D40:AH40)),\"平均\")","v":"平均"}]
[null,"ＯＵＴ",null,null,null,null,null,null,null,null,null,null,null,null,null,null,null,null,null,null,null,null,null,null,null,null,null,null,null,null,null,null,null,null,{"$f":"IFERROR(INT(AVERAGE(D41:AH41)),\"平均\")","v":"平均"}]
[null,"生　理",null,null,null,null,null,null,null,null,null,null,null,null,null,null,null,null,null,null,null,null,null,null,null,null,null,null,null,null,null,null,null,null,{"$f":"IF(ISERROR(IF(H132-MATCH(\"*\",D42:AH42,0)=0,\"0日目\",IF(H133=J1,IF(ISERROR(H132-MATCH(\"*\",D42:AH42,0)),\"日数\",H132-MATCH(\"*\",D42:AH42,0)),\"日数\"))),\"日数\",(IF(H132-MATCH(\"*\",D42:AH42,0)=0,\"0日目\",IF(H133=J1,IF(ISERROR(H132-MATCH(\"*\",D42:AH42,0)),\"日数\",H132-MATCH(\"*\",D42:AH42,0)),\"日数\"))))","v":"日数"}]
[null,null,null,null,null,null,null,null,null,null,null,null,null,null,null,null,null,null,null,null,null,null,null,null,null,null,null,null,null,null,null,null,null,null,{"$f":"COUNTA(D43:AH43)","v":0}]
[null,null,null,null,null,null,null,null,null,null,null,null,null,null,null,null,null,null,null,null,null,null,null,null,null,null,null,null,null,null,null,null,null,null,{"$f":"COUNTA(D44:AH44)","v":0}]
[null,"日　付",null,1,2,3,4,5,6,7,8,9,10,11,12,13,14,15,16,17,18,19,20,21,22,23,24,25,26,27,28,29,30,31]
[null,"Enterキーで右方向に移動します。便もEnterで右上に移動します。"]
[null,{"$f":"$P$3","v":"新体温表 - バックアップ９１ー"},null,null,null,null,{"$f":"YEAR(I47)","v":2016},null,{"$f":"TODAY()","v":"2016-06-08"},{"$f":"TODAY()","v":42529},null,{"$f":"NOW()","v":42529.688973263888}]
[null,"平常時記入",null,null,null,null,null,null,null,null,null,"熱発時記入"]
[null,"日","時間","T",null," P","BP",null,"便",null,null,"日","時間",null,"T",null,"P","BP",null,"日","時間",null,"T",null,"P","BP",null,"日","時間",null,"T",null,"P","BP",null,"日","時間",null,"T",null,"P","BP"]
[null,1,"09:00:00",null,null,null,null,null,null,null,null,1,null,null,null,null,null,null,null,9,null,null,null,null,null,null,null,17,null,null,null,null,null,null,null,25]
[null,2,"09:00:00",null,null,null,null,null,null,null,null,null,"09:00:00",null,{"$f":"IF($D$50=\"\",NA(),$D$50)","v":{"$error":"#N/A"}},null,{"$f":"IF($F$50=\"\",NA(),$F$50)","v":{"$error":"#N/A"}},{"$f":"IF($G$50=\"\",NA(),$G$50)","v":{"$error":"#N/A"}},null,null,"09:00:00",null,{"$f":"IF($D$58=\"\",NA(),$D$58)","v":{"$error":"#N/A"}},null,{"$f":"IF($F$58=\"\",NA(),$F$58)","v":{"$error":"#N/A"}},{"$f":"IF($G$58=\"\",NA(),$G$58)","v":{"$error":"#N/A"}},null,null,"09:00:00",null,{"$f":"IF($D$66=\"\",NA(),$D$66)","v":{"$error":"#N/A"}},null,{"$f":"IF($F$66=\"\",NA(),$F$66)","v":{"$error":"#N/A"}},{"$f":"IF($G$66=\"\",NA(),$G$66)","v":{"$error":"#N/A"}},null,null,"09:00:00",null,{"$f":"IF($D$74=\"\",NA(),$D$74)","v":{"$error":"#N/A"}},null,{"$f":"IF($F$74=\"\",NA(),$F$74)","v":{"$error":"#N/A"}},{"$f":"IF($G$74=\"\",NA(),$G$74)","v":{"$error":"#N/A"}}]
[null,3,"09:00:00",null,null,null,null,null,null,"☆"]
[null,4,"09:00:00"]
[null,5,"09:00:00",null,null,null,null,null,null,"コ"]
[null,6,"09:00:00",null,null,null,null,null,null,"ス"]
[null,7,"09:00:00",null,null,null,null,null,null,"モ"]
[null,8,"09:00:00",null,null,null,null,null,null,"ス"]
[null,9,"09:00:00",null,null,null,null,null,null,"へ",null,2,null,null,null,null,null,null,null,10,null,null,null,null,null,null,null,18,null,null,null,null,null,null,null,26]
[null,10,"09:00:00",null,null,null,null,null,null,"戻",null,null,"09:00:00",null,{"$f":"IF($D$51=\"\",NA(),$D$51)","v":{"$error":"#N/A"}},null,{"$f":"IF($F$51=\"\",NA(),$F$51)","v":{"$error":"#N/A"}},{"$f":"IF($G$51=\"\",NA(),$G$51)","v":{"$error":"#N/A"}},null,null,"09:00:00",null,{"$f":"IF($D$59=\"\",NA(),$D$59)","v":{"$error":"#N/A"}},null,{"$f":"IF($F$59=\"\",NA(),$F$59)","v":{"$error":"#N/A"}},{"$f":"IF($G$59=\"\",NA(),$G$59)","v":{"$error":"#N/A"}},null,null,"09:00:00",null,{"$f":"IF($D$67=\"\",NA(),$D$67)","v":{"$error":"#N/A"}},null,{"$f":"IF($F$67=\"\",NA(),$F$67)","v":{"$error":"#N/A"}},{"$f":"IF($G$67=\"\",NA(),$G$67)","v":{"$error":"#N/A"}},null,null,"09:00:00",null,{"$f":"IF($D$75=\"\",NA(),$D$75)","v":{"$error":"#N/A"}},null,{"$f":"IF($F$75=\"\",NA(),$F$75)","v":{"$error":"#N/A"}},{"$f":"IF($G$75=\"\",NA(),$G$75)","v":{"$error":"#N/A"}}]
[null,11,"09:00:00",null,null,null,null,null,null,"る"]
[null,12,"09:00:00"]
[null,13,"09:00:00"]
[null,14,"09:00:00",null,null,null,null,null,null,"（"]
[null,15,"09:00:00",null,null,null,null,null,null,"選"]
[null,16,"09:00:00",null,null,null,null,null,null,"択"]
[null,17,"09:00:00",null,null,null,null,null,null,"す",null,3,null,null,null,null,null,null,null,11,null,null,null,null,null,null,null,19,null,null,null,null,null,null,null,27]
[null,18,"09:00:00",null,null,null,null,null,null,"る",null,null,"09:00:00",null,{"$f":"IF($D$52=\"\",NA(),$D$52)","v":{"$error":"#N/A"}},null,{"$f":"IF($F$52=\"\",NA(),$F$52)","v":{"$error":"#N/A"}},{"$f":"IF($G$52=\"\",NA(),$G$52)","v":{"$error":"#N/A"}},null,null,"09:00:00",null,{"$f":"IF($D$60=\"\",NA(),$D$60)","v":{"$error":"#N/A"}},null,{"$f":"IF($F$60=\"\",NA(),$F$60)","v":{"$error":"#N/A"}},{"$f":"IF($G$60=\"\",NA(),$G$60)","v":{"$error":"#N/A"}},null,null,"09:00:00",null,{"$f":"IF($D$68=\"\",NA(),$D$68)","v":{"$error":"#N/A"}},null,{"$f":"IF($F$68=\"\",NA(),$F$68)","v":{"$error":"#N/A"}},{"$f":"IF($G$68=\"\",NA(),$G$68)","v":{"$error":"#N/A"}},null,null,"09:00:00",null,{"$f":"IF($D$76=\"\",NA(),$D$76)","v":{"$error":"#N/A"}},null,{"$f":"IF($F$76=\"\",NA(),$F$76)","v":{"$error":"#N/A"}},{"$f":"IF($G$76=\"\",NA(),$G$76)","v":{"$error":"#N/A"}}]
[null,19,"09:00:00",null,null,null,null,null,null,"だ"]
[null,20,"09:00:00",null,null,null,null,null,null,"け"]
[null,21,"09:00:00",null,null,null,null,null,null,"で"]
[null,22,"09:00:00",null,null,null,null,null,null,"移"]
[null,23,"09:00:00",null,null,null,null,null,null,"動"]
[null,24,"09:00:00",null,null,null,null,null,null,"し"]
[null,25,"09:00:00",null,null,null,null,null,null,"ま",null,4,null,null,null,null,null,null,null,12,null,null,null,null,null,null,null,20,null,null,null,null,null,null,null,28]
[null,26,"09:00:00",null,null,null,null,null,null,"す",null,null,"09:00:00",null,{"$f":"IF($D$53=\"\",NA(),$D$53)","v":{"$error":"#N/A"}},null,{"$f":"IF($F$53=\"\",NA(),$F$53)","v":{"$error":"#N/A"}},{"$f":"IF($G$53=\"\",NA(),$G$53)","v":{"$error":"#N/A"}},null,null,"09:00:00",null,{"$f":"IF($D$61=\"\",NA(),$D$61)","v":{"$error":"#N/A"}},null,{"$f":"IF($F$61=\"\",NA(),$F$61)","v":{"$error":"#N/A"}},{"$f":"IF($G$61=\"\",NA(),$G$61)","v":{"$error":"#N/A"}},null,null,"09:00:00",null,{"$f":"IF($D$69=\"\",NA(),$D$69)","v":{"$error":"#N/A"}},null,{"$f":"IF($F$69=\"\",NA(),$F$69)","v":{"$error":"#N/A"}},{"$f":"IF($G$69=\"\",NA(),$G$69)","v":{"$error":"#N/A"}},null,null,"09:00:00",null,{"$f":"IF($D$77=\"\",NA(),$D$77)","v":{"$error":"#N/A"}},null,{"$f":"IF($F$77=\"\",NA(),$F$77)","v":{"$error":"#N/A"}},{"$f":"IF($G$77=\"\",NA(),$G$77)","v":{"$error":"#N/A"}}]
[null,27,"09:00:00",null,null,null,null,null,null,"）"]
[null,28,"09:00:00"]
[null,29,"09:00:00"]
[null,30,"09:00:00"]
[null,31,"09:00:00"]
[null,"※Enterキーで右方向に移動します。便もEnterで右上に移動します。"]
[null,null,null,null,null,null,null,null,null,null,null,5,null,null,null,null,null,null,null,13,null,null,null,null,null,null,null,21,null,null,null,null,null,null,null,29]
[null,null,null,null,null,null,null,null,null,null,null,null,"09:00:00",null,{"$f":"IF($D$54=\"\",NA(),$D$54)","v":{"$error":"#N/A"}},null,{"$f":"IF($F$54=\"\",NA(),$F$54)","v":{"$error":"#N/A"}},{"$f":"IF($G$54=\"\",NA(),$G$54)","v":{"$error":"#N/A"}},null,null,"09:00:00",null,{"$f":"IF($D$62=\"\",NA(),$D$62)","v":{"$error":"#N/A"}},null,{"$f":"IF($F$62=\"\",NA(),$F$62)","v":{"$error":"#N/A"}},{"$f":"IF($G$62=\"\",NA(),$G$62)","v":{"$error":"#N/A"}},null,null,"09:00:00",null,{"$f":"IF($D$70=\"\",NA(),$D$70)","v":{"$error":"#N/A"}},null,{"$f":"IF($F$70=\"\",NA(),$F$70)","v":{"$error":"#N/A"}},{"$f":"IF($G$70=\"\",NA(),$G$70)","v":{"$error":"#N/A"}},null,null,"09:00:00",null,{"$f":"IF($D$78=\"\",NA(),$D$78)","v":{"$error":"#N/A"}},null,{"$f":"IF($F$78=\"\",NA(),$F$78)","v":{"$error":"#N/A"}},{"$f":"IF($G$78=\"\",NA(),$G$78)","v":{"$error":"#N/A"}}]
[]
[]
[]
[]
[]
[]
[null,null,null,null,null,null,null,null,null,null,null,6,null,null,null,null,null,null,null,14,null,null,null,null,null,null,null,22,null,null,null,null,null,null,null,30]
[null,null,null,null,null,null,null,null,null,null,null,null,"09:00:00",null,{"$f":"IF($D$55=\"\",NA(),$D$55)","v":{"$error":"#N/A"}},null,{"$f":"IF($F$55=\"\",NA(),$F$55)","v":{"$error":"#N/A"}},{"$f":"IF($G$55=\"\",NA(),$G$55)","v":{"$error":"#N/A"}},null,null,"09:00:00",null,{"$f":"IF($D$63=\"\",NA(),$D$63)","v":{"$error":"#N/A"}},null,{"$f":"IF($F$63=\"\",NA(),$F$63)","v":{"$error":"#N/A"}},{"$f":"IF($G$63=\"\",NA(),$G$63)","v":{"$error":"#N/A"}},null,null,"09:00:00",null,{"$f":"IF($D$71=\"\",NA(),$D$71)","v":{"$error":"#N/A"}},null,{"$f":"IF($F$71=\"\",NA(),$F$71)","v":{"$error":"#N/A"}},{"$f":"IF($G$71=\"\",NA(),$G$71)","v":{"$error":"#N/A"}},null,null,"09:00:00",null,{"$f":"IF($D$79=\"\",NA(),$D$79)","v":{"$error":"#N/A"}},null,{"$f":"IF($F$79=\"\",NA(),$F$79)","v":{"$error":"#N/A"}},{"$f":"IF($G$79=\"\",NA(),$G$79)","v":{"$error":"#N/A"}}]
[]
[]
[]
[]
[]
[]
[null,null,null,null,null,null,null,null,null,null,null,7,null,null,null,null,null,null,null,15,null,null,null,null,null,null,null,23,null,null,null,null,null,null,null,31]
[null,null,null,null,null,null,null,null,null,null,null,null,"09:00:00",null,{"$f":"IF($D$56=\"\",NA(),$D$56)","v":{"$error":"#N/A"}},null,{"$f":"IF($F$56=\"\",NA(),$F$56)","v":{"$error":"#N/A"}},{"$f":"IF($G$56=\"\",NA(),$G$56)","v":{"$error":"#N/A"}},null,null,"09:00:00",null,{"$f":"IF($D$64=\"\",NA(),$D$64)","v":{"$error":"#N/A"}},null,{"$f":"IF($F$64=\"\",NA(),$F$64)","v":{"$error":"#N/A"}},{"$f":"IF($G$64=\"\",NA(),$G$64)","v":{"$error":"#N/A"}},null,null,"09:00:00",null,{"$f":"IF($D$72=\"\",NA(),$D$72)","v":{"$error":"#N/A"}},null,{"$f":"IF($F$72=\"\",NA(),$F$72)","v":{"$error":"#N/A"}},{"$f":"IF($G$72=\"\",NA(),$G$72)","v":{"$error":"#N/A"}},null,null,"09:00:00",null,{"$f":"IF($D$80=\"\",NA(),$D$80)","v":{"$error":"#N/A"}},null,{"$f":"IF($F$80=\"\",NA(),$F$80)","v":{"$error":"#N/A"}},{"$f":"IF($G$80=\"\",NA(),$G$80)","v":{"$error":"#N/A"}}]
[]
[]
[]
[]
[]
[]
[null,null,null,null,null,null,null,null,null,null,null,8,null,null,null,null,null,null,null,16,null,null,null,null,null,null,null,24]
[null,null,null,null,null,null,null,null,null,null,null,null,"09:00:00",null,{"$f":"IF($D$57=\"\",NA(),$D$57)","v":{"$error":"#N/A"}},null,{"$f":"IF($F$57=\"\",NA(),$F$57)","v":{"$error":"#N/A"}},{"$f":"IF($G$57=\"\",NA(),$G$57)","v":{"$error":"#N/A"}},null,null,"09:00:00",null,{"$f":"IF($D$65=\"\",NA(),$D$65)","v":{"$error":"#N/A"}},null,{"$f":"IF($F$65=\"\",NA(),$F$65)","v":{"$error":"#N/A"}},{"$f":"IF($G$65=\"\",NA(),$G$65)","v":{"$error":"#N/A"}},null,null,"09:00:00",null,{"$f":"IF($D$73=\"\",NA(),$D$73)","v":{"$error":"#N/A"}},null,{"$f":"IF($F$73=\"\",NA(),$F$73)","v":{"$error":"#N/A"}},{"$f":"IF($G$73=\"\",NA(),$G$73)","v":{"$error":"#N/A"}}]
[]
[]
[]
[]
[]
[]
[]
[]
[]
[]
[]
[]
[]
[]
[]
[]
[]
[]
[]
[]
[]
[null,null,"Enterで入力画面へ"]
[null,null,"ｶｰｿﾙ初期位置",null,null,null,"日付チェック",null,null,null,"バイタルコピー"]
["管理欄",null,"入力に入る",null,null,null,"今日",{"$f":"NOW()","v":"2016-06-08T16:32:07.290"},null,null,"T=未測定",null," P=未測定"," BP=未測定",null,{"$f":"K131&M131&N131","v":"T=未測定 P=未測定 BP=未測定"},"   "]
[null,null,null,null,null,null,"日",{"$f":"DAY(H131)","v":8},null,null,null,null,null,null,null,"",null,null,null,null,"シンラック"]
[null,null,null,null,null,null,"月",{"$f":"MONTH(H131)","v":6},null,null,null,null,null,null,null,"",null,null,null,null,"なし"]
[null,null,null,null,null,null,"年",{"$f":"YEAR(H131)","v":2016},null,null,null,null,null,null,null,""]
[null,null,null,null,null,null,"時",{"$f":"HOUR(H131)","v":16},null,null,null,null,null,null,null,""]
[null,null,null,null,null,null,null,null,null,null,null,null,null,null,null,"",null,null,null,null,"Link",{"$f":"IF(ISERROR(VALUE(D29)),\"\",VALUE(D29))","v":0},0,{"$f":"IF(ISERROR(VALUE(F29)),\"\",VALUE(F29))","v":0},{"$f":"IF(ISERROR(VALUE(G29)),\"\",VALUE(G29))","v":0},0,{"$f":"IF(ISERROR(VALUE(I29)),\"\",VALUE(I29))","v":0},{"$f":"IF(ISERROR(VALUE(J29)),\"\",VALUE(J29))","v":0},0,{"$f":"IF(ISERROR(VALUE(L29)),\"\",VALUE(L29))","v":0},{"$f":"IF(ISERROR(VALUE(M29)),\"\",VALUE(M29))","v":0},0,{"$f":"IF(ISERROR(VALUE(O29)),\"\",VALUE(O29))","v":0},{"$f":"IF(ISERROR(VALUE(P29)),\"\",VALUE(P29))","v":0},0,{"$f":"IF(ISERROR(VALUE(R29)),\"\",VALUE(R29))","v":0},{"$f":"IF(ISERROR(VALUE(S29)),\"\",VALUE(S29))","v":0},0,{"$f":"IF(ISERROR(VALUE(U29)),\"\",VALUE(U29))","v":0},{"$f":"IF(ISERROR(VALUE(V29)),\"\",VALUE(V29))","v":0},0,{"$f":"IF(ISERROR(VALUE(X29)),\"\",VALUE(X29))","v":0},{"$f":"IF(ISERROR(VALUE(Y29)),\"\",VALUE(Y29))","v":0},0,{"$f":"IF(ISERROR(VALUE(AA29)),\"\",VALUE(AA29))","v":0},{"$f":"IF(ISERROR(VALUE(AB29)),\"\",VALUE(AB29))","v":0},0,{"$f":"IF(ISERROR(VALUE(AD29)),\"\",VALUE(AD29))","v":0},{"$f":"IF(ISERROR(VALUE(AE29)),\"\",VALUE(AE29))","v":0},{"$f":"IF(ISERROR(VALUE(AF29)),\"\",VALUE(AF29))","v":0},{"$f":"IF(ISERROR(VALUE(AG29)),\"\",VALUE(AG29))","v":0},{"$f":"IF(ISERROR(VALUE(AH29)),\"\",VALUE(AH29))","v":0}]
[null,null,null,null,null,null,null,null,null,null,null,null,null,null,null,"",null,null,null,null,null,"",{"$f":"IF(ISERROR(VALUE(E30)),\"\",VALUE(E30))","v":0},0,0,{"$f":"IF(ISERROR(VALUE(H30)),\"\",VALUE(H30))","v":0},0,0,{"$f":"IF(ISERROR(VALUE(K30)),\"\",VALUE(K30))","v":0},0,0,{"$f":"IF(ISERROR(VALUE(N30)),\"\",VALUE(N30))","v":0},0,0,{"$f":"IF(ISERROR(VALUE(Q30)),\"\",VALUE(Q30))","v":0},0,0,{"$f":"IF(ISERROR(VALUE(T30)),\"\",VALUE(T30))","v":0},0,0,{"$f":"IF(ISERROR(VALUE(W30)),\"\",VALUE(W30))","v":0},0,0,{"$f":"IF(ISERROR(VALUE(Z30)),\"\",VALUE(Z30))","v":0},0,0,{"$f":"IF(ISERROR(VALUE(AC30)),\"\",VALUE(AC30))","v":0},0,0,{"$f":"IF(ISERROR(VALUE(AF30)),\"\",VALUE(AF30))","v":0},{"$f":"IF(ISERROR(VALUE(AG30)),\"\",VALUE(AG30))","v":0},0]
[null,null,null,null,null,null,null,null,null,null,null,null,null,null,null,"",null,null,null,null,null,0,0,0,0,0,0,0,0,0,0,0,0,0,0,0,0,0,0,0,0,0,0,0,0,0,0,0,0,{"$f":"IF(ISERROR(VALUE(AF31)),\"\",VALUE(AF31))","v":0},{"$f":"IF(ISERROR(VALUE(AG31)),\"\",VALUE(AG31))","v":0},{"$f":"IF(ISERROR(VALUE(AH31)),\"\",VALUE(AH31))","v":0}]
[null,null,null,null,null,null,null,null,null,null,null,null,null,null,null,""]
[null,null,null,null,null,null,null,null,null,null,null,null,null,null,null,null,null,null,null,null,"食事平均",null,null,null,null,null,null,null,null,null,null,null,null,{"$f":"AC140&AE140&AF140","v":""}]
[null,null,null,null,null,null,null,null,null,null,null,null,null,null,null,null,null,null,null,null,"左",{"$f":"IF(D25=\"\", \"\", LEFT(D25,SEARCH(\"/\",D25,1)-1)*1)","v":""},"","","","","","","","","",{"$f":"IF(N25=\"\", \"\", LEFT(N25,SEARCH(\"/\",N25,1)-1)*1)","v":""},"","","","","","","","","",{"$f":"IF(X25=\"\", \"\", LEFT(X25,SEARCH(\"/\",X25,1)-1)*1)","v":""},"","","","","","","","","",{"$f":"IF(AH25=\"\", \"\", LEFT(AH25,SEARCH(\"/\",AH25,1)-1)*1)","v":""}]
[null,null,null,null,null,null,null,null,null,null,null,null,null,null,null,null,null,null,null,null,null,"","","","","","","","","","","","","","","","","","","","","","","","","","","","","","",""]
[null,null,null,null,null,null,null,null,null,null,null,null,null,null,null,null,null,null,null,null,null,"","","","","","","","","","","","","","","","","","","","","","","","","","","","","","",""]
[null,null,null,null,null,null,null,null,null,null,null,null,null,null,null,null,null,null,null,null,"右",{"$f":"IF(D25=\"\", \"\", RIGHT(D25,LEN(D25)-FIND(\"/\",D25,1))*1)","v":""},"","","","","","","","","",{"$f":"IF(N25=\"\", \"\", RIGHT(N25,LEN(N25)-FIND(\"/\",N25,1))*1)","v":""},"","","","","","","","","",{"$f":"IF(X25=\"\", \"\", RIGHT(X25,LEN(X25)-FIND(\"/\",X25,1))*1)","v":""},"","","","","","","","","",{"$f":"IF(AH25=\"\", \"\", RIGHT(AH25,LEN(AH25)-FIND(\"/\",AH25,1))*1)","v":""}]
[null,null,null,null,null,null,null,null,null,null,null,null,null,null,null,null,null,null,null,null,null,"","","","","","","","","","","","","","","","","","","","","","","","","","","","","","",""]
[null,null,null,null,null,null,null,null,null,null,null,null,null,null,null,null,null,null,null,null,null,"","","","","","","","","","","","","","","","","","","","","","","","","","","","","","",""]
[null,null,null,null,null,null,null,null,null,null,null,null,null,null,null,null,null,null,null,null,null,null,null,null,null,null,null,null,null,null,null,null,null,{"$f":"AC147&AE147&AF147","v":""}]
[null,null,null,null,null,null,null,null,null,null,null,null,null,null,null,null,null,null,null,null,"BP平均",null,null,null,null,null,null,null,null,null,null,null,null,{"$f":"AC148&AE148&AF148","v":""}]
[null,null,null,null,null,null,null,null,null,null,null,null,null,null,null,null,null,null,null,null,"左",{"$f":"IF(ISERROR(LEFT(D32,SEARCH(\"/\",D32,1)-1)*1),\"\",LEFT(D32,SEARCH(\"/\",D32,1)-1)*1)","v":""},"","","","","","","","","",{"$f":"IF(ISERROR(LEFT(N32,SEARCH(\"/\",N32,1)-1)*1),\"\",LEFT(N32,SEARCH(\"/\",N32,1)-1)*1)","v":""},"","","","","","","","","",{"$f":"IF(ISERROR(LEFT(X32,SEARCH(\"/\",X32,1)-1)*1),\"\",LEFT(X32,SEARCH(\"/\",X32,1)-1)*1)","v":""},"","","","","","","","","",{"$f":"IF(ISERROR(LEFT(AH32,SEARCH(\"/\",AH32,1)-1)*1),\"\",LEFT(AH32,SEARCH(\"/\",AH32,1)-1)*1)","v":""}]
[null,null,null,null,null,null,null,null,null,null,null,null,null,null,null,null,null,null,null,null,null,"","","","","","","","","","","","","","","","","","","","","","","","","","","","","","",""]
[null,null,null,null,null,null,null,null,null,null,null,null,null,null,null,null,null,null,null,null,null,"","","","","","","","","","","","","","","","","","","","","","","","","","","","","","",""]
[null,null,null,null,null,null,null,null,null,null,null,null,null,null,null,null,null,null,null,null,null,"","","","","","","","","","","","","","","","","","","","","","","","","","","","","","",""]
[null,null,null,null,null,null,null,null,null,null,null,null,null,null,null,null,null,null,null,null,"右",{"$f":"IF(ISERROR(RIGHT(D32,LEN(D32)-FIND(\"/\",D32,1))*1),\"\",RIGHT(D32,LEN(D32)-FIND(\"/\",D32,1))*1)","v":""},"","","","","","","","","",{"$f":"IF(ISERROR(RIGHT(N32,LEN(N32)-FIND(\"/\",N32,1))*1),\"\",RIGHT(N32,LEN(N32)-FIND(\"/\",N32,1))*1)","v":""},"","","","","","","","","",{"$f":"IF(ISERROR(RIGHT(X32,LEN(X32)-FIND(\"/\",X32,1))*1),\"\",RIGHT(X32,LEN(X32)-FIND(\"/\",X32,1))*1)","v":""},"","","","","","","","","",{"$f":"IF(ISERROR(RIGHT(AH32,LEN(AH32)-FIND(\"/\",AH32,1))*1),\"\",RIGHT(AH32,LEN(AH32)-FIND(\"/\",AH32,1))*1)","v":""}]
[null,null,null,null,null,null,null,null,null,null,null,null,null,null,null,null,null,null,null,null,null,"","","","","","","","","","","","","","","","","","","","","","","","","","","","","","",""]
[null,null,null,null,null,null,null,null,null,null,null,null,null,null,null,null,null,null,null,null,null,"","","","","","","","","","","","","","","","","","","","","","","","","","","","","","",""]
[null,null,null,null,null,null,null,null,null,null,null,null,null,null,null,null,null,null,null,null,null,"","","","","","","","","","","","","","","","","","","","","","","","","","","","","","",""]
[null,null,null,null,null,null,null,null,null,null,null,null,null,null,null,""]
[null,null,null,null,null,null,null,null,null,null,null,null,null,null,null,""]
[null,null,null,null,null,null,null,null,null,null,null,null,null,null,null,""]
[null,null,null,null,null,null,null,null,null,null,null,null,null,null,null,""]
[null,null,null,null,null,null,null,null,null,null,null,null,null,null,null,""]

{"sheet":"2月","index":1,"n_rows":161,"n_cols":52,"rows_kept":161,"cut":false,"hidden":false,"merged":[[48,41,48,42],[90,36,90,37],[82,36,82,37],[102,12,102,13],[58,36,58,37],[50,36,50,37],[98,36,98,37],[102,38,102,39],[102,41,102,42],[101,12,101,13],[101,14,101,15],[101,17,101,18],[101,20,101,21],[101,38,101,39],[101,41,101,42],[101,22,101,23],[101,25,101,26],[101,28,101,29],[101,30,101,31],[100,30,100,31],[100,38,100,39],[100,41,100,42],[99,38,99,39],[99,41,99,42],[103,22,103,23],[103,25,103,26],[103,28,103,29],[129,6,129,8],[112,25,112,26],[112,28,112,29],[112,30,112,31],[111,12,111,13],[111,14,111,15],[111,25,111,26],[111,28,111,29],[111,30,111,31],[109,12,109,13],[106,12,106,13],[105,20,105,21],[105,22,105,23],[107,17,107,18],[112,22,112,23],[112,17,112,18],[112,20,112,21],[111,17,111,18],[111,20,111,21],[108,22,108,23],[108,17,108,18],[110,33,110,34],[109,25,109,26],[109,28,109,29],[109,30,109,31],[105,27,112,27],[105,28,105,29],[109,33,109,34],[105,25,105,26],[107,25,107,26],[105,30,105,31],[108,33,108,34],[108,30,108,31],[107,28,107,29],[108,25,108,26],[108,28,108,29],[106,25,106,26],[107,33,107,34],[106,17,106,18],[107,14,107,15],[130,0,132,0],[130,2,130,4],[130,7,130,8],[105,11,112,11],[105,12,105,13],[107,12,107,13],[108,12,108,13],[108,14,108,15],[129,10,129,12],[112,12,112,13],[112,14,112,15],[129,2,129,4],[106,14,106,15],[105,14,105,15],[105,17,105,18],[109,17,109,18],[110,17,110,18],[105,19,112,19],[112,33,112,34],[104,38,104,39],[104,33,104,34],[104,36,104,37],[107,20,107,21],[107,22,107,23],[105,33,105,34],[106,28,106,29],[106,30,106,31],[106,33,106,34],[106,20,106,21],[106,22,106,23],[107,30,107,31],[111,22,111,23],[110,22,110,23],[109,20,109,21],[109,22,109,23],[108,20,108,21],[110,20,110,21],[111,33,111,34],[110,25,110,26],[110,28,110,29],[110,30,110,31],[103,41,103,42],[104,41,104,42],[103,30,103,31],[103,33,103,34],[103,38,103,39],[103,14,103,15],[103,17,103,18],[103,20,103,21],[97,35,104,35],[97,38,97,39],[97,41,97,42],[98,38,98,39],[98,41,98,42],[102,33,102,34],[102,14,102,15],[102,17,102,18],[102,20,102,21],[100,17,100,18],[100,20,100,21],[97,19,104,19],[97,20,97,21],[102,36,102,37],[103,36,103,37],[102,22,102,23],[98,20,98,21],[98,22,98,23],[98,25,98,26],[99,20,99,21],[99,22,99,23],[99,25,99,26],[97,33,97,34],[98,28,98,29],[98,30,98,31],[98,33,98,34],[99,33,99,34],[97,30,97,31],[99,28,99,29],[99,30,99,31],[97,22,97,23],[97,25,97,26],[97,17,97,18],[98,12,98,13],[98,14,98,15],[98,17,98,18],[99,12,99,13],[99,14,99,15],[99,17,99,18],[103,12,103,13],[104,12,104,13],[102,25,102,26],[102,28,102,29],[102,30,102,31],[101,33,101,34],[104,14,104,15],[104,17,104,18],[94,12,94,13],[94,14,94,15],[94,17,94,18],[94,20,94,21],[95,12,95,13],[104,20,104,21],[104,22,104,23],[104,25,104,26],[104,28,104,29],[104,30,104,31],[97,27,104,27],[97,28,97,29],[100,33,100,34],[100,22,100,23],[100,25,100,26],[100,28,100,29],[94,33,94,34],[95,14,95,15],[96,20,96,21],[93,14,93,15],[93,17,93,18],[93,20,93,21],[96,38,96,39],[96,41,96,42],[96,22,96,23],[96,25,96,26],[96,28,96,29],[96,30,96,31],[96,33,96,34],[93,33,93,34],[95,22,95,23],[95,25,95,26],[95,28,95,29],[94,36,94,37],[95,36,95,37],[96,36,96,37],[93,38,93,39],[93,41,93,42],[93,22,93,23],[93,25,93,26],[94,41,94,42],[94,22,94,23],[89,12,89,13],[89,14,89,15],[89,17,89,18],[90,17,90,18],[91,12,91,13],[91,14,91,15],[91,17,91,18],[93,12,93,13],[95,17,95,18],[94,25,94,26],[89,36,89,37],[90,22,90,23],[89,33,89,34],[90,28,90,29],[90,30,90,31],[90,33,90,34],[92,41,92,42],[89,35,96,35],[89,38,89,39],[89,41,89,42],[90,38,90,39],[95,33,95,34],[94,38,94,39],[91,36,91,37],[92,36,92,37],[90,41,90,42],[91,38,91,39],[91,41,91,42],[92,38,92,39],[88,14,88,15],[88,17,88,18],[88,20,88,21],[92,25,92,26],[92,28,92,29],[92,30,92,31],[89,27,96,27],[89,28,89,29],[89,30,89,31],[91,28,91,29],[91,30,91,31],[91,25,91,26],[94,28,94,29],[94,30,94,31],[95,30,95,31],[90,25,90,26],[92,17,92,18],[92,20,92,21],[89,19,96,19],[89,20,89,21],[90,20,90,21],[93,30,93,31],[96,14,96,15],[96,17,96,18],[91,20,91,21],[95,20,95,21],[93,28,93,29],[87,41,87,42],[87,22,87,23],[87,25,87,26],[87,28,87,29],[87,30,87,31],[87,36,87,37],[91,22,91,23],[92,22,92,23],[92,33,92,34],[89,22,89,23],[89,25,89,26],[88,41,88,42],[88,22,88,23],[88,25,88,26],[88,28,88,29],[88,30,88,31],[87,33,87,34],[91,33,91,34],[95,38,95,39],[95,41,95,42],[93,36,93,37],[79,41,79,42],[83,41,83,42],[81,41,81,42],[82,41,82,42],[84,41,84,42],[85,41,85,42],[86,38,86,39],[84,38,84,39],[80,36,80,37],[81,36,81,37],[86,41,86,42],[83,36,83,37],[84,36,84,37],[81,38,81,39],[82,38,82,39],[83,38,83,39],[85,38,85,39],[85,36,85,37],[86,36,86,37],[86,33,86,34],[88,36,88,37],[88,33,88,34],[88,38,88,39],[85,17,85,18],[85,20,85,21],[85,22,85,23],[85,25,85,26],[86,17,86,18],[81,35,88,35],[84,33,84,34],[86,28,86,29],[85,33,85,34],[87,17,87,18],[87,20,87,21],[87,38,87,39],[79,3,79,4],[79,6,79,7],[79,12,79,13],[79,14,79,15],[79,17,79,18],[86,22,86,23],[86,20,86,21],[86,25,86,26],[82,20,82,21],[82,22,82,23],[82,25,82,26],[79,20,79,21],[79,22,79,23],[79,25,79,26],[81,20,81,21],[84,22,84,23],[81,22,81,23],[81,25,81,26],[77,20,77,21],[77,22,77,23],[77,25,77,26],[77,33,77,34],[84,12,84,13],[84,14,84,15],[84,17,84,18],[84,20,84,21],[80,22,80,23],[78,14,78,15],[78,30,78,31],[79,30,79,31],[78,22,78,23],[78,25,78,26],[82,12,82,13],[82,14,82,15],[82,17,82,18],[81,33,81,34],[82,33,82,34],[79,28,79,29],[83,33,83,34],[82,28,82,29],[82,30,82,31],[75,41,75,42],[76,17,76,18],[76,20,76,21],[78,41,78,42],[76,22,76,23],[84,25,84,26],[84,28,84,29],[84,30,84,31],[83,17,83,18],[83,20,83,21],[83,22,83,23],[83,25,83,26],[83,28,83,29],[83,30,83,31],[81,17,81,18],[81,19,88,19],[80,17,80,18],[80,20,80,21],[85,28,85,29],[81,27,88,27],[81,28,81,29],[81,30,81,31],[86,30,86,31],[85,30,85,31],[73,41,73,42],[74,30,74,31],[75,30,75,31],[76,30,76,31],[77,28,77,29],[77,30,77,31],[74,25,74,26],[74,28,74,29],[73,25,73,26],[73,27,80,27],[78,36,78,37],[79,36,79,37],[77,38,77,39],[80,41,80,42],[80,28,80,29],[80,30,80,31],[80,33,80,34],[80,38,80,39],[80,25,80,26],[79,38,79,39],[78,33,78,34],[79,33,79,34],[78,38,78,39],[76,41,76,42],[74,20,74,21],[74,22,74,23],[74,41,74,42],[78,17,78,18],[78,20,78,21],[77,41,77,42],[75,25,75,26],[75,28,75,29],[71,38,71,39],[73,19,80,19],[73,20,73,21],[76,38,76,39],[75,17,75,18],[75,20,75,21],[74,17,74,18],[73,28,73,29],[73,30,73,31],[76,33,76,34],[78,28,78,29],[75,22,75,23],[73,36,73,37],[75,36,75,37],[76,36,76,37],[77,36,77,37],[76,3,76,4],[76,6,76,7],[76,12,76,13],[76,14,76,15],[75,3,75,4],[75,6,75,7],[74,3,74,4],[74,6,74,7],[74,12,74,13],[74,14,74,15],[75,12,75,13],[75,14,75,15],[77,3,77,4],[77,6,77,7],[77,12,77,13],[77,14,77,15],[77,17,77,18],[76,25,76,26],[76,28,76,29],[73,38,73,39],[74,33,74,34],[74,38,74,39],[75,33,75,34],[75,38,75,39],[73,33,73,34],[73,35,80,35],[73,22,73,23],[73,3,73,4],[73,6,73,7],[73,11,80,11],[73,12,73,13],[73,14,73,15],[73,17,73,18],[78,3,78,4],[78,6,78,7],[78,12,78,13],[70,41,70,42],[71,33,71,34],[70,33,70,34],[72,38,72,39],[71,41,71,42],[72,3,72,4],[72,6,72,7],[72,12,72,13],[72,14,72,15],[72,17,72,18],[72,41,72,42],[71,17,71,18],[72,20,72,21],[72,22,72,23],[72,25,72,26],[72,28,72,29],[71,30,71,31],[71,20,71,21],[71,3,71,4],[70,3,70,4],[70,6,70,7],[70,12,70,13],[70,14,70,15],[71,6,71,7],[72,36,72,37],[65,30,65,31],[72,33,72,34],[68,30,68,31],[69,33,69,34],[68,6,68,7],[68,12,68,13],[68,14,68,15],[68,17,68,18],[68,20,68,21],[68,22,68,23],[68,25,68,26],[68,28,68,29],[68,36,68,37],[65,19,72,19],[65,20,65,21],[65,17,65,18],[70,17,70,18],[70,20,70,21],[70,25,70,26],[70,30,70,31],[72,30,72,31],[71,25,71,26],[71,28,71,29],[67,38,67,39],[65,41,65,42],[66,3,66,4],[65,6,65,7],[66,6,66,7],[65,38,65,39],[66,33,66,34],[66,38,66,39],[65,33,65,34],[65,35,72,35],[67,33,67,34],[68,33,68,34],[69,30,69,31],[66,30,66,31],[67,30,67,31],[69,38,69,39],[70,38,70,39],[68,38,68,39],[69,36,69,37],[65,36,65,37],[67,36,67,37],[66,36,66,37],[70,36,70,37],[71,36,71,37],[59,28,59,29],[61,14,61,15],[60,3,60,4],[60,6,60,7],[60,12,60,13],[60,14,60,15],[59,25,59,26],[60,33,60,34],[65,22,65,23],[65,25,65,26],[65,27,72,27],[65,28,65,29],[69,28,69,29],[66,25,66,26],[65,3,65,4],[69,22,69,23],[66,28,66,29],[69,25,69,26],[67,25,67,26],[67,28,67,29],[70,28,70,29],[71,22,71,23],[70,22,70,23],[64,3,64,4],[66,41,66,42],[67,3,67,4],[67,6,67,7],[67,12,67,13],[67,14,67,15],[67,17,67,18],[67,20,67,21],[67,22,67,23],[67,41,67,42],[66,12,66,13],[66,14,66,15],[66,17,66,18],[66,20,66,21],[66,22,66,23],[65,11,72,11],[65,12,65,13],[69,41,69,42],[68,41,68,42],[69,3,69,4],[69,6,69,7],[69,12,69,13],[69,14,69,15],[69,17,69,18],[69,20,69,21],[64,6,64,7],[64,12,64,13],[64,14,64,15],[63,17,63,18],[63,20,63,21],[63,22,63,23],[68,3,68,4],[63,30,63,31],[63,33,63,34],[63,3,63,4],[63,6,63,7],[63,12,63,13],[63,14,63,15],[64,30,64,31],[64,33,64,34],[64,17,64,18],[63,25,63,26],[64,20,64,21],[64,22,64,23],[64,25,64,26],[64,28,64,29],[61,3,61,4],[61,6,61,7],[61,12,61,13],[60,20,60,21],[60,28,60,29],[62,22,62,23],[60,22,60,23],[60,25,60,26],[61,25,61,26],[62,25,62,26],[61,22,61,23],[61,17,61,18],[61,20,61,21],[60,17,60,18],[58,3,58,4],[58,6,58,7],[58,12,58,13],[58,14,58,15],[58,17,58,18],[58,20,58,21],[58,22,58,23],[58,25,58,26],[57,20,57,21],[57,22,57,23],[57,25,57,26],[57,3,57,4],[57,6,57,7],[57,11,64,11],[57,12,57,13],[57,14,57,15],[57,17,57,18],[57,19,64,19],[59,3,59,4],[59,6,59,7],[59,12,59,13],[62,3,62,4],[62,6,62,7],[62,12,62,13],[57,38,57,39],[62,41,62,42],[60,41,60,42],[64,41,64,42],[61,41,61,42],[57,36,57,37],[63,36,63,37],[64,36,64,37],[57,41,57,42],[64,38,64,39],[61,38,61,39],[62,38,62,39],[60,38,60,39],[59,41,59,42],[58,38,58,39],[59,38,59,39],[56,20,56,21],[56,22,56,23],[56,25,56,26],[55,28,55,29],[59,33,59,34],[58,41,58,42],[59,20,59,21],[59,22,59,23],[62,30,62,31],[61,33,61,34],[62,33,62,34],[58,30,58,31],[59,30,59,31],[60,30,60,31],[57,27,64,27],[57,28,57,29],[61,28,61,29],[63,28,63,29],[62,28,62,29],[57,33,57,34],[57,30,57,31],[63,41,63,42],[63,38,63,39],[57,35,64,35],[54,3,54,4],[54,6,54,7],[54,12,54,13],[54,14,54,15],[49,11,56,11],[53,3,53,4],[53,6,53,7],[53,12,53,13],[53,14,53,15],[49,12,49,13],[49,3,49,4],[49,6,49,7],[55,3,55,4],[55,6,55,7],[56,3,56,4],[56,6,56,7],[56,12,56,13],[56,14,56,15],[52,38,52,39],[51,20,51,21],[51,22,51,23],[51,25,51,26],[51,28,51,29],[53,22,53,23],[53,25,53,26],[56,38,56,39],[55,33,55,34],[56,33,56,34],[53,38,53,39],[52,22,52,23],[52,25,52,26],[52,28,52,29],[55,36,55,37],[54,36,54,37],[55,38,55,39],[54,20,54,21],[54,22,54,23],[54,25,54,26],[54,30,54,31],[54,28,54,29],[55,30,55,31],[56,28,56,29],[53,41,53,42],[55,41,55,42],[56,41,56,42],[48,38,48,39],[52,3,52,4],[52,6,52,7],[52,12,52,13],[52,14,52,15],[52,17,52,18],[52,20,52,21],[51,3,51,4],[51,6,51,7],[51,12,51,13],[51,14,51,15],[49,41,49,42],[50,3,50,4],[50,6,50,7],[50,12,50,13],[50,14,50,15],[50,17,50,18],[50,41,50,42],[49,38,49,39],[50,33,50,34],[50,38,50,39],[49,33,49,34],[49,35,56,35],[51,41,51,42],[52,41,52,42],[54,38,54,39],[51,38,51,39],[54,41,54,42],[50,25,50,26],[1,14,1,15],[48,33,48,34],[48,25,48,26],[48,28,48,29],[51,30,51,31],[49,20,49,21],[49,22,49,23],[53,20,53,21],[53,33,53,34],[53,36,53,37],[52,36,52,37],[51,36,51,37],[54,33,54,34],[52,30,52,31],[49,36,49,37],[48,36,48,37],[38,1,38,2],[40,1,40,2],[44,1,44,2],[46,1,46,5],[31,1,34,2],[35,1,35,2],[36,1,36,2],[37,1,37,2],[39,1,39,2],[41,1,41,2],[42,1,42,2],[43,1,43,2],[48,3,48,4],[48,6,48,7],[48,22,48,23],[48,30,48,31],[1,7,1,9],[13,37,13,40],[0,1,0,2],[0,5,0,6],[1,4,1,6],[1,1,1,3],[4,37,4,40],[5,37,9,40],[10,37,10,40],[11,37,11,40],[12,37,12,40],[2,25,2,30],[3,25,3,30],[1,23,1,24],[2,23,3,24],[24,1,26,2],[1,32,1,34],[2,32,3,34],[1,25,1,31],[16,1,16,2],[17,1,17,2],[2,1,3,3],[2,10,3,11],[2,12,3,13],[2,15,3,21],[1,10,1,13],[0,25,0,34],[1,16,1,21],[53,28,53,29],[53,30,53,31],[50,28,50,29],[23,1,23,2],[27,1,27,2],[28,1,30,2],[18,1,18,2],[19,1,19,2],[20,1,20,2],[21,1,22,2],[51,33,51,34],[49,25,49,26],[49,27,56,27],[49,28,49,29],[49,30,49,31],[50,30,50,31],[47,1,47,9],[47,11,47,18],[47,19,47,26],[47,27,47,34],[48,17,48,18],[48,20,48,21],[49,14,49,15],[49,17,49,18],[139,10,139,11],[90,14,90,15],[96,12,96,13],[89,11,96,11],[100,12,100,13],[100,14,100,15],[50,20,50,21],[50,22,50,23],[138,10,138,11],[138,13,138,14],[52,33,52,34],[55,17,55,18],[55,20,55,21],[55,22,55,23],[55,25,55,26],[58,33,58,34],[135,10,135,11],[135,13,135,14],[136,10,136,11],[136,13,136,14],[137,10,137,11],[137,13,137,14],[55,12,55,13],[55,14,55,15],[87,12,87,13],[87,14,87,15],[90,12,90,13],[59,14,59,15],[62,14,62,15],[71,12,71,13],[71,14,71,15],[65,14,65,15],[83,12,83,13],[83,14,83,15],[81,11,88,11],[81,12,81,13],[81,14,81,15],[80,12,80,13],[80,14,80,15],[86,12,86,13],[48,12,48,13],[48,14,48,15],[131,10,131,11],[131,13,131,14],[132,10,132,11],[132,13,132,14],[133,10,133,11],[133,13,133,14],[134,10,134,11],[134,13,134,14],[86,14,86,15],[92,12,92,13],[92,14,92,15],[97,11,104,11],[97,12,97,13],[97,14,97,15],[130,10,130,11],[130,13,130,14],[109,14,109,15],[110,12,110,13],[110,14,110,15],[85,12,85,13],[85,14,85,15],[88,12,88,13],[97,36,97,37],[99,36,99,37],[100,36,100,37],[101,36,101,37],[74,36,74,37],[56,36,56,37],[147,28,147,29],[147,31,147,32],[139,13,139,14],[62,17,62,18],[62,20,62,21],[59,17,59,18],[59,36,59,37],[60,36,60,37],[61,36,61,37],[62,36,62,37],[56,30,56,31],[49,19,56,19],[54,17,54,18],[51,17,51,18],[53,17,53,18],[61,30,61,31],[58,28,58,29],[56,17,56,18]]}
[null,"体温表",null,null,null,{"$f":"設定!$F$7","v":2017},null,"年",null,2,"月",null,null,null,null,null,null,null,null,null,null,null,null,null,null,"伊都の丘病院"]
[null,"カルテ番号",null,null,"病棟",null,null,"入院形態",null,null,"主治医",null,null,null,"　姓名",null,{"$f":"'1月'!$Q$2","v":0},null,null,null,null,null,null,"性別",null,"生年月日　",null,null,null,null,null,null,"担当Ns"]
[null,{"$f":"'1月'!B3:D4","v":0},null,null,{"$f":"IF(COUNTIF('1月'!E3:G3,\"*\"),INDEX('1月'!E3:G3,MATCH(\"\",'1月'!E3:G3,-1)),\"\")","v":""},null,null,{"$f":"IF(COUNTIF('1月'!H3:J3,\"*\"),INDEX('1月'!H3:J3,MATCH(\"\",'1月'!H3:J3,-1)),\"\")","v":""},null,null,{"$f":"IF(COUNTIF('1月'!K3:M3,\"*\"),INDEX('1月'!K3:M3,MATCH(\"\",'1月'!K3:M3,-1)),\"\")","v":""},null,null,null,null,{"$f":"'1月'!$P$3","v":"新体温表 - バックアップ９１ー"},null,null,null,null,null,null,null,{"$f":"'1月'!$X$3","v":0},null,{"$f":"'1月'!$Z$3","v":"ここに生年月日を記入"},null,null,null,null,null,{"$f":"IF(ISERROR(DATEDIF(Z3,DATE(設定!F7,2,31),\"Y\"))=TRUE,\"\",DATEDIF(Z3,DATE(設定!F7,2,31),\"Y\"))","v":""},{"$f":"'1月'!$AG$3","v":0}]
[null,null,null,null,"/","/","/","/","/","/",null,null,null,null,null,null,null,null,null,null,null,null,null,null,null,{"$f":"SUBSTITUTE(Z3,\"ここに生年月日を記入\",\"\")","v":""},null,null,null,null,null,"歳"]
[null,null,null,null,null,null,null,null,null,null,null,null,null,null,null,null,null,null,null,null,null,null,null,null,null,null,null,null,null,null,null,null,null,null,null,null,null,{"$f":"設定!C11","v":"便利ボタン"}]
[]
[]
[]
[]
[]
[]
[null,null,null,null,null,null,null,null,null,null,null,null,null,null,null,null,null,null,null,null,null,null,null,null,null,null,null,null,null,null,null,null,null,null,null,null,null,{"$f":"設定!C18","v":" ※自動保存されます"}]
[null,null,null,null,null,null,null,null,null,null,null,null,null,null,null,null,null,null,null,null,null,null,null,null,null,null,null,null,null,null,null,null,null,null,null,null,null,{"$f":"設定!C19","v":0}]
[null,null,null,null,null,null,null,null,null,null,null,null,null,null,null,null,null,null,null,null,null,null,null,null,null,null,null,null,null,null,null,null,null,null,null,null,null,{"$f":"設定!C20","v":0}]
[]
[]
[null,"日　付",null,1,2,3,4,5,6,7,8,9,10,11,12,13,14,15,16,17,18,19,20,21,22,23,24,25,26,27,28,29,null,null,"統計"]
[null,"行　動"]
[null,"時　間"]
[null,"行　動"]
[null,"時　間",null,null,null,null,null,null,null,null,null,null,null,null,null,null,null,null,null,null,null,null,null,null,null,null,null,null,null,null,null,null,null,null,{"$f":"IF(COUNTIF(D18:AH21,\"外出\")+COUNTIF(D18:AH21,\"外泊\")=0,\"回数\",COUNTIF(D18:AH21,\"外出\")+COUNTIF(D18:AH21,\"外泊\"))","v":"回数"}]
[null,"面　会"]
[null,null,null,null,null,null,null,null,null,null,null,null,null,null,null,null,null,null,null,null,null,null,null,null,null,null,null,null,null,null,null,null,null,null,{"$f":"IF(COUNTA(D22:AH22)=0,\"回数\",COUNTA(D22:AH22))","v":"回数"}]
[null,"入　浴",null,null,null,null,null,null,null,null,null,null,null,null,null,null,null,null,null,null,null,null,null,null,null,null,null,null,null,null,null,null,null,null,{"$f":"IF(COUNTA(D24:AH24)=0,\"回数\",COUNTA(D24:AH24))","v":"回数"}]
[null,"食　事"]
[]
[null,null,null,null,null,null,null,null,null,null,null,null,null,null,null,null,null,null,null,null,null,null,null,null,null,null,null,null,null,null,null,null,null,null,{"$f":"IFERROR(INT(AVERAGE(V141:AZ143))& \"/\"&INT(AVERAGE(V144:AZ146)),\"平均\")","v":"平均"}]
[null,"便　通",null,{"$f":"IF(ISBLANK(I50),\"\",I50)","v":""},{"$f":"IF(ISBLANK(I51),\"\",I51)","v":""},{"$f":"IF(ISBLANK(I52),\"\",I52)","v":""},{"$f":"IF(ISBLANK(I53),\"\",I53)","v":""},{"$f":"IF(ISBLANK(I54),\"\",I54)","v":""},{"$f":"IF(ISBLANK(I55),\"\",I55)","v":""},{"$f":"IF(ISBLANK(I56),\"\",I56)","v":""},{"$f":"IF(ISBLANK(I57),\"\",I57)","v":""},{"$f":"IF(ISBLANK(I58),\"\",I58)","v":""},{"$f":"IF(ISBLANK(I59),\"\",I59)","v":""},{"$f":"IF(ISBLANK(I60),\"\",I60)","v":""},{"$f":"IF(ISBLANK(I61),\"\",I61)","v":""},{"$f":"IF(ISBLANK(I62),\"\",I62)","v":""},{"$f":"IF(ISBLANK(I63),\"\",I63)","v":""},{"$f":"IF(ISBLANK(I64),\"\",I64)","v":""},{"$f":"IF(ISBLANK(I65),\"\",I65)","v":""},{"$f":"IF(ISBLANK(I66),\"\",I66)","v":""},{"$f":"IF(ISBLANK(I67),\"\",I67)","v":""},{"$f":"IF(ISBLANK(I68),\"\",I68)","v":""},{"$f":"IF(ISBLANK(I69),\"\",I69)","v":""},{"$f":"IF(ISBLANK(I70),\"\",I70)","v":""},{"$f":"IF(ISBLANK(I71),\"\",I71)","v":""},{"$f":"IF(ISBLANK(I72),\"\",I72)","v":""},{"$f":"IF(ISBLANK(I73),\"\",I73)","v":""},{"$f":"IF(ISBLANK(I74),\"\",I74)","v":""},{"$f":"IF(ISBLANK(I75),\"\",I75)","v":""},{"$f":"IF(ISBLANK(I76),\"\",I76)","v":""},{"$f":"IF(ISBLANK(I77),\"\",I77)","v":""},{"$f":"IF(ISBLANK(I78),\"\",I78)","v":""},{"$f":"IF(ISBLANK(I79),\"\",I79)","v":""},{"$f":"IF(ISBLANK(I80),\"\",I80)","v":""},{"$f":"IF(COUNTIF(D28:AH28,0)=0,\"回数\",COUNTIF(D28:AH28,0))","v":"回数"}]
[null,"便処置"]
[null,null,null,"　",null,null,null,null,null,null,null,null,null,null,null,null,null,null,null,null,null,null,null,null,null,null,null,null,null,null,null,null,null,null,{"$f":"IF(SUM(V136:AZ138)=0,\"滴数\",SUM(V136:AZ138))","v":"滴数"}]
[null,null,null,null,null,null,null,null,null,null,null,null,null,null,null,null,null,null,null,null,null,null,null,null,null,null,null,null,null,null,null,null,null,null,{"$f":"IF(AI30=\"滴数\",\"本数\",AI30/150)","v":"本数"}]
[null,"血　圧",null,{"$f":"$R$50","v":0},{"$f":"$R$58","v":0},{"$f":"R66","v":0},{"$f":"R74","v":0},{"$f":"R82","v":0},{"$f":"R90","v":0},{"$f":"R98","v":0},{"$f":"R106","v":0},{"$f":"Z50","v":0},{"$f":"Z58","v":0},{"$f":"Z66","v":0},{"$f":"Z74","v":0},{"$f":"Z82","v":0},{"$f":"Z90","v":0},{"$f":"Z98","v":0},{"$f":"Z106","v":0},{"$f":"AH50","v":0},{"$f":"AH58","v":0},{"$f":"AH66","v":0},{"$f":"AH74","v":0},{"$f":"AH82","v":0},{"$f":"AH90","v":0},{"$f":"AH98","v":0},{"$f":"AH106","v":0},{"$f":"AP50","v":0},{"$f":"AP58","v":0},{"$f":"AP66","v":0},{"$f":"AP74","v":0},{"$f":"AP82","v":0},{"$f":"AP90","v":0},{"$f":"AP98","v":0}]
[null,null,null,{"$f":" IF(ISERROR($R$51),\"\",($R$51))","v":""},{"$f":" IF(ISERROR($R$59),\"\",($R$59))","v":""},{"$f":" IF(ISERROR($R$67),\"\",($R$67))","v":""},{"$f":" IF(ISERROR($R$75),\"\",($R$75))","v":""},{"$f":" IF(ISERROR($R$83),\"\",($R$83))","v":""},{"$f":" IF(ISERROR($R$91),\"\",($R$91))","v":""},{"$f":" IF(ISERROR($R$99),\"\",($R$99))","v":""},{"$f":" IF(ISERROR($R$107),\"\",($R$107))","v":""},{"$f":" IF(ISERROR($Z$51),\"\",($Z$51))","v":""},{"$f":" IF(ISERROR($Z$59),\"\",($Z$59))","v":""},{"$f":" IF(ISERROR($Z$67),\"\",($Z$67))","v":""},{"$f":" IF(ISERROR($Z$75),\"\",($Z$75))","v":""},{"$f":" IF(ISERROR($Z$83),\"\",($Z$83))","v":""},{"$f":" IF(ISERROR($Z$91),\"\",($Z$91))","v":""},{"$f":" IF(ISERROR($Z$99),\"\",($Z$99))","v":""},{"$f":" IF(ISERROR($Z$107),\"\",($Z$107))","v":""},{"$f":" IF(ISERROR($AH$51),\"\",($AH$51))","v":""},{"$f":" IF(ISERROR($AH$59),\"\",($AH$59))","v":""},{"$f":" IF(ISERROR($AH$67),\"\",($AH$67))","v":""},{"$f":" IF(ISERROR($AH$75),\"\",($AH$75))","v":""},{"$f":" IF(ISERROR($AH$83),\"\",($AH$83))","v":""},{"$f":" IF(ISERROR($AH$91),\"\",($AH$91))","v":""},{"$f":" IF(ISERROR($AH$99),\"\",($AH$99))","v":""},{"$f":" IF(ISERROR($AH$107),\"\",($AH$107))","v":""},{"$f":" IF(ISERROR($AP$51),\"\",($AP$51))","v":""},{"$f":" IF(ISERROR($AP$59),\"\",($AP$59))","v":""},{"$f":" IF(ISERROR($AP$67),\"\",($AP$67))","v":""},{"$f":" IF(ISERROR($AP$75),\"\",($AP$75))","v":""},{"$f":" IF(ISERROR($AP$83),\"\",($AP$83))","v":""},{"$f":" IF(ISERROR($AP$91),\"\",($AP$91))","v":0},{"$f":" IF(ISERROR($AP$99),\"\",($AP$99))","v":0}]
[null,null,null,{"$f":"$R$52","v":0},{"$f":"$R$60","v":0},{"$f":"R68","v":0},{"$f":"R76","v":0},{"$f":"R84","v":0},{"$f":"R92","v":0},{"$f":"R100","v":0},{"$f":"R108","v":0},{"$f":"Z52","v":0},{"$f":"Z60","v":0},{"$f":"Z68","v":0},{"$f":"Z76","v":0},{"$f":"Z84","v":0},{"$f":"Z92","v":0},{"$f":"Z100","v":0},{"$f":"Z108","v":0},{"$f":"AH52","v":0},{"$f":"AH60","v":0},{"$f":"AH68","v":0},{"$f":"AH76","v":0},{"$f":"AH84","v":0},{"$f":"AH92","v":0},{"$f":"AH100","v":0},{"$f":"AH108","v":0},{"$f":"AP52","v":0},{"$f":"AP60","v":0},{"$f":"AP68","v":0},{"$f":"AP76","v":0},{"$f":"AP84","v":0},{"$f":"AP92","v":0},{"$f":"AP100","v":0}]
[null,null,null,{"$f":"$R$53","v":0},{"$f":"$R$61","v":0},{"$f":"R69","v":0},{"$f":"R77","v":0},{"$f":"R85","v":0},{"$f":"R93","v":0},{"$f":"R101","v":0},{"$f":"R109","v":0},{"$f":"Z53","v":0},{"$f":"Z61","v":0},{"$f":"Z69","v":0},{"$f":"Z77","v":0},{"$f":"Z85","v":0},{"$f":"Z93","v":0},{"$f":"Z101","v":0},{"$f":"Z109","v":0},{"$f":"AH53","v":0},{"$f":"AH61","v":0},{"$f":"AH69","v":0},{"$f":"AH77","v":0},{"$f":"AH85","v":0},{"$f":"AH93","v":0},{"$f":"AH101","v":0},{"$f":"AH109","v":0},{"$f":"AP53","v":0},{"$f":"AP61","v":0},{"$f":"AP69","v":0},{"$f":"AP77","v":0},{"$f":"AP85","v":0},{"$f":"AP93","v":0},{"$f":"AP101","v":0},{"$f":"IFERROR(INT(AVERAGE(V149:AZ152))& \"/\"&INT(AVERAGE(V153:AZ156)),\"平均\")","v":"平均"}]
[null,"食事箋",null,{"$f":"IF(COUNTIF('1月'!D36:AH36,\"*\"),INDEX('1月'!D36:AH36,MATCH(\"\",'1月'!D36:AH36,-1)),\"\")","v":""}]
[null,"形　態",null,{"$f":"IF(COUNTIF('1月'!D37:AH37,\"*\"),INDEX('1月'!D37:AH37,MATCH(\"\",'1月'!D37:AH37,-1)),\"\")","v":""}]
[null,"身　長",null,{"$f":"IF(COUNT('1月'!D38:AH38),LOOKUP(MAX('1月'!D38:AH38)+1,'1月'!D38:AH38),\"\")","v":""},null,null,null,null,null,null,null,null,null,null,null,null,null,null,null,null,null,null,null,null,null,null,null,null,null,null,null,null,null,null,"BMI"]
[null,"体　重",null,null,null,null,null,null,null,null,null,null,null,null,null,null,null,null,null,null,null,null,null,null,null,null,null,null,null,null,null,null,null,null,{"$f":"IF(ISERROR(INDEX(D39:AH39,MATCH(307,D39:AH39))/(INDEX(D38:AH38,MATCH(9E+307,D38:AH38))/100)^2)=TRUE,\"\",INDEX(D39:AH39,MATCH(307,D39:AH39))/(INDEX(D38:AH38,MATCH(9E+307,D38:AH38))/100)^2)","v":""}]
[null,"Ｉ　Ｎ",null,null,null,null,null,null,null,null,null,null,null,null,null,null,null,null,null,null,null,null,null,null,null,null,null,null,null,null,null,null,null,null,{"$f":"IFERROR(INT(AVERAGE(D40:AH40)),\"平均\")","v":"平均"}]
[null,"ＯＵＴ",null,null,null,null,null,null,null,null,null,null,null,null,null,null,null,null,null,null,null,null,null,null,null,null,null,null,null,null,null,null,null,null,{"$f":"IFERROR(INT(AVERAGE(D41:AH41)),\"平均\")","v":"平均"}]
[null,"生　理",null,null,null,null,null,null,null,null,null,null,null,null,null,null,null,null,null,null,null,null,null,null,null,null,null,null,null,null,null,null,null,null,{"$f":"IF(ISERROR(IF(H132-MATCH(\"*\",D42:AH42,0)=0,\"0日目\",IF(H133=J1,IF(ISERROR(H132-MATCH(\"*\",D42:AH42,0)),\"日数\",H132-MATCH(\"*\",D42:AH42,0)),\"日数\"))),\"日数\",(IF(H132-MATCH(\"*\",D42:AH42,0)=0,\"0日目\",IF(H133=J1,IF(ISERROR(H132-MATCH(\"*\",D42:AH42,0)),\"日数\",H132-MATCH(\"*\",D42:AH42,0)),\"日数\"))))","v":"日数"}]
[null,null,null,null,null,null,null,null,null,null,null,null,null,null,null,null,null,null,null,null,null,null,null,null,null,null,null,null,null,null,null,null,null,null,{"$f":"COUNTA(D43:AH43)","v":0}]
[null,null,null,null,null,null,null,null,null,null,null,null,null,null,null,null,null,null,null,null,null,null,null,null,null,null,null,null,null,null,null,null,null,null,{"$f":"COUNTA(D44:AH44)","v":0}]
[null,"日　付",null,1,2,3,4,5,6,7,8,9,10,11,12,13,14,15,16,17,18,19,20,21,22,23,24,25,26,27,28,29]
[]
[null,{"$f":"$P$3","v":"新体温表 - バックアップ９１ー"},null,null,null,null,null,{"$f":"YEAR(I47)","v":2016},{"$f":"TODAY()","v":"2016-06-08"},{"$f":"TODAY()","v":42529},null,{"$f":"NOW()","v":42529.688973263888}]
[null,"平常時記入",null,null,null,null,null,null,null,null,null,"熱発時記入"]
[null,"日","時間","T",null," P","BP",null,"便",null,null,"日","時間",null,"T",null,"P","BP",null,"日","時間",null,"T",null,"P","BP",null,"日","時間",null,"T",null,"P","BP",null,"日","時間",null,"T",null,"P","BP"]
[null,1,"09:00:00",null,null,null,null,null,null,null,null,1,null,null,null,null,null,null,null,9,null,null,null,null,null,null,null,17,null,null,null,null,null,null,null,25]
[null,2,"09:00:00",null,null,null,null,null,null,null,null,null,"09:00:00",null,{"$f":"IF($D$50=\"\",NA(),$D$50)","v":{"$error":"#N/A"}},null,{"$f":"IF($F$50=\"\",NA(),$F$50)","v":{"$error":"#N/A"}},{"$f":"IF($G$50=\"\",NA(),$G$50)","v":{"$error":"#N/A"}},null,null,"09:00:00",null,{"$f":"IF($D$58=\"\",NA(),$D$58)","v":{"$error":"#N/A"}},null,{"$f":"IF($F$58=\"\",NA(),$F$58)","v":{"$error":"#N/A"}},{"$f":"IF($G$58=\"\",NA(),$G$58)","v":{"$error":"#N/A"}},null,null,"09:00:00",null,{"$f":"IF($D$66=\"\",NA(),$D$66)","v":{"$error":"#N/A"}},null,{"$f":"IF($F$66=\"\",NA(),$F$66)","v":{"$error":"#N/A"}},{"$f":"IF($G$66=\"\",NA(),$G$66)","v":{"$error":"#N/A"}},null,null,"09:00:00",null,{"$f":"IF($D$74=\"\",NA(),$D$74)","v":{"$error":"#N/A"}},null,{"$f":"IF($F$74=\"\",NA(),$F$74)","v":{"$error":"#N/A"}},{"$f":"IF($G$74=\"\",NA(),$G$74)","v":{"$error":"#N/A"}}]
[null,3,"09:00:00",null,null,null,null,null,null,"☆"]
[null,4,"09:00:00"]
[null,5,"09:00:00",null,null,null,null,null,null,"コ"]
[null,6,"09:00:00",null,null,null,null,null,null,"ス"]
[null,7,"09:00:00",null,null,null,null,null,null,"モ"]
[null,8,"09:00:00",null,null,null,null,null,null,"ス"]
[null,9,"09:00:00",null,null,null,null,null,null,"へ",null,2,null,null,null,null,null,null,null,10,null,null,null,null,null,null,null,18,null,null,null,null,null,null,null,26]
[null,10,"09:00:00",null,null,null,null,null,null,"戻",null,null,"09:00:00",null,{"$f":"IF($D$51=\"\",NA(),$D$51)","v":{"$error":"#N/A"}},null,{"$f":"IF($F$51=\"\",NA(),$F$51)","v":{"$error":"#N/A"}},{"$f":"IF($G$51=\"\",NA(),$G$51)","v":{"$error":"#N/A"}},null,null,"09:00:00",null,{"$f":"IF($D$59=\"\",NA(),$D$59)","v":{"$error":"#N/A"}},null,{"$f":"IF($F$59=\"\",NA(),$F$59)","v":{"$error":"#N/A"}},{"$f":"IF($G$59=\"\",NA(),$G$59)","v":{"$error":"#N/A"}},null,null,"09:00:00",null,{"$f":"IF($D$67=\"\",NA(),$D$67)","v":{"$error":"#N/A"}},null,{"$f":"IF($F$67=\"\",NA(),$F$67)","v":{"$error":"#N/A"}},{"$f":"IF($G$67=\"\",NA(),$G$67)","v":{"$error":"#N/A"}},null,null,"09:00:00",null,{"$f":"IF($D$75=\"\",NA(),$D$75)","v":{"$error":"#N/A"}},null,{"$f":"IF($F$75=\"\",NA(),$F$75)","v":{"$error":"#N/A"}},{"$f":"IF($G$75=\"\",NA(),$G$75)","v":{"$error":"#N/A"}}]
[null,11,"09:00:00",null,null,null,null,null,null,"る"]
[null,12,"09:00:00"]
[null,13,"09:00:00"]
[null,14,"09:00:00",null,null,null,null,null,null,"（"]
[null,15,"09:00:00",null,null,null,null,null,null,"選"]
[null,16,"09:00:00",null,null,null,null,null,null,"択"]
[null,17,"09:00:00",null,null,null,null,null,null,"す",null,3,null,null,null,null,null,null,null,11,null,null,null,null,null,null,null,19,null,null,null,null,null,null,null,27]
[null,18,"09:00:00",null,null,null,null,null,null,"る",null,null,"09:00:00",null,{"$f":"IF($D$52=\"\",NA(),$D$52)","v":{"$error":"#N/A"}},null,{"$f":"IF($F$52=\"\",NA(),$F$52)","v":{"$error":"#N/A"}},{"$f":"IF($G$52=\"\",NA(),$G$52)","v":{"$error":"#N/A"}},null,null,"09:00:00",null,{"$f":"IF($D$60=\"\",NA(),$D$60)","v":{"$error":"#N/A"}},null,{"$f":"IF($F$60=\"\",NA(),$F$60)","v":{"$error":"#N/A"}},{"$f":"IF($G$60=\"\",NA(),$G$60)","v":{"$error":"#N/A"}},null,null,"09:00:00",null,{"$f":"IF($D$68=\"\",NA(),$D$68)","v":{"$error":"#N/A"}},null,{"$f":"IF($F$68=\"\",NA(),$F$68)","v":{"$error":"#N/A"}},{"$f":"IF($G$68=\"\",NA(),$G$68)","v":{"$error":"#N/A"}},null,null,"09:00:00",null,{"$f":"IF($D$76=\"\",NA(),$D$76)","v":{"$error":"#N/A"}},null,{"$f":"IF($F$76=\"\",NA(),$F$76)","v":{"$error":"#N/A"}},{"$f":"IF($G$76=\"\",NA(),$G$76)","v":{"$error":"#N/A"}}]
[null,19,"09:00:00",null,null,null,null,null,null,"だ"]
[null,20,"09:00:00",null,null,null,null,null,null,"け"]
[null,21,"09:00:00",null,null,null,null,null,null,"で"]
[null,22,"09:00:00",null,null,null,null,null,null,"移"]
[null,23,"09:00:00",null,null,null,null,null,null,"動"]
[null,24,"09:00:00",null,null,null,null,null,null,"し"]
[null,25,"09:00:00",null,null,null,null,null,null,"ま",null,4,null,null,null,null,null,null,null,12,null,null,null,null,null,null,null,20,null,null,null,null,null,null,null,28]
[null,26,"09:00:00",null,null,null,null,null,null,"す",null,null,"09:00:00",null,{"$f":"IF($D$53=\"\",NA(),$D$53)","v":{"$error":"#N/A"}},null,{"$f":"IF($F$53=\"\",NA(),$F$53)","v":{"$error":"#N/A"}},{"$f":"IF($G$53=\"\",NA(),$G$53)","v":{"$error":"#N/A"}},null,null,"09:00:00",null,{"$f":"IF($D$61=\"\",NA(),$D$61)","v":{"$error":"#N/A"}},null,{"$f":"IF($F$61=\"\",NA(),$F$61)","v":{"$error":"#N/A"}},{"$f":"IF($G$61=\"\",NA(),$G$61)","v":{"$error":"#N/A"}},null,null,"09:00:00",null,{"$f":"IF($D$69=\"\",NA(),$D$69)","v":{"$error":"#N/A"}},null,{"$f":"IF($F$69=\"\",NA(),$F$69)","v":{"$error":"#N/A"}},{"$f":"IF($G$69=\"\",NA(),$G$69)","v":{"$error":"#N/A"}},null,null,"09:00:00",null,{"$f":"IF($D$77=\"\",NA(),$D$77)","v":{"$error":"#N/A"}},null,{"$f":"IF($F$77=\"\",NA(),$F$77)","v":{"$error":"#N/A"}},{"$f":"IF($G$77=\"\",NA(),$G$77)","v":{"$error":"#N/A"}}]
[null,27,"09:00:00",null,null,null,null,null,null,"）"]
[null,28,"09:00:00"]
[null,29,"09:00:00"]
[]
[]
[]
[null,null,null,null,null,null,null,null,null,null,null,5,null,null,null,null,null,null,null,13,null,null,null,null,null,null,null,21,null,null,null,null,null,null,null,29]
[null,null,null,null,null,null,null,null,null,null,null,null,"09:00:00",null,{"$f":"IF($D$54=\"\",NA(),$D$54)","v":{"$error":"#N/A"}},null,{"$f":"IF($F$54=\"\",NA(),$F$54)","v":{"$error":"#N/A"}},{"$f":"IF($G$54=\"\",NA(),$G$54)","v":{"$error":"#N/A"}},null,null,"09:00:00",null,{"$f":"IF($D$62=\"\",NA(),$D$62)","v":{"$error":"#N/A"}},null,{"$f":"IF($F$62=\"\",NA(),$F$62)","v":{"$error":"#N/A"}},{"$f":"IF($G$62=\"\",NA(),$G$62)","v":{"$error":"#N/A"}},null,null,"09:00:00",null,{"$f":"IF($D$70=\"\",NA(),$D$70)","v":{"$error":"#N/A"}},null,{"$f":"IF($F$70=\"\",NA(),$F$70)","v":{"$error":"#N/A"}},{"$f":"IF($G$70=\"\",NA(),$G$70)","v":{"$error":"#N/A"}},null,null,"09:00:00",null,{"$f":"IF($D$78=\"\",NA(),$D$78)","v":{"$error":"#N/A"}},null,{"$f":"IF($F$78=\"\",NA(),$F$78)","v":{"$error":"#N/A"}},{"$f":"IF($G$78=\"\",NA(),$G$78)","v":{"$error":"#N/A"}}]
[]
[]
[]
[]
[]
[]
[null,null,null,null,null,null,null,null,null,null,null,6,null,null,null,null,null,null,null,14,null,null,null,null,null,null,null,22]
[null,null,null,null,null,null,null,null,null,null,null,null,"09:00:00",null,{"$f":"IF($D$55=\"\",NA(),$D$55)","v":{"$error":"#N/A"}},null,{"$f":"IF($F$55=\"\",NA(),$F$55)","v":{"$error":"#N/A"}},{"$f":"IF($G$55=\"\",NA(),$G$55)","v":{"$error":"#N/A"}},null,null,"09:00:00",null,{"$f":"IF($D$63=\"\",NA(),$D$63)","v":{"$error":"#N/A"}},null,{"$f":"IF($F$63=\"\",NA(),$F$63)","v":{"$error":"#N/A"}},{"$f":"IF($G$63=\"\",NA(),$G$63)","v":{"$error":"#N/A"}},null,null,"09:00:00",null,{"$f":"IF($D$71=\"\",NA(),$D$71)","v":{"$error":"#N/A"}},null,{"$f":"IF($F$71=\"\",NA(),$F$71)","v":{"$error":"#N/A"}},{"$f":"IF($G$71=\"\",NA(),$G$71)","v":{"$error":"#N/A"}}]
[]
[]
[]
[]
[]
[]
[null,null,null,null,null,null,null,null,null,null,null,7,null,null,null,null,null,null,null,15,null,null,null,null,null,null,null,23]
[null,null,null,null,null,null,null,null,null,null,null,null,"09:00:00",null,{"$f":"IF($D$56=\"\",NA(),$D$56)","v":{"$error":"#N/A"}},null,{"$f":"IF($F$56=\"\",NA(),$F$56)","v":{"$error":"#N/A"}},{"$f":"IF($G$56=\"\",NA(),$G$56)","v":{"$error":"#N/A"}},null,null,"09:00:00",null,{"$f":"IF($D$64=\"\",NA(),$D$64)","v":{"$error":"#N/A"}},null,{"$f":"IF($F$64=\"\",NA(),$F$64)","v":{"$error":"#N/A"}},{"$f":"IF($G$64=\"\",NA(),$G$64)","v":{"$error":"#N/A"}},null,null,"09:00:00",null,{"$f":"IF($D$72=\"\",NA(),$D$72)","v":{"$error":"#N/A"}},null,{"$f":"IF($F$72=\"\",NA(),$F$72)","v":{"$error":"#N/A"}},{"$f":"IF($G$72=\"\",NA(),$G$72)","v":{"$error":"#N/A"}}]
[]
[]
[]
[]
[]
[]
[null,null,null,null,null,null,null,null,null,null,null,8,null,null,null,null,null,null,null,16,null,null,null,null,null,null,null,24]
[null,null,null,null,null,null,null,null,null,null,null,null,"09:00:00",null,{"$f":"IF($D$57=\"\",NA(),$D$57)","v":{"$error":"#N/A"}},null,{"$f":"IF($F$57=\"\",NA(),$F$57)","v":{"$error":"#N/A"}},{"$f":"IF($G$57=\"\",NA(),$G$57)","v":{"$error":"#N/A"}},null,null,"09:00:00",null,{"$f":"IF($D$65=\"\",NA(),$D$65)","v":{"$error":"#N/A"}},null,{"$f":"IF($F$65=\"\",NA(),$F$65)","v":{"$error":"#N/A"}},{"$f":"IF($G$65=\"\",NA(),$G$65)","v":{"$error":"#N/A"}},null,null,"09:00:00",null,{"$f":"IF($D$73=\"\",NA(),$D$73)","v":{"$error":"#N/A"}},null,{"$f":"IF($F$73=\"\",NA(),$F$73)","v":{"$error":"#N/A"}},{"$f":"IF($G$73=\"\",NA(),$G$73)","v":{"$error":"#N/A"}}]
[]
[]
[]
[]
[]
[]
[]
[]
[]
[]
[]
[]
[]
[]
[]
[]
[]
[]
[]
[]
[]
[null,null,"Enterで入力画面へ"]
[null,null,"ｶｰｿﾙ初期位置",null,null,null,"日付チェック",null,null,null,"バイタルコピー"]
["管理欄",null,"入力に入る",null,null,null,"今日",{"$f":"NOW()","v":"2016-06-08T16:32:07.290"},null,null,"T=未測定",null," P=未測定"," BP=未測定",null,{"$f":"K131&M131&N131","v":"T=未測定 P=未測定 BP=未測定"},"   "]
[null,null,null,null,null,null,"日",{"$f":"DAY(H131)","v":8},null,null,{"$f":"IF($D$74=\"\",NA(),$D$74)","v":{"$error":"#N/A"}},null,{"$f":"IF($F$74=\"\",NA(),$F$74)","v":{"$error":"#N/A"}},{"$f":"IF($G$74=\"\",NA(),$G$74)","v":{"$error":"#N/A"}},null,null,null,null,null,null,"シンラック"]
[null,null,null,null,null,null,"月",{"$f":"MONTH(H131)","v":6},null,null,null,null,null,null,null,"",null,null,null,null,"なし"]
[null,null,null,null,null,null,"年",{"$f":"YEAR(H131)","v":2016},null,null,null,null,null,null,null,""]
[null,null,null,null,null,null,"時",{"$f":"HOUR(H131)","v":16},null,null,null,null,null,null,null,""]
[null,null,null,null,null,null,null,null,null,null,null,null,null,null,null,"",null,null,null,null,"Link",{"$f":"IF(ISERROR(VALUE(D29)),\"\",VALUE(D29))","v":0},0,0,0,0,0,0,0,0,0,0,0,0,0,0,0,0,0,0,0,0,0,0,0,0,0,0,0,{"$f":"IF(ISERROR(VALUE(AF29)),\"\",VALUE(AF29))","v":0},{"$f":"IF(ISERROR(VALUE(AG29)),\"\",VALUE(AG29))","v":0},0]
[null,null,null,null,null,null,"閏便",{"$f":"IF(COUNT(I77:I78),LOOKUP(MAX(I77:I78)+1,I77:I78),\"\")","v":""},null,null,null,null,null,null,null,"",null,null,null,null,null,"",0,0,0,0,0,0,0,0,0,0,0,0,0,0,0,0,0,0,0,0,0,0,0,0,0,0,0,{"$f":"IF(ISERROR(VALUE(AF30)),\"\",VALUE(AF30))","v":0},0,0]
[null,null,null,null,null,null,null,null,null,null,null,null,null,null,null,"",null,null,null,null,null,0,0,0,0,0,0,0,0,0,0,0,0,0,0,0,0,0,0,0,0,0,0,0,0,0,0,0,0,{"$f":"IF(ISERROR(VALUE(AF31)),\"\",VALUE(AF31))","v":0},0,0]
[null,null,null,null,null,null,null,null,null,null,null,null,null,null,null,""]
[null,null,null,null,null,null,null,null,null,null,{"$f":"IF($D$75=\"\",NA(),$D$75)","v":{"$error":"#N/A"}},null,{"$f":"IF($F$75=\"\",NA(),$F$75)","v":{"$error":"#N/A"}},{"$f":"IF($G$75=\"\",NA(),$G$75)","v":{"$error":"#N/A"}},null,null,null,null,null,null,"食事平均"]
[null,null,null,null,null,null,null,null,null,null,null,null,null,null,null,null,null,null,null,null,"左",{"$f":"IF(D25=\"\", \"\", LEFT(D25,SEARCH(\"/\",D25,1)-1)*1)","v":""},"","","","","","","","","",{"$f":"IF(N25=\"\", \"\", LEFT(N25,SEARCH(\"/\",N25,1)-1)*1)","v":""},"","","","","","","","","",{"$f":"IF(X25=\"\", \"\", LEFT(X25,SEARCH(\"/\",X25,1)-1)*1)","v":""},"","","","","","","",""]
[null,null,null,null,null,null,null,null,null,null,null,null,null,null,null,null,null,null,null,null,null,"","","","","","","","","","","","","","","","","","","","","","","","","","","","",""]
[null,null,null,null,null,null,null,null,null,null,null,null,null,null,null,null,null,null,null,null,null,"","","","","","","","","","","","","","","","","","","","","","","","","","","","",""]
[null,null,null,null,null,null,null,null,null,null,null,null,null,null,null,null,null,null,null,null,"右",{"$f":"IF(D25=\"\", \"\", RIGHT(D25,LEN(D25)-FIND(\"/\",D25,1))*1)","v":""},"","","","","","","","","",{"$f":"IF(N25=\"\", \"\", RIGHT(N25,LEN(N25)-FIND(\"/\",N25,1))*1)","v":""},"","","","","","","","","",{"$f":"IF(X25=\"\", \"\", RIGHT(X25,LEN(X25)-FIND(\"/\",X25,1))*1)","v":""},"","","","","","","",""]
[null,null,null,null,null,null,null,null,null,null,null,null,null,null,null,null,null,null,null,null,null,"","","","","","","","","","","","","","","","","","","","","","","","","","","","",""]
[null,null,null,null,null,null,null,null,null,null,null,null,null,null,null,null,null,null,null,null,null,"","","","","","","","","","","","","","","","","","","","","","","","","","","","",""]
[null,null,null,null,null,null,null,null,null,null,null,null,null,null,null,null,null,null,null,null,null,null,null,null,null,null,null,null,null,null,null,null,null,{"$f":"AC147&AE147&AF147","v":""}]
[null,null,null,null,null,null,null,null,null,null,null,null,null,null,null,null,null,null,null,null,"BP平均",null,null,null,null,null,null,null,null,null,null,null,null,{"$f":"AC148&AE148&AF148","v":""}]
[null,null,null,null,null,null,null,null,null,null,null,null,null,null,null,null,null,null,null,null,"左",{"$f":"IF(ISERROR(LEFT(D32,SEARCH(\"/\",D32,1)-1)*1),\"\",LEFT(D32,SEARCH(\"/\",D32,1)-1)*1)","v":""},"","","","","","","","","",{"$f":"IF(ISERROR(LEFT(N32,SEARCH(\"/\",N32,1)-1)*1),\"\",LEFT(N32,SEARCH(\"/\",N32,1)-1)*1)","v":""},"","","","","","","","","",{"$f":"IF(ISERROR(LEFT(X32,SEARCH(\"/\",X32,1)-1)*1),\"\",LEFT(X32,SEARCH(\"/\",X32,1)-1)*1)","v":""},"","","","","","","",""]
[null,null,null,null,null,null,null,null,null,null,null,null,null,null,null,null,null,null,null,null,null,"","","","","","","","","","","","","","","","","","","","","","","","","","","","",""]
[null,null,null,null,null,null,null,null,null,null,null,null,null,null,null,null,null,null,null,null,null,"","","","","","","","","","","","","","","","","","","","","","","","","","","","",""]
[null,null,null,null,null,null,null,null,null,null,null,null,null,null,null,null,null,null,null,null,null,"","","","","","","","","","","","","","","","","","","","","","","","","","","","",""]
[null,null,null,null,null,null,null,null,null,null,null,null,null,null,null,null,null,null,null,null,"右",{"$f":"IF(ISERROR(RIGHT(D32,LEN(D32)-FIND(\"/\",D32,1))*1),\"\",RIGHT(D32,LEN(D32)-FIND(\"/\",D32,1))*1)","v":""},"","","","","","","","","",{"$f":"IF(ISERROR(RIGHT(N32,LEN(N32)-FIND(\"/\",N32,1))*1),\"\",RIGHT(N32,LEN(N32)-FIND(\"/\",N32,1))*1)","v":""},"","","","","","","","","",{"$f":"IF(ISERROR(RIGHT(X32,LEN(X32)-FIND(\"/\",X32,1))*1),\"\",RIGHT(X32,LEN(X32)-FIND(\"/\",X32,1))*1)","v":""},"","","","","","","",""]
[null,null,null,null,null,null,null,null,null,null,null,null,null,null,null,null,null,null,null,null,null,"","","","","","","","","","","","","","","","","","","","","","","","","","","","",""]
[null,null,null,null,null,null,null,null,null,null,null,null,null,null,null,null,null,null,null,null,null,"","","","","","","","","","","","","","","","","","","","","","","","","","","","",""]
[null,null,null,null,null,null,null,null,null,null,null,null,null,null,null,null,null,null,null,null,null,"","","","","","","","","","","","","","","","","","","","","","","","","","","","",""]
[null,null,null,null,null,null,null,null,null,null,null,null,null,null,null,""]
[null,null,null,null,null,null,null,null,null,null,null,null,null,null,null,""]
[null,null,null,null,null,null,null,null,null,null,null,null,null,null,null,""]
[null,null,null,null,null,null,null,null,null,null,null,null,null,null,null,""]
[null,null,null,null,null,null,null,null,null,null,null,null,null,null,null,""]

{"sheet":"3月","index":2,"n_rows":161,"n_cols":52,"rows_kept":161,"cut":false,"hidden":false,"merged":[[147,28,147,29],[147,31,147,32],[139,28,139,29],[139,31,139,32],[137,10,137,11],[137,13,137,14],[138,10,138,11],[138,13,138,14],[135,10,135,11],[135,13,135,14],[136,10,136,11],[136,13,136,14],[46,1,46,5],[52,17,52,18],[56,3,56,4],[56,6,56,7],[56,12,56,13],[56,14,56,15],[56,17,56,18],[65,12,65,13],[65,14,65,15],[65,17,65,18],[61,12,61,13],[61,14,61,15],[64,14,64,15],[64,17,64,18],[57,3,57,4],[57,6,57,7],[57,11,64,11],[60,3,60,4],[60,6,60,7],[63,3,63,4],[63,6,63,7],[58,12,58,13],[58,14,58,15],[58,17,58,18],[133,10,133,11],[133,13,133,14],[134,10,134,11],[134,13,134,14],[131,10,131,11],[131,13,131,14],[132,10,132,11],[132,13,132,14],[47,1,47,9],[47,11,47,18],[66,3,66,4],[66,6,66,7],[66,12,66,13],[49,14,49,15],[49,17,49,18],[49,11,56,11],[53,3,53,4],[53,6,53,7],[53,12,53,13],[49,12,49,13],[60,12,60,13],[60,14,60,15],[61,3,61,4],[61,6,61,7],[47,19,47,26],[48,3,48,4],[0,1,0,2],[0,5,0,6],[1,1,1,3],[1,4,1,6],[4,37,4,40],[5,37,9,40],[16,1,16,2],[17,1,17,2],[2,1,3,3],[18,1,18,2],[19,1,19,2],[20,1,20,2],[21,1,22,2],[23,1,23,2],[27,1,27,2],[28,1,30,2],[39,1,39,2],[40,1,40,2],[41,1,41,2],[42,1,42,2],[43,1,43,2],[44,1,44,2],[47,27,47,34],[48,22,48,23],[48,25,48,26],[48,28,48,29],[56,22,56,23],[56,25,56,26],[56,28,56,29],[48,6,48,7],[48,41,48,42],[48,36,48,37],[48,30,48,31],[48,33,48,34],[48,38,48,39],[48,12,48,13],[48,14,48,15],[48,17,48,18],[48,20,48,21],[54,33,54,34],[54,36,54,37],[50,33,50,34],[50,36,50,37],[54,30,54,31],[53,30,53,31],[49,33,49,34],[56,36,56,37],[56,38,56,39],[56,41,56,42],[49,35,56,35],[51,41,51,42],[49,36,49,37],[51,33,51,34],[51,36,51,37],[51,38,51,39],[49,41,49,42],[53,36,53,37],[52,36,52,37],[53,33,53,34],[53,38,53,39],[53,41,53,42],[54,38,54,39],[54,41,54,42],[52,41,52,42],[50,41,50,42],[49,38,49,39],[55,33,55,34],[55,36,55,37],[55,38,55,39],[55,41,55,42],[54,25,54,26],[52,22,52,23],[52,6,52,7],[52,12,52,13],[52,14,52,15],[50,25,50,26],[55,30,55,31],[50,17,50,18],[50,22,50,23],[55,25,55,26],[52,20,52,21],[51,12,51,13],[51,14,51,15],[51,20,51,21],[51,22,51,23],[52,30,52,31],[56,30,56,31],[56,33,56,34],[50,38,50,39],[51,3,51,4],[51,6,51,7],[52,38,52,39],[52,3,52,4],[51,28,51,29],[52,33,52,34],[51,30,51,31],[49,19,56,19],[54,17,54,18],[51,17,51,18],[49,20,49,21],[53,14,53,15],[50,20,50,21],[54,3,54,4],[54,6,54,7],[54,12,54,13],[49,30,49,31],[50,3,50,4],[50,6,50,7],[50,12,50,13],[50,14,50,15],[49,22,49,23],[55,3,55,4],[55,6,55,7],[55,12,55,13],[55,14,55,15],[55,17,55,18],[55,20,55,21],[55,22,55,23],[54,14,54,15],[54,20,54,21],[54,22,54,23],[62,28,62,29],[64,22,64,23],[64,25,64,26],[59,25,59,26],[61,22,61,23],[60,22,60,23],[60,25,60,26],[63,22,63,23],[57,33,57,34],[61,33,61,34],[62,33,62,34],[57,30,57,31],[58,30,58,31],[59,30,59,31],[63,28,63,29],[64,30,64,31],[64,33,64,34],[57,22,57,23],[57,25,57,26],[57,27,64,27],[63,25,63,26],[58,36,58,37],[58,38,58,39],[62,30,62,31],[60,30,60,31],[60,33,60,34],[60,38,60,39],[61,30,61,31],[59,33,59,34],[61,36,61,37],[60,36,60,37],[62,41,62,42],[59,41,59,42],[64,41,64,42],[60,41,60,42],[58,41,58,42],[64,3,64,4],[64,6,64,7],[57,38,57,39],[57,28,57,29],[61,28,61,29],[58,33,58,34],[59,17,59,18],[59,20,59,21],[59,22,59,23],[58,28,58,29],[62,38,62,39],[58,25,58,26],[60,28,60,29],[61,38,61,39],[61,25,61,26],[62,25,62,26],[59,36,59,37],[59,38,59,39],[59,28,59,29],[58,20,58,21],[58,22,58,23],[57,19,64,19],[57,20,57,21],[59,3,59,4],[59,6,59,7],[59,12,59,13],[59,14,59,15],[64,20,64,21],[60,17,60,18],[60,20,60,21],[61,17,61,18],[61,20,61,21],[57,12,57,13],[57,14,57,15],[57,17,57,18],[63,12,63,13],[63,14,63,15],[64,12,64,13],[64,36,64,37],[64,38,64,39],[64,28,64,29],[63,33,63,34],[61,41,61,42],[62,3,62,4],[62,6,62,7],[62,12,62,13],[62,14,62,15],[62,17,62,18],[62,20,62,21],[62,22,62,23],[62,36,62,37],[63,17,63,18],[63,20,63,21],[63,30,63,31],[63,41,63,42],[63,36,63,37],[63,38,63,39],[57,35,64,35],[57,36,57,37],[57,41,57,42],[58,3,58,4],[58,6,58,7],[66,30,66,31],[67,30,67,31],[65,38,65,39],[66,33,66,34],[66,36,66,37],[66,38,66,39],[67,36,67,37],[65,33,65,34],[65,35,72,35],[67,33,67,34],[72,38,72,39],[67,38,67,39],[70,38,70,39],[70,30,70,31],[70,33,70,34],[68,36,68,37],[68,30,68,31],[67,41,67,42],[65,41,65,42],[68,41,68,42],[72,41,72,42],[69,36,69,37],[69,38,69,39],[66,41,66,42],[65,36,65,37],[71,30,71,31],[71,33,71,34],[71,36,71,37],[71,38,71,39],[71,41,71,42],[72,30,72,31],[72,33,72,34],[72,36,72,37],[69,41,69,42],[68,38,68,39],[70,41,70,42],[68,33,68,34],[69,33,69,34],[70,36,70,37],[69,30,69,31],[65,30,65,31],[70,25,70,26],[71,25,71,26],[71,28,71,29],[66,28,66,29],[72,25,72,26],[67,25,67,26],[67,28,67,29],[65,25,65,26],[68,3,68,4],[68,6,68,7],[68,12,68,13],[68,14,68,15],[68,17,68,18],[68,20,68,21],[68,25,68,26],[68,28,68,29],[72,20,72,21],[65,11,72,11],[72,28,72,29],[69,3,69,4],[65,3,65,4],[72,3,72,4],[66,20,66,21],[67,3,67,4],[70,3,70,4],[70,6,70,7],[70,12,70,13],[70,14,70,15],[70,17,70,18],[70,20,70,21],[70,22,70,23],[67,6,67,7],[67,12,67,13],[70,28,70,29],[65,27,72,27],[65,28,65,29],[69,28,69,29],[66,25,66,26],[69,25,69,26],[79,3,79,4],[79,17,79,18],[78,3,78,4],[67,20,67,21],[66,22,66,23],[71,22,71,23],[66,14,66,15],[66,17,66,18],[65,22,65,23],[69,20,69,21],[65,19,72,19],[65,20,65,21],[72,22,72,23],[71,3,71,4],[71,6,71,7],[71,12,71,13],[71,14,71,15],[71,17,71,18],[71,20,71,21],[69,6,69,7],[69,12,69,13],[69,14,69,15],[69,17,69,18],[65,6,65,7],[69,22,69,23],[72,6,72,7],[72,12,72,13],[72,14,72,15],[68,22,68,23],[67,22,67,23],[67,14,67,15],[67,17,67,18],[79,20,79,21],[75,22,75,23],[75,25,75,26],[75,28,75,29],[78,6,78,7],[78,12,78,13],[78,14,78,15],[78,17,78,18],[78,20,78,21],[76,14,76,15],[76,17,76,18],[76,20,76,21],[76,22,76,23],[77,22,77,23],[77,25,77,26],[78,22,78,23],[78,25,78,26],[78,28,78,29],[76,25,76,26],[73,11,80,11],[73,12,73,13],[73,14,73,15],[73,17,73,18],[73,41,73,42],[74,3,74,4],[74,6,74,7],[74,12,74,13],[74,14,74,15],[74,17,74,18],[74,20,74,21],[74,22,74,23],[74,25,74,26],[74,28,74,29],[74,41,74,42],[73,33,73,34],[73,35,80,35],[74,30,74,31],[75,30,75,31],[76,30,76,31],[77,28,77,29],[77,30,77,31],[73,28,73,29],[79,22,79,23],[79,25,79,26],[79,6,79,7],[79,12,79,13],[79,14,79,15],[73,36,73,37],[76,3,76,4],[76,6,76,7],[76,12,76,13],[73,20,73,21],[73,22,73,23],[73,25,73,26],[73,30,73,31],[76,38,76,39],[76,28,76,29],[76,33,76,34],[76,36,76,37],[75,38,75,39],[75,3,75,4],[75,6,75,7],[75,12,75,13],[75,14,75,15],[75,17,75,18],[75,20,75,21],[73,3,73,4],[73,6,73,7],[76,41,76,42],[77,3,77,4],[77,6,77,7],[77,12,77,13],[77,14,77,15],[77,17,77,18],[77,20,77,21],[77,36,77,37],[77,38,77,39],[77,41,77,42],[73,19,80,19],[80,12,80,13],[80,14,80,15],[80,17,80,18],[80,20,80,21],[80,22,80,23],[80,25,80,26],[73,38,73,39],[74,33,74,34],[78,33,78,34],[78,36,78,37],[78,38,78,39],[78,41,78,42],[73,27,80,27],[79,33,79,34],[79,36,79,37],[79,38,79,39],[77,33,77,34],[79,28,79,29],[79,30,79,31],[79,41,79,42],[80,28,80,29],[80,30,80,31],[80,33,80,34],[80,36,80,37],[80,38,80,39],[80,41,80,42],[78,30,78,31],[75,41,75,42],[74,36,74,37],[74,38,74,39],[75,33,75,34],[75,36,75,37],[86,33,86,34],[81,11,88,11],[81,12,81,13],[81,14,81,15],[81,17,81,18],[81,19,88,19],[81,20,81,21],[81,22,81,23],[81,25,81,26],[81,27,88,27],[82,12,82,13],[82,14,82,15],[82,17,82,18],[82,20,82,21],[82,22,82,23],[82,25,82,26],[83,12,83,13],[83,14,83,15],[83,17,83,18],[83,20,83,21],[83,22,83,23],[83,25,83,26],[84,12,84,13],[84,14,84,15],[81,36,81,37],[85,41,85,42],[81,38,81,39],[82,36,82,37],[82,38,82,39],[83,36,83,37],[83,38,83,39],[84,36,84,37],[84,38,84,39],[81,41,81,42],[82,41,82,42],[83,41,83,42],[84,41,84,42],[85,12,85,13],[85,14,85,15],[85,17,85,18],[85,20,85,21],[85,22,85,23],[85,25,85,26],[86,36,86,37],[86,38,86,39],[86,41,86,42],[87,12,87,13],[87,14,87,15],[87,17,87,18],[87,20,87,21],[87,22,87,23],[87,25,87,26],[87,33,87,34],[87,36,87,37],[87,38,87,39],[87,41,87,42],[86,30,86,31],[87,28,87,29],[87,30,87,31],[81,35,88,35],[82,28,82,29],[82,30,82,31],[82,33,82,34],[83,28,83,29],[83,30,83,31],[83,33,83,34],[86,28,86,29],[85,28,85,29],[85,30,85,31],[85,33,85,34],[85,36,85,37],[85,38,85,39],[84,17,84,18],[96,41,96,42],[88,12,88,13],[88,14,88,15],[88,17,88,18],[88,20,88,21],[88,22,88,23],[88,25,88,26],[88,33,88,34],[88,36,88,37],[88,38,88,39],[88,41,88,42],[93,25,93,26],[93,33,93,34],[93,36,93,37],[93,38,93,39],[93,41,93,42],[94,12,94,13],[94,14,94,15],[94,36,94,37],[94,38,94,39],[94,41,94,42],[88,28,88,29],[88,30,88,31],[89,38,89,39],[95,25,95,26],[95,28,95,29],[95,30,95,31],[95,33,95,34],[95,36,95,37],[95,38,95,39],[91,38,91,39],[92,25,92,26],[96,36,96,37],[96,38,96,39],[95,41,95,42],[91,41,91,42],[91,28,91,29],[91,30,91,31],[93,28,93,29],[91,33,91,34],[89,25,89,26],[90,25,90,26],[89,33,89,34],[90,28,90,29],[94,25,94,26],[94,30,94,31],[94,33,94,34],[92,41,92,42],[89,41,89,42],[90,36,90,37],[90,38,90,39],[90,30,90,31],[90,33,90,34],[91,25,91,26],[90,41,90,42],[91,36,91,37],[100,41,100,42],[97,35,104,35],[97,36,97,37],[97,38,97,39],[97,41,97,42],[98,36,98,37],[98,38,98,39],[101,12,101,13],[101,14,101,15],[99,28,99,29],[99,30,99,31],[101,28,101,29],[101,30,101,31],[102,28,102,29],[100,33,100,34],[101,17,101,18],[101,20,101,21],[101,22,101,23],[101,36,101,37],[101,38,101,39],[101,41,101,42],[102,36,102,37],[102,38,102,39],[102,41,102,42],[103,38,103,39],[97,19,104,19],[97,20,97,21],[97,22,97,23],[97,25,97,26],[98,20,98,21],[98,22,98,23],[98,25,98,26],[99,20,99,21],[99,22,99,23],[97,33,97,34],[98,28,98,29],[104,38,104,39],[104,33,104,34],[100,36,100,37],[100,38,100,39],[103,30,103,31],[103,33,103,34],[102,33,102,34],[102,30,102,31],[103,20,103,21],[102,20,102,21],[103,36,103,37],[103,41,103,42],[104,41,104,42],[104,14,104,15],[104,17,104,18],[104,20,104,21],[104,36,104,37],[104,22,104,23],[104,25,104,26],[104,28,104,29],[104,30,104,31],[97,27,104,27],[97,28,97,29],[97,30,97,31],[98,41,98,42],[99,36,99,37],[99,38,99,39],[99,41,99,42],[99,17,99,18],[99,33,99,34],[98,30,98,31],[98,33,98,34],[99,25,99,26],[103,25,103,26],[103,28,103,29],[111,28,111,29],[111,30,111,31],[111,33,111,34],[110,33,110,34],[110,22,110,23],[110,25,110,26],[110,28,110,29],[110,30,110,31],[111,17,111,18],[111,20,111,21],[111,22,111,23],[111,25,111,26],[105,19,112,19],[105,20,105,21],[112,22,112,23],[108,17,108,18],[108,20,108,21],[106,25,106,26],[107,20,107,21],[107,22,107,23],[107,28,107,29],[108,28,108,29],[105,27,112,27],[105,28,105,29],[109,28,109,29],[105,17,105,18],[106,28,106,29],[106,30,106,31],[112,33,112,34],[112,25,112,26],[112,28,112,29],[112,14,112,15],[112,17,112,18],[112,20,112,21],[111,14,111,15],[108,14,108,15],[110,14,110,15],[110,17,110,18],[110,20,110,21],[107,17,107,18],[109,17,109,18],[109,20,109,21],[112,30,112,31],[108,33,108,34],[108,22,108,23],[108,25,108,26],[109,22,109,23],[109,25,109,26],[111,12,111,13],[130,0,132,0],[130,2,130,4],[130,7,130,8],[105,11,112,11],[105,12,105,13],[107,12,107,13],[108,12,108,13],[110,12,110,13],[109,12,109,13],[106,12,106,13],[129,10,129,12],[130,10,130,11],[130,13,130,14],[129,2,129,4],[129,6,129,8],[112,12,112,13],[109,14,109,15],[106,14,106,15],[107,14,107,15],[13,37,13,40],[10,37,10,40],[11,37,11,40],[12,37,12,40],[93,17,93,18],[93,20,93,21],[93,22,93,23],[92,36,92,37],[92,38,92,39],[89,35,96,35],[89,36,89,37],[89,19,96,19],[89,20,89,21],[89,22,89,23],[90,20,90,21],[90,22,90,23],[91,22,91,23],[92,20,92,21],[92,22,92,23],[92,28,92,29],[92,30,92,31],[89,27,96,27],[89,28,89,29],[89,30,89,31],[107,33,107,34],[97,11,104,11],[97,12,97,13],[97,14,97,15],[97,17,97,18],[98,12,98,13],[98,14,98,15],[98,17,98,18],[99,12,99,13],[99,14,99,15],[103,22,103,23],[105,22,105,23],[105,25,105,26],[106,20,106,21],[106,22,106,23],[107,30,107,31],[107,25,107,26],[105,30,105,31],[106,17,106,18],[103,14,103,15],[103,17,103,18],[102,14,102,15],[102,17,102,18],[102,25,102,26],[96,30,96,31],[96,33,96,34],[93,30,93,31],[1,25,1,31],[2,25,2,30],[3,25,3,30],[105,14,105,15],[105,33,105,34],[106,33,106,34],[94,28,94,29],[92,33,92,34],[96,25,96,26],[96,28,96,29],[95,17,95,18],[95,20,95,21],[95,22,95,23],[84,22,84,23],[84,25,84,26],[84,28,84,29],[84,30,84,31],[84,33,84,34],[81,28,81,29],[81,30,81,31],[81,33,81,34],[86,25,86,26],[84,20,84,21],[72,17,72,18],[109,30,109,31],[109,33,109,34],[108,30,108,31],[101,25,101,26],[101,33,101,34],[93,12,93,13],[93,14,93,15],[96,17,96,18],[96,20,96,21],[96,22,96,23],[104,12,104,13],[100,12,100,13],[100,14,100,15],[100,17,100,18],[100,20,100,21],[100,22,100,23],[100,25,100,26],[100,28,100,29],[100,30,100,31],[96,12,96,13],[96,14,96,15],[89,11,96,11],[89,12,89,13],[89,14,89,15],[89,17,89,18],[90,12,90,13],[90,14,90,15],[90,17,90,18],[91,12,91,13],[91,14,91,15],[91,17,91,18],[94,17,94,18],[103,12,103,13],[94,20,94,21],[94,22,94,23],[92,12,92,13],[92,14,92,15],[92,17,92,18],[95,12,95,13],[95,14,95,15],[86,12,86,13],[86,14,86,15],[86,17,86,18],[86,20,86,21],[86,22,86,23],[102,12,102,13],[102,22,102,23],[91,20,91,21],[0,25,0,34],[1,10,1,13],[1,14,1,15],[1,16,1,21],[2,10,3,11],[2,12,3,13],[2,15,3,21],[31,1,34,2],[35,1,35,2],[1,23,1,24],[2,23,3,24],[1,7,1,9],[36,1,36,2],[37,1,37,2],[38,1,38,2],[24,1,26,2],[49,3,49,4],[49,6,49,7],[1,32,1,34],[2,32,3,34],[49,25,49,26],[49,27,56,27],[49,28,49,29],[50,30,50,31],[50,28,50,29],[54,28,54,29],[52,25,52,26],[52,28,52,29],[51,25,51,26],[53,17,53,18],[53,20,53,21],[53,22,53,23],[53,25,53,26],[53,28,53,29],[55,28,55,29],[56,20,56,21]]}
[null,"体温表",null,null,null,{"$f":"設定!$F$7","v":2017},null,"年",null,3,"月",null,null,null,null,null,null,null,null,null,null,null,null,null,null,"伊都の丘病院"]
[null,"カルテ番号",null,null,"病棟",null,null,"入院形態",null,null,"主治医",null,null,null,"　姓名",null,{"$f":"'2月'!$Q$2","v":0},null,null,null,null,null,null,"性別",null,"生年月日　",null,null,null,null,null,null,"担当Ns"]
[null,{"$f":"'2月'!B3:D4","v":0},null,null,{"$f":"IF(COUNTIF('2月'!E3:G3,\"*\"),INDEX('2月'!E3:G3,MATCH(\"\",'2月'!E3:G3,-1)),\"\")","v":""},null,null,{"$f":"IF(COUNTIF('2月'!H3:J3,\"*\"),INDEX('2月'!H3:J3,MATCH(\"\",'2月'!H3:J3,-1)),\"\")","v":""},null,null,{"$f":"IF(COUNTIF('2月'!K3:M3,\"*\"),INDEX('2月'!K3:M3,MATCH(\"\",'2月'!K3:M3,-1)),\"\")","v":""},null,null,null,null,{"$f":"'2月'!$P$3","v":"新体温表 - バックアップ９１ー"},null,null,null,null,null,null,null,{"$f":"'2月'!$X$3","v":0},null,{"$f":"'2月'!$Z$3","v":"ここに生年月日を記入"},null,null,null,null,null,{"$f":"IF(ISERROR(DATEDIF(Z3,DATE(設定!F7,3,31),\"Y\"))=TRUE,\"\",DATEDIF(Z3,DATE(設定!F7,3,31),\"Y\"))","v":""},{"$f":"'2月'!$AG$3","v":0}]
[null,null,null,null,"/","/","/","/","/","/",null,null,null,null,null,null,null,null,null,null,null,null,null,null,null,{"$f":"SUBSTITUTE(Z3,\"ここに生年月日を記入\",\"\")","v":""},null,null,null,null,null,"歳"]
[null,null,null,null,null,null,null,null,null,null,null,null,null,null,null,null,null,null,null,null,null,null,null,null,null,null,null,null,null,null,null,null,null,null,null,null,null,{"$f":"設定!C11","v":"便利ボタン"}]
[]
[]
[]
[]
[]
[]
[null,null,null,null,null,null,null,null,null,null,null,null,null,null,null,null,null,null,null,null,null,null,null,null,null,null,null,null,null,null,null,null,null,null,null,null,null,{"$f":"設定!C18","v":" ※自動保存されます"}]
[null,null,null,null,null,null,null,null,null,null,null,null,null,null,null,null,null,null,null,null,null,null,null,null,null,null,null,null,null,null,null,null,null,null,null,null,null,{"$f":"設定!C19","v":0}]
[null,null,null,null,null,null,null,null,null,null,null,null,null,null,null,null,null,null,null,null,null,null,null,null,null,null,null,null,null,null,null,null,null,null,null,null,null,{"$f":"設定!C20","v":0}]
[]
[]
[null,"日　付",null,1,2,3,4,5,6,7,8,9,10,11,12,13,14,15,16,17,18,19,20,21,22,23,24,25,26,27,28,29,30,31,"統計"]
[null,"行　動"]
[null,"時　間"]
[null,"行　動"]
[null,"時　間",null,null,null,null,null,null,null,null,null,null,null,null,null,null,null,null,null,null,null,null,null,null,null,null,null,null,null,null,null,null,null,null,{"$f":"IF(COUNTIF(D18:AH21,\"外出\")+COUNTIF(D18:AH21,\"外泊\")=0,\"回数\",COUNTIF(D18:AH21,\"外出\")+COUNTIF(D18:AH21,\"外泊\"))","v":"回数"}]
[null,"面　会"]
[null,null,null,null,null,null,null,null,null,null,null,null,null,null,null,null,null,null,null,null,null,null,null,null,null,null,null,null,null,null,null,null,null,null,{"$f":"IF(COUNTA(D22:AH22)=0,\"回数\",COUNTA(D22:AH22))","v":"回数"}]
[null,"入　浴",null,null,null,null,null,null,null,null,null,null,null,null,null,null,null,null,null,null,null,null,null,null,null,null,null,null,null,null,null,null,null,null,{"$f":"IF(COUNTA(D24:AH24)=0,\"回数\",COUNTA(D24:AH24))","v":"回数"}]
[null,"食　事"]
[]
[null,null,null,null,null,null,null,null,null,null,null,null,null,null,null,null,null,null,null,null,null,null,null,null,null,null,null,null,null,null,null,null,null,null,{"$f":"IFERROR(INT(AVERAGE(V141:AZ143))& \"/\"&INT(AVERAGE(V144:AZ146)),\"平均\")","v":"平均"}]
[null,"便　通",null,{"$f":"IF(ISBLANK(I50),\"\",I50)","v":""},{"$f":"IF(ISBLANK(I51),\"\",I51)","v":""},{"$f":"IF(ISBLANK(I52),\"\",I52)","v":""},{"$f":"IF(ISBLANK(I53),\"\",I53)","v":""},{"$f":"IF(ISBLANK(I54),\"\",I54)","v":""},{"$f":"IF(ISBLANK(I55),\"\",I55)","v":""},{"$f":"IF(ISBLANK(I56),\"\",I56)","v":""},{"$f":"IF(ISBLANK(I57),\"\",I57)","v":""},{"$f":"IF(ISBLANK(I58),\"\",I58)","v":""},{"$f":"IF(ISBLANK(I59),\"\",I59)","v":""},{"$f":"IF(ISBLANK(I60),\"\",I60)","v":""},{"$f":"IF(ISBLANK(I61),\"\",I61)","v":""},{"$f":"IF(ISBLANK(I62),\"\",I62)","v":""},{"$f":"IF(ISBLANK(I63),\"\",I63)","v":""},{"$f":"IF(ISBLANK(I64),\"\",I64)","v":""},{"$f":"IF(ISBLANK(I65),\"\",I65)","v":""},{"$f":"IF(ISBLANK(I66),\"\",I66)","v":""},{"$f":"IF(ISBLANK(I67),\"\",I67)","v":""},{"$f":"IF(ISBLANK(I68),\"\",I68)","v":""},{"$f":"IF(ISBLANK(I69),\"\",I69)","v":""},{"$f":"IF(ISBLANK(I70),\"\",I70)","v":""},{"$f":"IF(ISBLANK(I71),\"\",I71)","v":""},{"$f":"IF(ISBLANK(I72),\"\",I72)","v":""},{"$f":"IF(ISBLANK(I73),\"\",I73)","v":""},{"$f":"IF(ISBLANK(I74),\"\",I74)","v":""},{"$f":"IF(ISBLANK(I75),\"\",I75)","v":""},{"$f":"IF(ISBLANK(I76),\"\",I76)","v":""},{"$f":"IF(ISBLANK(I77),\"\",I77)","v":""},{"$f":"IF(ISBLANK(I78),\"\",I78)","v":""},{"$f":"IF(ISBLANK(I79),\"\",I79)","v":""},{"$f":"IF(ISBLANK(I80),\"\",I80)","v":""},{"$f":"IF(COUNTIF(D28:AH28,0)=0,\"回数\",COUNTIF(D28:AH28,0))","v":"回数"}]
[null,"便処置"]
[null,null,null,"　",null,null,null,null,null,null,null,null,null,null,null,null,null,null,null,null,null,null,null,null,null,null,null,null,null,null,null,null,null,null,{"$f":"IF(SUM(V136:AZ138)=0,\"滴数\",SUM(V136:AZ138))","v":"滴数"}]
[null,null,null,null,null,null,null,null,null,null,null,null,null,null,null,null,null,null,null,null,null,null,null,null,null,null,null,null,null,null,null,null,null,null,{"$f":"IF(AI30=\"滴数\",\"本数\",AI30/150)","v":"本数"}]
[null,"血　圧",null,{"$f":"$R$50","v":0},{"$f":"$R$58","v":0},{"$f":"R66","v":0},{"$f":"R74","v":0},{"$f":"R82","v":0},{"$f":"R90","v":0},{"$f":"R98","v":0},{"$f":"R106","v":0},{"$f":"Z50","v":0},{"$f":"Z58","v":0},{"$f":"Z66","v":0},{"$f":"Z74","v":0},{"$f":"Z82","v":0},{"$f":"Z90","v":0},{"$f":"Z98","v":0},{"$f":"Z106","v":0},{"$f":"AH50","v":0},{"$f":"AH58","v":0},{"$f":"AH66","v":0},{"$f":"AH74","v":0},{"$f":"AH82","v":0},{"$f":"AH90","v":0},{"$f":"AH98","v":0},{"$f":"AH106","v":0},{"$f":"AP50","v":0},{"$f":"AP58","v":0},{"$f":"AP66","v":0},{"$f":"AP74","v":0},{"$f":"AP82","v":0},{"$f":"AP90","v":0},{"$f":"AP98","v":0}]
[null,null,null,{"$f":" IF(ISERROR($R$51),\"\",($R$51))","v":""},{"$f":" IF(ISERROR($R$59),\"\",($R$59))","v":""},{"$f":" IF(ISERROR($R$67),\"\",($R$67))","v":""},{"$f":" IF(ISERROR($R$75),\"\",($R$75))","v":""},{"$f":" IF(ISERROR($R$83),\"\",($R$83))","v":""},{"$f":" IF(ISERROR($R$91),\"\",($R$91))","v":""},{"$f":" IF(ISERROR($R$99),\"\",($R$99))","v":""},{"$f":" IF(ISERROR($R$107),\"\",($R$107))","v":""},{"$f":" IF(ISERROR($Z$51),\"\",($Z$51))","v":""},{"$f":" IF(ISERROR($Z$59),\"\",($Z$59))","v":""},{"$f":" IF(ISERROR($Z$67),\"\",($Z$67))","v":""},{"$f":" IF(ISERROR($Z$75),\"\",($Z$75))","v":""},{"$f":" IF(ISERROR($Z$83),\"\",($Z$83))","v":""},{"$f":" IF(ISERROR($Z$91),\"\",($Z$91))","v":""},{"$f":" IF(ISERROR($Z$99),\"\",($Z$99))","v":""},{"$f":" IF(ISERROR($Z$107),\"\",($Z$107))","v":""},{"$f":" IF(ISERROR($AH$51),\"\",($AH$51))","v":""},{"$f":" IF(ISERROR($AH$59),\"\",($AH$59))","v":""},{"$f":" IF(ISERROR($AH$67),\"\",($AH$67))","v":""},{"$f":" IF(ISERROR($AH$75),\"\",($AH$75))","v":""},{"$f":" IF(ISERROR($AH$83),\"\",($AH$83))","v":""},{"$f":" IF(ISERROR($AH$91),\"\",($AH$91))","v":""},{"$f":" IF(ISERROR($AH$99),\"\",($AH$99))","v":""},{"$f":" IF(ISERROR($AH$107),\"\",($AH$107))","v":""},{"$f":" IF(ISERROR($AP$51),\"\",($AP$51))","v":""},{"$f":" IF(ISERROR($AP$59),\"\",($AP$59))","v":""},{"$f":" IF(ISERROR($AP$67),\"\",($AP$67))","v":""},{"$f":" IF(ISERROR($AP$75),\"\",($AP$75))","v":""},{"$f":" IF(ISERROR($AP$83),\"\",($AP$83))","v":""},{"$f":" IF(ISERROR($AP$91),\"\",($AP$91))","v":""},{"$f":" IF(ISERROR($AP$99),\"\",($AP$99))","v":""}]
[null,null,null,{"$f":"$R$52","v":0},{"$f":"$R$60","v":0},{"$f":"R68","v":0},{"$f":"R76","v":0},{"$f":"R84","v":0},{"$f":"R92","v":0},{"$f":"R100","v":0},{"$f":"R108","v":0},{"$f":"Z52","v":0},{"$f":"Z60","v":0},{"$f":"Z68","v":0},{"$f":"Z76","v":0},{"$f":"Z84","v":0},{"$f":"Z92","v":0},{"$f":"Z100","v":0},{"$f":"Z108","v":0},{"$f":"AH52","v":0},{"$f":"AH60","v":0},{"$f":"AH68","v":0},{"$f":"AH76","v":0},{"$f":"AH84","v":0},{"$f":"AH92","v":0},{"$f":"AH100","v":0},{"$f":"AH108","v":0},{"$f":"AP52","v":0},{"$f":"AP60","v":0},{"$f":"AP68","v":0},{"$f":"AP76","v":0},{"$f":"AP84","v":0},{"$f":"AP92","v":0},{"$f":"AP100","v":0}]
[null,null,null,{"$f":"$R$53","v":0},{"$f":"$R$61","v":0},{"$f":"R69","v":0},{"$f":"R77","v":0},{"$f":"R85","v":0},{"$f":"R93","v":0},{"$f":"R101","v":0},{"$f":"R109","v":0},{"$f":"Z53","v":0},{"$f":"Z61","v":0},{"$f":"Z69","v":0},{"$f":"Z77","v":0},{"$f":"Z85","v":0},{"$f":"Z93","v":0},{"$f":"Z101","v":0},{"$f":"Z109","v":0},{"$f":"AH53","v":0},{"$f":"AH61","v":0},{"$f":"AH69","v":0},{"$f":"AH77","v":0},{"$f":"AH85","v":0},{"$f":"AH93","v":0},{"$f":"AH101","v":0},{"$f":"AH109","v":0},{"$f":"AP53","v":0},{"$f":"AP61","v":0},{"$f":"AP69","v":0},{"$f":"AP77","v":0},{"$f":"AP85","v":0},{"$f":"AP93","v":0},{"$f":"AP101","v":0},{"$f":"IFERROR(INT(AVERAGE(V149:AZ152))& \"/\"&INT(AVERAGE(V153:AZ156)),\"平均\")","v":"平均"}]
[null,"食事箋",null,{"$f":"IF(COUNTIF('2月'!D36:AH36,\"*\"),INDEX('2月'!D36:AH36,MATCH(\"\",'2月'!D36:AH36,-1)),\"\")","v":""}]
[null,"形　態",null,{"$f":"IF(COUNTIF('2月'!D37:AH37,\"*\"),INDEX('2月'!D37:AH37,MATCH(\"\",'2月'!D37:AH37,-1)),\"\")","v":""}]
[null,"身　長",null,{"$f":"IF(COUNT('2月'!D38:AH38),LOOKUP(MAX('2月'!D38:AH38)+1,'2月'!D38:AH38),\"\")","v":""},null,null,null,null,null,null,null,null,null,null,null,null,null,null,null,null,null,null,null,null,null,null,null,null,null,null,null,null,null,null,"BMI"]
[null,"体　重",null,null,null,null,null,null,null,null,null,null,null,null,null,null,null,null,null,null,null,null,null,null,null,null,null,null,null,null,null,null,null,null,{"$f":"IF(ISERROR(INDEX(D39:AH39,MATCH(307,D39:AH39))/(INDEX(D38:AH38,MATCH(9E+307,D38:AH38))/100)^2)=TRUE,\"\",INDEX(D39:AH39,MATCH(307,D39:AH39))/(INDEX(D38:AH38,MATCH(9E+307,D38:AH38))/100)^2)","v":""}]
[null,"Ｉ　Ｎ",null,null,null,null,null,null,null,null,null,null,null,null,null,null,null,null,null,null,null,null,null,null,null,null,null,null,null,null,null,null,null,null,{"$f":"IFERROR(INT(AVERAGE(D40:AH40)),\"平均\")","v":"平均"}]
[null,"ＯＵＴ",null,null,null,null,null,null,null,null,null,null,null,null,null,null,null,null,null,null,null,null,null,null,null,null,null,null,null,null,null,null,null,null,{"$f":"IFERROR(INT(AVERAGE(D41:AH41)),\"平均\")","v":"平均"}]
[null,"生　理",null,null,null,null,null,null,null,null,null,null,null,null,null,null,null,null,null,null,null,null,null,null,null,null,null,null,null,null,null,null,null,null,{"$f":"IF(ISERROR(IF(H132-MATCH(\"*\",D42:AH42,0)=0,\"0日目\",IF(H133=J1,IF(ISERROR(H132-MATCH(\"*\",D42:AH42,0)),\"日数\",H132-MATCH(\"*\",D42:AH42,0)),\"日数\"))),\"日数\",(IF(H132-MATCH(\"*\",D42:AH42,0)=0,\"0日目\",IF(H133=J1,IF(ISERROR(H132-MATCH(\"*\",D42:AH42,0)),\"日数\",H132-MATCH(\"*\",D42:AH42,0)),\"日数\"))))","v":"日数"}]
[null,null,null,null,null,null,null,null,null,null,null,null,null,null,null,null,null,null,null,null,null,null,null,null,null,null,null,null,null,null,null,null,null,null,{"$f":"COUNTA(D43:AH43)","v":0}]
[null,null,null,null,null,null,null,null,null,null,null,null,null,null,null,null,null,null,null,null,null,null,null,null,null,null,null,null,null,null,null,null,null,null,{"$f":"COUNTA(D44:AH44)","v":0}]
[null,"日　付",null,1,2,3,4,5,6,7,8,9,10,11,12,13,14,15,16,17,18,19,20,21,22,23,24,25,26,27,28,29,30,31]
[]
[null,{"$f":"$P$3","v":"新体温表 - バックアップ９１ー"},null,null,null,null,null,{"$f":"YEAR(I47)","v":2016},{"$f":"TODAY()","v":"2016-06-08"},{"$f":"TODAY()","v":42529},null,{"$f":"NOW()","v":42529.688973263888}]
[null,"平常時記入",null,null,null,null,null,null,null,null,null,"熱発時記入"]
[null,"日","時間","T",null," P","BP",null,"便",null,null,"日","時間",null,"T",null,"P","BP",null,"日","時間",null,"T",null,"P","BP",null,"日","時間",null,"T",null,"P","BP",null,"日","時間",null,"T",null,"P","BP"]
[null,1,"09:00:00",null,null,null,null,null,null,null,null,1,null,null,null,null,null,null,null,9,null,null,null,null,null,null,null,17,null,null,null,null,null,null,null,25]
[null,2,"09:00:00",null,null,null,null,null,null,null,null,null,"09:00:00",null,{"$f":"IF($D$50=\"\",NA(),$D$50)","v":{"$error":"#N/A"}},null,{"$f":"IF($F$50=\"\",NA(),$F$50)","v":{"$error":"#N/A"}},{"$f":"IF($G$50=\"\",NA(),$G$50)","v":{"$error":"#N/A"}},null,null,"09:00:00",null,{"$f":"IF($D$58=\"\",NA(),$D$58)","v":{"$error":"#N/A"}},null,{"$f":"IF($F$58=\"\",NA(),$F$58)","v":{"$error":"#N/A"}},{"$f":"IF($G$58=\"\",NA(),$G$58)","v":{"$error":"#N/A"}},null,null,"09:00:00",null,{"$f":"IF($D$66=\"\",NA(),$D$66)","v":{"$error":"#N/A"}},null,{"$f":"IF($F$66=\"\",NA(),$F$66)","v":{"$error":"#N/A"}},{"$f":"IF($G$66=\"\",NA(),$G$66)","v":{"$error":"#N/A"}},null,null,"09:00:00",null,{"$f":"IF($D$74=\"\",NA(),$D$74)","v":{"$error":"#N/A"}},null,{"$f":"IF($F$74=\"\",NA(),$F$74)","v":{"$error":"#N/A"}},{"$f":"IF($G$74=\"\",NA(),$G$74)","v":{"$error":"#N/A"}}]
[null,3,"09:00:00",null,null,null,null,null,null,"☆"]
[null,4,"09:00:00"]
[null,5,"09:00:00",null,null,null,null,null,null,"コ"]
[null,6,"09:00:00",null,null,null,null,null,null,"ス"]
[null,7,"09:00:00",null,null,null,null,null,null,"モ"]
[null,8,"09:00:00",null,null,null,null,null,null,"ス"]
[null,9,"09:00:00",null,null,null,null,null,null,"へ",null,2,null,null,null,null,null,null,null,10,null,null,null,null,null,null,null,18,null,null,null,null,null,null,null,26]
[null,10,"09:00:00",null,null,null,null,null,null,"戻",null,null,"09:00:00",null,{"$f":"IF($D$51=\"\",NA(),$D$51)","v":{"$error":"#N/A"}},null,{"$f":"IF($F$51=\"\",NA(),$F$51)","v":{"$error":"#N/A"}},{"$f":"IF($G$51=\"\",NA(),$G$51)","v":{"$error":"#N/A"}},null,null,"09:00:00",null,{"$f":"IF($D$59=\"\",NA(),$D$59)","v":{"$error":"#N/A"}},null,{"$f":"IF($F$59=\"\",NA(),$F$59)","v":{"$error":"#N/A"}},{"$f":"IF($G$59=\"\",NA(),$G$59)","v":{"$error":"#N/A"}},null,null,"09:00:00",null,{"$f":"IF($D$67=\"\",NA(),$D$67)","v":{"$error":"#N/A"}},null,{"$f":"IF($F$67=\"\",NA(),$F$67)","v":{"$error":"#N/A"}},{"$f":"IF($G$67=\"\",NA(),$G$67)","v":{"$error":"#N/A"}},null,null,"09:00:00",null,{"$f":"IF($D$75=\"\",NA(),$D$75)","v":{"$error":"#N/A"}},null,{"$f":"IF($F$75=\"\",NA(),$F$75)","v":{"$error":"#N/A"}},{"$f":"IF($G$75=\"\",NA(),$G$75)","v":{"$error":"#N/A"}}]
[null,11,"09:00:00",null,null,null,null,null,null,"る"]
[null,12,"09:00:00"]
[null,13,"09:00:00"]
[null,14,"09:00:00",null,null,null,null,null,null,"（"]
[null,15,"09:00:00",null,null,null,null,null,null,"選"]
[null,16,"09:00:00",null,null,null,null,null,null,"択"]
[null,17,"09:00:00",null,null,null,null,null,null,"す",null,3,null,null,null,null,null,null,null,11,null,null,null,null,null,null,null,19,null,null,null,null,null,null,null,27]
[null,18,"09:00:00",null,null,null,null,null,null,"る",null,null,"09:00:00",null,{"$f":"IF($D$52=\"\",NA(),$D$52)","v":{"$error":"#N/A"}},null,{"$f":"IF($F$52=\"\",NA(),$F$52)","v":{"$error":"#N/A"}},{"$f":"IF($G$52=\"\",NA(),$G$52)","v":{"$error":"#N/A"}},null,null,"09:00:00",null,{"$f":"IF($D$60=\"\",NA(),$D$60)","v":{"$error":"#N/A"}},null,{"$f":"IF($F$60=\"\",NA(),$F$60)","v":{"$error":"#N/A"}},{"$f":"IF($G$60=\"\",NA(),$G$60)","v":{"$error":"#N/A"}},null,null,"09:00:00",null,{"$f":"IF($D$68=\"\",NA(),$D$68)","v":{"$error":"#N/A"}},null,{"$f":"IF($F$68=\"\",NA(),$F$68)","v":{"$error":"#N/A"}},{"$f":"IF($G$68=\"\",NA(),$G$68)","v":{"$error":"#N/A"}},null,null,"09:00:00",null,{"$f":"IF($D$76=\"\",NA(),$D$76)","v":{"$error":"#N/A"}},null,{"$f":"IF($F$76=\"\",NA(),$F$76)","v":{"$error":"#N/A"}},{"$f":"IF($G$76=\"\",NA(),$G$76)","v":{"$error":"#N/A"}}]
[null,19,"09:00:00",null,null,null,null,null,null,"だ"]
[null,20,"09:00:00",null,null,null,null,null,null,"け"]
[null,21,"09:00:00",null,null,null,null,null,null,"で"]
[null,22,"09:00:00",null,null,null,null,null,null,"移"]
[null,23,"09:00:00",null,null,null,null,null,null,"動"]
[null,24,"09:00:00",null,null,null,null,null,null,"し"]
[null,25,"09:00:00",null,null,null,null,null,null,"ま",null,4,null,null,null,null,null,null,null,12,null,null,null,null,null,null,null,20,null,null,null,null,null,null,null,28]
[null,26,"09:00:00",null,null,null,null,null,null,"す",null,null,"09:00:00",null,{"$f":"IF($D$53=\"\",NA(),$D$53)","v":{"$error":"#N/A"}},null,{"$f":"IF($F$53=\"\",NA(),$F$53)","v":{"$error":"#N/A"}},{"$f":"IF($G$53=\"\",NA(),$G$53)","v":{"$error":"#N/A"}},null,null,"09:00:00",null,{"$f":"IF($D$61=\"\",NA(),$D$61)","v":{"$error":"#N/A"}},null,{"$f":"IF($F$61=\"\",NA(),$F$61)","v":{"$error":"#N/A"}},{"$f":"IF($G$61=\"\",NA(),$G$61)","v":{"$error":"#N/A"}},null,null,"09:00:00",null,{"$f":"IF($D$69=\"\",NA(),$D$69)","v":{"$error":"#N/A"}},null,{"$f":"IF($F$69=\"\",NA(),$F$69)","v":{"$error":"#N/A"}},{"$f":"IF($G$69=\"\",NA(),$G$69)","v":{"$error":"#N/A"}},null,null,"09:00:00",null,{"$f":"IF($D$77=\"\",NA(),$D$77)","v":{"$error":"#N/A"}},null,{"$f":"IF($F$77=\"\",NA(),$F$77)","v":{"$error":"#N/A"}},{"$f":"IF($G$77=\"\",NA(),$G$77)","v":{"$error":"#N/A"}}]
[null,27,"09:00:00",null,null,null,null,null,null,"）"]
[null,28,"09:00:00"]
[null,29,"09:00:00"]
[null,30,"09:00:00"]
[null,31,"09:00:00"]
[]
[null,null,null,null,null,null,null,null,null,null,null,5,null,null,null,null,null,null,null,13,null,null,null,null,null,null,null,21,null,null,null,null,null,null,null,29]
[null,null,null,null,null,null,null,null,null,null,null,null,"09:00:00",null,{"$f":"IF($D$54=\"\",NA(),$D$54)","v":{"$error":"#N/A"}},null,{"$f":"IF($F$54=\"\",NA(),$F$54)","v":{"$error":"#N/A"}},{"$f":"IF($G$54=\"\",NA(),$G$54)","v":{"$error":"#N/A"}},null,null,"09:00:00",null,{"$f":"IF($D$62=\"\",NA(),$D$62)","v":{"$error":"#N/A"}},null,{"$f":"IF($F$62=\"\",NA(),$F$62)","v":{"$error":"#N/A"}},{"$f":"IF($G$62=\"\",NA(),$G$62)","v":{"$error":"#N/A"}},null,null,"09:00:00",null,{"$f":"IF($D$70=\"\",NA(),$D$70)","v":{"$error":"#N/A"}},null,{"$f":"IF($F$70=\"\",NA(),$F$70)","v":{"$error":"#N/A"}},{"$f":"IF($G$70=\"\",NA(),$G$70)","v":{"$error":"#N/A"}},null,null,"09:00:00",null,{"$f":"IF($D$78=\"\",NA(),$D$78)","v":{"$error":"#N/A"}},null,{"$f":"IF($F$78=\"\",NA(),$F$78)","v":{"$error":"#N/A"}},{"$f":"IF($G$78=\"\",NA(),$G$78)","v":{"$error":"#N/A"}}]
[]
[]
[]
[]
[]
[]
[null,null,null,null,null,null,null,null,null,null,null,6,null,null,null,null,null,null,null,14,null,null,null,null,null,null,null,22,null,null,null,null,null,null,null,30]
[null,null,null,null,null,null,null,null,null,null,null,null,"09:00:00",null,{"$f":"IF($D$55=\"\",NA(),$D$55)","v":{"$error":"#N/A"}},null,{"$f":"IF($F$55=\"\",NA(),$F$55)","v":{"$error":"#N/A"}},{"$f":"IF($G$55=\"\",NA(),$G$55)","v":{"$error":"#N/A"}},null,null,"09:00:00",null,{"$f":"IF($D$63=\"\",NA(),$D$63)","v":{"$error":"#N/A"}},null,{"$f":"IF($F$63=\"\",NA(),$F$63)","v":{"$error":"#N/A"}},{"$f":"IF($G$63=\"\",NA(),$G$63)","v":{"$error":"#N/A"}},null,null,"09:00:00",null,{"$f":"IF($D$71=\"\",NA(),$D$71)","v":{"$error":"#N/A"}},null,{"$f":"IF($F$71=\"\",NA(),$F$71)","v":{"$error":"#N/A"}},{"$f":"IF($G$71=\"\",NA(),$G$71)","v":{"$error":"#N/A"}},null,null,"09:00:00",null,{"$f":"IF($D$79=\"\",NA(),$D$79)","v":{"$error":"#N/A"}},null,{"$f":"IF($F$79=\"\",NA(),$F$79)","v":{"$error":"#N/A"}},{"$f":"IF($G$79=\"\",NA(),$G$79)","v":{"$error":"#N/A"}}]
[]
[]
[]
[]
[]
[]
[null,null,null,null,null,null,null,null,null,null,null,7,null,null,null,null,null,null,null,15,null,null,null,null,null,null,null,23,null,null,null,null,null,null,null,31]
[null,null,null,null,null,null,null,null,null,null,null,null,"09:00:00",null,{"$f":"IF($D$56=\"\",NA(),$D$56)","v":{"$error":"#N/A"}},null,{"$f":"IF($F$56=\"\",NA(),$F$56)","v":{"$error":"#N/A"}},{"$f":"IF($G$56=\"\",NA(),$G$56)","v":{"$error":"#N/A"}},null,null,"09:00:00",null,{"$f":"IF($D$64=\"\",NA(),$D$64)","v":{"$error":"#N/A"}},null,{"$f":"IF($F$64=\"\",NA(),$F$64)","v":{"$error":"#N/A"}},{"$f":"IF($G$64=\"\",NA(),$G$64)","v":{"$error":"#N/A"}},null,null,"09:00:00",null,{"$f":"IF($D$72=\"\",NA(),$D$72)","v":{"$error":"#N/A"}},null,{"$f":"IF($F$72=\"\",NA(),$F$72)","v":{"$error":"#N/A"}},{"$f":"IF($G$72=\"\",NA(),$G$72)","v":{"$error":"#N/A"}},null,null,"09:00:00",null,{"$f":"IF($D$80=\"\",NA(),$D$80)","v":{"$error":"#N/A"}},null,{"$f":"IF($F$80=\"\",NA(),$F$80)","v":{"$error":"#N/A"}},{"$f":"IF($G$80=\"\",NA(),$G$80)","v":{"$error":"#N/A"}}]
[]
[]
[]
[]
[]
[]
[null,null,null,null,null,null,null,null,null,null,null,8,null,null,null,null,null,null,null,16,null,null,null,null,null,null,null,24]
[null,null,null,null,null,null,null,null,null,null,null,null,"09:00:00",null,{"$f":"IF($D$57=\"\",NA(),$D$57)","v":{"$error":"#N/A"}},null,{"$f":"IF($F$57=\"\",NA(),$F$57)","v":{"$error":"#N/A"}},{"$f":"IF($G$57=\"\",NA(),$G$57)","v":{"$error":"#N/A"}},null,null,"09:00:00",null,{"$f":"IF($D$65=\"\",NA(),$D$65)","v":{"$error":"#N/A"}},null,{"$f":"IF($F$65=\"\",NA(),$F$65)","v":{"$error":"#N/A"}},{"$f":"IF($G$65=\"\",NA(),$G$65)","v":{"$error":"#N/A"}},null,null,"09:00:00",null,{"$f":"IF($D$73=\"\",NA(),$D$73)","v":{"$error":"#N/A"}},null,{"$f":"IF($F$73=\"\",NA(),$F$73)","v":{"$error":"#N/A"}},{"$f":"IF($G$73=\"\",NA(),$G$73)","v":{"$error":"#N/A"}}]
[]
[]
[]
[]
[]
[]
[]
[]
[]
[]
[]
[]
[]
[]
[]
[]
[]
[]
[]
[]
[]
[null,null,"Enterで入力画面へ"]
[null,null,"ｶｰｿﾙ初期位置",null,null,null,"日付チェック",null,null,null,"バイタルコピー"]
["管理欄",null,"入力に入る",null,null,null,"今日",{"$f":"NOW()","v":"2016-06-08T16:32:07.290"},null,null,"T=未測定",null," P=未測定"," BP=未測定",null,{"$f":"K131&M131&N131","v":"T=未測定 P=未測定 BP=未測定"},"   "]
[null,null,null,null,null,null,"日",{"$f":"DAY(H131)","v":8},null,null,null,null,null,null,null,"",null,null,null,null,"シンラック"]
[null,null,null,null,null,null,"月",{"$f":"MONTH(H131)","v":6},null,null,null,null,null,null,null,"",null,null,null,null,"なし"]
[null,null,null,null,null,null,"年",{"$f":"YEAR(H131)","v":2016},null,null,null,null,null,null,null,""]
[null,null,null,null,null,null,"時",{"$f":"HOUR(H131)","v":16},null,null,null,null,null,null,null,""]
[null,null,null,null,null,null,null,null,null,null,null,null,null,null,null,"",null,null,null,null,"Link",{"$f":"IF(ISERROR(VALUE(D29)),\"\",VALUE(D29))","v":0},0,0,0,0,0,0,0,0,0,0,0,0,0,0,0,0,0,0,0,0,0,0,0,0,0,0,0,{"$f":"IF(ISERROR(VALUE(AF29)),\"\",VALUE(AF29))","v":0},{"$f":"IF(ISERROR(VALUE(AG29)),\"\",VALUE(AG29))","v":0},0]
[null,null,null,null,null,null,null,null,null,null,null,null,null,null,null,"",null,null,null,null,null,"",0,0,0,0,0,0,0,0,0,0,0,0,0,0,0,0,0,0,0,0,0,0,0,0,0,0,0,{"$f":"IF(ISERROR(VALUE(AF30)),\"\",VALUE(AF30))","v":0},0,0]
[null,null,null,null,null,null,null,null,null,null,null,null,null,null,null,"",null,null,null,null,null,0,0,0,0,0,0,0,0,0,0,0,0,0,0,0,0,0,0,0,0,0,0,0,0,0,0,0,0,{"$f":"IF(ISERROR(VALUE(AF31)),\"\",VALUE(AF31))","v":0},0,0]
[null,null,null,null,null,null,null,null,null,null,null,null,null,null,null,""]
[null,null,null,null,null,null,null,null,null,null,null,null,null,null,null,null,null,null,null,null,"食事平均",null,null,null,null,null,null,null,null,null,null,null,null,{"$f":"AC140&AE140&AF140","v":""}]
[null,null,null,null,null,null,null,null,null,null,null,null,null,null,null,null,null,null,null,null,"左",{"$f":"IF(D25=\"\", \"\", LEFT(D25,SEARCH(\"/\",D25,1)-1)*1)","v":""},"","","","","","",null,null,null,null,null,{"$f":"IF(P25=\"\", \"\", LEFT(P25,SEARCH(\"/\",P25,1)-1)*1)","v":""},null,{"$f":"IF(R25=\"\", \"\", LEFT(R25,SEARCH(\"/\",R25,1)-1)*1)","v":""},"","","","","","","","","",{"$f":"IF(AB25=\"\", \"\", LEFT(AB25,SEARCH(\"/\",AB25,1)-1)*1)","v":""},"","","","","",""]
[null,null,null,null,null,null,null,null,null,null,null,null,null,null,null,null,null,null,null,null,null,"","","","","","","",null,null,null,null,null,{"$f":"IF(P26=\"\", \"\", LEFT(P26,SEARCH(\"/\",P26,1)-1)*1)","v":""},null,"","","","","","","","","","","","","","","","",""]
[null,null,null,null,null,null,null,null,null,null,null,null,null,null,null,null,null,null,null,null,null,"","","","","","","",null,null,null,null,null,{"$f":"IF(P27=\"\", \"\", LEFT(P27,SEARCH(\"/\",P27,1)-1)*1)","v":""},null,"","","","","","","","","","","","","","","","",""]
[null,null,null,null,null,null,null,null,null,null,null,null,null,null,null,null,null,null,null,null,"右",{"$f":"IF(D25=\"\", \"\", RIGHT(D25,LEN(D25)-FIND(\"/\",D25,1))*1)","v":""},"","","","","","",null,null,null,null,null,{"$f":"IF(P25=\"\", \"\", RIGHT(P25,LEN(P25)-FIND(\"/\",P25,1))*1)","v":""},null,{"$f":"IF(R25=\"\", \"\", RIGHT(R25,LEN(R25)-FIND(\"/\",R25,1))*1)","v":""},"","","","","","","","","",{"$f":"IF(AB25=\"\", \"\", RIGHT(AB25,LEN(AB25)-FIND(\"/\",AB25,1))*1)","v":""},"","","","","",""]
[null,null,null,null,null,null,null,null,null,null,null,null,null,null,null,null,null,null,null,null,null,"","","","","","","",null,null,null,null,null,{"$f":"IF(P26=\"\", \"\", RIGHT(P26,LEN(P26)-FIND(\"/\",P26,1))*1)","v":""},null,"","","","","","","","","","","","","","","","",""]
[null,null,null,null,null,null,null,null,null,null,null,null,null,null,null,null,null,null,null,null,null,"","","","","","","",null,null,null,null,null,{"$f":"IF(P27=\"\", \"\", RIGHT(P27,LEN(P27)-FIND(\"/\",P27,1))*1)","v":""},null,"","","","","","","","","","","","","","","","",""]
[null,null,null,null,null,null,null,null,null,null,null,null,null,null,null,null,null,null,null,null,null,null,null,null,null,null,null,null,null,null,null,null,null,{"$f":"AC147&AE147&AF147","v":""}]
[null,null,null,null,null,null,null,null,null,null,null,null,null,null,null,null,null,null,null,null,"BP平均",null,null,null,null,null,null,null,null,null,null,null,null,{"$f":"AC148&AE148&AF148","v":""}]
[null,null,null,null,null,null,null,null,null,null,null,null,null,null,null,null,null,null,null,null,"左",{"$f":"IF(ISERROR(LEFT(D32,SEARCH(\"/\",D32,1)-1)*1),\"\",LEFT(D32,SEARCH(\"/\",D32,1)-1)*1)","v":""},"","","","","","",null,null,null,null,null,{"$f":"IF(ISERROR(LEFT(P32,SEARCH(\"/\",P32,1)-1)*1),\"\",LEFT(P32,SEARCH(\"/\",P32,1)-1)*1)","v":""},null,{"$f":"IF(ISERROR(LEFT(R32,SEARCH(\"/\",R32,1)-1)*1),\"\",LEFT(R32,SEARCH(\"/\",R32,1)-1)*1)","v":""},"","","","","","","","","",{"$f":"IF(ISERROR(LEFT(AB32,SEARCH(\"/\",AB32,1)-1)*1),\"\",LEFT(AB32,SEARCH(\"/\",AB32,1)-1)*1)","v":""},"","","","","",""]
[null,null,null,null,null,null,null,null,null,null,null,null,null,null,null,null,null,null,null,null,null,"","","","","","","",null,null,null,null,null,{"$f":"IF(ISERROR(LEFT(P33,SEARCH(\"/\",P33,1)-1)*1),\"\",LEFT(P33,SEARCH(\"/\",P33,1)-1)*1)","v":""},null,"","","","","","","","","","","","","","","","",""]
[null,null,null,null,null,null,null,null,null,null,null,null,null,null,null,null,null,null,null,null,null,"","","","","","","",null,null,null,null,null,{"$f":"IF(ISERROR(LEFT(P34,SEARCH(\"/\",P34,1)-1)*1),\"\",LEFT(P34,SEARCH(\"/\",P34,1)-1)*1)","v":""},null,"","","","","","","","","","","","","","","","",""]
[null,null,null,null,null,null,null,null,null,null,null,null,null,null,null,null,null,null,null,null,null,"","","","","","","",null,null,null,null,null,{"$f":"IF(ISERROR(LEFT(P35,SEARCH(\"/\",P35,1)-1)*1),\"\",LEFT(P35,SEARCH(\"/\",P35,1)-1)*1)","v":""},null,"","","","","","","","","","","","","","","","",""]
[null,null,null,null,null,null,null,null,null,null,null,null,null,null,null,null,null,null,null,null,"右",{"$f":"IF(ISERROR(RIGHT(D32,LEN(D32)-FIND(\"/\",D32,1))*1),\"\",RIGHT(D32,LEN(D32)-FIND(\"/\",D32,1))*1)","v":""},"","","","","","",null,null,null,null,null,{"$f":"IF(ISERROR(RIGHT(P32,LEN(P32)-FIND(\"/\",P32,1))*1),\"\",RIGHT(P32,LEN(P32)-FIND(\"/\",P32,1))*1)","v":""},null,{"$f":"IF(ISERROR(RIGHT(R32,LEN(R32)-FIND(\"/\",R32,1))*1),\"\",RIGHT(R32,LEN(R32)-FIND(\"/\",R32,1))*1)","v":""},"","","","","","","","","",{"$f":"IF(ISERROR(RIGHT(AB32,LEN(AB32)-FIND(\"/\",AB32,1))*1),\"\",RIGHT(AB32,LEN(AB32)-FIND(\"/\",AB32,1))*1)","v":""},"","","","","",""]
[null,null,null,null,null,null,null,null,null,null,null,null,null,null,null,null,null,null,null,null,null,"","","","","","","",null,null,null,null,null,{"$f":"IF(ISERROR(RIGHT(P33,LEN(P33)-FIND(\"/\",P33,1))*1),\"\",RIGHT(P33,LEN(P33)-FIND(\"/\",P33,1))*1)","v":""},null,"","","","","","","","","","","","","","","","",""]
[null,null,null,null,null,null,null,null,null,null,null,null,null,null,null,null,null,null,null,null,null,"","","","","","","",null,null,null,null,null,{"$f":"IF(ISERROR(RIGHT(P34,LEN(P34)-FIND(\"/\",P34,1))*1),\"\",RIGHT(P34,LEN(P34)-FIND(\"/\",P34,1))*1)","v":""},null,"","","","","","","","","","","","","","","","",""]
[null,null,null,null,null,null,null,null,null,null,null,null,null,null,null,null,null,null,null,null,null,"","","","","","","",null,null,null,null,null,{"$f":"IF(ISERROR(RIGHT(P35,LEN(P35)-FIND(\"/\",P35,1))*1),\"\",RIGHT(P35,LEN(P35)-FIND(\"/\",P35,1))*1)","v":""},null,"","","","","","","","","","","","","","","","",""]
[null,null,null,null,null,null,null,null,null,null,null,null,null,null,null,""]
[null,null,null,null,null,null,null,null,null,null,null,null,null,null,null,""]
[null,null,null,null,null,null,null,null,null,null,null,null,null,null,null,""]
[null,null,null,null,null,null,null,null,null,null,null,null,null,null,null,""]
[null,null,null,null,null,null,null,null,null,null,null,null,null,null,null,""]

{"sheet":"4月","index":3,"n_rows":161,"n_cols":52,"rows_kept":161,"cut":false,"hidden":false,"merged":[[48,41,48,42],[102,12,102,13],[110,12,110,13],[109,12,109,13],[106,12,106,13],[103,12,103,13],[104,12,104,13],[110,25,110,26],[110,28,110,29],[110,30,110,31],[110,33,110,34],[109,25,109,26],[109,28,109,29],[109,30,109,31],[107,30,107,31],[106,14,106,15],[106,17,106,18],[105,14,105,15],[105,17,105,18],[107,33,107,34],[104,20,104,21],[104,36,104,37],[104,22,104,23],[104,25,104,26],[112,33,112,34],[129,2,129,4],[129,6,129,8],[112,25,112,26],[112,28,112,29],[112,30,112,31],[111,12,111,13],[111,14,111,15],[111,25,111,26],[111,28,111,29],[111,30,111,31],[111,33,111,34],[105,27,112,27],[105,28,105,29],[109,33,109,34],[108,17,108,18],[108,20,108,21],[106,25,106,26],[105,33,105,34],[106,28,106,29],[108,33,108,34],[106,33,106,34],[106,20,106,21],[106,22,106,23],[49,3,49,4],[49,6,49,7],[108,30,108,31],[130,0,132,0],[130,2,130,4],[130,7,130,8],[105,11,112,11],[105,12,105,13],[107,12,107,13],[108,12,108,13],[108,14,108,15],[129,10,129,12],[112,22,112,23],[112,12,112,13],[112,14,112,15],[112,17,112,18],[112,20,112,21],[111,17,111,18],[111,20,111,21],[111,22,111,23],[105,30,105,31],[109,17,109,18],[109,20,109,21],[109,22,109,23],[104,28,104,29],[104,30,104,31],[104,38,104,39],[104,33,104,34],[106,30,106,31],[105,22,105,23],[105,25,105,26],[130,10,130,11],[130,13,130,14],[109,14,109,15],[107,28,107,29],[110,14,110,15],[110,17,110,18],[110,20,110,21],[107,17,107,18],[108,22,108,23],[108,25,108,26],[108,28,108,29],[107,20,107,21],[107,22,107,23],[107,14,107,15],[105,19,112,19],[105,20,105,21],[110,22,110,23],[107,25,107,26],[103,41,103,42],[104,41,104,42],[103,30,103,31],[103,33,103,34],[103,36,103,37],[103,38,103,39],[103,14,103,15],[103,17,103,18],[103,20,103,21],[97,35,104,35],[97,36,97,37],[97,38,97,39],[97,41,97,42],[98,36,98,37],[98,38,98,39],[98,41,98,42],[99,36,99,37],[102,33,102,34],[102,14,102,15],[102,17,102,18],[102,20,102,21],[103,22,103,23],[103,25,103,26],[103,28,103,29],[102,36,102,37],[102,38,102,39],[102,41,102,42],[102,22,102,23],[102,25,102,26],[102,28,102,29],[102,30,102,31],[101,33,101,34],[101,36,101,37],[101,38,101,39],[101,41,101,42],[101,22,101,23],[101,25,101,26],[101,28,101,29],[101,30,101,31],[97,27,104,27],[97,28,97,29],[100,33,100,34],[100,36,100,37],[100,22,100,23],[100,25,100,26],[100,28,100,29],[100,30,100,31],[100,38,100,39],[100,41,100,42],[101,20,101,21],[99,38,99,39],[99,41,99,42],[97,33,97,34],[98,28,98,29],[98,30,98,31],[98,33,98,34],[99,33,99,34],[97,30,97,31],[99,28,99,29],[99,30,99,31],[97,22,97,23],[97,25,97,26],[98,20,98,21],[98,22,98,23],[98,25,98,26],[99,20,99,21],[99,22,99,23],[99,25,99,26],[97,11,104,11],[97,12,97,13],[97,14,97,15],[97,17,97,18],[98,12,98,13],[98,14,98,15],[98,17,98,18],[99,12,99,13],[99,14,99,15],[99,17,99,18],[104,14,104,15],[104,17,104,18],[96,36,96,37],[96,38,96,39],[96,41,96,42],[96,22,96,23],[96,25,96,26],[96,28,96,29],[96,30,96,31],[96,12,96,13],[96,14,96,15],[96,17,96,18],[96,20,96,21],[89,11,96,11],[100,12,100,13],[100,14,100,15],[100,17,100,18],[100,20,100,21],[97,19,104,19],[97,20,97,21],[101,12,101,13],[101,14,101,15],[101,17,101,18],[95,12,95,13],[95,14,95,15],[95,17,95,18],[95,20,95,21],[94,12,94,13],[94,14,94,15],[94,17,94,18],[94,20,94,21],[89,14,89,15],[89,17,89,18],[90,12,90,13],[90,14,90,15],[90,17,90,18],[91,12,91,13],[95,38,95,39],[95,41,95,42],[95,22,95,23],[95,25,95,26],[95,28,95,29],[95,30,95,31],[94,33,94,34],[94,36,94,37],[94,38,94,39],[94,41,94,42],[94,22,94,23],[94,25,94,26],[94,28,94,29],[94,30,94,31],[95,36,95,37],[91,14,91,15],[91,17,91,18],[93,33,93,34],[93,36,93,37],[93,12,93,13],[93,14,93,15],[93,17,93,18],[93,20,93,21],[93,38,93,39],[92,17,92,18],[92,20,92,21],[92,12,92,13],[92,14,92,15],[93,41,93,42],[93,22,93,23],[93,25,93,26],[93,28,93,29],[93,30,93,31],[92,33,92,34],[92,36,92,37],[92,38,92,39],[92,41,92,42],[89,35,96,35],[89,36,89,37],[89,38,89,39],[89,41,89,42],[90,36,90,37],[90,38,90,39],[92,22,92,23],[92,25,92,26],[90,41,90,42],[91,36,91,37],[91,38,91,39],[91,41,91,42],[90,22,90,23],[90,25,90,26],[89,33,89,34],[90,28,90,29],[90,30,90,31],[90,33,90,34],[91,33,91,34],[89,19,96,19],[89,20,89,21],[89,22,89,23],[89,25,89,26],[90,20,90,21],[91,20,91,21],[91,22,91,23],[92,28,92,29],[92,30,92,31],[89,27,96,27],[89,28,89,29],[89,30,89,31],[91,28,91,29],[91,30,91,31],[91,25,91,26],[95,33,95,34],[96,33,96,34],[88,41,88,42],[88,22,88,23],[88,25,88,26],[88,28,88,29],[88,30,88,31],[88,12,88,13],[88,14,88,15],[88,17,88,18],[88,20,88,21],[87,12,87,13],[87,14,87,15],[87,17,87,18],[87,20,87,21],[87,38,87,39],[87,41,87,42],[87,22,87,23],[87,25,87,26],[87,28,87,29],[87,30,87,31],[86,41,86,42],[85,36,85,37],[85,38,85,39],[85,41,85,42],[85,33,85,34],[86,12,86,13],[86,14,86,15],[86,17,86,18],[86,20,86,21],[86,22,86,23],[86,25,86,26],[86,28,86,29],[85,12,85,13],[85,14,85,15],[85,17,85,18],[85,20,85,21],[85,22,85,23],[85,25,85,26],[85,28,85,29],[81,30,81,31],[86,30,86,31],[85,30,85,31],[83,33,83,34],[86,33,86,34],[86,36,86,37],[86,38,86,39],[88,33,88,34],[88,36,88,37],[88,38,88,39],[82,33,82,34],[82,30,82,31],[84,33,84,34],[87,33,87,34],[87,36,87,37],[83,20,83,21],[83,22,83,23],[83,25,83,26],[83,28,83,29],[83,30,83,31],[82,20,82,21],[82,22,82,23],[83,41,83,42],[84,12,84,13],[84,14,84,15],[84,17,84,18],[84,20,84,21],[84,22,84,23],[84,25,84,26],[84,28,84,29],[84,30,84,31],[84,38,84,39],[82,25,82,26],[82,28,82,29],[84,41,84,42],[78,41,78,42],[79,3,79,4],[79,6,79,7],[79,12,79,13],[79,14,79,15],[79,17,79,18],[79,41,79,42],[79,20,79,21],[79,22,79,23],[79,25,79,26],[79,28,79,29],[78,30,78,31],[78,33,78,34],[79,30,79,31],[79,33,79,34],[78,20,78,21],[81,41,81,42],[82,12,82,13],[82,14,82,15],[82,17,82,18],[81,33,81,34],[81,35,88,35],[81,36,81,37],[81,38,81,39],[82,36,82,37],[82,38,82,39],[83,36,83,37],[83,38,83,39],[84,36,84,37],[81,20,81,21],[81,22,81,23],[81,25,81,26],[81,27,88,27],[81,28,81,29],[81,17,81,18],[81,19,88,19],[82,41,82,42],[83,12,83,13],[83,14,83,15],[83,17,83,18],[76,41,76,42],[75,41,75,42],[76,17,76,18],[76,20,76,21],[80,41,80,42],[73,41,73,42],[74,30,74,31],[75,30,75,31],[76,30,76,31],[77,28,77,29],[77,30,77,31],[74,25,74,26],[74,28,74,29],[73,25,73,26],[80,36,80,37],[80,28,80,29],[80,30,80,31],[80,33,80,34],[80,38,80,39],[73,27,80,27],[74,20,74,21],[74,22,74,23],[74,41,74,42],[78,17,78,18],[73,28,73,29],[73,30,73,31],[78,28,78,29],[75,22,75,23],[75,25,75,26],[75,28,75,29],[76,22,76,23],[73,36,73,37],[73,38,73,39],[74,33,74,34],[74,36,74,37],[74,38,74,39],[75,33,75,34],[75,36,75,37],[75,38,75,39],[73,33,73,34],[73,35,80,35],[73,22,73,23],[78,36,78,37],[78,38,78,39],[78,22,78,23],[78,25,78,26],[77,38,77,39],[77,36,77,37],[76,36,76,37],[76,38,76,39],[80,22,80,23],[80,25,80,26],[79,36,79,37],[79,38,79,39],[77,33,77,34],[76,33,76,34],[76,25,76,26],[76,28,76,29],[77,17,77,18],[75,14,75,15],[75,17,75,18],[75,20,75,21],[76,3,76,4],[76,6,76,7],[76,12,76,13],[76,14,76,15],[75,3,75,4],[75,6,75,7],[73,19,80,19],[73,20,73,21],[80,12,80,13],[80,14,80,15],[80,17,80,18],[80,20,80,21],[72,3,72,4],[72,6,72,7],[72,12,72,13],[72,14,72,15],[72,17,72,18],[72,41,72,42],[71,17,71,18],[72,20,72,21],[72,22,72,23],[72,25,72,26],[72,28,72,29],[71,30,71,31],[71,20,71,21],[71,22,71,23],[72,30,72,31],[71,36,71,37],[71,38,71,39],[72,36,72,37],[72,38,72,39],[77,41,77,42],[73,3,73,4],[73,6,73,7],[73,11,80,11],[73,12,73,13],[73,14,73,15],[73,17,73,18],[78,3,78,4],[78,6,78,7],[78,12,78,13],[78,14,78,15],[77,20,77,21],[77,22,77,23],[77,25,77,26],[75,12,75,13],[74,3,74,4],[74,6,74,7],[74,12,74,13],[74,14,74,15],[74,17,74,18],[77,3,77,4],[77,6,77,7],[77,12,77,13],[77,14,77,15],[70,41,70,42],[71,33,71,34],[70,33,70,34],[69,36,69,37],[69,38,69,39],[69,41,69,42],[70,3,70,4],[70,6,70,7],[70,12,70,13],[70,14,70,15],[70,17,70,18],[70,20,70,21],[70,22,70,23],[71,25,71,26],[71,28,71,29],[70,28,70,29],[71,41,71,42],[68,36,68,37],[68,38,68,39],[65,27,72,27],[65,36,65,37],[65,38,65,39],[66,33,66,34],[66,36,66,37],[66,38,66,39],[65,33,65,34],[65,35,72,35],[67,33,67,34],[68,33,68,34],[70,36,70,37],[70,38,70,39],[69,33,69,34],[72,33,72,34],[68,28,68,29],[67,30,67,31],[69,30,69,31],[65,28,65,29],[69,28,69,29],[66,28,66,29],[68,30,68,31],[70,30,70,31],[64,22,64,23],[64,25,64,26],[65,3,65,4],[65,6,65,7],[65,11,72,11],[65,12,65,13],[65,14,65,15],[65,17,65,18],[71,3,71,4],[71,6,71,7],[71,12,71,13],[71,14,71,15],[68,12,68,13],[68,14,68,15],[68,17,68,18],[68,20,68,21],[68,22,68,23],[68,25,68,26],[65,19,72,19],[65,20,65,21],[65,22,65,23],[66,25,66,26],[69,25,69,26],[70,25,70,26],[67,22,67,23],[67,25,67,26],[67,28,67,29],[67,36,67,37],[67,38,67,39],[65,41,65,42],[66,3,66,4],[66,6,66,7],[66,12,66,13],[66,14,66,15],[66,17,66,18],[66,20,66,21],[66,22,66,23],[66,30,66,31],[65,25,65,26],[65,30,65,31],[60,3,60,4],[58,3,58,4],[58,17,58,18],[58,20,58,21],[58,22,58,23],[64,30,64,31],[68,41,68,42],[69,3,69,4],[69,6,69,7],[69,12,69,13],[69,14,69,15],[69,17,69,18],[69,20,69,21],[69,22,69,23],[67,41,67,42],[68,3,68,4],[68,6,68,7],[66,41,66,42],[67,3,67,4],[67,6,67,7],[67,12,67,13],[67,14,67,15],[67,17,67,18],[67,20,67,21],[63,12,63,13],[63,14,63,15],[62,3,62,4],[62,6,62,7],[62,12,62,13],[62,14,62,15],[61,3,61,4],[61,6,61,7],[63,36,63,37],[61,12,61,13],[54,38,54,39],[58,14,58,15],[61,38,61,39],[62,30,62,31],[61,33,61,34],[54,36,54,37],[58,33,58,34],[58,36,58,37],[60,33,60,34],[52,38,52,39],[51,20,51,21],[51,22,51,23],[53,22,53,23],[62,22,62,23],[50,38,50,39],[49,33,49,34],[62,36,62,37],[55,25,55,26],[57,30,57,31],[58,30,58,31],[59,30,59,31],[60,30,60,31],[58,38,58,39],[59,38,59,39],[59,28,59,29],[56,25,56,26],[55,30,55,31],[56,28,56,29],[56,30,56,31],[56,33,56,34],[54,30,54,31],[53,38,53,39],[56,20,56,21],[55,6,55,7],[55,12,55,13],[55,14,55,15],[55,17,55,18],[55,20,55,21],[55,22,55,23],[60,22,60,23],[62,38,62,39],[61,22,61,23],[61,17,61,18],[60,6,60,7],[60,12,60,13],[60,14,60,15],[57,38,57,39],[57,33,57,34],[59,20,59,21],[59,22,59,23],[56,12,56,13],[58,25,58,26],[56,14,56,15],[56,17,56,18],[56,22,56,23],[55,41,55,42],[57,35,64,35],[57,36,57,37],[49,35,56,35],[51,41,51,42],[53,25,53,26],[56,38,56,39],[55,33,55,34],[55,36,55,37],[52,41,52,42],[51,36,51,37],[51,38,51,39],[54,41,54,42],[62,41,62,42],[60,41,60,42],[61,36,61,37],[64,41,64,42],[57,41,57,42],[60,36,60,37],[61,41,61,42],[63,41,63,42],[58,41,58,42],[64,33,64,34],[64,36,64,37],[59,41,59,42],[62,33,62,34],[60,38,60,39],[57,25,57,26],[57,27,64,27],[57,28,57,29],[61,28,61,29],[61,25,61,26],[62,25,62,26],[59,36,59,37],[64,28,64,29],[64,38,64,39],[63,38,63,39],[63,30,63,31],[63,33,63,34],[40,1,40,2],[41,1,41,2],[48,25,48,26],[48,28,48,29],[48,3,48,4],[48,6,48,7],[51,25,51,26],[51,28,51,29],[55,3,55,4],[47,1,47,9],[47,11,47,18],[47,19,47,26],[47,27,47,34],[48,20,48,21],[48,30,48,31],[48,33,48,34],[42,1,42,2],[43,1,43,2],[44,1,44,2],[46,1,46,5],[49,22,49,23],[53,20,53,21],[55,28,55,29],[49,12,49,13],[57,3,57,4],[57,6,57,7],[57,11,64,11],[57,12,57,13],[57,14,57,15],[57,17,57,18],[57,19,64,19],[56,3,56,4],[56,6,56,7],[59,6,59,7],[59,12,59,13],[59,14,59,15],[59,3,59,4],[49,11,56,11],[53,3,53,4],[58,6,58,7],[58,12,58,13],[64,17,64,18],[64,3,64,4],[64,6,64,7],[64,12,64,13],[64,14,64,15],[63,3,63,4],[63,6,63,7],[49,36,49,37],[56,41,56,42],[56,36,56,37],[48,38,48,39],[52,3,52,4],[52,6,52,7],[52,12,52,13],[52,14,52,15],[52,17,52,18],[52,20,52,21],[51,3,51,4],[51,6,51,7],[51,12,51,13],[51,14,51,15],[49,41,49,42],[50,3,50,4],[50,6,50,7],[50,12,50,13],[50,41,50,42],[49,38,49,39],[50,36,50,37],[55,38,55,39],[53,41,53,42],[48,17,48,18],[39,1,39,2],[54,28,54,29],[54,3,54,4],[54,6,54,7],[54,12,54,13],[54,14,54,15],[0,1,0,2],[0,5,0,6],[1,1,1,3],[1,4,1,6],[1,10,1,13],[1,14,1,15],[1,16,1,21],[2,10,3,11],[2,12,3,13],[2,15,3,21],[31,1,34,2],[35,1,35,2],[36,1,36,2],[37,1,37,2],[38,1,38,2],[28,1,30,2],[0,25,0,34],[53,6,53,7],[18,1,18,2],[19,1,19,2],[20,1,20,2],[21,1,22,2],[16,1,16,2],[17,1,17,2],[2,1,3,3],[1,7,1,9],[13,37,13,40],[4,37,4,40],[5,37,9,40],[10,37,10,40],[11,37,11,40],[12,37,12,40],[2,25,2,30],[3,25,3,30],[1,23,1,24],[2,23,3,24],[1,25,1,31],[1,32,1,34],[2,32,3,34],[23,1,23,2],[27,1,27,2],[53,36,53,37],[48,22,48,23],[48,36,48,37],[24,1,26,2],[52,33,52,34],[52,36,52,37],[50,20,50,21],[50,22,50,23],[50,25,50,26],[52,22,52,23],[52,25,52,26],[52,28,52,29],[48,12,48,13],[48,14,48,15],[51,33,51,34],[49,25,49,26],[49,27,56,27],[49,28,49,29],[49,30,49,31],[50,30,50,31],[51,30,51,31],[49,20,49,21],[50,28,50,29],[58,28,58,29],[60,25,60,26],[61,14,61,15],[50,14,50,15],[50,17,50,18],[49,19,56,19],[54,17,54,18],[51,17,51,18],[53,17,53,18],[60,17,60,18],[60,20,60,21],[60,28,60,29],[59,25,59,26],[49,14,49,15],[49,17,49,18],[61,20,61,21],[57,20,57,21],[54,20,54,21],[54,22,54,23],[54,25,54,26],[52,30,52,31],[160,10,160,11],[160,13,160,14],[147,28,147,29],[147,31,147,32],[139,31,139,32],[131,10,131,11],[131,13,131,14],[132,10,132,11],[132,13,132,14],[133,10,133,11],[133,13,133,14],[134,10,134,11],[134,13,134,14],[135,10,135,11],[135,13,135,14],[136,10,136,11],[136,13,136,14],[137,10,137,11],[137,13,137,14],[53,28,53,29],[53,30,53,31],[61,30,61,31],[64,20,64,21],[45,1,45,11],[81,11,88,11],[81,12,81,13],[81,14,81,15],[89,12,89,13],[50,33,50,34],[138,10,138,11],[138,13,138,14],[139,28,139,29],[53,33,53,34],[54,33,54,34],[53,12,53,13],[53,14,53,15],[59,33,59,34],[57,22,57,23],[63,25,63,26],[63,28,63,29],[62,28,62,29],[62,17,62,18],[62,20,62,21],[59,17,59,18],[63,17,63,18],[63,20,63,21],[63,22,63,23]]}
[null,"体温表",null,null,null,{"$f":"設定!$F$7","v":2017},null,"年",null,4,"月",null,null,null,null,null,null,null,null,null,null,null,null,null,null,"伊都の丘病院"]
[null,"カルテ番号",null,null,"病棟",null,null,"入院形態",null,null,"主治医",null,null,null,"　姓名",null,{"$f":"'3月'!$Q$2","v":0},null,null,null,null,null,null,"性別",null,"生年月日　",null,null,null,null,null,null,"担当Ns"]
[null,{"$f":"'3月'!B3","v":0},null,null,{"$f":"IF(COUNTIF('3月'!E3:G3,\"*\"),INDEX('3月'!E3:G3,MATCH(\"\",'3月'!E3:G3,-1)),\"\")","v":""},null,null,{"$f":"IF(COUNTIF('3月'!H3:J3,\"*\"),INDEX('3月'!H3:J3,MATCH(\"\",'3月'!H3:J3,-1)),\"\")","v":""},null,null,{"$f":"IF(COUNTIF('3月'!K3:M3,\"*\"),INDEX('3月'!K3:M3,MATCH(\"\",'3月'!K3:M3,-1)),\"\")","v":""},null,null,null,null,{"$f":"'3月'!$P$3","v":"新体温表 - バックアップ９１ー"},null,null,null,null,null,null,null,{"$f":"'3月'!$X$3","v":0},null,{"$f":"'3月'!$Z$3","v":"ここに生年月日を記入"},null,null,null,null,null,{"$f":"IF(ISERROR(DATEDIF(Z3,DATE(設定!F7,4,31),\"Y\"))=TRUE,\"\",DATEDIF(Z3,DATE(設定!F7,4,31),\"Y\"))","v":""},{"$f":"'3月'!$AG$3","v":0}]
[null,null,null,null,"/","/","/","/","/","/",null,null,null,null,null,null,null,null,null,null,null,null,null,null,null,{"$f":"SUBSTITUTE(Z3,\"ここに生年月日を記入\",\"\")","v":""},null,null,null,null,null,"歳"]
[null,null,null,null,null,null,null,null,null,null,null,null,null,null,null,null,null,null,null,null,null,null,null,null,null,null,null,null,null,null,null,null,null,null,null,null,null,{"$f":"設定!C11","v":"便利ボタン"}]
[]
[]
[]
[]
[]
[]
[null,null,null,null,null,null,null,null,null,null,null,null,null,null,null,null,null,null,null,null,null,null,null,null,null,null,null,null,null,null,null,null,null,null,null,null,null,{"$f":"設定!C18","v":" ※自動保存されます"}]
[null,null,null,null,null,null,null,null,null,null,null,null,null,null,null,null,null,null,null,null,null,null,null,null,null,null,null,null,null,null,null,null,null,null,null,null,null,{"$f":"設定!C19","v":0}]
[null,null,null,null,null,null,null,null,null,null,null,null,null,null,null,null,null,null,null,null,null,null,null,null,null,null,null,null,null,null,null,null,null,null,null,null,null,{"$f":"設定!C20","v":0}]
[]
[]
[null,"日　付",null,1,2,3,4,5,6,7,8,9,10,11,12,13,14,15,16,17,18,19,20,21,22,23,24,25,26,27,28,29,30,null,"統計"]
[null,"行　動"]
[null,"時　間"]
[null,"行　動"]
[null,"時　間",null,null,null,null,null,null,null,null,null,null,null,null,null,null,null,null,null,null,null,null,null,null,null,null,null,null,null,null,null,null,null,null,{"$f":"IF(COUNTIF(D18:AH21,\"外出\")+COUNTIF(D18:AH21,\"外泊\")=0,\"回数\",COUNTIF(D18:AH21,\"外出\")+COUNTIF(D18:AH21,\"外泊\"))","v":"回数"}]
[null,"面　会"]
[null,null,null,null,null,null,null,null,null,null,null,null,null,null,null,null,null,null,null,null,null,null,null,null,null,null,null,null,null,null,null,null,null,null,{"$f":"IF(COUNTA(D22:AH22)=0,\"回数\",COUNTA(D22:AH22))","v":"回数"}]
[null,"入　浴",null,null,null,null,null,null,null,null,null,null,null,null,null,null,null,null,null,null,null,null,null,null,null,null,null,null,null,null,null,null,null,null,{"$f":"IF(COUNTA(D24:AH24)=0,\"回数\",COUNTA(D24:AH24))","v":"回数"}]
[null,"食　事"]
[]
[null,null,null,null,null,null,null,null,null,null,null,null,null,null,null,null,null,null,null,null,null,null,null,null,null,null,null,null,null,null,null,null,null,null,{"$f":"IFERROR(INT(AVERAGE(V141:AZ143))& \"/\"&INT(AVERAGE(V144:AZ146)),\"平均\")","v":"平均"}]
[null,"便　通",null,{"$f":"IF(ISBLANK(I50),\"\",I50)","v":""},{"$f":"IF(ISBLANK(I51),\"\",I51)","v":""},{"$f":"IF(ISBLANK(I52),\"\",I52)","v":""},{"$f":"IF(ISBLANK(I53),\"\",I53)","v":""},{"$f":"IF(ISBLANK(I54),\"\",I54)","v":""},{"$f":"IF(ISBLANK(I55),\"\",I55)","v":""},{"$f":"IF(ISBLANK(I56),\"\",I56)","v":""},{"$f":"IF(ISBLANK(I57),\"\",I57)","v":""},{"$f":"IF(ISBLANK(I58),\"\",I58)","v":""},{"$f":"IF(ISBLANK(I59),\"\",I59)","v":""},{"$f":"IF(ISBLANK(I60),\"\",I60)","v":""},{"$f":"IF(ISBLANK(I61),\"\",I61)","v":""},{"$f":"IF(ISBLANK(I62),\"\",I62)","v":""},{"$f":"IF(ISBLANK(I63),\"\",I63)","v":""},{"$f":"IF(ISBLANK(I64),\"\",I64)","v":""},{"$f":"IF(ISBLANK(I65),\"\",I65)","v":""},{"$f":"IF(ISBLANK(I66),\"\",I66)","v":""},{"$f":"IF(ISBLANK(I67),\"\",I67)","v":""},{"$f":"IF(ISBLANK(I68),\"\",I68)","v":""},{"$f":"IF(ISBLANK(I69),\"\",I69)","v":""},{"$f":"IF(ISBLANK(I70),\"\",I70)","v":""},{"$f":"IF(ISBLANK(I71),\"\",I71)","v":""},{"$f":"IF(ISBLANK(I72),\"\",I72)","v":""},{"$f":"IF(ISBLANK(I73),\"\",I73)","v":""},{"$f":"IF(ISBLANK(I74),\"\",I74)","v":""},{"$f":"IF(ISBLANK(I75),\"\",I75)","v":""},{"$f":"IF(ISBLANK(I76),\"\",I76)","v":""},{"$f":"IF(ISBLANK(I77),\"\",I77)","v":""},{"$f":"IF(ISBLANK(I78),\"\",I78)","v":""},{"$f":"IF(ISBLANK(I79),\"\",I79)","v":""},{"$f":"IF(ISBLANK(I80),\"\",I80)","v":""},{"$f":"IF(COUNTIF(D28:AH28,0)=0,\"回数\",COUNTIF(D28:AH28,0))","v":"回数"}]
[null,"便処置"]
[null,null,null,"　",null,null,null,null,null,null,null,null,null,null,null,null,null,null,null,null,null,null,null,null,null,null,null,null,null,null,null,null,null,null,{"$f":"IF(SUM(V136:AZ138)=0,\"滴数\",SUM(V136:AZ138))","v":"滴数"}]
[null,null,null,null,null,null,null,null,null,null,null,null,null,null,null,null,null,null,null,null,null,null,null,null,null,null,null,null,null,null,null,null,null,null,{"$f":"IF(AI30=\"滴数\",\"本数\",AI30/150)","v":"本数"}]
[null,"血　圧",null,{"$f":"$R$50","v":0},{"$f":"$R$58","v":0},{"$f":"R66","v":0},{"$f":"R74","v":0},{"$f":"R82","v":0},{"$f":"R90","v":0},{"$f":"R98","v":0},{"$f":"R106","v":0},{"$f":"Z50","v":0},{"$f":"Z58","v":0},{"$f":"Z66","v":0},{"$f":"Z74","v":0},{"$f":"Z82","v":0},{"$f":"Z90","v":0},{"$f":"Z98","v":0},{"$f":"Z106","v":0},{"$f":"AH50","v":0},{"$f":"AH58","v":0},{"$f":"AH66","v":0},{"$f":"AH74","v":0},{"$f":"AH82","v":0},{"$f":"AH90","v":0},{"$f":"AH98","v":0},{"$f":"AH106","v":0},{"$f":"AP50","v":0},{"$f":"AP58","v":0},{"$f":"AP66","v":0},{"$f":"AP74","v":0},{"$f":"AP82","v":0},{"$f":"AP90","v":0},{"$f":"AP98","v":0}]
[null,null,null,{"$f":" IF(ISERROR($R$51),\"\",($R$51))","v":""},{"$f":" IF(ISERROR($R$59),\"\",($R$59))","v":""},{"$f":" IF(ISERROR($R$67),\"\",($R$67))","v":""},{"$f":" IF(ISERROR($R$75),\"\",($R$75))","v":""},{"$f":" IF(ISERROR($R$83),\"\",($R$83))","v":""},{"$f":" IF(ISERROR($R$91),\"\",($R$91))","v":""},{"$f":" IF(ISERROR($R$99),\"\",($R$99))","v":""},{"$f":" IF(ISERROR($R$107),\"\",($R$107))","v":""},{"$f":" IF(ISERROR($Z$51),\"\",($Z$51))","v":""},{"$f":" IF(ISERROR($Z$59),\"\",($Z$59))","v":""},{"$f":" IF(ISERROR($Z$67),\"\",($Z$67))","v":""},{"$f":" IF(ISERROR($Z$75),\"\",($Z$75))","v":""},{"$f":" IF(ISERROR($Z$83),\"\",($Z$83))","v":""},{"$f":" IF(ISERROR($Z$91),\"\",($Z$91))","v":""},{"$f":" IF(ISERROR($Z$99),\"\",($Z$99))","v":""},{"$f":" IF(ISERROR($Z$107),\"\",($Z$107))","v":""},{"$f":" IF(ISERROR($AH$51),\"\",($AH$51))","v":""},{"$f":" IF(ISERROR($AH$59),\"\",($AH$59))","v":""},{"$f":" IF(ISERROR($AH$67),\"\",($AH$67))","v":""},{"$f":" IF(ISERROR($AH$75),\"\",($AH$75))","v":""},{"$f":" IF(ISERROR($AH$83),\"\",($AH$83))","v":""},{"$f":" IF(ISERROR($AH$91),\"\",($AH$91))","v":""},{"$f":" IF(ISERROR($AH$99),\"\",($AH$99))","v":""},{"$f":" IF(ISERROR($AH$107),\"\",($AH$107))","v":""},{"$f":" IF(ISERROR($AP$51),\"\",($AP$51))","v":""},{"$f":" IF(ISERROR($AP$59),\"\",($AP$59))","v":""},{"$f":" IF(ISERROR($AP$67),\"\",($AP$67))","v":""},{"$f":" IF(ISERROR($AP$75),\"\",($AP$75))","v":""},{"$f":" IF(ISERROR($AP$83),\"\",($AP$83))","v":""},{"$f":" IF(ISERROR($AP$91),\"\",($AP$91))","v":""},{"$f":" IF(ISERROR($AP$99),\"\",($AP$99))","v":0}]
[null,null,null,{"$f":"$R$52","v":0},{"$f":"$R$60","v":0},{"$f":"R68","v":0},{"$f":"R76","v":0},{"$f":"R84","v":0},{"$f":"R92","v":0},{"$f":"R100","v":0},{"$f":"R108","v":0},{"$f":"Z52","v":0},{"$f":"Z60","v":0},{"$f":"Z68","v":0},{"$f":"Z76","v":0},{"$f":"Z84","v":0},{"$f":"Z92","v":0},{"$f":"Z100","v":0},{"$f":"Z108","v":0},{"$f":"AH52","v":0},{"$f":"AH60","v":0},{"$f":"AH68","v":0},{"$f":"AH76","v":0},{"$f":"AH84","v":0},{"$f":"AH92","v":0},{"$f":"AH100","v":0},{"$f":"AH108","v":0},{"$f":"AP52","v":0},{"$f":"AP60","v":0},{"$f":"AP68","v":0},{"$f":"AP76","v":0},{"$f":"AP84","v":0},{"$f":"AP92","v":0},{"$f":"AP100","v":0}]
[null,null,null,{"$f":"$R$53","v":0},{"$f":"$R$61","v":0},{"$f":"R69","v":0},{"$f":"R77","v":0},{"$f":"R85","v":0},{"$f":"R93","v":0},{"$f":"R101","v":0},{"$f":"R109","v":0},{"$f":"Z53","v":0},{"$f":"Z61","v":0},{"$f":"Z69","v":0},{"$f":"Z77","v":0},{"$f":"Z85","v":0},{"$f":"Z93","v":0},{"$f":"Z101","v":0},{"$f":"Z109","v":0},{"$f":"AH53","v":0},{"$f":"AH61","v":0},{"$f":"AH69","v":0},{"$f":"AH77","v":0},{"$f":"AH85","v":0},{"$f":"AH93","v":0},{"$f":"AH101","v":0},{"$f":"AH109","v":0},{"$f":"AP53","v":0},{"$f":"AP61","v":0},{"$f":"AP69","v":0},{"$f":"AP77","v":0},{"$f":"AP85","v":0},{"$f":"AP93","v":0},{"$f":"AP101","v":0},{"$f":"IFERROR(INT(AVERAGE(V149:AZ152))& \"/\"&INT(AVERAGE(V153:AZ156)),\"平均\")","v":"平均"}]
[null,"食事箋",null,{"$f":"IF(COUNTIF('3月'!D36:AH36,\"*\"),INDEX('3月'!D36:AH36,MATCH(\"\",'3月'!D36:AH36,-1)),\"\")","v":""}]
[null,"形　態",null,{"$f":"IF(COUNTIF('3月'!D37:AH37,\"*\"),INDEX('3月'!D37:AH37,MATCH(\"\",'3月'!D37:AH37,-1)),\"\")","v":""}]
[null,"身　長",null,{"$f":"IF(COUNT('3月'!D38:AH38),LOOKUP(MAX('3月'!D38:AH38)+1,'3月'!D38:AH38),\"\")","v":""},null,null,null,null,null,null,null,null,null,null,null,null,null,null,null,null,null,null,null,null,null,null,null,null,null,null,null,null,null,null,"BMI"]
[null,"体　重",null,null,null,null,null,null,null,null,null,null,null,null,null,null,null,null,null,null,null,null,null,null,null,null,null,null,null,null,null,null,null,null,{"$f":"IF(ISERROR(INDEX(D39:AH39,MATCH(307,D39:AH39))/(INDEX(D38:AH38,MATCH(9E+307,D38:AH38))/100)^2)=TRUE,\"\",INDEX(D39:AH39,MATCH(307,D39:AH39))/(INDEX(D38:AH38,MATCH(9E+307,D38:AH38))/100)^2)","v":""}]
[null,"Ｉ　Ｎ",null,null,null,null,null,null,null,null,null,null,null,null,null,null,null,null,null,null,null,null,null,null,null,null,null,null,null,null,null,null,null,null,{"$f":"IFERROR(INT(AVERAGE(D40:AH40)),\"平均\")","v":"平均"}]
[null,"ＯＵＴ",null,null,null,null,null,null,null,null,null,null,null,null,null,null,null,null,null,null,null,null,null,null,null,null,null,null,null,null,null,null,null,null,{"$f":"IFERROR(INT(AVERAGE(D41:AH41)),\"平均\")","v":"平均"}]
[null,"生　理",null,null,null,null,null,null,null,null,null,null,null,null,null,null,null,null,null,null,null,null,null,null,null,null,null,null,null,null,null,null,null,null,{"$f":"IF(ISERROR(IF(H132-MATCH(\"*\",D42:AH42,0)=0,\"0日目\",IF(H133=J1,IF(ISERROR(H132-MATCH(\"*\",D42:AH42,0)),\"日数\",H132-MATCH(\"*\",D42:AH42,0)),\"日数\"))),\"日数\",(IF(H132-MATCH(\"*\",D42:AH42,0)=0,\"0日目\",IF(H133=J1,IF(ISERROR(H132-MATCH(\"*\",D42:AH42,0)),\"日数\",H132-MATCH(\"*\",D42:AH42,0)),\"日数\"))))","v":"日数"}]
[null,null,null,null,null,null,null,null,null,null,null,null,null,null,null,null,null,null,null,null,null,null,null,null,null,null,null,null,null,null,null,null,null,null,{"$f":"COUNTA(D43:AH43)","v":0}]
[null,null,null,null,null,null,null,null,null,null,null,null,null,null,null,null,null,null,null,null,null,null,null,null,null,null,null,null,null,null,null,null,null,null,{"$f":"COUNTA(D44:AH44)","v":0}]
[null,"日　付",null,1,2,3,4,5,6,7,8,9,10,11,12,13,14,15,16,17,18,19,20,21,22,23,24,25,26,27,28,29,30]
[null,"Enterキーで右方向に移動します。便もEnterで右上に移動します。"]
[null,{"$f":"$P$3","v":"新体温表 - バックアップ９１ー"},null,null,null,null,null,{"$f":"YEAR(I47)","v":2016},{"$f":"TODAY()","v":"2016-06-08"},{"$f":"TODAY()","v":42529},null,{"$f":"NOW()","v":42529.688973263888}]
[null,"平常時記入",null,null,null,null,null,null,null,null,null,"熱発時記入"]
[null,"日","時間","T",null," P","BP",null,"便",null,null,"日","時間",null,"T",null,"P","BP",null,"日","時間",null,"T",null,"P","BP",null,"日","時間",null,"T",null,"P","BP",null,"日","時間",null,"T",null,"P","BP"]
[null,1,"09:00:00",null,null,null,null,null,null,null,null,1,null,null,null,null,null,null,null,9,null,null,null,null,null,null,null,17,null,null,null,null,null,null,null,25]
[null,2,"09:00:00",null,null,null,null,null,null,null,null,null,"09:00:00",null,{"$f":"IF($D$50=\"\",NA(),$D$50)","v":{"$error":"#N/A"}},null,{"$f":"IF($F$50=\"\",NA(),$F$50)","v":{"$error":"#N/A"}},{"$f":"IF($G$50=\"\",NA(),$G$50)","v":{"$error":"#N/A"}},null,null,"09:00:00",null,{"$f":"IF($D$58=\"\",NA(),$D$58)","v":{"$error":"#N/A"}},null,{"$f":"IF($F$58=\"\",NA(),$F$58)","v":{"$error":"#N/A"}},{"$f":"IF($G$58=\"\",NA(),$G$58)","v":{"$error":"#N/A"}},null,null,"09:00:00",null,{"$f":"IF($D$66=\"\",NA(),$D$66)","v":{"$error":"#N/A"}},null,{"$f":"IF($F$66=\"\",NA(),$F$66)","v":{"$error":"#N/A"}},{"$f":"IF($G$66=\"\",NA(),$G$66)","v":{"$error":"#N/A"}},null,null,"09:00:00",null,{"$f":"IF($D$74=\"\",NA(),$D$74)","v":{"$error":"#N/A"}},null,{"$f":"IF($F$74=\"\",NA(),$F$74)","v":{"$error":"#N/A"}},{"$f":"IF($G$74=\"\",NA(),$G$74)","v":{"$error":"#N/A"}}]
[null,3,"09:00:00",null,null,null,null,null,null,"☆"]
[null,4,"09:00:00"]
[null,5,"09:00:00",null,null,null,null,null,null,"コ"]
[null,6,"09:00:00",null,null,null,null,null,null,"ス"]
[null,7,"09:00:00",null,null,null,null,null,null,"モ"]
[null,8,"09:00:00",null,null,null,null,null,null,"ス"]
[null,9,"09:00:00",null,null,null,null,null,null,"へ",null,2,null,null,null,null,null,null,null,10,null,null,null,null,null,null,null,18,null,null,null,null,null,null,null,26]
[null,10,"09:00:00",null,null,null,null,null,null,"戻",null,null,"09:00:00",null,{"$f":"IF($D$51=\"\",NA(),$D$51)","v":{"$error":"#N/A"}},null,{"$f":"IF($F$51=\"\",NA(),$F$51)","v":{"$error":"#N/A"}},{"$f":"IF($G$51=\"\",NA(),$G$51)","v":{"$error":"#N/A"}},null,null,"09:00:00",null,{"$f":"IF($D$59=\"\",NA(),$D$59)","v":{"$error":"#N/A"}},null,{"$f":"IF($F$59=\"\",NA(),$F$59)","v":{"$error":"#N/A"}},{"$f":"IF($G$59=\"\",NA(),$G$59)","v":{"$error":"#N/A"}},null,null,"09:00:00",null,{"$f":"IF($D$67=\"\",NA(),$D$67)","v":{"$error":"#N/A"}},null,{"$f":"IF($F$67=\"\",NA(),$F$67)","v":{"$error":"#N/A"}},{"$f":"IF($G$67=\"\",NA(),$G$67)","v":{"$error":"#N/A"}},null,null,"09:00:00",null,{"$f":"IF($D$75=\"\",NA(),$D$75)","v":{"$error":"#N/A"}},null,{"$f":"IF($F$75=\"\",NA(),$F$75)","v":{"$error":"#N/A"}},{"$f":"IF($G$75=\"\",NA(),$G$75)","v":{"$error":"#N/A"}}]
[null,11,"09:00:00",null,null,null,null,null,null,"る"]
[null,12,"09:00:00"]
[null,13,"09:00:00"]
[null,14,"09:00:00",null,null,null,null,null,null,"（"]
[null,15,"09:00:00",null,null,null,null,null,null,"選"]
[null,16,"09:00:00",null,null,null,null,null,null,"択"]
[null,17,"09:00:00",null,null,null,null,null,null,"す",null,3,null,null,null,null,null,null,null,11,null,null,null,null,null,null,null,19,null,null,null,null,null,null,null,27]
[null,18,"09:00:00",null,null,null,null,null,null,"る",null,null,"09:00:00",null,{"$f":"IF($D$52=\"\",NA(),$D$52)","v":{"$error":"#N/A"}},null,{"$f":"IF($F$52=\"\",NA(),$F$52)","v":{"$error":"#N/A"}},{"$f":"IF($G$52=\"\",NA(),$G$52)","v":{"$error":"#N/A"}},null,null,"09:00:00",null,{"$f":"IF($D$60=\"\",NA(),$D$60)","v":{"$error":"#N/A"}},null,{"$f":"IF($F$60=\"\",NA(),$F$60)","v":{"$error":"#N/A"}},{"$f":"IF($G$60=\"\",NA(),$G$60)","v":{"$error":"#N/A"}},null,null,"09:00:00",null,{"$f":"IF($D$68=\"\",NA(),$D$68)","v":{"$error":"#N/A"}},null,{"$f":"IF($F$68=\"\",NA(),$F$68)","v":{"$error":"#N/A"}},{"$f":"IF($G$68=\"\",NA(),$G$68)","v":{"$error":"#N/A"}},null,null,"09:00:00",null,{"$f":"IF($D$76=\"\",NA(),$D$76)","v":{"$error":"#N/A"}},null,{"$f":"IF($F$76=\"\",NA(),$F$76)","v":{"$error":"#N/A"}},{"$f":"IF($G$76=\"\",NA(),$G$76)","v":{"$error":"#N/A"}}]
[null,19,"09:00:00",null,null,null,null,null,null,"だ"]
[null,20,"09:00:00",null,null,null,null,null,null,"け"]
[null,21,"09:00:00",null,null,null,null,null,null,"で"]
[null,22,"09:00:00",null,null,null,null,null,null,"移"]
[null,23,"09:00:00",null,null,null,null,null,null,"動"]
[null,24,"09:00:00",null,null,null,null,null,null,"し"]
[null,25,"09:00:00",null,null,null,null,null,null,"ま",null,4,null,null,null,null,null,null,null,12,null,null,null,null,null,null,null,20,null,null,null,null,null,null,null,28]
[null,26,"09:00:00",null,null,null,null,null,null,"す",null,null,"09:00:00",null,{"$f":"IF($D$53=\"\",NA(),$D$53)","v":{"$error":"#N/A"}},null,{"$f":"IF($F$53=\"\",NA(),$F$53)","v":{"$error":"#N/A"}},{"$f":"IF($G$53=\"\",NA(),$G$53)","v":{"$error":"#N/A"}},null,null,"09:00:00",null,{"$f":"IF($D$61=\"\",NA(),$D$61)","v":{"$error":"#N/A"}},null,{"$f":"IF($F$61=\"\",NA(),$F$61)","v":{"$error":"#N/A"}},{"$f":"IF($G$61=\"\",NA(),$G$61)","v":{"$error":"#N/A"}},null,null,"09:00:00",null,{"$f":"IF($D$69=\"\",NA(),$D$69)","v":{"$error":"#N/A"}},null,{"$f":"IF($F$69=\"\",NA(),$F$69)","v":{"$error":"#N/A"}},{"$f":"IF($G$69=\"\",NA(),$G$69)","v":{"$error":"#N/A"}},null,null,"09:00:00",null,{"$f":"IF($D$77=\"\",NA(),$D$77)","v":{"$error":"#N/A"}},null,{"$f":"IF($F$77=\"\",NA(),$F$77)","v":{"$error":"#N/A"}},{"$f":"IF($G$77=\"\",NA(),$G$77)","v":{"$error":"#N/A"}}]
[null,27,"09:00:00",null,null,null,null,null,null,"）"]
[null,28,"09:00:00"]
[null,29,"09:00:00"]
[null,30,"09:00:00"]
[]
[]
[null,null,null,null,null,null,null,null,null,null,null,5,null,null,null,null,null,null,null,13,null,null,null,null,null,null,null,21,null,null,null,null,null,null,null,29]
[null,null,null,null,null,null,null,null,null,null,null,null,"09:00:00",null,{"$f":"IF($D$54=\"\",NA(),$D$54)","v":{"$error":"#N/A"}},null,{"$f":"IF($F$54=\"\",NA(),$F$54)","v":{"$error":"#N/A"}},{"$f":"IF($G$54=\"\",NA(),$G$54)","v":{"$error":"#N/A"}},null,null,"09:00:00",null,{"$f":"IF($D$62=\"\",NA(),$D$62)","v":{"$error":"#N/A"}},null,{"$f":"IF($F$62=\"\",NA(),$F$62)","v":{"$error":"#N/A"}},{"$f":"IF($G$62=\"\",NA(),$G$62)","v":{"$error":"#N/A"}},null,null,"09:00:00",null,{"$f":"IF($D$70=\"\",NA(),$D$70)","v":{"$error":"#N/A"}},null,{"$f":"IF($F$70=\"\",NA(),$F$70)","v":{"$error":"#N/A"}},{"$f":"IF($G$70=\"\",NA(),$G$70)","v":{"$error":"#N/A"}},null,null,"09:00:00",null,{"$f":"IF($D$78=\"\",NA(),$D$78)","v":{"$error":"#N/A"}},null,{"$f":"IF($F$78=\"\",NA(),$F$78)","v":{"$error":"#N/A"}},{"$f":"IF($G$78=\"\",NA(),$G$78)","v":{"$error":"#N/A"}}]
[]
[]
[]
[]
[]
[]
[null,null,null,null,null,null,null,null,null,null,null,6,null,null,null,null,null,null,null,14,null,null,null,null,null,null,null,22,null,null,null,null,null,null,null,30]
[null,null,null,null,null,null,null,null,null,null,null,null,"09:00:00",null,{"$f":"IF($D$55=\"\",NA(),$D$55)","v":{"$error":"#N/A"}},null,{"$f":"IF($F$55=\"\",NA(),$F$55)","v":{"$error":"#N/A"}},{"$f":"IF($G$55=\"\",NA(),$G$55)","v":{"$error":"#N/A"}},null,null,"09:00:00",null,{"$f":"IF($D$63=\"\",NA(),$D$63)","v":{"$error":"#N/A"}},null,{"$f":"IF($F$63=\"\",NA(),$F$63)","v":{"$error":"#N/A"}},{"$f":"IF($G$63=\"\",NA(),$G$63)","v":{"$error":"#N/A"}},null,null,"09:00:00",null,{"$f":"IF($D$71=\"\",NA(),$D$71)","v":{"$error":"#N/A"}},null,{"$f":"IF($F$71=\"\",NA(),$F$71)","v":{"$error":"#N/A"}},{"$f":"IF($G$71=\"\",NA(),$G$71)","v":{"$error":"#N/A"}},null,null,"09:00:00",null,{"$f":"IF($D$79=\"\",NA(),$D$79)","v":{"$error":"#N/A"}},null,{"$f":"IF($F$79=\"\",NA(),$F$79)","v":{"$error":"#N/A"}},{"$f":"IF($G$79=\"\",NA(),$G$79)","v":{"$error":"#N/A"}}]
[]
[]
[]
[]
[]
[]
[null,null,null,null,null,null,null,null,null,null,null,7,null,null,null,null,null,null,null,15,null,null,null,null,null,null,null,23]
[null,null,null,null,null,null,null,null,null,null,null,null,"09:00:00",null,{"$f":"IF($D$56=\"\",NA(),$D$56)","v":{"$error":"#N/A"}},null,{"$f":"IF($F$56=\"\",NA(),$F$56)","v":{"$error":"#N/A"}},{"$f":"IF($G$56=\"\",NA(),$G$56)","v":{"$error":"#N/A"}},null,null,"09:00:00",null,{"$f":"IF($D$64=\"\",NA(),$D$64)","v":{"$error":"#N/A"}},null,{"$f":"IF($F$64=\"\",NA(),$F$64)","v":{"$error":"#N/A"}},{"$f":"IF($G$64=\"\",NA(),$G$64)","v":{"$error":"#N/A"}},null,null,"09:00:00",null,{"$f":"IF($D$72=\"\",NA(),$D$72)","v":{"$error":"#N/A"}},null,{"$f":"IF($F$72=\"\",NA(),$F$72)","v":{"$error":"#N/A"}},{"$f":"IF($G$72=\"\",NA(),$G$72)","v":{"$error":"#N/A"}}]
[]
[]
[]
[]
[]
[]
[null,null,null,null,null,null,null,null,null,null,null,8,null,null,null,null,null,null,null,16,null,null,null,null,null,null,null,24]
[null,null,null,null,null,null,null,null,null,null,null,null,"09:00:00",null,{"$f":"IF($D$57=\"\",NA(),$D$57)","v":{"$error":"#N/A"}},null,{"$f":"IF($F$57=\"\",NA(),$F$57)","v":{"$error":"#N/A"}},{"$f":"IF($G$57=\"\",NA(),$G$57)","v":{"$error":"#N/A"}},null,null,"09:00:00",null,{"$f":"IF($D$65=\"\",NA(),$D$65)","v":{"$error":"#N/A"}},null,{"$f":"IF($F$65=\"\",NA(),$F$65)","v":{"$error":"#N/A"}},{"$f":"IF($G$65=\"\",NA(),$G$65)","v":{"$error":"#N/A"}},null,null,"09:00:00",null,{"$f":"IF($D$73=\"\",NA(),$D$73)","v":{"$error":"#N/A"}},null,{"$f":"IF($F$73=\"\",NA(),$F$73)","v":{"$error":"#N/A"}},{"$f":"IF($G$73=\"\",NA(),$G$73)","v":{"$error":"#N/A"}}]
[]
[]
[]
[]
[]
[]
[]
[]
[]
[]
[]
[]
[]
[]
[]
[]
[]
[]
[]
[]
[]
[null,null,"Enterで入力画面へ"]
[null,null,"ｶｰｿﾙ初期位置",null,null,null,"日付チェック",null,null,null,"バイタルコピー"]
["管理欄",null,"入力に入る",null,null,null,"今日",{"$f":"NOW()","v":"2016-06-08T16:32:07.290"},null,null,"T=未測定",null," P=未測定"," BP=未測定",null,{"$f":"K131&M131&N131","v":"T=未測定 P=未測定 BP=未測定"},"   "]
[null,null,null,null,null,null,"日",{"$f":"DAY(H131)","v":8},null,null,null,null,null,null,null,"",null,null,null,null,"シンラック"]
[null,null,null,null,null,null,"月",{"$f":"MONTH(H131)","v":6},null,null,null,null,null,null,null,"",null,null,null,null,"なし"]
[null,null,null,null,null,null,"年",{"$f":"YEAR(H131)","v":2016},null,null,null,null,null,null,null,""]
[null,null,null,null,null,null,"時",{"$f":"HOUR(H131)","v":16},null,null,null,null,null,null,null,""]
[null,null,null,null,null,null,null,null,null,null,null,null,null,null,null,"",null,null,null,null,"Link",{"$f":"IF(ISERROR(VALUE(D29)),\"\",VALUE(D29))","v":0},0,0,0,0,0,0,0,0,0,0,0,0,0,0,0,0,0,0,0,0,0,0,0,0,0,0,0,{"$f":"IF(ISERROR(VALUE(AF29)),\"\",VALUE(AF29))","v":0},{"$f":"IF(ISERROR(VALUE(AG29)),\"\",VALUE(AG29))","v":0},0]
[null,null,null,null,null,null,null,null,null,null,null,null,null,null,null,"",null,null,null,null,null,"",0,0,0,0,0,0,0,0,0,0,0,0,0,0,0,0,0,0,0,0,0,0,0,0,0,0,0,{"$f":"IF(ISERROR(VALUE(AF30)),\"\",VALUE(AF30))","v":0},0,0]
[null,null,null,null,null,null,null,null,null,null,null,null,null,null,null,"",null,null,null,null,null,0,0,0,0,0,0,0,0,0,0,0,0,0,0,0,0,0,0,0,0,0,0,0,0,0,0,0,0,{"$f":"IF(ISERROR(VALUE(AF31)),\"\",VALUE(AF31))","v":0},0,0]
[null,null,null,null,null,null,null,null,null,null,null,null,null,null,null,""]
[null,null,null,null,null,null,null,null,null,null,null,null,null,null,null,null,null,null,null,null,"食事平均",null,null,null,null,null,null,null,null,null,null,null,null,{"$f":"AC140&AE140&AF140","v":""}]
[null,null,null,null,null,null,null,null,null,null,null,null,null,null,null,null,null,null,null,null,"左",{"$f":"IF(D25=\"\", \"\", LEFT(D25,SEARCH(\"/\",D25,1)-1)*1)","v":""},"","","","","","","","","",{"$f":"IF(N25=\"\", \"\", LEFT(N25,SEARCH(\"/\",N25,1)-1)*1)","v":""},"","","","","","","","","",{"$f":"IF(X25=\"\", \"\", LEFT(X25,SEARCH(\"/\",X25,1)-1)*1)","v":""},"","","","","","","","",""]
[null,null,null,null,null,null,null,null,null,null,null,null,null,null,null,null,null,null,null,null,null,"","","","","","","","","","","","","","","","","","","","","","","","","","","","","",""]
[null,null,null,null,null,null,null,null,null,null,null,null,null,null,null,null,null,null,null,null,null,"","","","","","","","","","","","","","","","","","","","","","","","","","","","","",""]
[null,null,null,null,null,null,null,null,null,null,null,null,null,null,null,null,null,null,null,null,"右",{"$f":"IF(D25=\"\", \"\", RIGHT(D25,LEN(D25)-FIND(\"/\",D25,1))*1)","v":""},"","","","","","","","","",{"$f":"IF(N25=\"\", \"\", RIGHT(N25,LEN(N25)-FIND(\"/\",N25,1))*1)","v":""},"","","","","","","","","",{"$f":"IF(X25=\"\", \"\", RIGHT(X25,LEN(X25)-FIND(\"/\",X25,1))*1)","v":""},"","","","","","","","",""]
[null,null,null,null,null,null,null,null,null,null,null,null,null,null,null,null,null,null,null,null,null,"","","","","","","","","","","","","","","","","","","","","","","","","","","","","",""]
[null,null,null,null,null,null,null,null,null,null,null,null,null,null,null,null,null,null,null,null,null,"","","","","","","","","","","","","","","","","","","","","","","","","","","","","",""]
[null,null,null,null,null,null,null,null,null,null,null,null,null,null,null,null,null,null,null,null,null,null,null,null,null,null,null,null,null,null,null,null,null,{"$f":"AC147&AE147&AF147","v":""}]
[null,null,null,null,null,null,null,null,null,null,null,null,null,null,null,null,null,null,null,null,"BP平均",null,null,null,null,null,null,null,null,null,null,null,null,{"$f":"AC148&AE148&AF148","v":""}]
[null,null,null,null,null,null,null,null,null,null,null,null,null,null,null,null,null,null,null,null,"左",{"$f":"IF(ISERROR(LEFT(D32,SEARCH(\"/\",D32,1)-1)*1),\"\",LEFT(D32,SEARCH(\"/\",D32,1)-1)*1)","v":""},"","","","","","","","","",{"$f":"IF(ISERROR(LEFT(N32,SEARCH(\"/\",N32,1)-1)*1),\"\",LEFT(N32,SEARCH(\"/\",N32,1)-1)*1)","v":""},"","","","","","","","","",{"$f":"IF(ISERROR(LEFT(X32,SEARCH(\"/\",X32,1)-1)*1),\"\",LEFT(X32,SEARCH(\"/\",X32,1)-1)*1)","v":""},"","","","","","","","",""]
[null,null,null,null,null,null,null,null,null,null,null,null,null,null,null,null,null,null,null,null,null,"","","","","","","","","","","","","","","","","","","","","","","","","","","","","",""]
[null,null,null,null,null,null,null,null,null,null,null,null,null,null,null,null,null,null,null,null,null,"","","","","","","","","","","","","","","","","","","","","","","","","","","","","",""]
[null,null,null,null,null,null,null,null,null,null,null,null,null,null,null,null,null,null,null,null,null,"","","","","","","","","","","","","","","","","","","","","","","","","","","","","",""]
[null,null,null,null,null,null,null,null,null,null,null,null,null,null,null,null,null,null,null,null,"右",{"$f":"IF(ISERROR(RIGHT(D32,LEN(D32)-FIND(\"/\",D32,1))*1),\"\",RIGHT(D32,LEN(D32)-FIND(\"/\",D32,1))*1)","v":""},"","","","","","","","","",{"$f":"IF(ISERROR(RIGHT(N32,LEN(N32)-FIND(\"/\",N32,1))*1),\"\",RIGHT(N32,LEN(N32)-FIND(\"/\",N32,1))*1)","v":""},"","","","","","","","","",{"$f":"IF(ISERROR(RIGHT(X32,LEN(X32)-FIND(\"/\",X32,1))*1),\"\",RIGHT(X32,LEN(X32)-FIND(\"/\",X32,1))*1)","v":""},"","","","","","","","",""]
[null,null,null,null,null,null,null,null,null,null,null,null,null,null,null,null,null,null,null,null,null,"","","","","","","","","","","","","","","","","","","","","","","","","","","","","",""]
[null,null,null,null,null,null,null,null,null,null,null,null,null,null,null,null,null,null,null,null,null,"","","","","","","","","","","","","","","","","","","","","","","","","","","","","",""]
[null,null,null,null,null,null,null,null,null,null,null,null,null,null,null,null,null,null,null,null,null,"","","","","","","","","","","","","","","","","","","","","","","","","","","","","",""]
[null,null,null,null,null,null,null,null,null,null,null,null,null,null,null,""]
[null,null,null,null,null,null,null,null,null,null,null,null,null,null,null,""]
[null,null,null,null,null,null,null,null,null,null,null,null,null,null,null,""]
[null,null,null,null,null,null,null,null,null,null,null,null,null,null,null,""]
[null,null,null,null,null,null,null,null,null,null,null,null,null,null,null,{"$f":"K161&M161&N161","v":""}]

{"sheet":"5月","index":4,"n_rows":161,"n_cols":52,"rows_kept":161,"cut":false,"hidden":false,"merged":[[147,28,147,29],[147,31,147,32],[160,10,160,11],[160,13,160,14],[139,28,139,29],[139,31,139,32],[137,10,137,11],[137,13,137,14],[138,10,138,11],[138,13,138,14],[46,1,46,5],[52,17,52,18],[56,3,56,4],[56,6,56,7],[56,12,56,13],[56,14,56,15],[56,17,56,18],[65,12,65,13],[65,14,65,15],[65,17,65,18],[61,12,61,13],[61,14,61,15],[64,14,64,15],[64,17,64,18],[57,3,57,4],[57,6,57,7],[57,11,64,11],[60,3,60,4],[60,6,60,7],[63,3,63,4],[63,6,63,7],[58,12,58,13],[58,14,58,15],[58,17,58,18],[135,10,135,11],[135,13,135,14],[136,10,136,11],[136,13,136,14],[133,10,133,11],[133,13,133,14],[134,10,134,11],[134,13,134,14],[47,1,47,9],[47,11,47,18],[66,3,66,4],[66,6,66,7],[66,12,66,13],[49,14,49,15],[49,17,49,18],[49,11,56,11],[53,3,53,4],[53,6,53,7],[53,12,53,13],[49,12,49,13],[60,12,60,13],[60,14,60,15],[61,3,61,4],[61,6,61,7],[47,19,47,26],[48,3,48,4],[0,1,0,2],[0,5,0,6],[1,1,1,3],[1,4,1,6],[4,37,4,40],[5,37,9,40],[16,1,16,2],[17,1,17,2],[2,1,3,3],[18,1,18,2],[19,1,19,2],[20,1,20,2],[21,1,22,2],[23,1,23,2],[27,1,27,2],[28,1,30,2],[39,1,39,2],[40,1,40,2],[41,1,41,2],[42,1,42,2],[43,1,43,2],[44,1,44,2],[47,27,47,34],[48,22,48,23],[48,25,48,26],[48,28,48,29],[56,22,56,23],[56,25,56,26],[56,28,56,29],[48,6,48,7],[48,41,48,42],[48,36,48,37],[48,30,48,31],[48,33,48,34],[48,38,48,39],[48,12,48,13],[48,14,48,15],[48,17,48,18],[48,20,48,21],[54,33,54,34],[54,36,54,37],[50,33,50,34],[50,36,50,37],[54,30,54,31],[53,30,53,31],[49,33,49,34],[56,36,56,37],[56,38,56,39],[56,41,56,42],[49,35,56,35],[51,41,51,42],[49,36,49,37],[51,33,51,34],[51,36,51,37],[51,38,51,39],[49,41,49,42],[53,36,53,37],[52,36,52,37],[53,33,53,34],[53,38,53,39],[53,41,53,42],[54,38,54,39],[54,41,54,42],[52,41,52,42],[50,41,50,42],[49,38,49,39],[55,33,55,34],[55,36,55,37],[55,38,55,39],[55,41,55,42],[54,25,54,26],[52,22,52,23],[52,6,52,7],[52,12,52,13],[52,14,52,15],[50,25,50,26],[55,30,55,31],[50,17,50,18],[50,22,50,23],[55,25,55,26],[52,20,52,21],[51,12,51,13],[51,14,51,15],[51,20,51,21],[51,22,51,23],[52,30,52,31],[56,30,56,31],[56,33,56,34],[50,38,50,39],[51,3,51,4],[51,6,51,7],[52,38,52,39],[52,3,52,4],[51,28,51,29],[52,33,52,34],[51,30,51,31],[49,19,56,19],[54,17,54,18],[51,17,51,18],[49,20,49,21],[53,14,53,15],[50,20,50,21],[54,3,54,4],[54,6,54,7],[54,12,54,13],[49,30,49,31],[50,3,50,4],[50,6,50,7],[50,12,50,13],[50,14,50,15],[49,22,49,23],[55,3,55,4],[55,6,55,7],[55,12,55,13],[55,14,55,15],[55,17,55,18],[55,20,55,21],[55,22,55,23],[54,14,54,15],[54,20,54,21],[54,22,54,23],[62,28,62,29],[64,22,64,23],[64,25,64,26],[59,25,59,26],[61,22,61,23],[60,22,60,23],[60,25,60,26],[63,22,63,23],[57,33,57,34],[61,33,61,34],[62,33,62,34],[57,30,57,31],[58,30,58,31],[59,30,59,31],[63,28,63,29],[64,30,64,31],[64,33,64,34],[57,22,57,23],[57,25,57,26],[57,27,64,27],[63,25,63,26],[58,36,58,37],[58,38,58,39],[62,30,62,31],[60,30,60,31],[60,33,60,34],[60,38,60,39],[61,30,61,31],[59,33,59,34],[61,36,61,37],[60,36,60,37],[62,41,62,42],[59,41,59,42],[64,41,64,42],[60,41,60,42],[58,41,58,42],[64,3,64,4],[64,6,64,7],[57,38,57,39],[57,28,57,29],[61,28,61,29],[58,33,58,34],[59,17,59,18],[59,20,59,21],[59,22,59,23],[58,28,58,29],[62,38,62,39],[58,25,58,26],[60,28,60,29],[61,38,61,39],[61,25,61,26],[62,25,62,26],[59,36,59,37],[59,38,59,39],[59,28,59,29],[58,20,58,21],[58,22,58,23],[57,19,64,19],[57,20,57,21],[59,3,59,4],[59,6,59,7],[59,12,59,13],[59,14,59,15],[64,20,64,21],[60,17,60,18],[60,20,60,21],[61,17,61,18],[61,20,61,21],[57,12,57,13],[57,14,57,15],[57,17,57,18],[63,12,63,13],[63,14,63,15],[64,12,64,13],[64,36,64,37],[64,38,64,39],[64,28,64,29],[63,33,63,34],[61,41,61,42],[62,3,62,4],[62,6,62,7],[62,12,62,13],[62,14,62,15],[62,17,62,18],[62,20,62,21],[62,22,62,23],[62,36,62,37],[63,17,63,18],[63,20,63,21],[63,30,63,31],[63,41,63,42],[63,36,63,37],[63,38,63,39],[57,35,64,35],[57,36,57,37],[57,41,57,42],[58,3,58,4],[58,6,58,7],[66,30,66,31],[67,30,67,31],[65,38,65,39],[66,33,66,34],[66,36,66,37],[66,38,66,39],[67,36,67,37],[65,33,65,34],[65,35,72,35],[67,33,67,34],[72,38,72,39],[67,38,67,39],[70,38,70,39],[70,30,70,31],[70,33,70,34],[68,36,68,37],[68,30,68,31],[67,41,67,42],[65,41,65,42],[68,41,68,42],[72,41,72,42],[69,36,69,37],[69,38,69,39],[66,41,66,42],[65,36,65,37],[71,30,71,31],[71,33,71,34],[71,36,71,37],[71,38,71,39],[71,41,71,42],[72,30,72,31],[72,33,72,34],[72,36,72,37],[69,41,69,42],[68,38,68,39],[70,41,70,42],[68,33,68,34],[69,33,69,34],[70,36,70,37],[69,30,69,31],[65,30,65,31],[70,25,70,26],[71,25,71,26],[71,28,71,29],[66,28,66,29],[72,25,72,26],[67,25,67,26],[67,28,67,29],[65,25,65,26],[68,3,68,4],[68,6,68,7],[68,12,68,13],[68,14,68,15],[68,17,68,18],[68,20,68,21],[68,25,68,26],[68,28,68,29],[72,20,72,21],[65,11,72,11],[72,28,72,29],[69,3,69,4],[65,3,65,4],[72,3,72,4],[66,20,66,21],[67,3,67,4],[70,3,70,4],[70,6,70,7],[70,12,70,13],[70,14,70,15],[70,17,70,18],[70,20,70,21],[70,22,70,23],[67,6,67,7],[67,12,67,13],[70,28,70,29],[65,27,72,27],[65,28,65,29],[69,28,69,29],[66,25,66,26],[69,25,69,26],[79,3,79,4],[79,17,79,18],[78,3,78,4],[67,20,67,21],[66,22,66,23],[71,22,71,23],[66,14,66,15],[66,17,66,18],[65,22,65,23],[69,20,69,21],[65,19,72,19],[65,20,65,21],[72,22,72,23],[71,3,71,4],[71,6,71,7],[71,12,71,13],[71,14,71,15],[71,17,71,18],[71,20,71,21],[69,6,69,7],[69,12,69,13],[69,14,69,15],[69,17,69,18],[65,6,65,7],[69,22,69,23],[72,6,72,7],[72,12,72,13],[72,14,72,15],[68,22,68,23],[67,22,67,23],[67,14,67,15],[67,17,67,18],[79,20,79,21],[75,22,75,23],[75,25,75,26],[75,28,75,29],[78,6,78,7],[78,12,78,13],[78,14,78,15],[78,17,78,18],[78,20,78,21],[76,14,76,15],[76,17,76,18],[76,20,76,21],[76,22,76,23],[77,22,77,23],[77,25,77,26],[78,22,78,23],[78,25,78,26],[78,28,78,29],[76,25,76,26],[73,11,80,11],[73,12,73,13],[73,14,73,15],[73,17,73,18],[73,41,73,42],[74,3,74,4],[74,6,74,7],[74,12,74,13],[74,14,74,15],[74,17,74,18],[74,20,74,21],[74,22,74,23],[74,25,74,26],[74,28,74,29],[74,41,74,42],[73,33,73,34],[73,35,80,35],[74,30,74,31],[75,30,75,31],[76,30,76,31],[77,28,77,29],[77,30,77,31],[73,28,73,29],[79,22,79,23],[79,25,79,26],[79,6,79,7],[79,12,79,13],[79,14,79,15],[73,36,73,37],[76,3,76,4],[76,6,76,7],[76,12,76,13],[73,20,73,21],[73,22,73,23],[73,25,73,26],[73,30,73,31],[76,38,76,39],[76,28,76,29],[76,33,76,34],[76,36,76,37],[75,38,75,39],[75,3,75,4],[75,6,75,7],[75,12,75,13],[75,14,75,15],[75,17,75,18],[75,20,75,21],[73,3,73,4],[73,6,73,7],[76,41,76,42],[77,3,77,4],[77,6,77,7],[77,12,77,13],[77,14,77,15],[77,17,77,18],[77,20,77,21],[77,36,77,37],[77,38,77,39],[77,41,77,42],[73,19,80,19],[80,12,80,13],[80,14,80,15],[80,17,80,18],[80,20,80,21],[80,22,80,23],[80,25,80,26],[73,38,73,39],[74,33,74,34],[78,33,78,34],[78,36,78,37],[78,38,78,39],[78,41,78,42],[73,27,80,27],[79,33,79,34],[79,36,79,37],[79,38,79,39],[77,33,77,34],[79,28,79,29],[79,30,79,31],[79,41,79,42],[80,28,80,29],[80,30,80,31],[80,33,80,34],[80,36,80,37],[80,38,80,39],[80,41,80,42],[78,30,78,31],[75,41,75,42],[74,36,74,37],[74,38,74,39],[75,33,75,34],[75,36,75,37],[86,33,86,34],[81,11,88,11],[81,12,81,13],[81,14,81,15],[81,17,81,18],[81,19,88,19],[81,20,81,21],[81,22,81,23],[81,25,81,26],[81,27,88,27],[82,12,82,13],[82,14,82,15],[82,17,82,18],[82,20,82,21],[82,22,82,23],[82,25,82,26],[83,12,83,13],[83,14,83,15],[83,17,83,18],[83,20,83,21],[83,22,83,23],[83,25,83,26],[84,12,84,13],[84,14,84,15],[81,36,81,37],[85,41,85,42],[81,38,81,39],[82,36,82,37],[82,38,82,39],[83,36,83,37],[83,38,83,39],[84,36,84,37],[84,38,84,39],[81,41,81,42],[82,41,82,42],[83,41,83,42],[84,41,84,42],[85,12,85,13],[85,14,85,15],[85,17,85,18],[85,20,85,21],[85,22,85,23],[85,25,85,26],[86,36,86,37],[86,38,86,39],[86,41,86,42],[87,12,87,13],[87,14,87,15],[87,17,87,18],[87,20,87,21],[87,22,87,23],[87,25,87,26],[87,33,87,34],[87,36,87,37],[87,38,87,39],[87,41,87,42],[86,30,86,31],[87,28,87,29],[87,30,87,31],[81,35,88,35],[82,28,82,29],[82,30,82,31],[82,33,82,34],[83,28,83,29],[83,30,83,31],[83,33,83,34],[86,28,86,29],[85,28,85,29],[85,30,85,31],[85,33,85,34],[85,36,85,37],[85,38,85,39],[84,17,84,18],[96,41,96,42],[88,12,88,13],[88,14,88,15],[88,17,88,18],[88,20,88,21],[88,22,88,23],[88,25,88,26],[88,33,88,34],[88,36,88,37],[88,38,88,39],[88,41,88,42],[93,25,93,26],[93,33,93,34],[93,36,93,37],[93,38,93,39],[93,41,93,42],[94,12,94,13],[94,14,94,15],[94,36,94,37],[94,38,94,39],[94,41,94,42],[88,28,88,29],[88,30,88,31],[89,38,89,39],[95,25,95,26],[95,28,95,29],[95,30,95,31],[95,33,95,34],[95,36,95,37],[95,38,95,39],[91,38,91,39],[92,25,92,26],[96,36,96,37],[96,38,96,39],[95,41,95,42],[91,41,91,42],[91,28,91,29],[91,30,91,31],[93,28,93,29],[91,33,91,34],[89,25,89,26],[90,25,90,26],[89,33,89,34],[90,28,90,29],[94,25,94,26],[94,30,94,31],[94,33,94,34],[92,41,92,42],[89,41,89,42],[90,36,90,37],[90,38,90,39],[90,30,90,31],[90,33,90,34],[91,25,91,26],[90,41,90,42],[91,36,91,37],[100,41,100,42],[97,35,104,35],[97,36,97,37],[97,38,97,39],[97,41,97,42],[98,36,98,37],[98,38,98,39],[101,12,101,13],[101,14,101,15],[99,28,99,29],[99,30,99,31],[101,28,101,29],[101,30,101,31],[102,28,102,29],[100,33,100,34],[101,17,101,18],[101,20,101,21],[101,22,101,23],[101,36,101,37],[101,38,101,39],[101,41,101,42],[102,36,102,37],[102,38,102,39],[102,41,102,42],[103,38,103,39],[97,19,104,19],[97,20,97,21],[97,22,97,23],[97,25,97,26],[98,20,98,21],[98,22,98,23],[98,25,98,26],[99,20,99,21],[99,22,99,23],[97,33,97,34],[98,28,98,29],[104,38,104,39],[104,33,104,34],[100,36,100,37],[100,38,100,39],[103,30,103,31],[103,33,103,34],[102,33,102,34],[102,30,102,31],[103,20,103,21],[102,20,102,21],[103,36,103,37],[103,41,103,42],[104,41,104,42],[104,14,104,15],[104,17,104,18],[104,20,104,21],[104,36,104,37],[104,22,104,23],[104,25,104,26],[104,28,104,29],[104,30,104,31],[97,27,104,27],[97,28,97,29],[97,30,97,31],[98,41,98,42],[99,36,99,37],[99,38,99,39],[99,41,99,42],[99,17,99,18],[99,33,99,34],[98,30,98,31],[98,33,98,34],[99,25,99,26],[103,25,103,26],[103,28,103,29],[111,28,111,29],[111,30,111,31],[111,33,111,34],[110,33,110,34],[110,22,110,23],[110,25,110,26],[110,28,110,29],[110,30,110,31],[111,17,111,18],[111,20,111,21],[111,22,111,23],[111,25,111,26],[105,19,112,19],[105,20,105,21],[112,22,112,23],[108,17,108,18],[108,20,108,21],[106,25,106,26],[107,20,107,21],[107,22,107,23],[107,28,107,29],[108,28,108,29],[105,27,112,27],[105,28,105,29],[109,28,109,29],[105,17,105,18],[106,28,106,29],[106,30,106,31],[112,33,112,34],[112,25,112,26],[112,28,112,29],[112,14,112,15],[112,17,112,18],[112,20,112,21],[111,14,111,15],[108,14,108,15],[110,14,110,15],[110,17,110,18],[110,20,110,21],[107,17,107,18],[109,17,109,18],[109,20,109,21],[112,30,112,31],[108,33,108,34],[108,22,108,23],[108,25,108,26],[109,22,109,23],[109,25,109,26],[111,12,111,13],[130,0,132,0],[130,2,130,4],[130,7,130,8],[105,11,112,11],[105,12,105,13],[107,12,107,13],[108,12,108,13],[110,12,110,13],[109,12,109,13],[106,12,106,13],[129,10,129,12],[130,10,130,11],[130,13,130,14],[129,2,129,4],[129,6,129,8],[112,12,112,13],[131,10,131,11],[131,13,131,14],[132,10,132,11],[132,13,132,14],[109,14,109,15],[106,14,106,15],[107,14,107,15],[13,37,13,40],[10,37,10,40],[11,37,11,40],[12,37,12,40],[93,17,93,18],[93,20,93,21],[93,22,93,23],[92,36,92,37],[92,38,92,39],[89,35,96,35],[89,36,89,37],[89,19,96,19],[89,20,89,21],[89,22,89,23],[90,20,90,21],[90,22,90,23],[91,22,91,23],[92,20,92,21],[92,22,92,23],[92,28,92,29],[92,30,92,31],[89,27,96,27],[89,28,89,29],[89,30,89,31],[107,33,107,34],[97,11,104,11],[97,12,97,13],[97,14,97,15],[97,17,97,18],[98,12,98,13],[98,14,98,15],[98,17,98,18],[99,12,99,13],[99,14,99,15],[103,22,103,23],[105,22,105,23],[105,25,105,26],[106,20,106,21],[106,22,106,23],[107,30,107,31],[107,25,107,26],[105,30,105,31],[106,17,106,18],[103,14,103,15],[103,17,103,18],[102,14,102,15],[102,17,102,18],[102,25,102,26],[96,30,96,31],[96,33,96,34],[93,30,93,31],[1,25,1,31],[2,25,2,30],[3,25,3,30],[105,14,105,15],[105,33,105,34],[106,33,106,34],[94,28,94,29],[92,33,92,34],[96,25,96,26],[96,28,96,29],[95,17,95,18],[95,20,95,21],[95,22,95,23],[84,22,84,23],[84,25,84,26],[84,28,84,29],[84,30,84,31],[84,33,84,34],[81,28,81,29],[81,30,81,31],[81,33,81,34],[86,25,86,26],[84,20,84,21],[72,17,72,18],[109,30,109,31],[109,33,109,34],[108,30,108,31],[101,25,101,26],[101,33,101,34],[93,12,93,13],[93,14,93,15],[96,17,96,18],[96,20,96,21],[96,22,96,23],[104,12,104,13],[100,12,100,13],[100,14,100,15],[100,17,100,18],[100,20,100,21],[100,22,100,23],[100,25,100,26],[100,28,100,29],[100,30,100,31],[96,12,96,13],[96,14,96,15],[89,11,96,11],[89,12,89,13],[89,14,89,15],[89,17,89,18],[90,12,90,13],[90,14,90,15],[90,17,90,18],[91,12,91,13],[91,14,91,15],[91,17,91,18],[94,17,94,18],[103,12,103,13],[94,20,94,21],[94,22,94,23],[92,12,92,13],[92,14,92,15],[92,17,92,18],[95,12,95,13],[95,14,95,15],[86,12,86,13],[86,14,86,15],[86,17,86,18],[86,20,86,21],[86,22,86,23],[102,12,102,13],[102,22,102,23],[91,20,91,21],[0,25,0,34],[1,10,1,13],[1,14,1,15],[1,16,1,21],[2,10,3,11],[2,12,3,13],[2,15,3,21],[31,1,34,2],[35,1,35,2],[1,23,1,24],[2,23,3,24],[1,7,1,9],[36,1,36,2],[37,1,37,2],[38,1,38,2],[24,1,26,2],[49,3,49,4],[49,6,49,7],[1,32,1,34],[2,32,3,34],[49,25,49,26],[49,27,56,27],[49,28,49,29],[50,30,50,31],[50,28,50,29],[54,28,54,29],[52,25,52,26],[52,28,52,29],[51,25,51,26],[53,17,53,18],[53,20,53,21],[53,22,53,23],[53,25,53,26],[53,28,53,29],[55,28,55,29],[56,20,56,21]]}
[null,"体温表",null,null,null,{"$f":"設定!$F$7","v":2017},null,"年",null,5,"月",null,null,null,null,null,null,null,null,null,null,null,null,null,null,"伊都の丘病院"]
[null,"カルテ番号",null,null,"病棟",null,null,"入院形態",null,null,"主治医",null,null,null,"　姓名",null,{"$f":"'4月'!$Q$2","v":0},null,null,null,null,null,null,"性別",null,"生年月日　",null,null,null,null,null,null,"担当Ns"]
[null,{"$f":"'4月'!B3","v":0},null,null,{"$f":"IF(COUNTIF('4月'!E3:G3,\"*\"),INDEX('4月'!E3:G3,MATCH(\"\",'4月'!E3:G3,-1)),\"\")","v":""},null,null,{"$f":"IF(COUNTIF('4月'!H3:J3,\"*\"),INDEX('4月'!H3:J3,MATCH(\"\",'4月'!H3:J3,-1)),\"\")","v":""},null,null,{"$f":"IF(COUNTIF('4月'!K3:M3,\"*\"),INDEX('4月'!K3:M3,MATCH(\"\",'4月'!K3:M3,-1)),\"\")","v":""},null,null,null,null,{"$f":"'4月'!$P$3","v":"新体温表 - バックアップ９１ー"},null,null,null,null,null,null,null,{"$f":"'4月'!$X$3","v":0},null,{"$f":"'4月'!$Z$3","v":"ここに生年月日を記入"},null,null,null,null,null,{"$f":"IF(ISERROR(DATEDIF(Z3,DATE(設定!F7,5,31),\"Y\"))=TRUE,\"\",DATEDIF(Z3,DATE(設定!F7,5,31),\"Y\"))","v":""},{"$f":"'4月'!$AG$3","v":0}]
[null,null,null,null,"/","/","/","/","/","/",null,null,null,null,null,null,null,null,null,null,null,null,null,null,null,{"$f":"SUBSTITUTE(Z3,\"ここに生年月日を記入\",\"\")","v":""},null,null,null,null,null,"歳"]
[null,null,null,null,null,null,null,null,null,null,null,null,null,null,null,null,null,null,null,null,null,null,null,null,null,null,null,null,null,null,null,null,null,null,null,null,null,{"$f":"設定!C11","v":"便利ボタン"}]
[]
[]
[]
[]
[]
[]
[null,null,null,null,null,null,null,null,null,null,null,null,null,null,null,null,null,null,null,null,null,null,null,null,null,null,null,null,null,null,null,null,null,null,null,null,null,{"$f":"設定!C18","v":" ※自動保存されます"}]
[null,null,null,null,null,null,null,null,null,null,null,null,null,null,null,null,null,null,null,null,null,null,null,null,null,null,null,null,null,null,null,null,null,null,null,null,null,{"$f":"設定!C19","v":0}]
[null,null,null,null,null,null,null,null,null,null,null,null,null,null,null,null,null,null,null,null,null,null,null,null,null,null,null,null,null,null,null,null,null,null,null,null,null,{"$f":"設定!C20","v":0}]
[]
[]
[null,"日　付",null,1,2,3,4,5,6,7,8,9,10,11,12,13,14,15,16,17,18,19,20,21,22,23,24,25,26,27,28,29,30,31,"統計"]
[null,"行　動"]
[null,"時　間"]
[null,"行　動"]
[null,"時　間",null,null,null,null,null,null,null,null,null,null,null,null,null,null,null,null,null,null,null,null,null,null,null,null,null,null,null,null,null,null,null,null,{"$f":"IF(COUNTIF(D18:AH21,\"外出\")+COUNTIF(D18:AH21,\"外泊\")=0,\"回数\",COUNTIF(D18:AH21,\"外出\")+COUNTIF(D18:AH21,\"外泊\"))","v":"回数"}]
[null,"面　会"]
[null,null,null,null,null,null,null,null,null,null,null,null,null,null,null,null,null,null,null,null,null,null,null,null,null,null,null,null,null,null,null,null,null,null,{"$f":"IF(COUNTA(D22:AH22)=0,\"回数\",COUNTA(D22:AH22))","v":"回数"}]
[null,"入　浴",null,null,null,null,null,null,null,null,null,null,null,null,null,null,null,null,null,null,null,null,null,null,null,null,null,null,null,null,null,null,null,null,{"$f":"IF(COUNTA(D24:AH24)=0,\"回数\",COUNTA(D24:AH24))","v":"回数"}]
[null,"食　事"]
[]
[null,null,null,null,null,null,null,null,null,null,null,null,null,null,null,null,null,null,null,null,null,null,null,null,null,null,null,null,null,null,null,null,null,null,{"$f":"IFERROR(INT(AVERAGE(V141:AZ143))& \"/\"&INT(AVERAGE(V144:AZ146)),\"平均\")","v":"平均"}]
[null,"便　通",null,{"$f":"IF(ISBLANK(I50),\"\",I50)","v":""},{"$f":"IF(ISBLANK(I51),\"\",I51)","v":""},{"$f":"IF(ISBLANK(I52),\"\",I52)","v":""},{"$f":"IF(ISBLANK(I53),\"\",I53)","v":""},{"$f":"IF(ISBLANK(I54),\"\",I54)","v":""},{"$f":"IF(ISBLANK(I55),\"\",I55)","v":""},{"$f":"IF(ISBLANK(I56),\"\",I56)","v":""},{"$f":"IF(ISBLANK(I57),\"\",I57)","v":""},{"$f":"IF(ISBLANK(I58),\"\",I58)","v":""},{"$f":"IF(ISBLANK(I59),\"\",I59)","v":""},{"$f":"IF(ISBLANK(I60),\"\",I60)","v":""},{"$f":"IF(ISBLANK(I61),\"\",I61)","v":""},{"$f":"IF(ISBLANK(I62),\"\",I62)","v":""},{"$f":"IF(ISBLANK(I63),\"\",I63)","v":""},{"$f":"IF(ISBLANK(I64),\"\",I64)","v":""},{"$f":"IF(ISBLANK(I65),\"\",I65)","v":""},{"$f":"IF(ISBLANK(I66),\"\",I66)","v":""},{"$f":"IF(ISBLANK(I67),\"\",I67)","v":""},{"$f":"IF(ISBLANK(I68),\"\",I68)","v":""},{"$f":"IF(ISBLANK(I69),\"\",I69)","v":""},{"$f":"IF(ISBLANK(I70),\"\",I70)","v":""},{"$f":"IF(ISBLANK(I71),\"\",I71)","v":""},{"$f":"IF(ISBLANK(I72),\"\",I72)","v":""},{"$f":"IF(ISBLANK(I73),\"\",I73)","v":""},{"$f":"IF(ISBLANK(I74),\"\",I74)","v":""},{"$f":"IF(ISBLANK(I75),\"\",I75)","v":""},{"$f":"IF(ISBLANK(I76),\"\",I76)","v":""},{"$f":"IF(ISBLANK(I77),\"\",I77)","v":""},{"$f":"IF(ISBLANK(I78),\"\",I78)","v":""},{"$f":"IF(ISBLANK(I79),\"\",I79)","v":""},{"$f":"IF(ISBLANK(I80),\"\",I80)","v":""},{"$f":"IF(COUNTIF(D28:AH28,0)=0,\"回数\",COUNTIF(D28:AH28,0))","v":"回数"}]
[null,"便処置"]
[null,null,null,"　",null,null,null,null,null,null,null,null,null,null,null,null,null,null,null,null,null,null,null,null,null,null,null,null,null,null,null,null,null,null,{"$f":"IF(SUM(V136:AZ138)=0,\"滴数\",SUM(V136:AZ138))","v":"滴数"}]
[null,null,null,null,null,null,null,null,null,null,null,null,null,null,null,null,null,null,null,null,null,null,null,null,null,null,null,null,null,null,null,null,null,null,{"$f":"IF(AI30=\"滴数\",\"本数\",AI30/150)","v":"本数"}]
[null,"血　圧",null,{"$f":"$R$50","v":0},{"$f":"$R$58","v":0},{"$f":"R66","v":0},{"$f":"R74","v":0},{"$f":"R82","v":0},{"$f":"R90","v":0},{"$f":"R98","v":0},{"$f":"R106","v":0},{"$f":"Z50","v":0},{"$f":"Z58","v":0},{"$f":"Z66","v":0},{"$f":"Z74","v":0},{"$f":"Z82","v":0},{"$f":"Z90","v":0},{"$f":"Z98","v":0},{"$f":"Z106","v":0},{"$f":"AH50","v":0},{"$f":"AH58","v":0},{"$f":"AH66","v":0},{"$f":"AH74","v":0},{"$f":"AH82","v":0},{"$f":"AH90","v":0},{"$f":"AH98","v":0},{"$f":"AH106","v":0},{"$f":"AP50","v":0},{"$f":"AP58","v":0},{"$f":"AP66","v":0},{"$f":"AP74","v":0},{"$f":"AP82","v":0},{"$f":"AP90","v":0},{"$f":"AP98","v":0}]
[null,null,null,{"$f":" IF(ISERROR($R$51),\"\",($R$51))","v":""},{"$f":" IF(ISERROR($R$59),\"\",($R$59))","v":""},{"$f":" IF(ISERROR($R$67),\"\",($R$67))","v":""},{"$f":" IF(ISERROR($R$75),\"\",($R$75))","v":""},{"$f":" IF(ISERROR($R$83),\"\",($R$83))","v":""},{"$f":" IF(ISERROR($R$91),\"\",($R$91))","v":""},{"$f":" IF(ISERROR($R$99),\"\",($R$99))","v":""},{"$f":" IF(ISERROR($R$107),\"\",($R$107))","v":""},{"$f":" IF(ISERROR($Z$51),\"\",($Z$51))","v":""},{"$f":" IF(ISERROR($Z$59),\"\",($Z$59))","v":""},{"$f":" IF(ISERROR($Z$67),\"\",($Z$67))","v":""},{"$f":" IF(ISERROR($Z$75),\"\",($Z$75))","v":""},{"$f":" IF(ISERROR($Z$83),\"\",($Z$83))","v":""},{"$f":" IF(ISERROR($Z$91),\"\",($Z$91))","v":""},{"$f":" IF(ISERROR($Z$99),\"\",($Z$99))","v":""},{"$f":" IF(ISERROR($Z$107),\"\",($Z$107))","v":""},{"$f":" IF(ISERROR($AH$51),\"\",($AH$51))","v":""},{"$f":" IF(ISERROR($AH$59),\"\",($AH$59))","v":""},{"$f":" IF(ISERROR($AH$67),\"\",($AH$67))","v":""},{"$f":" IF(ISERROR($AH$75),\"\",($AH$75))","v":""},{"$f":" IF(ISERROR($AH$83),\"\",($AH$83))","v":""},{"$f":" IF(ISERROR($AH$91),\"\",($AH$91))","v":""},{"$f":" IF(ISERROR($AH$99),\"\",($AH$99))","v":""},{"$f":" IF(ISERROR($AH$107),\"\",($AH$107))","v":""},{"$f":" IF(ISERROR($AP$51),\"\",($AP$51))","v":""},{"$f":" IF(ISERROR($AP$59),\"\",($AP$59))","v":""},{"$f":" IF(ISERROR($AP$67),\"\",($AP$67))","v":""},{"$f":" IF(ISERROR($AP$75),\"\",($AP$75))","v":""},{"$f":" IF(ISERROR($AP$83),\"\",($AP$83))","v":""},{"$f":" IF(ISERROR($AP$91),\"\",($AP$91))","v":""},{"$f":" IF(ISERROR($AP$99),\"\",($AP$99))","v":""}]
[null,null,null,{"$f":"$R$52","v":0},{"$f":"$R$60","v":0},{"$f":"R68","v":0},{"$f":"R76","v":0},{"$f":"R84","v":0},{"$f":"R92","v":0},{"$f":"R100","v":0},{"$f":"R108","v":0},{"$f":"Z52","v":0},{"$f":"Z60","v":0},{"$f":"Z68","v":0},{"$f":"Z76","v":0},{"$f":"Z84","v":0},{"$f":"Z92","v":0},{"$f":"Z100","v":0},{"$f":"Z108","v":0},{"$f":"AH52","v":0},{"$f":"AH60","v":0},{"$f":"AH68","v":0},{"$f":"AH76","v":0},{"$f":"AH84","v":0},{"$f":"AH92","v":0},{"$f":"AH100","v":0},{"$f":"AH108","v":0},{"$f":"AP52","v":0},{"$f":"AP60","v":0},{"$f":"AP68","v":0},{"$f":"AP76","v":0},{"$f":"AP84","v":0},{"$f":"AP92","v":0},{"$f":"AP100","v":0}]
[null,null,null,{"$f":"$R$53","v":0},{"$f":"$R$61","v":0},{"$f":"R69","v":0},{"$f":"R77","v":0},{"$f":"R85","v":0},{"$f":"R93","v":0},{"$f":"R101","v":0},{"$f":"R109","v":0},{"$f":"Z53","v":0},{"$f":"Z61","v":0},{"$f":"Z69","v":0},{"$f":"Z77","v":0},{"$f":"Z85","v":0},{"$f":"Z93","v":0},{"$f":"Z101","v":0},{"$f":"Z109","v":0},{"$f":"AH53","v":0},{"$f":"AH61","v":0},{"$f":"AH69","v":0},{"$f":"AH77","v":0},{"$f":"AH85","v":0},{"$f":"AH93","v":0},{"$f":"AH101","v":0},{"$f":"AH109","v":0},{"$f":"AP53","v":0},{"$f":"AP61","v":0},{"$f":"AP69","v":0},{"$f":"AP77","v":0},{"$f":"AP85","v":0},{"$f":"AP93","v":0},{"$f":"AP101","v":0},{"$f":"IFERROR(INT(AVERAGE(V149:AZ152))& \"/\"&INT(AVERAGE(V153:AZ156)),\"平均\")","v":"平均"}]
[null,"食事箋",null,{"$f":"IF(COUNTIF('4月'!D36:AH36,\"*\"),INDEX('4月'!D36:AH36,MATCH(\"\",'4月'!D36:AH36,-1)),\"\")","v":""}]
[null,"形　態",null,{"$f":"IF(COUNTIF('4月'!D37:AH37,\"*\"),INDEX('4月'!D37:AH37,MATCH(\"\",'4月'!D37:AH37,-1)),\"\")","v":""}]
[null,"身　長",null,{"$f":"IF(COUNT('4月'!D38:AH38),LOOKUP(MAX('4月'!D38:AH38)+1,'4月'!D38:AH38),\"\")","v":""},null,null,null,null,null,null,null,null,null,null,null,null,null,null,null,null,null,null,null,null,null,null,null,null,null,null,null,null,null,null,"BMI"]
[null,"体　重",null,null,null,null,null,null,null,null,null,null,null,null,null,null,null,null,null,null,null,null,null,null,null,null,null,null,null,null,null,null,null,null,{"$f":"IF(ISERROR(INDEX(D39:AH39,MATCH(307,D39:AH39))/(INDEX(D38:AH38,MATCH(9E+307,D38:AH38))/100)^2)=TRUE,\"\",INDEX(D39:AH39,MATCH(307,D39:AH39))/(INDEX(D38:AH38,MATCH(9E+307,D38:AH38))/100)^2)","v":""}]
[null,"Ｉ　Ｎ",null,null,null,null,null,null,null,null,null,null,null,null,null,null,null,null,null,null,null,null,null,null,null,null,null,null,null,null,null,null,null,null,{"$f":"IFERROR(INT(AVERAGE(D40:AH40)),\"平均\")","v":"平均"}]
[null,"ＯＵＴ",null,null,null,null,null,null,null,null,null,null,null,null,null,null,null,null,null,null,null,null,null,null,null,null,null,null,null,null,null,null,null,null,{"$f":"IFERROR(INT(AVERAGE(D41:AH41)),\"平均\")","v":"平均"}]
[null,"生　理",null,null,null,null,null,null,null,null,null,null,null,null,null,null,null,null,null,null,null,null,null,null,null,null,null,null,null,null,null,null,null,null,{"$f":"IF(ISERROR(IF(H132-MATCH(\"*\",D42:AH42,0)=0,\"0日目\",IF(H133=J1,IF(ISERROR(H132-MATCH(\"*\",D42:AH42,0)),\"日数\",H132-MATCH(\"*\",D42:AH42,0)),\"日数\"))),\"日数\",(IF(H132-MATCH(\"*\",D42:AH42,0)=0,\"0日目\",IF(H133=J1,IF(ISERROR(H132-MATCH(\"*\",D42:AH42,0)),\"日数\",H132-MATCH(\"*\",D42:AH42,0)),\"日数\"))))","v":"日数"}]
[null,null,null,null,null,null,null,null,null,null,null,null,null,null,null,null,null,null,null,null,null,null,null,null,null,null,null,null,null,null,null,null,null,null,{"$f":"COUNTA(D43:AH43)","v":0}]
[null,null,null,null,null,null,null,null,null,null,null,null,null,null,null,null,null,null,null,null,null,null,null,null,null,null,null,null,null,null,null,null,null,null,{"$f":"COUNTA(D44:AH44)","v":0}]
[null,"日　付",null,1,2,3,4,5,6,7,8,9,10,11,12,13,14,15,16,17,18,19,20,21,22,23,24,25,26,27,28,29,30,31]
[]
[null,{"$f":"$P$3","v":"新体温表 - バックアップ９１ー"},null,null,null,null,null,{"$f":"YEAR(I47)","v":2016},{"$f":"TODAY()","v":"2016-06-08"},{"$f":"TODAY()","v":42529},null,{"$f":"NOW()","v":42529.688973263888}]
[null,"平常時記入",null,null,null,null,null,null,null,null,null,"熱発時記入"]
[null,"日","時間","T",null," P","BP",null,"便",null,null,"日","時間",null,"T",null,"P","BP",null,"日","時間",null,"T",null,"P","BP",null,"日","時間",null,"T",null,"P","BP",null,"日","時間",null,"T",null,"P","BP"]
[null,1,"09:00:00",null,null,null,null,null,null,null,null,1,null,null,null,null,null,null,null,9,null,null,null,null,null,null,null,17,null,null,null,null,null,null,null,25]
[null,2,"09:00:00",null,null,null,null,null,null,null,null,null,"09:00:00",null,{"$f":"IF($D$50=\"\",NA(),$D$50)","v":{"$error":"#N/A"}},null,{"$f":"IF($F$50=\"\",NA(),$F$50)","v":{"$error":"#N/A"}},{"$f":"IF($G$50=\"\",NA(),$G$50)","v":{"$error":"#N/A"}},null,null,"09:00:00",null,{"$f":"IF($D$58=\"\",NA(),$D$58)","v":{"$error":"#N/A"}},null,{"$f":"IF($F$58=\"\",NA(),$F$58)","v":{"$error":"#N/A"}},{"$f":"IF($G$58=\"\",NA(),$G$58)","v":{"$error":"#N/A"}},null,null,"09:00:00",null,{"$f":"IF($D$66=\"\",NA(),$D$66)","v":{"$error":"#N/A"}},null,{"$f":"IF($F$66=\"\",NA(),$F$66)","v":{"$error":"#N/A"}},{"$f":"IF($G$66=\"\",NA(),$G$66)","v":{"$error":"#N/A"}},null,null,"09:00:00",null,{"$f":"IF($D$74=\"\",NA(),$D$74)","v":{"$error":"#N/A"}},null,{"$f":"IF($F$74=\"\",NA(),$F$74)","v":{"$error":"#N/A"}},{"$f":"IF($G$74=\"\",NA(),$G$74)","v":{"$error":"#N/A"}}]
[null,3,"09:00:00",null,null,null,null,null,null,"☆"]
[null,4,"09:00:00"]
[null,5,"09:00:00",null,null,null,null,null,null,"コ"]
[null,6,"09:00:00",null,null,null,null,null,null,"ス"]
[null,7,"09:00:00",null,null,null,null,null,null,"モ"]
[null,8,"09:00:00",null,null,null,null,null,null,"ス"]
[null,9,"09:00:00",null,null,null,null,null,null,"へ",null,2,null,null,null,null,null,null,null,10,null,null,null,null,null,null,null,18,null,null,null,null,null,null,null,26]
[null,10,"09:00:00",null,null,null,null,null,null,"戻",null,null,"09:00:00",null,{"$f":"IF($D$51=\"\",NA(),$D$51)","v":{"$error":"#N/A"}},null,{"$f":"IF($F$51=\"\",NA(),$F$51)","v":{"$error":"#N/A"}},{"$f":"IF($G$51=\"\",NA(),$G$51)","v":{"$error":"#N/A"}},null,null,"09:00:00",null,{"$f":"IF($D$59=\"\",NA(),$D$59)","v":{"$error":"#N/A"}},null,{"$f":"IF($F$59=\"\",NA(),$F$59)","v":{"$error":"#N/A"}},{"$f":"IF($G$59=\"\",NA(),$G$59)","v":{"$error":"#N/A"}},null,null,"09:00:00",null,{"$f":"IF($D$67=\"\",NA(),$D$67)","v":{"$error":"#N/A"}},null,{"$f":"IF($F$67=\"\",NA(),$F$67)","v":{"$error":"#N/A"}},{"$f":"IF($G$67=\"\",NA(),$G$67)","v":{"$error":"#N/A"}},null,null,"09:00:00",null,{"$f":"IF($D$75=\"\",NA(),$D$75)","v":{"$error":"#N/A"}},null,{"$f":"IF($F$75=\"\",NA(),$F$75)","v":{"$error":"#N/A"}},{"$f":"IF($G$75=\"\",NA(),$G$75)","v":{"$error":"#N/A"}}]
[null,11,"09:00:00",null,null,null,null,null,null,"る"]
[null,12,"09:00:00"]
[null,13,"09:00:00"]
[null,14,"09:00:00",null,null,null,null,null,null,"（"]
[null,15,"09:00:00",null,null,null,null,null,null,"選"]
[null,16,"09:00:00",null,null,null,null,null,null,"択"]
[null,17,"09:00:00",null,null,null,null,null,null,"す",null,3,null,null,null,null,null,null,null,11,null,null,null,null,null,null,null,19,null,null,null,null,null,null,null,27]
[null,18,"09:00:00",null,null,null,null,null,null,"る",null,null,"09:00:00",null,{"$f":"IF($D$52=\"\",NA(),$D$52)","v":{"$error":"#N/A"}},null,{"$f":"IF($F$52=\"\",NA(),$F$52)","v":{"$error":"#N/A"}},{"$f":"IF($G$52=\"\",NA(),$G$52)","v":{"$error":"#N/A"}},null,null,"09:00:00",null,{"$f":"IF($D$60=\"\",NA(),$D$60)","v":{"$error":"#N/A"}},null,{"$f":"IF($F$60=\"\",NA(),$F$60)","v":{"$error":"#N/A"}},{"$f":"IF($G$60=\"\",NA(),$G$60)","v":{"$error":"#N/A"}},null,null,"09:00:00",null,{"$f":"IF($D$68=\"\",NA(),$D$68)","v":{"$error":"#N/A"}},null,{"$f":"IF($F$68=\"\",NA(),$F$68)","v":{"$error":"#N/A"}},{"$f":"IF($G$68=\"\",NA(),$G$68)","v":{"$error":"#N/A"}},null,null,"09:00:00",null,{"$f":"IF($D$76=\"\",NA(),$D$76)","v":{"$error":"#N/A"}},null,{"$f":"IF($F$76=\"\",NA(),$F$76)","v":{"$error":"#N/A"}},{"$f":"IF($G$76=\"\",NA(),$G$76)","v":{"$error":"#N/A"}}]
[null,19,"09:00:00",null,null,null,null,null,null,"だ"]
[null,20,"09:00:00",null,null,null,null,null,null,"け"]
[null,21,"09:00:00",null,null,null,null,null,null,"で"]
[null,22,"09:00:00",null,null,null,null,null,null,"移"]
[null,23,"09:00:00",null,null,null,null,null,null,"動"]
[null,24,"09:00:00",null,null,null,null,null,null,"し"]
[null,25,"09:00:00",null,null,null,null,null,null,"ま",null,4,null,null,null,null,null,null,null,12,null,null,null,null,null,null,null,20,null,null,null,null,null,null,null,28]
[null,26,"09:00:00",null,null,null,null,null,null,"す",null,null,"09:00:00",null,{"$f":"IF($D$53=\"\",NA(),$D$53)","v":{"$error":"#N/A"}},null,{"$f":"IF($F$53=\"\",NA(),$F$53)","v":{"$error":"#N/A"}},{"$f":"IF($G$53=\"\",NA(),$G$53)","v":{"$error":"#N/A"}},null,null,"09:00:00",null,{"$f":"IF($D$61=\"\",NA(),$D$61)","v":{"$error":"#N/A"}},null,{"$f":"IF($F$61=\"\",NA(),$F$61)","v":{"$error":"#N/A"}},{"$f":"IF($G$61=\"\",NA(),$G$61)","v":{"$error":"#N/A"}},null,null,"09:00:00",null,{"$f":"IF($D$69=\"\",NA(),$D$69)","v":{"$error":"#N/A"}},null,{"$f":"IF($F$69=\"\",NA(),$F$69)","v":{"$error":"#N/A"}},{"$f":"IF($G$69=\"\",NA(),$G$69)","v":{"$error":"#N/A"}},null,null,"09:00:00",null,{"$f":"IF($D$77=\"\",NA(),$D$77)","v":{"$error":"#N/A"}},null,{"$f":"IF($F$77=\"\",NA(),$F$77)","v":{"$error":"#N/A"}},{"$f":"IF($G$77=\"\",NA(),$G$77)","v":{"$error":"#N/A"}}]
[null,27,"09:00:00",null,null,null,null,null,null,"）"]
[null,28,"09:00:00"]
[null,29,"09:00:00"]
[null,30,"09:00:00"]
[null,31,"09:00:00"]
[]
[null,null,null,null,null,null,null,null,null,null,null,5,null,null,null,null,null,null,null,13,null,null,null,null,null,null,null,21,null,null,null,null,null,null,null,29]
[null,null,null,null,null,null,null,null,null,null,null,null,"09:00:00",null,{"$f":"IF($D$54=\"\",NA(),$D$54)","v":{"$error":"#N/A"}},null,{"$f":"IF($F$54=\"\",NA(),$F$54)","v":{"$error":"#N/A"}},{"$f":"IF($G$54=\"\",NA(),$G$54)","v":{"$error":"#N/A"}},null,null,"09:00:00",null,{"$f":"IF($D$62=\"\",NA(),$D$62)","v":{"$error":"#N/A"}},null,{"$f":"IF($F$62=\"\",NA(),$F$62)","v":{"$error":"#N/A"}},{"$f":"IF($G$62=\"\",NA(),$G$62)","v":{"$error":"#N/A"}},null,null,"09:00:00",null,{"$f":"IF($D$70=\"\",NA(),$D$70)","v":{"$error":"#N/A"}},null,{"$f":"IF($F$70=\"\",NA(),$F$70)","v":{"$error":"#N/A"}},{"$f":"IF($G$70=\"\",NA(),$G$70)","v":{"$error":"#N/A"}},null,null,"09:00:00",null,{"$f":"IF($D$78=\"\",NA(),$D$78)","v":{"$error":"#N/A"}},null,{"$f":"IF($F$78=\"\",NA(),$F$78)","v":{"$error":"#N/A"}},{"$f":"IF($G$78=\"\",NA(),$G$78)","v":{"$error":"#N/A"}}]
[]
[]
[]
[]
[]
[]
[null,null,null,null,null,null,null,null,null,null,null,6,null,null,null,null,null,null,null,14,null,null,null,null,null,null,null,22,null,null,null,null,null,null,null,30]
[null,null,null,null,null,null,null,null,null,null,null,null,"09:00:00",null,{"$f":"IF($D$55=\"\",NA(),$D$55)","v":{"$error":"#N/A"}},null,{"$f":"IF($F$55=\"\",NA(),$F$55)","v":{"$error":"#N/A"}},{"$f":"IF($G$55=\"\",NA(),$G$55)","v":{"$error":"#N/A"}},null,null,"09:00:00",null,{"$f":"IF($D$63=\"\",NA(),$D$63)","v":{"$error":"#N/A"}},null,{"$f":"IF($F$63=\"\",NA(),$F$63)","v":{"$error":"#N/A"}},{"$f":"IF($G$63=\"\",NA(),$G$63)","v":{"$error":"#N/A"}},null,null,"09:00:00",null,{"$f":"IF($D$71=\"\",NA(),$D$71)","v":{"$error":"#N/A"}},null,{"$f":"IF($F$71=\"\",NA(),$F$71)","v":{"$error":"#N/A"}},{"$f":"IF($G$71=\"\",NA(),$G$71)","v":{"$error":"#N/A"}},null,null,"09:00:00",null,{"$f":"IF($D$79=\"\",NA(),$D$79)","v":{"$error":"#N/A"}},null,{"$f":"IF($F$79=\"\",NA(),$F$79)","v":{"$error":"#N/A"}},{"$f":"IF($G$79=\"\",NA(),$G$79)","v":{"$error":"#N/A"}}]
[]
[]
[]
[]
[]
[]
[null,null,null,null,null,null,null,null,null,null,null,7,null,null,null,null,null,null,null,15,null,null,null,null,null,null,null,23,null,null,null,null,null,null,null,31]
[null,null,null,null,null,null,null,null,null,null,null,null,"09:00:00",null,{"$f":"IF($D$56=\"\",NA(),$D$56)","v":{"$error":"#N/A"}},null,{"$f":"IF($F$56=\"\",NA(),$F$56)","v":{"$error":"#N/A"}},{"$f":"IF($G$56=\"\",NA(),$G$56)","v":{"$error":"#N/A"}},null,null,"09:00:00",null,{"$f":"IF($D$64=\"\",NA(),$D$64)","v":{"$error":"#N/A"}},null,{"$f":"IF($F$64=\"\",NA(),$F$64)","v":{"$error":"#N/A"}},{"$f":"IF($G$64=\"\",NA(),$G$64)","v":{"$error":"#N/A"}},null,null,"09:00:00",null,{"$f":"IF($D$72=\"\",NA(),$D$72)","v":{"$error":"#N/A"}},null,{"$f":"IF($F$72=\"\",NA(),$F$72)","v":{"$error":"#N/A"}},{"$f":"IF($G$72=\"\",NA(),$G$72)","v":{"$error":"#N/A"}},null,null,"09:00:00",null,{"$f":"IF($D$80=\"\",NA(),$D$80)","v":{"$error":"#N/A"}},null,{"$f":"IF($F$80=\"\",NA(),$F$80)","v":{"$error":"#N/A"}},{"$f":"IF($G$80=\"\",NA(),$G$80)","v":{"$error":"#N/A"}}]
[]
[]
[]
[]
[]
[]
[null,null,null,null,null,null,null,null,null,null,null,8,null,null,null,null,null,null,null,16,null,null,null,null,null,null,null,24]
[null,null,null,null,null,null,null,null,null,null,null,null,"09:00:00",null,{"$f":"IF($D$57=\"\",NA(),$D$57)","v":{"$error":"#N/A"}},null,{"$f":"IF($F$57=\"\",NA(),$F$57)","v":{"$error":"#N/A"}},{"$f":"IF($G$57=\"\",NA(),$G$57)","v":{"$error":"#N/A"}},null,null,"09:00:00",null,{"$f":"IF($D$65=\"\",NA(),$D$65)","v":{"$error":"#N/A"}},null,{"$f":"IF($F$65=\"\",NA(),$F$65)","v":{"$error":"#N/A"}},{"$f":"IF($G$65=\"\",NA(),$G$65)","v":{"$error":"#N/A"}},null,null,"09:00:00",null,{"$f":"IF($D$73=\"\",NA(),$D$73)","v":{"$error":"#N/A"}},null,{"$f":"IF($F$73=\"\",NA(),$F$73)","v":{"$error":"#N/A"}},{"$f":"IF($G$73=\"\",NA(),$G$73)","v":{"$error":"#N/A"}}]
[]
[]
[]
[]
[]
[]
[]
[]
[]
[]
[]
[]
[]
[]
[]
[]
[]
[]
[]
[]
[]
[null,null,"Enterで入力画面へ"]
[null,null,"ｶｰｿﾙ初期位置",null,null,null,"日付チェック",null,null,null,"バイタルコピー"]
["管理欄",null,"入力に入る",null,null,null,"今日",{"$f":"NOW()","v":"2016-06-08T16:32:07.290"},null,null,{"$f":"IF($D$74=\"\",NA(),$D$74)","v":{"$error":"#N/A"}},null,{"$f":"IF($F$74=\"\",NA(),$F$74)","v":{"$error":"#N/A"}},{"$f":"IF($G$74=\"\",NA(),$G$74)","v":{"$error":"#N/A"}},null,{"$f":"K131&M131&N131","v":{"$error":"#N/A"}}]
[null,null,null,null,null,null,"日",{"$f":"DAY(H131)","v":8},null,null,null,null,null,null,null,"",null,null,null,null,"シンラック"]
[null,null,null,null,null,null,"月",{"$f":"MONTH(H131)","v":6},null,null,null,null,null,null,null,"",null,null,null,null,"なし"]
[null,null,null,null,null,null,"年",{"$f":"YEAR(H131)","v":2016},null,null,null,null,null,null,null,""]
[null,null,null,null,null,null,"時",{"$f":"HOUR(H131)","v":16},null,null,null,null,null,null,null,""]
[null,null,null,null,null,null,null,null,null,null,null,null,null,null,null,"",null,null,null,null,"Link",{"$f":"IF(ISERROR(VALUE(D29)),\"\",VALUE(D29))","v":0},0,0,0,0,0,0,0,0,0,0,0,0,0,0,0,0,0,0,0,0,0,0,0,0,0,0,0,{"$f":"IF(ISERROR(VALUE(AF29)),\"\",VALUE(AF29))","v":0},{"$f":"IF(ISERROR(VALUE(AG29)),\"\",VALUE(AG29))","v":0},0]
[null,null,null,null,null,null,null,null,null,null,null,null,null,null,null,"",null,null,null,null,null,"",0,0,0,0,0,0,0,0,0,0,0,0,0,0,0,0,0,0,0,0,0,0,0,0,0,0,0,{"$f":"IF(ISERROR(VALUE(AF30)),\"\",VALUE(AF30))","v":0},0,0]
[null,null,null,null,null,null,null,null,null,null,null,null,null,null,null,"",null,null,null,null,null,0,0,0,0,0,0,0,0,0,0,0,0,0,0,0,0,0,0,0,0,0,0,0,0,0,0,0,0,{"$f":"IF(ISERROR(VALUE(AF31)),\"\",VALUE(AF31))","v":0},0,0]
[null,null,null,null,null,null,null,null,null,null,null,null,null,null,null,""]
[null,null,null,null,null,null,null,null,null,null,null,null,null,null,null,null,null,null,null,null,"食事平均",null,null,null,null,null,null,null,null,null,null,null,null,{"$f":"AC140&AE140&AF140","v":""}]
[null,null,null,null,null,null,null,null,null,null,null,null,null,null,null,null,null,null,null,null,"左",{"$f":"IF(D25=\"\", \"\", LEFT(D25,SEARCH(\"/\",D25,1)-1)*1)","v":""},"","","","","","","","","",{"$f":"IF(N25=\"\", \"\", LEFT(N25,SEARCH(\"/\",N25,1)-1)*1)","v":""},"","","","","","","","","",{"$f":"IF(X25=\"\", \"\", LEFT(X25,SEARCH(\"/\",X25,1)-1)*1)","v":""},"","","","","","","","","",{"$f":"IF(AH25=\"\", \"\", LEFT(AH25,SEARCH(\"/\",AH25,1)-1)*1)","v":""}]
[null,null,null,null,null,null,null,null,null,null,null,null,null,null,null,null,null,null,null,null,null,"","","","","","","","","","","","","","","","","","","","","","","","","","","","","","",""]
[null,null,null,null,null,null,null,null,null,null,null,null,null,null,null,null,null,null,null,null,null,"","","","","","","","","","","","","","","","","","","","","","","","","","","","","","",""]
[null,null,null,null,null,null,null,null,null,null,null,null,null,null,null,null,null,null,null,null,"右",{"$f":"IF(D25=\"\", \"\", RIGHT(D25,LEN(D25)-FIND(\"/\",D25,1))*1)","v":""},"","","","","","","","","",{"$f":"IF(N25=\"\", \"\", RIGHT(N25,LEN(N25)-FIND(\"/\",N25,1))*1)","v":""},"","","","","","","","","",{"$f":"IF(X25=\"\", \"\", RIGHT(X25,LEN(X25)-FIND(\"/\",X25,1))*1)","v":""},"","","","","","","","","",{"$f":"IF(AH25=\"\", \"\", RIGHT(AH25,LEN(AH25)-FIND(\"/\",AH25,1))*1)","v":""}]
[null,null,null,null,null,null,null,null,null,null,null,null,null,null,null,null,null,null,null,null,null,"","","","","","","","","","","","","","","","","","","","","","","","","","","","","","",""]
[null,null,null,null,null,null,null,null,null,null,null,null,null,null,null,null,null,null,null,null,null,"","","","","","","","","","","","","","","","","","","","","","","","","","","","","","",""]
[null,null,null,null,null,null,null,null,null,null,null,null,null,null,null,null,null,null,null,null,null,null,null,null,null,null,null,null,null,null,null,null,null,{"$f":"AC147&AE147&AF147","v":""}]
[null,null,null,null,null,null,null,null,null,null,null,null,null,null,null,null,null,null,null,null,"BP平均",null,null,null,null,null,null,null,null,null,null,null,null,{"$f":"AC148&AE148&AF148","v":""}]
[null,null,null,null,null,null,null,null,null,null,null,null,null,null,null,null,null,null,null,null,"左",{"$f":"IF(ISERROR(LEFT(D32,SEARCH(\"/\",D32,1)-1)*1),\"\",LEFT(D32,SEARCH(\"/\",D32,1)-1)*1)","v":""},"","","","","","","","","",{"$f":"IF(ISERROR(LEFT(N32,SEARCH(\"/\",N32,1)-1)*1),\"\",LEFT(N32,SEARCH(\"/\",N32,1)-1)*1)","v":""},"","","","","","","","","",{"$f":"IF(ISERROR(LEFT(X32,SEARCH(\"/\",X32,1)-1)*1),\"\",LEFT(X32,SEARCH(\"/\",X32,1)-1)*1)","v":""},"","","","","","","","","",{"$f":"IF(ISERROR(LEFT(AH32,SEARCH(\"/\",AH32,1)-1)*1),\"\",LEFT(AH32,SEARCH(\"/\",AH32,1)-1)*1)","v":""}]
[null,null,null,null,null,null,null,null,null,null,null,null,null,null,null,null,null,null,null,null,null,"","","","","","","","","","","","","","","","","","","","","","","","","","","","","","",""]
[null,null,null,null,null,null,null,null,null,null,null,null,null,null,null,null,null,null,null,null,null,"","","","","","","","","","","","","","","","","","","","","","","","","","","","","","",""]
[null,null,null,null,null,null,null,null,null,null,null,null,null,null,null,null,null,null,null,null,null,"","","","","","","","","","","","","","","","","","","","","","","","","","","","","","",""]
[null,null,null,null,null,null,null,null,null,null,null,null,null,null,null,null,null,null,null,null,"右",{"$f":"IF(ISERROR(RIGHT(D32,LEN(D32)-FIND(\"/\",D32,1))*1),\"\",RIGHT(D32,LEN(D32)-FIND(\"/\",D32,1))*1)","v":""},"","","","","","","","","",{"$f":"IF(ISERROR(RIGHT(N32,LEN(N32)-FIND(\"/\",N32,1))*1),\"\",RIGHT(N32,LEN(N32)-FIND(\"/\",N32,1))*1)","v":""},"","","","","","","","","",{"$f":"IF(ISERROR(RIGHT(X32,LEN(X32)-FIND(\"/\",X32,1))*1),\"\",RIGHT(X32,LEN(X32)-FIND(\"/\",X32,1))*1)","v":""},"","","","","","","","","",{"$f":"IF(ISERROR(RIGHT(AH32,LEN(AH32)-FIND(\"/\",AH32,1))*1),\"\",RIGHT(AH32,LEN(AH32)-FIND(\"/\",AH32,1))*1)","v":""}]
[null,null,null,null,null,null,null,null,null,null,null,null,null,null,null,null,null,null,null,null,null,"","","","","","","","","","","","","","","","","","","","","","","","","","","","","","",""]
[null,null,null,null,null,null,null,null,null,null,null,null,null,null,null,null,null,null,null,null,null,"","","","","","","","","","","","","","","","","","","","","","","","","","","","","","",""]
[null,null,null,null,null,null,null,null,null,null,null,null,null,null,null,null,null,null,null,null,null,"","","","","","","","","","","","","","","","","","","","","","","","","","","","","","",""]
[null,null,null,null,null,null,null,null,null,null,null,null,null,null,null,""]
[null,null,null,null,null,null,null,null,null,null,null,null,null,null,null,""]
[null,null,null,null,null,null,null,null,null,null,null,null,null,null,null,""]
[null,null,null,null,null,null,null,null,null,null,null,null,null,null,null,""]
[null,null,null,null,null,null,null,null,null,null,null,null,null,null,null,{"$f":"K161&M161&N161","v":""}]

{"sheet":"6月","index":5,"n_rows":161,"n_cols":52,"rows_kept":161,"cut":false,"hidden":false,"merged":[[48,41,48,42],[102,12,102,13],[110,12,110,13],[109,12,109,13],[106,12,106,13],[103,12,103,13],[104,12,104,13],[110,25,110,26],[110,28,110,29],[110,30,110,31],[110,33,110,34],[109,25,109,26],[109,28,109,29],[109,30,109,31],[107,30,107,31],[106,14,106,15],[106,17,106,18],[105,14,105,15],[105,17,105,18],[107,33,107,34],[104,20,104,21],[104,36,104,37],[104,22,104,23],[104,25,104,26],[112,33,112,34],[129,2,129,4],[129,6,129,8],[112,25,112,26],[112,28,112,29],[112,30,112,31],[111,12,111,13],[111,14,111,15],[111,25,111,26],[111,28,111,29],[111,30,111,31],[111,33,111,34],[105,27,112,27],[105,28,105,29],[109,33,109,34],[108,17,108,18],[108,20,108,21],[106,25,106,26],[105,33,105,34],[106,28,106,29],[108,33,108,34],[106,33,106,34],[106,20,106,21],[106,22,106,23],[49,3,49,4],[49,6,49,7],[108,30,108,31],[130,0,132,0],[130,2,130,4],[130,7,130,8],[105,11,112,11],[105,12,105,13],[107,12,107,13],[108,12,108,13],[108,14,108,15],[129,10,129,12],[112,22,112,23],[112,12,112,13],[112,14,112,15],[112,17,112,18],[112,20,112,21],[111,17,111,18],[111,20,111,21],[111,22,111,23],[105,30,105,31],[109,17,109,18],[109,20,109,21],[109,22,109,23],[104,28,104,29],[104,30,104,31],[104,38,104,39],[104,33,104,34],[106,30,106,31],[105,22,105,23],[105,25,105,26],[130,10,130,11],[130,13,130,14],[109,14,109,15],[107,28,107,29],[110,14,110,15],[110,17,110,18],[110,20,110,21],[107,17,107,18],[108,22,108,23],[108,25,108,26],[108,28,108,29],[107,20,107,21],[107,22,107,23],[107,14,107,15],[105,19,112,19],[105,20,105,21],[110,22,110,23],[107,25,107,26],[103,41,103,42],[104,41,104,42],[103,30,103,31],[103,33,103,34],[103,36,103,37],[103,38,103,39],[103,14,103,15],[103,17,103,18],[103,20,103,21],[97,35,104,35],[97,36,97,37],[97,38,97,39],[97,41,97,42],[98,36,98,37],[98,38,98,39],[98,41,98,42],[99,36,99,37],[102,33,102,34],[102,14,102,15],[102,17,102,18],[102,20,102,21],[103,22,103,23],[103,25,103,26],[103,28,103,29],[102,36,102,37],[102,38,102,39],[102,41,102,42],[102,22,102,23],[102,25,102,26],[102,28,102,29],[102,30,102,31],[101,33,101,34],[101,36,101,37],[101,38,101,39],[101,41,101,42],[101,22,101,23],[101,25,101,26],[101,28,101,29],[101,30,101,31],[97,27,104,27],[97,28,97,29],[100,33,100,34],[100,36,100,37],[100,22,100,23],[100,25,100,26],[100,28,100,29],[100,30,100,31],[100,38,100,39],[100,41,100,42],[101,20,101,21],[99,38,99,39],[99,41,99,42],[97,33,97,34],[98,28,98,29],[98,30,98,31],[98,33,98,34],[99,33,99,34],[97,30,97,31],[99,28,99,29],[99,30,99,31],[97,22,97,23],[97,25,97,26],[98,20,98,21],[98,22,98,23],[98,25,98,26],[99,20,99,21],[99,22,99,23],[99,25,99,26],[97,11,104,11],[97,12,97,13],[97,14,97,15],[97,17,97,18],[98,12,98,13],[98,14,98,15],[98,17,98,18],[99,12,99,13],[99,14,99,15],[99,17,99,18],[104,14,104,15],[104,17,104,18],[96,36,96,37],[96,38,96,39],[96,41,96,42],[96,22,96,23],[96,25,96,26],[96,28,96,29],[96,30,96,31],[96,12,96,13],[96,14,96,15],[96,17,96,18],[96,20,96,21],[89,11,96,11],[100,12,100,13],[100,14,100,15],[100,17,100,18],[100,20,100,21],[97,19,104,19],[97,20,97,21],[101,12,101,13],[101,14,101,15],[101,17,101,18],[95,12,95,13],[95,14,95,15],[95,17,95,18],[95,20,95,21],[94,12,94,13],[94,14,94,15],[94,17,94,18],[94,20,94,21],[89,14,89,15],[89,17,89,18],[90,12,90,13],[90,14,90,15],[90,17,90,18],[91,12,91,13],[95,38,95,39],[95,41,95,42],[95,22,95,23],[95,25,95,26],[95,28,95,29],[95,30,95,31],[94,33,94,34],[94,36,94,37],[94,38,94,39],[94,41,94,42],[94,22,94,23],[94,25,94,26],[94,28,94,29],[94,30,94,31],[95,36,95,37],[91,14,91,15],[91,17,91,18],[93,33,93,34],[93,36,93,37],[93,12,93,13],[93,14,93,15],[93,17,93,18],[93,20,93,21],[93,38,93,39],[92,17,92,18],[92,20,92,21],[92,12,92,13],[92,14,92,15],[93,41,93,42],[93,22,93,23],[93,25,93,26],[93,28,93,29],[93,30,93,31],[92,33,92,34],[92,36,92,37],[92,38,92,39],[92,41,92,42],[89,35,96,35],[89,36,89,37],[89,38,89,39],[89,41,89,42],[90,36,90,37],[90,38,90,39],[92,22,92,23],[92,25,92,26],[90,41,90,42],[91,36,91,37],[91,38,91,39],[91,41,91,42],[90,22,90,23],[90,25,90,26],[89,33,89,34],[90,28,90,29],[90,30,90,31],[90,33,90,34],[91,33,91,34],[89,19,96,19],[89,20,89,21],[89,22,89,23],[89,25,89,26],[90,20,90,21],[91,20,91,21],[91,22,91,23],[92,28,92,29],[92,30,92,31],[89,27,96,27],[89,28,89,29],[89,30,89,31],[91,28,91,29],[91,30,91,31],[91,25,91,26],[95,33,95,34],[96,33,96,34],[88,41,88,42],[88,22,88,23],[88,25,88,26],[88,28,88,29],[88,30,88,31],[88,12,88,13],[88,14,88,15],[88,17,88,18],[88,20,88,21],[87,12,87,13],[87,14,87,15],[87,17,87,18],[87,20,87,21],[87,38,87,39],[87,41,87,42],[87,22,87,23],[87,25,87,26],[87,28,87,29],[87,30,87,31],[86,41,86,42],[85,36,85,37],[85,38,85,39],[85,41,85,42],[85,33,85,34],[86,12,86,13],[86,14,86,15],[86,17,86,18],[86,20,86,21],[86,22,86,23],[86,25,86,26],[86,28,86,29],[85,12,85,13],[85,14,85,15],[85,17,85,18],[85,20,85,21],[85,22,85,23],[85,25,85,26],[85,28,85,29],[81,30,81,31],[86,30,86,31],[85,30,85,31],[83,33,83,34],[86,33,86,34],[86,36,86,37],[86,38,86,39],[88,33,88,34],[88,36,88,37],[88,38,88,39],[82,33,82,34],[82,30,82,31],[84,33,84,34],[87,33,87,34],[87,36,87,37],[83,20,83,21],[83,22,83,23],[83,25,83,26],[83,28,83,29],[83,30,83,31],[82,20,82,21],[82,22,82,23],[83,41,83,42],[84,12,84,13],[84,14,84,15],[84,17,84,18],[84,20,84,21],[84,22,84,23],[84,25,84,26],[84,28,84,29],[84,30,84,31],[84,38,84,39],[82,25,82,26],[82,28,82,29],[84,41,84,42],[78,41,78,42],[79,3,79,4],[79,6,79,7],[79,12,79,13],[79,14,79,15],[79,17,79,18],[79,41,79,42],[79,20,79,21],[79,22,79,23],[79,25,79,26],[79,28,79,29],[78,30,78,31],[78,33,78,34],[79,30,79,31],[79,33,79,34],[78,20,78,21],[81,41,81,42],[82,12,82,13],[82,14,82,15],[82,17,82,18],[81,33,81,34],[81,35,88,35],[81,36,81,37],[81,38,81,39],[82,36,82,37],[82,38,82,39],[83,36,83,37],[83,38,83,39],[84,36,84,37],[81,20,81,21],[81,22,81,23],[81,25,81,26],[81,27,88,27],[81,28,81,29],[81,17,81,18],[81,19,88,19],[82,41,82,42],[83,12,83,13],[83,14,83,15],[83,17,83,18],[76,41,76,42],[75,41,75,42],[76,17,76,18],[76,20,76,21],[80,41,80,42],[73,41,73,42],[74,30,74,31],[75,30,75,31],[76,30,76,31],[77,28,77,29],[77,30,77,31],[74,25,74,26],[74,28,74,29],[73,25,73,26],[80,36,80,37],[80,28,80,29],[80,30,80,31],[80,33,80,34],[80,38,80,39],[73,27,80,27],[74,20,74,21],[74,22,74,23],[74,41,74,42],[78,17,78,18],[73,28,73,29],[73,30,73,31],[78,28,78,29],[75,22,75,23],[75,25,75,26],[75,28,75,29],[76,22,76,23],[73,36,73,37],[73,38,73,39],[74,33,74,34],[74,36,74,37],[74,38,74,39],[75,33,75,34],[75,36,75,37],[75,38,75,39],[73,33,73,34],[73,35,80,35],[73,22,73,23],[78,36,78,37],[78,38,78,39],[78,22,78,23],[78,25,78,26],[77,38,77,39],[77,36,77,37],[76,36,76,37],[76,38,76,39],[80,22,80,23],[80,25,80,26],[79,36,79,37],[79,38,79,39],[77,33,77,34],[76,33,76,34],[76,25,76,26],[76,28,76,29],[77,17,77,18],[75,14,75,15],[75,17,75,18],[75,20,75,21],[76,3,76,4],[76,6,76,7],[76,12,76,13],[76,14,76,15],[75,3,75,4],[75,6,75,7],[73,19,80,19],[73,20,73,21],[80,12,80,13],[80,14,80,15],[80,17,80,18],[80,20,80,21],[72,3,72,4],[72,6,72,7],[72,12,72,13],[72,14,72,15],[72,17,72,18],[72,41,72,42],[71,17,71,18],[72,20,72,21],[72,22,72,23],[72,25,72,26],[72,28,72,29],[71,30,71,31],[71,20,71,21],[71,22,71,23],[72,30,72,31],[71,36,71,37],[71,38,71,39],[72,36,72,37],[72,38,72,39],[77,41,77,42],[73,3,73,4],[73,6,73,7],[73,11,80,11],[73,12,73,13],[73,14,73,15],[73,17,73,18],[78,3,78,4],[78,6,78,7],[78,12,78,13],[78,14,78,15],[77,20,77,21],[77,22,77,23],[77,25,77,26],[75,12,75,13],[74,3,74,4],[74,6,74,7],[74,12,74,13],[74,14,74,15],[74,17,74,18],[77,3,77,4],[77,6,77,7],[77,12,77,13],[77,14,77,15],[70,41,70,42],[71,33,71,34],[70,33,70,34],[69,36,69,37],[69,38,69,39],[69,41,69,42],[70,3,70,4],[70,6,70,7],[70,12,70,13],[70,14,70,15],[70,17,70,18],[70,20,70,21],[70,22,70,23],[71,25,71,26],[71,28,71,29],[70,28,70,29],[71,41,71,42],[68,36,68,37],[68,38,68,39],[65,27,72,27],[65,36,65,37],[65,38,65,39],[66,33,66,34],[66,36,66,37],[66,38,66,39],[65,33,65,34],[65,35,72,35],[67,33,67,34],[68,33,68,34],[70,36,70,37],[70,38,70,39],[69,33,69,34],[72,33,72,34],[68,28,68,29],[67,30,67,31],[69,30,69,31],[65,28,65,29],[69,28,69,29],[66,28,66,29],[68,30,68,31],[70,30,70,31],[64,22,64,23],[64,25,64,26],[65,3,65,4],[65,6,65,7],[65,11,72,11],[65,12,65,13],[65,14,65,15],[65,17,65,18],[71,3,71,4],[71,6,71,7],[71,12,71,13],[71,14,71,15],[68,12,68,13],[68,14,68,15],[68,17,68,18],[68,20,68,21],[68,22,68,23],[68,25,68,26],[65,19,72,19],[65,20,65,21],[65,22,65,23],[66,25,66,26],[69,25,69,26],[70,25,70,26],[67,22,67,23],[67,25,67,26],[67,28,67,29],[67,36,67,37],[67,38,67,39],[65,41,65,42],[66,3,66,4],[66,6,66,7],[66,12,66,13],[66,14,66,15],[66,17,66,18],[66,20,66,21],[66,22,66,23],[66,30,66,31],[65,25,65,26],[65,30,65,31],[60,3,60,4],[58,3,58,4],[58,17,58,18],[58,20,58,21],[58,22,58,23],[64,30,64,31],[68,41,68,42],[69,3,69,4],[69,6,69,7],[69,12,69,13],[69,14,69,15],[69,17,69,18],[69,20,69,21],[69,22,69,23],[67,41,67,42],[68,3,68,4],[68,6,68,7],[66,41,66,42],[67,3,67,4],[67,6,67,7],[67,12,67,13],[67,14,67,15],[67,17,67,18],[67,20,67,21],[63,12,63,13],[63,14,63,15],[62,3,62,4],[62,6,62,7],[62,12,62,13],[62,14,62,15],[61,3,61,4],[61,6,61,7],[63,36,63,37],[61,12,61,13],[54,25,54,26],[54,38,54,39],[58,14,58,15],[61,38,61,39],[62,30,62,31],[61,33,61,34],[54,36,54,37],[58,33,58,34],[58,36,58,37],[60,33,60,34],[52,38,52,39],[51,20,51,21],[51,22,51,23],[53,22,53,23],[62,22,62,23],[50,38,50,39],[49,33,49,34],[62,36,62,37],[55,25,55,26],[57,30,57,31],[58,30,58,31],[59,30,59,31],[60,30,60,31],[58,38,58,39],[59,38,59,39],[59,28,59,29],[56,25,56,26],[55,30,55,31],[56,28,56,29],[56,30,56,31],[56,33,56,34],[54,30,54,31],[53,38,53,39],[56,20,56,21],[64,20,64,21],[55,6,55,7],[55,12,55,13],[55,14,55,15],[55,17,55,18],[55,20,55,21],[55,22,55,23],[60,22,60,23],[62,38,62,39],[61,22,61,23],[61,17,61,18],[60,6,60,7],[60,12,60,13],[60,14,60,15],[57,38,57,39],[57,33,57,34],[59,20,59,21],[59,22,59,23],[56,12,56,13],[58,25,58,26],[63,30,63,31],[63,33,63,34],[56,14,56,15],[56,17,56,18],[55,41,55,42],[57,35,64,35],[57,36,57,37],[49,35,56,35],[51,41,51,42],[53,25,53,26],[56,38,56,39],[55,33,55,34],[55,36,55,37],[52,41,52,42],[51,36,51,37],[51,38,51,39],[54,41,54,42],[62,41,62,42],[60,41,60,42],[61,36,61,37],[64,41,64,42],[57,41,57,42],[60,36,60,37],[61,41,61,42],[63,41,63,42],[58,41,58,42],[64,33,64,34],[64,36,64,37],[59,41,59,42],[62,33,62,34],[60,38,60,39],[57,25,57,26],[57,27,64,27],[57,28,57,29],[61,28,61,29],[61,25,61,26],[62,25,62,26],[59,36,59,37],[64,28,64,29],[64,38,64,39],[63,38,63,39],[40,1,40,2],[41,1,41,2],[48,25,48,26],[48,28,48,29],[48,3,48,4],[48,6,48,7],[51,25,51,26],[51,28,51,29],[55,3,55,4],[47,1,47,9],[47,11,47,18],[47,19,47,26],[47,27,47,34],[48,20,48,21],[48,30,48,31],[48,33,48,34],[42,1,42,2],[43,1,43,2],[44,1,44,2],[46,1,46,5],[49,22,49,23],[53,20,53,21],[55,28,55,29],[49,12,49,13],[57,3,57,4],[57,6,57,7],[57,11,64,11],[57,12,57,13],[57,14,57,15],[57,17,57,18],[57,19,64,19],[56,3,56,4],[56,6,56,7],[59,6,59,7],[59,12,59,13],[59,14,59,15],[59,3,59,4],[49,11,56,11],[53,3,53,4],[58,6,58,7],[58,12,58,13],[64,17,64,18],[64,3,64,4],[64,6,64,7],[64,12,64,13],[64,14,64,15],[63,3,63,4],[63,6,63,7],[49,36,49,37],[56,41,56,42],[56,36,56,37],[48,38,48,39],[52,3,52,4],[52,6,52,7],[52,12,52,13],[52,14,52,15],[52,17,52,18],[52,20,52,21],[51,3,51,4],[51,6,51,7],[51,12,51,13],[51,14,51,15],[49,41,49,42],[50,3,50,4],[50,6,50,7],[50,12,50,13],[50,41,50,42],[49,38,49,39],[50,36,50,37],[55,38,55,39],[53,41,53,42],[48,17,48,18],[39,1,39,2],[54,28,54,29],[54,3,54,4],[54,6,54,7],[54,12,54,13],[54,14,54,15],[0,1,0,2],[0,5,0,6],[1,1,1,3],[1,4,1,6],[1,10,1,13],[1,14,1,15],[1,16,1,21],[2,10,3,11],[2,12,3,13],[2,15,3,21],[31,1,34,2],[35,1,35,2],[36,1,36,2],[37,1,37,2],[38,1,38,2],[28,1,30,2],[0,25,0,34],[53,6,53,7],[18,1,18,2],[19,1,19,2],[20,1,20,2],[21,1,22,2],[16,1,16,2],[17,1,17,2],[2,1,3,3],[1,7,1,9],[13,37,13,40],[4,37,4,40],[5,37,9,40],[10,37,10,40],[11,37,11,40],[12,37,12,40],[2,25,2,30],[3,25,3,30],[1,23,1,24],[2,23,3,24],[1,25,1,31],[1,32,1,34],[2,32,3,34],[23,1,23,2],[27,1,27,2],[53,36,53,37],[48,22,48,23],[48,36,48,37],[24,1,26,2],[52,33,52,34],[52,36,52,37],[50,20,50,21],[50,22,50,23],[50,25,50,26],[52,22,52,23],[52,25,52,26],[52,28,52,29],[48,12,48,13],[48,14,48,15],[51,33,51,34],[49,25,49,26],[49,27,56,27],[49,28,49,29],[49,30,49,31],[50,30,50,31],[51,30,51,31],[49,20,49,21],[53,28,53,29],[53,30,53,31],[50,28,50,29],[58,28,58,29],[60,25,60,26],[61,14,61,15],[50,14,50,15],[50,17,50,18],[49,19,56,19],[54,17,54,18],[51,17,51,18],[53,17,53,18],[61,30,61,31],[60,17,60,18],[60,20,60,21],[60,28,60,29],[59,25,59,26],[49,14,49,15],[49,17,49,18],[61,20,61,21],[57,20,57,21],[56,22,56,23],[54,20,54,21],[54,22,54,23],[160,10,160,11],[160,13,160,14],[147,28,147,29],[147,31,147,32],[139,31,139,32],[131,10,131,11],[131,13,131,14],[132,10,132,11],[132,13,132,14],[133,10,133,11],[133,13,133,14],[134,10,134,11],[134,13,134,14],[135,10,135,11],[135,13,135,14],[136,10,136,11],[136,13,136,14],[137,10,137,11],[137,13,137,14],[81,11,88,11],[81,12,81,13],[81,14,81,15],[89,12,89,13],[50,33,50,34],[138,10,138,11],[138,13,138,14],[139,28,139,29],[53,33,53,34],[54,33,54,34],[53,12,53,13],[53,14,53,15],[59,33,59,34],[57,22,57,23],[63,25,63,26],[63,28,63,29],[62,28,62,29],[62,17,62,18],[62,20,62,21],[59,17,59,18],[63,17,63,18],[63,20,63,21],[63,22,63,23],[52,30,52,31]]}
[null,"体温表",null,null,null,{"$f":"設定!$F$7","v":2017},null,"年",null,6,"月",null,null,null,null,null,null,null,null,null,null,null,null,null,null,"伊都の丘病院"]
[null,"カルテ番号",null,null,"病棟",null,null,"入院形態",null,null,"主治医",null,null,null,"　姓名",null,{"$f":"'5月'!$Q$2","v":0},null,null,null,null,null,null,"性別",null,"生年月日　",null,null,null,null,null,null,"担当Ns"]
[null,{"$f":"'5月'!B3","v":0},null,null,{"$f":"IF(COUNTIF('5月'!E3:G3,\"*\"),INDEX('5月'!E3:G3,MATCH(\"\",'5月'!E3:G3,-1)),\"\")","v":""},null,null,{"$f":"IF(COUNTIF('5月'!H3:J3,\"*\"),INDEX('5月'!H3:J3,MATCH(\"\",'5月'!H3:J3,-1)),\"\")","v":""},null,null,{"$f":"IF(COUNTIF('5月'!K3:M3,\"*\"),INDEX('5月'!K3:M3,MATCH(\"\",'5月'!K3:M3,-1)),\"\")","v":""},null,null,null,null,{"$f":"'5月'!$P$3","v":"新体温表 - バックアップ９１ー"},null,null,null,null,null,null,null,{"$f":"'5月'!$X$3","v":0},null,{"$f":"'5月'!$Z$3","v":"ここに生年月日を記入"},null,null,null,null,null,{"$f":"IF(ISERROR(DATEDIF(Z3,DATE(設定!F7,6,31),\"Y\"))=TRUE,\"\",DATEDIF(Z3,DATE(設定!F7,6,31),\"Y\"))","v":""},{"$f":"'5月'!$AG$3","v":0}]
[null,null,null,null,"/","/","/","/","/","/",null,null,null,null,null,null,null,null,null,null,null,null,null,null,null,{"$f":"SUBSTITUTE(Z3,\"ここに生年月日を記入\",\"\")","v":""},null,null,null,null,null,"歳"]
[null,null,null,null,null,null,null,null,null,null,null,null,null,null,null,null,null,null,null,null,null,null,null,null,null,null,null,null,null,null,null,null,null,null,null,null,null,{"$f":"設定!C11","v":"便利ボタン"}]
[]
[]
[]
[]
[]
[]
[null,null,null,null,null,null,null,null,null,null,null,null,null,null,null,null,null,null,null,null,null,null,null,null,null,null,null,null,null,null,null,null,null,null,null,null,null,{"$f":"設定!C18","v":" ※自動保存されます"}]
[null,null,null,null,null,null,null,null,null,null,null,null,null,null,null,null,null,null,null,null,null,null,null,null,null,null,null,null,null,null,null,null,null,null,null,null,null,{"$f":"設定!C19","v":0}]
[null,null,null,null,null,null,null,null,null,null,null,null,null,null,null,null,null,null,null,null,null,null,null,null,null,null,null,null,null,null,null,null,null,null,null,null,null,{"$f":"設定!C20","v":0}]
[]
[]
[null,"日　付",null,1,2,3,4,5,6,7,8,9,10,11,12,13,14,15,16,17,18,19,20,21,22,23,24,25,26,27,28,29,30,null,"統計"]
[null,"行　動"]
[null,"時　間"]
[null,"行　動"]
[null,"時　間",null,null,null,null,null,null,null,null,null,null,null,null,null,null,null,null,null,null,null,null,null,null,null,null,null,null,null,null,null,null,null,null,{"$f":"IF(COUNTIF(D18:AH21,\"外出\")+COUNTIF(D18:AH21,\"外泊\")=0,\"回数\",COUNTIF(D18:AH21,\"外出\")+COUNTIF(D18:AH21,\"外泊\"))","v":"回数"}]
[null,"面　会"]
[null,null,null,null,null,null,null,null,null,null,null,null,null,null,null,null,null,null,null,null,null,null,null,null,null,null,null,null,null,null,null,null,null,null,{"$f":"IF(COUNTA(D22:AH22)=0,\"回数\",COUNTA(D22:AH22))","v":"回数"}]
[null,"入　浴",null,null,null,null,null,null,null,null,null,null,null,null,null,null,null,null,null,null,null,null,null,null,null,null,null,null,null,null,null,null,null,null,{"$f":"IF(COUNTA(D24:AH24)=0,\"回数\",COUNTA(D24:AH24))","v":"回数"}]
[null,"食　事"]
[]
[null,null,null,null,null,null,null,null,null,null,null,null,null,null,null,null,null,null,null,null,null,null,null,null,null,null,null,null,null,null,null,null,null,null,{"$f":"IFERROR(INT(AVERAGE(V141:AZ143))& \"/\"&INT(AVERAGE(V144:AZ146)),\"平均\")","v":"平均"}]
[null,"便　通",null,{"$f":"IF(ISBLANK(I50),\"\",I50)","v":""},{"$f":"IF(ISBLANK(I51),\"\",I51)","v":""},{"$f":"IF(ISBLANK(I52),\"\",I52)","v":""},{"$f":"IF(ISBLANK(I53),\"\",I53)","v":""},{"$f":"IF(ISBLANK(I54),\"\",I54)","v":""},{"$f":"IF(ISBLANK(I55),\"\",I55)","v":""},{"$f":"IF(ISBLANK(I56),\"\",I56)","v":""},{"$f":"IF(ISBLANK(I57),\"\",I57)","v":""},{"$f":"IF(ISBLANK(I58),\"\",I58)","v":""},{"$f":"IF(ISBLANK(I59),\"\",I59)","v":""},{"$f":"IF(ISBLANK(I60),\"\",I60)","v":""},{"$f":"IF(ISBLANK(I61),\"\",I61)","v":""},{"$f":"IF(ISBLANK(I62),\"\",I62)","v":""},{"$f":"IF(ISBLANK(I63),\"\",I63)","v":""},{"$f":"IF(ISBLANK(I64),\"\",I64)","v":""},{"$f":"IF(ISBLANK(I65),\"\",I65)","v":""},{"$f":"IF(ISBLANK(I66),\"\",I66)","v":""},{"$f":"IF(ISBLANK(I67),\"\",I67)","v":""},{"$f":"IF(ISBLANK(I68),\"\",I68)","v":""},{"$f":"IF(ISBLANK(I69),\"\",I69)","v":""},{"$f":"IF(ISBLANK(I70),\"\",I70)","v":""},{"$f":"IF(ISBLANK(I71),\"\",I71)","v":""},{"$f":"IF(ISBLANK(I72),\"\",I72)","v":""},{"$f":"IF(ISBLANK(I73),\"\",I73)","v":""},{"$f":"IF(ISBLANK(I74),\"\",I74)","v":""},{"$f":"IF(ISBLANK(I75),\"\",I75)","v":""},{"$f":"IF(ISBLANK(I76),\"\",I76)","v":""},{"$f":"IF(ISBLANK(I77),\"\",I77)","v":""},{"$f":"IF(ISBLANK(I78),\"\",I78)","v":""},{"$f":"IF(ISBLANK(I79),\"\",I79)","v":""},{"$f":"IF(ISBLANK(I80),\"\",I80)","v":""},{"$f":"IF(COUNTIF(D28:AH28,0)=0,\"回数\",COUNTIF(D28:AH28,0))","v":"回数"}]
[null,"便処置"]
[null,null,null,"　",null,null,null,null,null,null,null,null,null,null,null,null,null,null,null,null,null,null,null,null,null,null,null,null,null,null,null,null,null,null,{"$f":"IF(SUM(V136:AZ138)=0,\"滴数\",SUM(V136:AZ138))","v":"滴数"}]
[null,null,null,null,null,null,null,null,null,null,null,null,null,null,null,null,null,null,null,null,null,null,null,null,null,null,null,null,null,null,null,null,null,null,{"$f":"IF(AI30=\"滴数\",\"本数\",AI30/150)","v":"本数"}]
[null,"血　圧",null,{"$f":"$R$50","v":0},{"$f":"$R$58","v":0},{"$f":"R66","v":0},{"$f":"R74","v":0},{"$f":"R82","v":0},{"$f":"R90","v":0},{"$f":"R98","v":0},{"$f":"R106","v":0},{"$f":"Z50","v":0},{"$f":"Z58","v":0},{"$f":"Z66","v":0},{"$f":"Z74","v":0},{"$f":"Z82","v":0},{"$f":"Z90","v":0},{"$f":"Z98","v":0},{"$f":"Z106","v":0},{"$f":"AH50","v":0},{"$f":"AH58","v":0},{"$f":"AH66","v":0},{"$f":"AH74","v":0},{"$f":"AH82","v":0},{"$f":"AH90","v":0},{"$f":"AH98","v":0},{"$f":"AH106","v":0},{"$f":"AP50","v":0},{"$f":"AP58","v":0},{"$f":"AP66","v":0},{"$f":"AP74","v":0},{"$f":"AP82","v":0},{"$f":"AP90","v":0},{"$f":"AP98","v":0}]
[null,null,null,{"$f":" IF(ISERROR($R$51),\"\",($R$51))","v":""},{"$f":" IF(ISERROR($R$59),\"\",($R$59))","v":""},{"$f":" IF(ISERROR($R$67),\"\",($R$67))","v":""},{"$f":" IF(ISERROR($R$75),\"\",($R$75))","v":""},{"$f":" IF(ISERROR($R$83),\"\",($R$83))","v":""},{"$f":" IF(ISERROR($R$91),\"\",($R$91))","v":""},{"$f":" IF(ISERROR($R$99),\"\",($R$99))","v":""},{"$f":" IF(ISERROR($R$107),\"\",($R$107))","v":""},{"$f":" IF(ISERROR($Z$51),\"\",($Z$51))","v":""},{"$f":" IF(ISERROR($Z$59),\"\",($Z$59))","v":""},{"$f":" IF(ISERROR($Z$67),\"\",($Z$67))","v":""},{"$f":" IF(ISERROR($Z$75),\"\",($Z$75))","v":""},{"$f":" IF(ISERROR($Z$83),\"\",($Z$83))","v":""},{"$f":" IF(ISERROR($Z$91),\"\",($Z$91))","v":""},{"$f":" IF(ISERROR($Z$99),\"\",($Z$99))","v":""},{"$f":" IF(ISERROR($Z$107),\"\",($Z$107))","v":""},{"$f":" IF(ISERROR($AH$51),\"\",($AH$51))","v":""},{"$f":" IF(ISERROR($AH$59),\"\",($AH$59))","v":""},{"$f":" IF(ISERROR($AH$67),\"\",($AH$67))","v":""},{"$f":" IF(ISERROR($AH$75),\"\",($AH$75))","v":""},{"$f":" IF(ISERROR($AH$83),\"\",($AH$83))","v":""},{"$f":" IF(ISERROR($AH$91),\"\",($AH$91))","v":""},{"$f":" IF(ISERROR($AH$99),\"\",($AH$99))","v":""},{"$f":" IF(ISERROR($AH$107),\"\",($AH$107))","v":""},{"$f":" IF(ISERROR($AP$51),\"\",($AP$51))","v":""},{"$f":" IF(ISERROR($AP$59),\"\",($AP$59))","v":""},{"$f":" IF(ISERROR($AP$67),\"\",($AP$67))","v":""},{"$f":" IF(ISERROR($AP$75),\"\",($AP$75))","v":""},{"$f":" IF(ISERROR($AP$83),\"\",($AP$83))","v":""},{"$f":" IF(ISERROR($AP$91),\"\",($AP$91))","v":""},{"$f":" IF(ISERROR($AP$99),\"\",($AP$99))","v":0}]
[null,null,null,{"$f":"$R$52","v":0},{"$f":"$R$60","v":0},{"$f":"R68","v":0},{"$f":"R76","v":0},{"$f":"R84","v":0},{"$f":"R92","v":0},{"$f":"R100","v":0},{"$f":"R108","v":0},{"$f":"Z52","v":0},{"$f":"Z60","v":0},{"$f":"Z68","v":0},{"$f":"Z76","v":0},{"$f":"Z84","v":0},{"$f":"Z92","v":0},{"$f":"Z100","v":0},{"$f":"Z108","v":0},{"$f":"AH52","v":0},{"$f":"AH60","v":0},{"$f":"AH68","v":0},{"$f":"AH76","v":0},{"$f":"AH84","v":0},{"$f":"AH92","v":0},{"$f":"AH100","v":0},{"$f":"AH108","v":0},{"$f":"AP52","v":0},{"$f":"AP60","v":0},{"$f":"AP68","v":0},{"$f":"AP76","v":0},{"$f":"AP84","v":0},{"$f":"AP92","v":0},{"$f":"AP100","v":0}]
[null,null,null,{"$f":"$R$53","v":0},{"$f":"$R$61","v":0},{"$f":"R69","v":0},{"$f":"R77","v":0},{"$f":"R85","v":0},{"$f":"R93","v":0},{"$f":"R101","v":0},{"$f":"R109","v":0},{"$f":"Z53","v":0},{"$f":"Z61","v":0},{"$f":"Z69","v":0},{"$f":"Z77","v":0},{"$f":"Z85","v":0},{"$f":"Z93","v":0},{"$f":"Z101","v":0},{"$f":"Z109","v":0},{"$f":"AH53","v":0},{"$f":"AH61","v":0},{"$f":"AH69","v":0},{"$f":"AH77","v":0},{"$f":"AH85","v":0},{"$f":"AH93","v":0},{"$f":"AH101","v":0},{"$f":"AH109","v":0},{"$f":"AP53","v":0},{"$f":"AP61","v":0},{"$f":"AP69","v":0},{"$f":"AP77","v":0},{"$f":"AP85","v":0},{"$f":"AP93","v":0},{"$f":"AP101","v":0},{"$f":"IFERROR(INT(AVERAGE(V149:AZ152))& \"/\"&INT(AVERAGE(V153:AZ156)),\"平均\")","v":"平均"}]
[null,"食事箋",null,{"$f":"IF(COUNTIF('5月'!D36:AH36,\"*\"),INDEX('5月'!D36:AH36,MATCH(\"\",'5月'!D36:AH36,-1)),\"\")","v":""}]
[null,"形　態",null,{"$f":"IF(COUNTIF('5月'!D37:AH37,\"*\"),INDEX('5月'!D37:AH37,MATCH(\"\",'5月'!D37:AH37,-1)),\"\")","v":""}]
[null,"身　長",null,{"$f":"IF(COUNT('5月'!D38:AH38),LOOKUP(MAX('5月'!D38:AH38)+1,'5月'!D38:AH38),\"\")","v":""},null,null,null,null,null,null,null,null,null,null,null,null,null,null,null,null,null,null,null,null,null,null,null,null,null,null,null,null,null,null,"BMI"]
[null,"体　重",null,null,null,null,null,null,null,null,null,null,null,null,null,null,null,null,null,null,null,null,null,null,null,null,null,null,null,null,null,null,null,null,{"$f":"IF(ISERROR(INDEX(D39:AH39,MATCH(307,D39:AH39))/(INDEX(D38:AH38,MATCH(9E+307,D38:AH38))/100)^2)=TRUE,\"\",INDEX(D39:AH39,MATCH(307,D39:AH39))/(INDEX(D38:AH38,MATCH(9E+307,D38:AH38))/100)^2)","v":""}]
[null,"Ｉ　Ｎ",null,null,null,null,null,null,null,null,null,null,null,null,null,null,null,null,null,null,null,null,null,null,null,null,null,null,null,null,null,null,null,null,{"$f":"IFERROR(INT(AVERAGE(D40:AH40)),\"平均\")","v":"平均"}]
[null,"ＯＵＴ",null,null,null,null,null,null,null,null,null,null,null,null,null,null,null,null,null,null,null,null,null,null,null,null,null,null,null,null,null,null,null,null,{"$f":"IFERROR(INT(AVERAGE(D41:AH41)),\"平均\")","v":"平均"}]
[null,"生　理",null,null,null,null,null,null,null,null,null,null,null,null,null,null,null,null,null,null,null,null,null,null,null,null,null,null,null,null,null,null,null,null,{"$f":"IF(ISERROR(IF(H132-MATCH(\"*\",D42:AH42,0)=0,\"0日目\",IF(H133=J1,IF(ISERROR(H132-MATCH(\"*\",D42:AH42,0)),\"日数\",H132-MATCH(\"*\",D42:AH42,0)),\"日数\"))),\"日数\",(IF(H132-MATCH(\"*\",D42:AH42,0)=0,\"0日目\",IF(H133=J1,IF(ISERROR(H132-MATCH(\"*\",D42:AH42,0)),\"日数\",H132-MATCH(\"*\",D42:AH42,0)),\"日数\"))))","v":"日数"}]
[null,null,null,null,null,null,null,null,null,null,null,null,null,null,null,null,null,null,null,null,null,null,null,null,null,null,null,null,null,null,null,null,null,null,{"$f":"COUNTA(D43:AH43)","v":0}]
[null,null,null,null,null,null,null,null,null,null,null,null,null,null,null,null,null,null,null,null,null,null,null,null,null,null,null,null,null,null,null,null,null,null,{"$f":"COUNTA(D44:AH44)","v":0}]
[null,"日　付",null,1,2,3,4,5,6,7,8,9,10,11,12,13,14,15,16,17,18,19,20,21,22,23,24,25,26,27,28,29,30]
[]
[null,{"$f":"$P$3","v":"新体温表 - バックアップ９１ー"},null,null,null,null,null,{"$f":"YEAR(I47)","v":2016},{"$f":"TODAY()","v":"2016-06-08"},{"$f":"TODAY()","v":42529},null,{"$f":"NOW()","v":42529.688973263888}]
[null,"平常時記入",null,null,null,null,null,null,null,null,null,"熱発時記入"]
[null,"日","時間","T",null," P","BP",null,"便",null,null,"日","時間",null,"T",null,"P","BP",null,"日","時間",null,"T",null,"P","BP",null,"日","時間",null,"T",null,"P","BP",null,"日","時間",null,"T",null,"P","BP"]
[null,1,"09:00:00",null,null,null,null,null,null,null,null,1,null,null,null,null,null,null,null,9,null,null,null,null,null,null,null,17,null,null,null,null,null,null,null,25]
[null,2,"09:00:00",null,null,null,null,null,null,null,null,null,"09:00:00",null,{"$f":"IF($D$50=\"\",NA(),$D$50)","v":{"$error":"#N/A"}},null,{"$f":"IF($F$50=\"\",NA(),$F$50)","v":{"$error":"#N/A"}},{"$f":"IF($G$50=\"\",NA(),$G$50)","v":{"$error":"#N/A"}},null,null,"09:00:00",null,{"$f":"IF($D$58=\"\",NA(),$D$58)","v":{"$error":"#N/A"}},null,{"$f":"IF($F$58=\"\",NA(),$F$58)","v":{"$error":"#N/A"}},{"$f":"IF($G$58=\"\",NA(),$G$58)","v":{"$error":"#N/A"}},null,null,"09:00:00",null,{"$f":"IF($D$66=\"\",NA(),$D$66)","v":{"$error":"#N/A"}},null,{"$f":"IF($F$66=\"\",NA(),$F$66)","v":{"$error":"#N/A"}},{"$f":"IF($G$66=\"\",NA(),$G$66)","v":{"$error":"#N/A"}},null,null,"09:00:00",null,{"$f":"IF($D$74=\"\",NA(),$D$74)","v":{"$error":"#N/A"}},null,{"$f":"IF($F$74=\"\",NA(),$F$74)","v":{"$error":"#N/A"}},{"$f":"IF($G$74=\"\",NA(),$G$74)","v":{"$error":"#N/A"}}]
[null,3,"09:00:00",null,null,null,null,null,null,"☆"]
[null,4,"09:00:00"]
[null,5,"09:00:00",null,null,null,null,null,null,"コ"]
[null,6,"09:00:00",null,null,null,null,null,null,"ス"]
[null,7,"09:00:00",null,null,null,null,null,null,"モ"]
[null,8,"09:00:00",null,null,null,null,null,null,"ス"]
[null,9,"09:00:00",null,null,null,null,null,null,"へ",null,2,null,null,null,null,null,null,null,10,null,null,null,null,null,null,null,18,null,null,null,null,null,null,null,26]
[null,10,"09:00:00",null,null,null,null,null,null,"戻",null,null,"09:00:00",null,{"$f":"IF($D$51=\"\",NA(),$D$51)","v":{"$error":"#N/A"}},null,{"$f":"IF($F$51=\"\",NA(),$F$51)","v":{"$error":"#N/A"}},{"$f":"IF($G$51=\"\",NA(),$G$51)","v":{"$error":"#N/A"}},null,null,"09:00:00",null,{"$f":"IF($D$59=\"\",NA(),$D$59)","v":{"$error":"#N/A"}},null,{"$f":"IF($F$59=\"\",NA(),$F$59)","v":{"$error":"#N/A"}},{"$f":"IF($G$59=\"\",NA(),$G$59)","v":{"$error":"#N/A"}},null,null,"09:00:00",null,{"$f":"IF($D$67=\"\",NA(),$D$67)","v":{"$error":"#N/A"}},null,{"$f":"IF($F$67=\"\",NA(),$F$67)","v":{"$error":"#N/A"}},{"$f":"IF($G$67=\"\",NA(),$G$67)","v":{"$error":"#N/A"}},null,null,"09:00:00",null,{"$f":"IF($D$75=\"\",NA(),$D$75)","v":{"$error":"#N/A"}},null,{"$f":"IF($F$75=\"\",NA(),$F$75)","v":{"$error":"#N/A"}},{"$f":"IF($G$75=\"\",NA(),$G$75)","v":{"$error":"#N/A"}}]
[null,11,"09:00:00",null,null,null,null,null,null,"る"]
[null,12,"09:00:00"]
[null,13,"09:00:00"]
[null,14,"09:00:00",null,null,null,null,null,null,"（"]
[null,15,"09:00:00",null,null,null,null,null,null,"選"]
[null,16,"09:00:00",null,null,null,null,null,null,"択"]
[null,17,"09:00:00",null,null,null,null,null,null,"す",null,3,null,null,null,null,null,null,null,11,null,null,null,null,null,null,null,19,null,null,null,null,null,null,null,27]
[null,18,"09:00:00",null,null,null,null,null,null,"る",null,null,"09:00:00",null,{"$f":"IF($D$52=\"\",NA(),$D$52)","v":{"$error":"#N/A"}},null,{"$f":"IF($F$52=\"\",NA(),$F$52)","v":{"$error":"#N/A"}},{"$f":"IF($G$52=\"\",NA(),$G$52)","v":{"$error":"#N/A"}},null,null,"09:00:00",null,{"$f":"IF($D$60=\"\",NA(),$D$60)","v":{"$error":"#N/A"}},null,{"$f":"IF($F$60=\"\",NA(),$F$60)","v":{"$error":"#N/A"}},{"$f":"IF($G$60=\"\",NA(),$G$60)","v":{"$error":"#N/A"}},null,null,"09:00:00",null,{"$f":"IF($D$68=\"\",NA(),$D$68)","v":{"$error":"#N/A"}},null,{"$f":"IF($F$68=\"\",NA(),$F$68)","v":{"$error":"#N/A"}},{"$f":"IF($G$68=\"\",NA(),$G$68)","v":{"$error":"#N/A"}},null,null,"09:00:00",null,{"$f":"IF($D$76=\"\",NA(),$D$76)","v":{"$error":"#N/A"}},null,{"$f":"IF($F$76=\"\",NA(),$F$76)","v":{"$error":"#N/A"}},{"$f":"IF($G$76=\"\",NA(),$G$76)","v":{"$error":"#N/A"}}]
[null,19,"09:00:00",null,null,null,null,null,null,"だ"]
[null,20,"09:00:00",null,null,null,null,null,null,"け"]
[null,21,"09:00:00",null,null,null,null,null,null,"で"]
[null,22,"09:00:00",null,null,null,null,null,null,"移"]
[null,23,"09:00:00",null,null,null,null,null,null,"動"]
[null,24,"09:00:00",null,null,null,null,null,null,"し"]
[null,25,"09:00:00",null,null,null,null,null,null,"ま",null,4,null,null,null,null,null,null,null,12,null,null,null,null,null,null,null,20,null,null,null,null,null,null,null,28]
[null,26,"09:00:00",null,null,null,null,null,null,"す",null,null,"09:00:00",null,{"$f":"IF($D$53=\"\",NA(),$D$53)","v":{"$error":"#N/A"}},null,{"$f":"IF($F$53=\"\",NA(),$F$53)","v":{"$error":"#N/A"}},{"$f":"IF($G$53=\"\",NA(),$G$53)","v":{"$error":"#N/A"}},null,null,"09:00:00",null,{"$f":"IF($D$61=\"\",NA(),$D$61)","v":{"$error":"#N/A"}},null,{"$f":"IF($F$61=\"\",NA(),$F$61)","v":{"$error":"#N/A"}},{"$f":"IF($G$61=\"\",NA(),$G$61)","v":{"$error":"#N/A"}},null,null,"09:00:00",null,{"$f":"IF($D$69=\"\",NA(),$D$69)","v":{"$error":"#N/A"}},null,{"$f":"IF($F$69=\"\",NA(),$F$69)","v":{"$error":"#N/A"}},{"$f":"IF($G$69=\"\",NA(),$G$69)","v":{"$error":"#N/A"}},null,null,"09:00:00",null,{"$f":"IF($D$77=\"\",NA(),$D$77)","v":{"$error":"#N/A"}},null,{"$f":"IF($F$77=\"\",NA(),$F$77)","v":{"$error":"#N/A"}},{"$f":"IF($G$77=\"\",NA(),$G$77)","v":{"$error":"#N/A"}}]
[null,27,"09:00:00",null,null,null,null,null,null,"）"]
[null,28,"09:00:00"]
[null,29,"09:00:00"]
[null,30,"09:00:00"]
[]
[]
[null,null,null,null,null,null,null,null,null,null,null,5,null,null,null,null,null,null,null,13,null,null,null,null,null,null,null,21,null,null,null,null,null,null,null,29]
[null,null,null,null,null,null,null,null,null,null,null,null,"09:00:00",null,{"$f":"IF($D$54=\"\",NA(),$D$54)","v":{"$error":"#N/A"}},null,{"$f":"IF($F$54=\"\",NA(),$F$54)","v":{"$error":"#N/A"}},{"$f":"IF($G$54=\"\",NA(),$G$54)","v":{"$error":"#N/A"}},null,null,"09:00:00",null,{"$f":"IF($D$62=\"\",NA(),$D$62)","v":{"$error":"#N/A"}},null,{"$f":"IF($F$62=\"\",NA(),$F$62)","v":{"$error":"#N/A"}},{"$f":"IF($G$62=\"\",NA(),$G$62)","v":{"$error":"#N/A"}},null,null,"09:00:00",null,{"$f":"IF($D$70=\"\",NA(),$D$70)","v":{"$error":"#N/A"}},null,{"$f":"IF($F$70=\"\",NA(),$F$70)","v":{"$error":"#N/A"}},{"$f":"IF($G$70=\"\",NA(),$G$70)","v":{"$error":"#N/A"}},null,null,"09:00:00",null,{"$f":"IF($D$78=\"\",NA(),$D$78)","v":{"$error":"#N/A"}},null,{"$f":"IF($F$78=\"\",NA(),$F$78)","v":{"$error":"#N/A"}},{"$f":"IF($G$78=\"\",NA(),$G$78)","v":{"$error":"#N/A"}}]
[]
[]
[]
[]
[]
[]
[null,null,null,null,null,null,null,null,null,null,null,6,null,null,null,null,null,null,null,14,null,null,null,null,null,null,null,22,null,null,null,null,null,null,null,30]
[null,null,null,null,null,null,null,null,null,null,null,null,"09:00:00",null,{"$f":"IF($D$55=\"\",NA(),$D$55)","v":{"$error":"#N/A"}},null,{"$f":"IF($F$55=\"\",NA(),$F$55)","v":{"$error":"#N/A"}},{"$f":"IF($G$55=\"\",NA(),$G$55)","v":{"$error":"#N/A"}},null,null,"09:00:00",null,{"$f":"IF($D$63=\"\",NA(),$D$63)","v":{"$error":"#N/A"}},null,{"$f":"IF($F$63=\"\",NA(),$F$63)","v":{"$error":"#N/A"}},{"$f":"IF($G$63=\"\",NA(),$G$63)","v":{"$error":"#N/A"}},null,null,"09:00:00",null,{"$f":"IF($D$71=\"\",NA(),$D$71)","v":{"$error":"#N/A"}},null,{"$f":"IF($F$71=\"\",NA(),$F$71)","v":{"$error":"#N/A"}},{"$f":"IF($G$71=\"\",NA(),$G$71)","v":{"$error":"#N/A"}},null,null,"09:00:00",null,{"$f":"IF($D$79=\"\",NA(),$D$79)","v":{"$error":"#N/A"}},null,{"$f":"IF($F$79=\"\",NA(),$F$79)","v":{"$error":"#N/A"}},{"$f":"IF($G$79=\"\",NA(),$G$79)","v":{"$error":"#N/A"}}]
[]
[]
[]
[]
[]
[]
[null,null,null,null,null,null,null,null,null,null,null,7,null,null,null,null,null,null,null,15,null,null,null,null,null,null,null,23]
[null,null,null,null,null,null,null,null,null,null,null,null,"09:00:00",null,{"$f":"IF($D$56=\"\",NA(),$D$56)","v":{"$error":"#N/A"}},null,{"$f":"IF($F$56=\"\",NA(),$F$56)","v":{"$error":"#N/A"}},{"$f":"IF($G$56=\"\",NA(),$G$56)","v":{"$error":"#N/A"}},null,null,"09:00:00",null,{"$f":"IF($D$64=\"\",NA(),$D$64)","v":{"$error":"#N/A"}},null,{"$f":"IF($F$64=\"\",NA(),$F$64)","v":{"$error":"#N/A"}},{"$f":"IF($G$64=\"\",NA(),$G$64)","v":{"$error":"#N/A"}},null,null,"09:00:00",null,{"$f":"IF($D$72=\"\",NA(),$D$72)","v":{"$error":"#N/A"}},null,{"$f":"IF($F$72=\"\",NA(),$F$72)","v":{"$error":"#N/A"}},{"$f":"IF($G$72=\"\",NA(),$G$72)","v":{"$error":"#N/A"}}]
[]
[]
[]
[]
[]
[]
[null,null,null,null,null,null,null,null,null,null,null,8,null,null,null,null,null,null,null,16,null,null,null,null,null,null,null,24]
[null,null,null,null,null,null,null,null,null,null,null,null,"09:00:00",null,{"$f":"IF($D$57=\"\",NA(),$D$57)","v":{"$error":"#N/A"}},null,{"$f":"IF($F$57=\"\",NA(),$F$57)","v":{"$error":"#N/A"}},{"$f":"IF($G$57=\"\",NA(),$G$57)","v":{"$error":"#N/A"}},null,null,"09:00:00",null,{"$f":"IF($D$65=\"\",NA(),$D$65)","v":{"$error":"#N/A"}},null,{"$f":"IF($F$65=\"\",NA(),$F$65)","v":{"$error":"#N/A"}},{"$f":"IF($G$65=\"\",NA(),$G$65)","v":{"$error":"#N/A"}},null,null,"09:00:00",null,{"$f":"IF($D$73=\"\",NA(),$D$73)","v":{"$error":"#N/A"}},null,{"$f":"IF($F$73=\"\",NA(),$F$73)","v":{"$error":"#N/A"}},{"$f":"IF($G$73=\"\",NA(),$G$73)","v":{"$error":"#N/A"}}]
[]
[]
[]
[]
[]
[]
[]
[]
[]
[]
[]
[]
[]
[]
[]
[]
[]
[]
[]
[]
[]
[null,null,"Enterで入力画面へ"]
[null,null,"ｶｰｿﾙ初期位置",null,null,null,"日付チェック",null,null,null,"バイタルコピー"]
["管理欄",null,"入力に入る",null,null,null,"今日",{"$f":"NOW()","v":"2016-06-08T16:32:07.290"},null,null,"T=未測定",null," P=未測定"," BP=未測定",null,{"$f":"K131&M131&N131","v":"T=未測定 P=未測定 BP=未測定"},"   "]
[null,null,null,null,null,null,"日",{"$f":"DAY(H131)","v":8},null,null,null,null,null,null,null,"",null,null,null,null,"シンラック"]
[null,null,null,null,null,null,"月",{"$f":"MONTH(H131)","v":6},null,null,null,null,null,null,null,"",null,null,null,null,"なし"]
[null,null,null,null,null,null,"年",{"$f":"YEAR(H131)","v":2016},null,null,null,null,null,null,null,""]
[null,null,null,null,null,null,"時",{"$f":"HOUR(H131)","v":16},null,null,null,null,null,null,null,""]
[null,null,null,null,null,null,null,null,null,null,null,null,null,null,null,"",null,null,null,null,"Link",{"$f":"IF(ISERROR(VALUE(D29)),\"\",VALUE(D29))","v":0},0,0,0,0,0,0,0,0,0,0,0,0,0,0,0,0,0,0,0,0,0,0,0,0,0,0,0,{"$f":"IF(ISERROR(VALUE(AF29)),\"\",VALUE(AF29))","v":0},{"$f":"IF(ISERROR(VALUE(AG29)),\"\",VALUE(AG29))","v":0},0]
[null,null,null,null,null,null,null,null,null,null,null,null,null,null,null,"",null,null,null,null,null,"",0,0,0,0,0,0,0,0,0,0,0,0,0,0,0,0,0,0,0,0,0,0,0,0,0,0,0,{"$f":"IF(ISERROR(VALUE(AF30)),\"\",VALUE(AF30))","v":0},0,0]
[null,null,null,null,null,null,null,null,null,null,null,null,null,null,null,"",null,null,null,null,null,0,0,0,0,0,0,0,0,0,0,0,0,0,0,0,0,0,0,0,0,0,0,0,0,0,0,0,0,{"$f":"IF(ISERROR(VALUE(AF31)),\"\",VALUE(AF31))","v":0},0,0]
[null,null,null,null,null,null,null,null,null,null,null,null,null,null,null,""]
[null,null,null,null,null,null,null,null,null,null,null,null,null,null,null,null,null,null,null,null,"食事平均",null,null,null,null,null,null,null,null,null,null,null,null,{"$f":"AC140&AE140&AF140","v":""}]
[null,null,null,null,null,null,null,null,null,null,null,null,null,null,null,null,null,null,null,null,"左",{"$f":"IF(D25=\"\", \"\", LEFT(D25,SEARCH(\"/\",D25,1)-1)*1)","v":""},"","","","","","","","","",{"$f":"IF(N25=\"\", \"\", LEFT(N25,SEARCH(\"/\",N25,1)-1)*1)","v":""},"","","","","","","","","",{"$f":"IF(X25=\"\", \"\", LEFT(X25,SEARCH(\"/\",X25,1)-1)*1)","v":""},"","","","","","","","","",{"$f":"IF(AH25=\"\", \"\", LEFT(AH25,SEARCH(\"/\",AH25,1)-1)*1)","v":""}]
[null,null,null,null,null,null,null,null,null,null,null,null,null,null,null,null,null,null,null,null,null,"","","","","","","","","","","","","","","","","","","","","","","","","","","","","","",""]
[null,null,null,null,null,null,null,null,null,null,null,null,null,null,null,null,null,null,null,null,null,"","","","","","","","","","","","","","","","","","","","","","","","","","","","","","",""]
[null,null,null,null,null,null,null,null,null,null,null,null,null,null,null,null,null,null,null,null,"右",{"$f":"IF(D25=\"\", \"\", RIGHT(D25,LEN(D25)-FIND(\"/\",D25,1))*1)","v":""},"","","","","","","","","",{"$f":"IF(N25=\"\", \"\", RIGHT(N25,LEN(N25)-FIND(\"/\",N25,1))*1)","v":""},"","","","","","","","","",{"$f":"IF(X25=\"\", \"\", RIGHT(X25,LEN(X25)-FIND(\"/\",X25,1))*1)","v":""},"","","","","","","","","",{"$f":"IF(AH25=\"\", \"\", RIGHT(AH25,LEN(AH25)-FIND(\"/\",AH25,1))*1)","v":""}]
[null,null,null,null,null,null,null,null,null,null,null,null,null,null,null,null,null,null,null,null,null,"","","","","","","","","","","","","","","","","","","","","","","","","","","","","","",""]
[null,null,null,null,null,null,null,null,null,null,null,null,null,null,null,null,null,null,null,null,null,"","","","","","","","","","","","","","","","","","","","","","","","","","","","","","",""]
[null,null,null,null,null,null,null,null,null,null,null,null,null,null,null,null,null,null,null,null,null,null,null,null,null,null,null,null,null,null,null,null,null,{"$f":"AC147&AE147&AF147","v":""}]
[null,null,null,null,null,null,null,null,null,null,null,null,null,null,null,null,null,null,null,null,"BP平均",null,null,null,null,null,null,null,null,null,null,null,null,{"$f":"AC148&AE148&AF148","v":""}]
[null,null,null,null,null,null,null,null,null,null,null,null,null,null,null,null,null,null,null,null,"左",{"$f":"IF(ISERROR(LEFT(D32,SEARCH(\"/\",D32,1)-1)*1),\"\",LEFT(D32,SEARCH(\"/\",D32,1)-1)*1)","v":""},"","","","","","","","","",{"$f":"IF(ISERROR(LEFT(N32,SEARCH(\"/\",N32,1)-1)*1),\"\",LEFT(N32,SEARCH(\"/\",N32,1)-1)*1)","v":""},"","","","","","","","","",{"$f":"IF(ISERROR(LEFT(X32,SEARCH(\"/\",X32,1)-1)*1),\"\",LEFT(X32,SEARCH(\"/\",X32,1)-1)*1)","v":""},"","","","","","","","","",{"$f":"IF(ISERROR(LEFT(AH32,SEARCH(\"/\",AH32,1)-1)*1),\"\",LEFT(AH32,SEARCH(\"/\",AH32,1)-1)*1)","v":""}]
[null,null,null,null,null,null,null,null,null,null,null,null,null,null,null,null,null,null,null,null,null,"","","","","","","","","","","","","","","","","","","","","","","","","","","","","","",""]
[null,null,null,null,null,null,null,null,null,null,null,null,null,null,null,null,null,null,null,null,null,"","","","","","","","","","","","","","","","","","","","","","","","","","","","","","",""]
[null,null,null,null,null,null,null,null,null,null,null,null,null,null,null,null,null,null,null,null,null,"","","","","","","","","","","","","","","","","","","","","","","","","","","","","","",""]
[null,null,null,null,null,null,null,null,null,null,null,null,null,null,null,null,null,null,null,null,"右",{"$f":"IF(ISERROR(RIGHT(D32,LEN(D32)-FIND(\"/\",D32,1))*1),\"\",RIGHT(D32,LEN(D32)-FIND(\"/\",D32,1))*1)","v":""},"","","","","","","","","",{"$f":"IF(ISERROR(RIGHT(N32,LEN(N32)-FIND(\"/\",N32,1))*1),\"\",RIGHT(N32,LEN(N32)-FIND(\"/\",N32,1))*1)","v":""},"","","","","","","","","",{"$f":"IF(ISERROR(RIGHT(X32,LEN(X32)-FIND(\"/\",X32,1))*1),\"\",RIGHT(X32,LEN(X32)-FIND(\"/\",X32,1))*1)","v":""},"","","","","","","","","",{"$f":"IF(ISERROR(RIGHT(AH32,LEN(AH32)-FIND(\"/\",AH32,1))*1),\"\",RIGHT(AH32,LEN(AH32)-FIND(\"/\",AH32,1))*1)","v":""}]
[null,null,null,null,null,null,null,null,null,null,null,null,null,null,null,null,null,null,null,null,null,"","","","","","","","","","","","","","","","","","","","","","","","","","","","","","",""]
[null,null,null,null,null,null,null,null,null,null,null,null,null,null,null,null,null,null,null,null,null,"","","","","","","","","","","","","","","","","","","","","","","","","","","","","","",""]
[null,null,null,null,null,null,null,null,null,null,null,null,null,null,null,null,null,null,null,null,null,"","","","","","","","","","","","","","","","","","","","","","","","","","","","","","",""]
[null,null,null,null,null,null,null,null,null,null,null,null,null,null,null,""]
[null,null,null,null,null,null,null,null,null,null,null,null,null,null,null,""]
[null,null,null,null,null,null,null,null,null,null,null,null,null,null,null,""]
[null,null,null,null,null,null,null,null,null,null,null,null,null,null,null,""]
[null,null,null,null,null,null,null,null,null,null,null,null,null,null,null,{"$f":"K161&M161&N161","v":""}]

{"sheet":"7月","index":6,"n_rows":161,"n_cols":52,"rows_kept":161,"cut":false,"hidden":false,"merged":[[147,28,147,29],[147,31,147,32],[160,10,160,11],[160,13,160,14],[139,28,139,29],[139,31,139,32],[137,10,137,11],[137,13,137,14],[138,10,138,11],[138,13,138,14],[46,1,46,5],[52,17,52,18],[56,3,56,4],[56,6,56,7],[56,12,56,13],[56,14,56,15],[56,17,56,18],[65,12,65,13],[65,14,65,15],[65,17,65,18],[61,12,61,13],[61,14,61,15],[64,14,64,15],[64,17,64,18],[57,3,57,4],[57,6,57,7],[57,11,64,11],[60,3,60,4],[60,6,60,7],[63,3,63,4],[63,6,63,7],[58,12,58,13],[58,14,58,15],[58,17,58,18],[135,10,135,11],[135,13,135,14],[136,10,136,11],[136,13,136,14],[133,10,133,11],[133,13,133,14],[134,10,134,11],[134,13,134,14],[47,1,47,9],[47,11,47,18],[66,3,66,4],[66,6,66,7],[66,12,66,13],[49,14,49,15],[49,17,49,18],[49,11,56,11],[53,3,53,4],[53,6,53,7],[53,12,53,13],[49,12,49,13],[60,12,60,13],[60,14,60,15],[61,3,61,4],[61,6,61,7],[47,19,47,26],[48,3,48,4],[0,1,0,2],[0,5,0,6],[1,1,1,3],[1,4,1,6],[4,37,4,40],[5,37,9,40],[16,1,16,2],[17,1,17,2],[2,1,3,3],[18,1,18,2],[19,1,19,2],[20,1,20,2],[21,1,22,2],[23,1,23,2],[27,1,27,2],[28,1,30,2],[39,1,39,2],[40,1,40,2],[41,1,41,2],[42,1,42,2],[43,1,43,2],[44,1,44,2],[47,27,47,34],[48,22,48,23],[48,25,48,26],[48,28,48,29],[56,22,56,23],[56,25,56,26],[56,28,56,29],[48,6,48,7],[48,41,48,42],[48,36,48,37],[48,30,48,31],[48,33,48,34],[48,38,48,39],[48,12,48,13],[48,14,48,15],[48,17,48,18],[48,20,48,21],[54,33,54,34],[54,36,54,37],[50,33,50,34],[50,36,50,37],[54,30,54,31],[53,30,53,31],[49,33,49,34],[56,36,56,37],[56,38,56,39],[56,41,56,42],[49,35,56,35],[51,41,51,42],[49,36,49,37],[51,33,51,34],[51,36,51,37],[51,38,51,39],[49,41,49,42],[53,36,53,37],[52,36,52,37],[53,33,53,34],[53,38,53,39],[53,41,53,42],[54,38,54,39],[54,41,54,42],[52,41,52,42],[50,41,50,42],[49,38,49,39],[55,33,55,34],[55,36,55,37],[55,38,55,39],[55,41,55,42],[54,25,54,26],[52,22,52,23],[52,6,52,7],[52,12,52,13],[52,14,52,15],[50,25,50,26],[55,30,55,31],[50,17,50,18],[50,22,50,23],[55,25,55,26],[52,20,52,21],[51,12,51,13],[51,14,51,15],[51,20,51,21],[51,22,51,23],[52,30,52,31],[56,30,56,31],[56,33,56,34],[50,38,50,39],[51,3,51,4],[51,6,51,7],[52,38,52,39],[52,3,52,4],[51,28,51,29],[52,33,52,34],[51,30,51,31],[49,19,56,19],[54,17,54,18],[51,17,51,18],[49,20,49,21],[53,14,53,15],[50,20,50,21],[54,3,54,4],[54,6,54,7],[54,12,54,13],[49,30,49,31],[50,3,50,4],[50,6,50,7],[50,12,50,13],[50,14,50,15],[49,22,49,23],[55,3,55,4],[55,6,55,7],[55,12,55,13],[55,14,55,15],[55,17,55,18],[55,20,55,21],[55,22,55,23],[54,14,54,15],[54,20,54,21],[54,22,54,23],[62,28,62,29],[64,22,64,23],[64,25,64,26],[59,25,59,26],[61,22,61,23],[60,22,60,23],[60,25,60,26],[63,22,63,23],[57,33,57,34],[61,33,61,34],[62,33,62,34],[57,30,57,31],[58,30,58,31],[59,30,59,31],[63,28,63,29],[64,30,64,31],[64,33,64,34],[57,22,57,23],[57,25,57,26],[57,27,64,27],[63,25,63,26],[58,36,58,37],[58,38,58,39],[62,30,62,31],[60,30,60,31],[60,33,60,34],[60,38,60,39],[61,30,61,31],[59,33,59,34],[61,36,61,37],[60,36,60,37],[62,41,62,42],[59,41,59,42],[64,41,64,42],[60,41,60,42],[58,41,58,42],[64,3,64,4],[64,6,64,7],[57,38,57,39],[57,28,57,29],[61,28,61,29],[58,33,58,34],[59,17,59,18],[59,20,59,21],[59,22,59,23],[58,28,58,29],[62,38,62,39],[58,25,58,26],[60,28,60,29],[61,38,61,39],[61,25,61,26],[62,25,62,26],[59,36,59,37],[59,38,59,39],[59,28,59,29],[58,20,58,21],[58,22,58,23],[57,19,64,19],[57,20,57,21],[59,3,59,4],[59,6,59,7],[59,12,59,13],[59,14,59,15],[64,20,64,21],[60,17,60,18],[60,20,60,21],[61,17,61,18],[61,20,61,21],[57,12,57,13],[57,14,57,15],[57,17,57,18],[63,12,63,13],[63,14,63,15],[64,12,64,13],[64,36,64,37],[64,38,64,39],[64,28,64,29],[63,33,63,34],[61,41,61,42],[62,3,62,4],[62,6,62,7],[62,12,62,13],[62,14,62,15],[62,17,62,18],[62,20,62,21],[62,22,62,23],[62,36,62,37],[63,17,63,18],[63,20,63,21],[63,30,63,31],[63,41,63,42],[63,36,63,37],[63,38,63,39],[57,35,64,35],[57,36,57,37],[57,41,57,42],[58,3,58,4],[58,6,58,7],[66,30,66,31],[67,30,67,31],[65,38,65,39],[66,33,66,34],[66,36,66,37],[66,38,66,39],[67,36,67,37],[65,33,65,34],[65,35,72,35],[67,33,67,34],[72,38,72,39],[67,38,67,39],[70,38,70,39],[70,30,70,31],[70,33,70,34],[68,36,68,37],[68,30,68,31],[67,41,67,42],[65,41,65,42],[68,41,68,42],[72,41,72,42],[69,36,69,37],[69,38,69,39],[66,41,66,42],[65,36,65,37],[71,30,71,31],[71,33,71,34],[71,36,71,37],[71,38,71,39],[71,41,71,42],[72,30,72,31],[72,33,72,34],[72,36,72,37],[69,41,69,42],[68,38,68,39],[70,41,70,42],[68,33,68,34],[69,33,69,34],[70,36,70,37],[69,30,69,31],[65,30,65,31],[70,25,70,26],[71,25,71,26],[71,28,71,29],[66,28,66,29],[72,25,72,26],[67,25,67,26],[67,28,67,29],[65,25,65,26],[68,3,68,4],[68,6,68,7],[68,12,68,13],[68,14,68,15],[68,17,68,18],[68,20,68,21],[68,25,68,26],[68,28,68,29],[72,20,72,21],[65,11,72,11],[72,28,72,29],[69,3,69,4],[65,3,65,4],[72,3,72,4],[66,20,66,21],[67,3,67,4],[70,3,70,4],[70,6,70,7],[70,12,70,13],[70,14,70,15],[70,17,70,18],[70,20,70,21],[70,22,70,23],[67,6,67,7],[67,12,67,13],[70,28,70,29],[65,27,72,27],[65,28,65,29],[69,28,69,29],[66,25,66,26],[69,25,69,26],[79,3,79,4],[79,17,79,18],[78,3,78,4],[67,20,67,21],[66,22,66,23],[71,22,71,23],[66,14,66,15],[66,17,66,18],[65,22,65,23],[69,20,69,21],[65,19,72,19],[65,20,65,21],[72,22,72,23],[71,3,71,4],[71,6,71,7],[71,12,71,13],[71,14,71,15],[71,17,71,18],[71,20,71,21],[69,6,69,7],[69,12,69,13],[69,14,69,15],[69,17,69,18],[65,6,65,7],[69,22,69,23],[72,6,72,7],[72,12,72,13],[72,14,72,15],[68,22,68,23],[67,22,67,23],[67,14,67,15],[67,17,67,18],[79,20,79,21],[75,22,75,23],[75,25,75,26],[75,28,75,29],[78,6,78,7],[78,12,78,13],[78,14,78,15],[78,17,78,18],[78,20,78,21],[76,14,76,15],[76,17,76,18],[76,20,76,21],[76,22,76,23],[77,22,77,23],[77,25,77,26],[78,22,78,23],[78,25,78,26],[78,28,78,29],[76,25,76,26],[73,11,80,11],[73,12,73,13],[73,14,73,15],[73,17,73,18],[73,41,73,42],[74,3,74,4],[74,6,74,7],[74,12,74,13],[74,14,74,15],[74,17,74,18],[74,20,74,21],[74,22,74,23],[74,25,74,26],[74,28,74,29],[74,41,74,42],[73,33,73,34],[73,35,80,35],[74,30,74,31],[75,30,75,31],[76,30,76,31],[77,28,77,29],[77,30,77,31],[73,28,73,29],[79,22,79,23],[79,25,79,26],[79,6,79,7],[79,12,79,13],[79,14,79,15],[73,36,73,37],[76,3,76,4],[76,6,76,7],[76,12,76,13],[73,20,73,21],[73,22,73,23],[73,25,73,26],[73,30,73,31],[76,38,76,39],[76,28,76,29],[76,33,76,34],[76,36,76,37],[75,38,75,39],[75,3,75,4],[75,6,75,7],[75,12,75,13],[75,14,75,15],[75,17,75,18],[75,20,75,21],[73,3,73,4],[73,6,73,7],[76,41,76,42],[77,3,77,4],[77,6,77,7],[77,12,77,13],[77,14,77,15],[77,17,77,18],[77,20,77,21],[77,36,77,37],[77,38,77,39],[77,41,77,42],[73,19,80,19],[80,12,80,13],[80,14,80,15],[80,17,80,18],[80,20,80,21],[80,22,80,23],[80,25,80,26],[73,38,73,39],[74,33,74,34],[78,33,78,34],[78,36,78,37],[78,38,78,39],[78,41,78,42],[73,27,80,27],[79,33,79,34],[79,36,79,37],[79,38,79,39],[77,33,77,34],[79,28,79,29],[79,30,79,31],[79,41,79,42],[80,28,80,29],[80,30,80,31],[80,33,80,34],[80,36,80,37],[80,38,80,39],[80,41,80,42],[78,30,78,31],[75,41,75,42],[74,36,74,37],[74,38,74,39],[75,33,75,34],[75,36,75,37],[86,33,86,34],[81,11,88,11],[81,12,81,13],[81,14,81,15],[81,17,81,18],[81,19,88,19],[81,20,81,21],[81,22,81,23],[81,25,81,26],[81,27,88,27],[82,12,82,13],[82,14,82,15],[82,17,82,18],[82,20,82,21],[82,22,82,23],[82,25,82,26],[83,12,83,13],[83,14,83,15],[83,17,83,18],[83,20,83,21],[83,22,83,23],[83,25,83,26],[84,12,84,13],[84,14,84,15],[81,36,81,37],[85,41,85,42],[81,38,81,39],[82,36,82,37],[82,38,82,39],[83,36,83,37],[83,38,83,39],[84,36,84,37],[84,38,84,39],[81,41,81,42],[82,41,82,42],[83,41,83,42],[84,41,84,42],[85,12,85,13],[85,14,85,15],[85,17,85,18],[85,20,85,21],[85,22,85,23],[85,25,85,26],[86,36,86,37],[86,38,86,39],[86,41,86,42],[87,12,87,13],[87,14,87,15],[87,17,87,18],[87,20,87,21],[87,22,87,23],[87,25,87,26],[87,33,87,34],[87,36,87,37],[87,38,87,39],[87,41,87,42],[86,30,86,31],[87,28,87,29],[87,30,87,31],[81,35,88,35],[82,28,82,29],[82,30,82,31],[82,33,82,34],[83,28,83,29],[83,30,83,31],[83,33,83,34],[86,28,86,29],[85,28,85,29],[85,30,85,31],[85,33,85,34],[85,36,85,37],[85,38,85,39],[84,17,84,18],[96,41,96,42],[88,12,88,13],[88,14,88,15],[88,17,88,18],[88,20,88,21],[88,22,88,23],[88,25,88,26],[88,33,88,34],[88,36,88,37],[88,38,88,39],[88,41,88,42],[93,25,93,26],[93,33,93,34],[93,36,93,37],[93,38,93,39],[93,41,93,42],[94,12,94,13],[94,14,94,15],[94,36,94,37],[94,38,94,39],[94,41,94,42],[88,28,88,29],[88,30,88,31],[89,38,89,39],[95,25,95,26],[95,28,95,29],[95,30,95,31],[95,33,95,34],[95,36,95,37],[95,38,95,39],[91,38,91,39],[92,25,92,26],[96,36,96,37],[96,38,96,39],[95,41,95,42],[91,41,91,42],[91,28,91,29],[91,30,91,31],[93,28,93,29],[91,33,91,34],[89,25,89,26],[90,25,90,26],[89,33,89,34],[90,28,90,29],[94,25,94,26],[94,30,94,31],[94,33,94,34],[92,41,92,42],[89,41,89,42],[90,36,90,37],[90,38,90,39],[90,30,90,31],[90,33,90,34],[91,25,91,26],[90,41,90,42],[91,36,91,37],[100,41,100,42],[97,35,104,35],[97,36,97,37],[97,38,97,39],[97,41,97,42],[98,36,98,37],[98,38,98,39],[101,12,101,13],[101,14,101,15],[99,28,99,29],[99,30,99,31],[101,28,101,29],[101,30,101,31],[102,28,102,29],[100,33,100,34],[101,17,101,18],[101,20,101,21],[101,22,101,23],[101,36,101,37],[101,38,101,39],[101,41,101,42],[102,36,102,37],[102,38,102,39],[102,41,102,42],[103,38,103,39],[97,19,104,19],[97,20,97,21],[97,22,97,23],[97,25,97,26],[98,20,98,21],[98,22,98,23],[98,25,98,26],[99,20,99,21],[99,22,99,23],[97,33,97,34],[98,28,98,29],[104,38,104,39],[104,33,104,34],[100,36,100,37],[100,38,100,39],[103,30,103,31],[103,33,103,34],[102,33,102,34],[102,30,102,31],[103,20,103,21],[102,20,102,21],[103,36,103,37],[103,41,103,42],[104,41,104,42],[104,14,104,15],[104,17,104,18],[104,20,104,21],[104,36,104,37],[104,22,104,23],[104,25,104,26],[104,28,104,29],[104,30,104,31],[97,27,104,27],[97,28,97,29],[97,30,97,31],[98,41,98,42],[99,36,99,37],[99,38,99,39],[99,41,99,42],[99,17,99,18],[99,33,99,34],[98,30,98,31],[98,33,98,34],[99,25,99,26],[103,25,103,26],[103,28,103,29],[111,28,111,29],[111,30,111,31],[111,33,111,34],[110,33,110,34],[110,22,110,23],[110,25,110,26],[110,28,110,29],[110,30,110,31],[111,17,111,18],[111,20,111,21],[111,22,111,23],[111,25,111,26],[105,19,112,19],[105,20,105,21],[112,22,112,23],[108,17,108,18],[108,20,108,21],[106,25,106,26],[107,20,107,21],[107,22,107,23],[107,28,107,29],[108,28,108,29],[105,27,112,27],[105,28,105,29],[109,28,109,29],[105,17,105,18],[106,28,106,29],[106,30,106,31],[112,33,112,34],[112,25,112,26],[112,28,112,29],[112,14,112,15],[112,17,112,18],[112,20,112,21],[111,14,111,15],[108,14,108,15],[110,14,110,15],[110,17,110,18],[110,20,110,21],[107,17,107,18],[109,17,109,18],[109,20,109,21],[112,30,112,31],[108,33,108,34],[108,22,108,23],[108,25,108,26],[109,22,109,23],[109,25,109,26],[111,12,111,13],[130,0,132,0],[130,2,130,4],[130,7,130,8],[105,11,112,11],[105,12,105,13],[107,12,107,13],[108,12,108,13],[110,12,110,13],[109,12,109,13],[106,12,106,13],[129,10,129,12],[130,10,130,11],[130,13,130,14],[129,2,129,4],[129,6,129,8],[112,12,112,13],[131,10,131,11],[131,13,131,14],[132,10,132,11],[132,13,132,14],[109,14,109,15],[106,14,106,15],[107,14,107,15],[13,37,13,40],[10,37,10,40],[11,37,11,40],[12,37,12,40],[93,17,93,18],[93,20,93,21],[93,22,93,23],[92,36,92,37],[92,38,92,39],[89,35,96,35],[89,36,89,37],[89,19,96,19],[89,20,89,21],[89,22,89,23],[90,20,90,21],[90,22,90,23],[91,22,91,23],[92,20,92,21],[92,22,92,23],[92,28,92,29],[92,30,92,31],[89,27,96,27],[89,28,89,29],[89,30,89,31],[107,33,107,34],[97,11,104,11],[97,12,97,13],[97,14,97,15],[97,17,97,18],[98,12,98,13],[98,14,98,15],[98,17,98,18],[99,12,99,13],[99,14,99,15],[103,22,103,23],[105,22,105,23],[105,25,105,26],[106,20,106,21],[106,22,106,23],[107,30,107,31],[107,25,107,26],[105,30,105,31],[106,17,106,18],[103,14,103,15],[103,17,103,18],[102,14,102,15],[102,17,102,18],[102,25,102,26],[96,30,96,31],[96,33,96,34],[93,30,93,31],[1,25,1,31],[2,25,2,30],[3,25,3,30],[105,14,105,15],[105,33,105,34],[106,33,106,34],[94,28,94,29],[92,33,92,34],[96,25,96,26],[96,28,96,29],[95,17,95,18],[95,20,95,21],[95,22,95,23],[84,22,84,23],[84,25,84,26],[84,28,84,29],[84,30,84,31],[84,33,84,34],[81,28,81,29],[81,30,81,31],[81,33,81,34],[86,25,86,26],[84,20,84,21],[72,17,72,18],[109,30,109,31],[109,33,109,34],[108,30,108,31],[101,25,101,26],[101,33,101,34],[93,12,93,13],[93,14,93,15],[96,17,96,18],[96,20,96,21],[96,22,96,23],[104,12,104,13],[100,12,100,13],[100,14,100,15],[100,17,100,18],[100,20,100,21],[100,22,100,23],[100,25,100,26],[100,28,100,29],[100,30,100,31],[96,12,96,13],[96,14,96,15],[89,11,96,11],[89,12,89,13],[89,14,89,15],[89,17,89,18],[90,12,90,13],[90,14,90,15],[90,17,90,18],[91,12,91,13],[91,14,91,15],[91,17,91,18],[94,17,94,18],[103,12,103,13],[94,20,94,21],[94,22,94,23],[92,12,92,13],[92,14,92,15],[92,17,92,18],[95,12,95,13],[95,14,95,15],[86,12,86,13],[86,14,86,15],[86,17,86,18],[86,20,86,21],[86,22,86,23],[102,12,102,13],[102,22,102,23],[91,20,91,21],[0,25,0,34],[1,10,1,13],[1,14,1,15],[1,16,1,21],[2,10,3,11],[2,12,3,13],[2,15,3,21],[31,1,34,2],[35,1,35,2],[1,23,1,24],[2,23,3,24],[1,7,1,9],[36,1,36,2],[37,1,37,2],[38,1,38,2],[24,1,26,2],[49,3,49,4],[49,6,49,7],[1,32,1,34],[2,32,3,34],[49,25,49,26],[49,27,56,27],[49,28,49,29],[50,30,50,31],[50,28,50,29],[54,28,54,29],[52,25,52,26],[52,28,52,29],[51,25,51,26],[53,17,53,18],[53,20,53,21],[53,22,53,23],[53,25,53,26],[53,28,53,29],[55,28,55,29],[56,20,56,21]]}
[null,"体温表",null,null,null,{"$f":"設定!$F$7","v":2017},null,"年",null,7,"月",null,null,null,null,null,null,null,null,null,null,null,null,null,null,"伊都の丘病院"]
[null,"カルテ番号",null,null,"病棟",null,null,"入院形態",null,null,"主治医",null,null,null,"　姓名",null,{"$f":"'6月'!$Q$2","v":0},null,null,null,null,null,null,"性別",null,"生年月日　",null,null,null,null,null,null,"担当Ns"]
[null,{"$f":"'6月'!B3","v":0},null,null,{"$f":"IF(COUNTIF('6月'!E3:G3,\"*\"),INDEX('6月'!E3:G3,MATCH(\"\",'6月'!E3:G3,-1)),\"\")","v":""},null,null,{"$f":"IF(COUNTIF('6月'!H3:J3,\"*\"),INDEX('6月'!H3:J3,MATCH(\"\",'6月'!H3:J3,-1)),\"\")","v":""},null,null,{"$f":"IF(COUNTIF('6月'!K3:M3,\"*\"),INDEX('6月'!K3:M3,MATCH(\"\",'6月'!K3:M3,-1)),\"\")","v":""},null,null,null,null,{"$f":"'6月'!$P$3","v":"新体温表 - バックアップ９１ー"},null,null,null,null,null,null,null,{"$f":"'6月'!$X$3","v":0},null,{"$f":"'6月'!$Z$3","v":"ここに生年月日を記入"},null,null,null,null,null,{"$f":"IF(ISERROR(DATEDIF(Z3,DATE(設定!F7,7,31),\"Y\"))=TRUE,\"\",DATEDIF(Z3,DATE(設定!F7,7,31),\"Y\"))","v":""},{"$f":"'6月'!$AG$3","v":0}]
[null,null,null,null,"/","/","/","/","/","/",null,null,null,null,null,null,null,null,null,null,null,null,null,null,null,{"$f":"SUBSTITUTE(Z3,\"ここに生年月日を記入\",\"\")","v":""},null,null,null,null,null,"歳"]
[null,null,null,null,null,null,null,null,null,null,null,null,null,null,null,null,null,null,null,null,null,null,null,null,null,null,null,null,null,null,null,null,null,null,null,null,null,{"$f":"設定!C11","v":"便利ボタン"}]
[]
[]
[]
[]
[]
[]
[null,null,null,null,null,null,null,null,null,null,null,null,null,null,null,null,null,null,null,null,null,null,null,null,null,null,null,null,null,null,null,null,null,null,null,null,null,{"$f":"設定!C18","v":" ※自動保存されます"}]
[null,null,null,null,null,null,null,null,null,null,null,null,null,null,null,null,null,null,null,null,null,null,null,null,null,null,null,null,null,null,null,null,null,null,null,null,null,{"$f":"設定!C19","v":0}]
[null,null,null,null,null,null,null,null,null,null,null,null,null,null,null,null,null,null,null,null,null,null,null,null,null,null,null,null,null,null,null,null,null,null,null,null,null,{"$f":"設定!C20","v":0}]
[]
[]
[null,"日　付",null,1,2,3,4,5,6,7,8,9,10,11,12,13,14,15,16,17,18,19,20,21,22,23,24,25,26,27,28,29,30,31,"統計"]
[null,"行　動"]
[null,"時　間"]
[null,"行　動"]
[null,"時　間",null,null,null,null,null,null,null,null,null,null,null,null,null,null,null,null,null,null,null,null,null,null,null,null,null,null,null,null,null,null,null,null,{"$f":"IF(COUNTIF(D18:AH21,\"外出\")+COUNTIF(D18:AH21,\"外泊\")=0,\"回数\",COUNTIF(D18:AH21,\"外出\")+COUNTIF(D18:AH21,\"外泊\"))","v":"回数"}]
[null,"面　会"]
[null,null,null,null,null,null,null,null,null,null,null,null,null,null,null,null,null,null,null,null,null,null,null,null,null,null,null,null,null,null,null,null,null,null,{"$f":"IF(COUNTA(D22:AH22)=0,\"回数\",COUNTA(D22:AH22))","v":"回数"}]
[null,"入　浴",null,null,null,null,null,null,null,null,null,null,null,null,null,null,null,null,null,null,null,null,null,null,null,null,null,null,null,null,null,null,null,null,{"$f":"IF(COUNTA(D24:AH24)=0,\"回数\",COUNTA(D24:AH24))","v":"回数"}]
[null,"食　事"]
[]
[null,null,null,null,null,null,null,null,null,null,null,null,null,null,null,null,null,null,null,null,null,null,null,null,null,null,null,null,null,null,null,null,null,null,{"$f":"IFERROR(INT(AVERAGE(V141:AZ143))& \"/\"&INT(AVERAGE(V144:AZ146)),\"平均\")","v":"平均"}]
[null,"便　通",null,{"$f":"IF(ISBLANK(I50),\"\",I50)","v":""},{"$f":"IF(ISBLANK(I51),\"\",I51)","v":""},{"$f":"IF(ISBLANK(I52),\"\",I52)","v":""},{"$f":"IF(ISBLANK(I53),\"\",I53)","v":""},{"$f":"IF(ISBLANK(I54),\"\",I54)","v":""},{"$f":"IF(ISBLANK(I55),\"\",I55)","v":""},{"$f":"IF(ISBLANK(I56),\"\",I56)","v":""},{"$f":"IF(ISBLANK(I57),\"\",I57)","v":""},{"$f":"IF(ISBLANK(I58),\"\",I58)","v":""},{"$f":"IF(ISBLANK(I59),\"\",I59)","v":""},{"$f":"IF(ISBLANK(I60),\"\",I60)","v":""},{"$f":"IF(ISBLANK(I61),\"\",I61)","v":""},{"$f":"IF(ISBLANK(I62),\"\",I62)","v":""},{"$f":"IF(ISBLANK(I63),\"\",I63)","v":""},{"$f":"IF(ISBLANK(I64),\"\",I64)","v":""},{"$f":"IF(ISBLANK(I65),\"\",I65)","v":""},{"$f":"IF(ISBLANK(I66),\"\",I66)","v":""},{"$f":"IF(ISBLANK(I67),\"\",I67)","v":""},{"$f":"IF(ISBLANK(I68),\"\",I68)","v":""},{"$f":"IF(ISBLANK(I69),\"\",I69)","v":""},{"$f":"IF(ISBLANK(I70),\"\",I70)","v":""},{"$f":"IF(ISBLANK(I71),\"\",I71)","v":""},{"$f":"IF(ISBLANK(I72),\"\",I72)","v":""},{"$f":"IF(ISBLANK(I73),\"\",I73)","v":""},{"$f":"IF(ISBLANK(I74),\"\",I74)","v":""},{"$f":"IF(ISBLANK(I75),\"\",I75)","v":""},{"$f":"IF(ISBLANK(I76),\"\",I76)","v":""},{"$f":"IF(ISBLANK(I77),\"\",I77)","v":""},{"$f":"IF(ISBLANK(I78),\"\",I78)","v":""},{"$f":"IF(ISBLANK(I79),\"\",I79)","v":""},{"$f":"IF(ISBLANK(I80),\"\",I80)","v":""},{"$f":"IF(COUNTIF(D28:AH28,0)=0,\"回数\",COUNTIF(D28:AH28,0))","v":"回数"}]
[null,"便処置"]
[null,null,null,"　",null,null,null,null,null,null,null,null,null,null,null,null,null,null,null,null,null,null,null,null,null,null,null,null,null,null,null,null,null,null,{"$f":"IF(SUM(V136:AZ138)=0,\"滴数\",SUM(V136:AZ138))","v":"滴数"}]
[null,null,null,null,null,null,null,null,null,null,null,null,null,null,null,null,null,null,null,null,null,null,null,null,null,null,null,null,null,null,null,null,null,null,{"$f":"IF(AI30=\"滴数\",\"本数\",AI30/150)","v":"本数"}]
[null,"血　圧",null,{"$f":"$R$50","v":0},{"$f":"$R$58","v":0},{"$f":"R66","v":0},{"$f":"R74","v":0},{"$f":"R82","v":0},{"$f":"R90","v":0},{"$f":"R98","v":0},{"$f":"R106","v":0},{"$f":"Z50","v":0},{"$f":"Z58","v":0},{"$f":"Z66","v":0},{"$f":"Z74","v":0},{"$f":"Z82","v":0},{"$f":"Z90","v":0},{"$f":"Z98","v":0},{"$f":"Z106","v":0},{"$f":"AH50","v":0},{"$f":"AH58","v":0},{"$f":"AH66","v":0},{"$f":"AH74","v":0},{"$f":"AH82","v":0},{"$f":"AH90","v":0},{"$f":"AH98","v":0},{"$f":"AH106","v":0},{"$f":"AP50","v":0},{"$f":"AP58","v":0},{"$f":"AP66","v":0},{"$f":"AP74","v":0},{"$f":"AP82","v":0},{"$f":"AP90","v":0},{"$f":"AP98","v":0}]
[null,null,null,{"$f":" IF(ISERROR($R$51),\"\",($R$51))","v":""},{"$f":" IF(ISERROR($R$59),\"\",($R$59))","v":""},{"$f":" IF(ISERROR($R$67),\"\",($R$67))","v":""},{"$f":" IF(ISERROR($R$75),\"\",($R$75))","v":""},{"$f":" IF(ISERROR($R$83),\"\",($R$83))","v":""},{"$f":" IF(ISERROR($R$91),\"\",($R$91))","v":""},{"$f":" IF(ISERROR($R$99),\"\",($R$99))","v":""},{"$f":" IF(ISERROR($R$107),\"\",($R$107))","v":""},{"$f":" IF(ISERROR($Z$51),\"\",($Z$51))","v":""},{"$f":" IF(ISERROR($Z$59),\"\",($Z$59))","v":""},{"$f":" IF(ISERROR($Z$67),\"\",($Z$67))","v":""},{"$f":" IF(ISERROR($Z$75),\"\",($Z$75))","v":""},{"$f":" IF(ISERROR($Z$83),\"\",($Z$83))","v":""},{"$f":" IF(ISERROR($Z$91),\"\",($Z$91))","v":""},{"$f":" IF(ISERROR($Z$99),\"\",($Z$99))","v":""},{"$f":" IF(ISERROR($Z$107),\"\",($Z$107))","v":""},{"$f":" IF(ISERROR($AH$51),\"\",($AH$51))","v":""},{"$f":" IF(ISERROR($AH$59),\"\",($AH$59))","v":""},{"$f":" IF(ISERROR($AH$67),\"\",($AH$67))","v":""},{"$f":" IF(ISERROR($AH$75),\"\",($AH$75))","v":""},{"$f":" IF(ISERROR($AH$83),\"\",($AH$83))","v":""},{"$f":" IF(ISERROR($AH$91),\"\",($AH$91))","v":""},{"$f":" IF(ISERROR($AH$99),\"\",($AH$99))","v":""},{"$f":" IF(ISERROR($AH$107),\"\",($AH$107))","v":""},{"$f":" IF(ISERROR($AP$51),\"\",($AP$51))","v":""},{"$f":" IF(ISERROR($AP$59),\"\",($AP$59))","v":""},{"$f":" IF(ISERROR($AP$67),\"\",($AP$67))","v":""},{"$f":" IF(ISERROR($AP$75),\"\",($AP$75))","v":""},{"$f":" IF(ISERROR($AP$83),\"\",($AP$83))","v":""},{"$f":" IF(ISERROR($AP$91),\"\",($AP$91))","v":""},{"$f":" IF(ISERROR($AP$99),\"\",($AP$99))","v":""}]
[null,null,null,{"$f":"$R$52","v":0},{"$f":"$R$60","v":0},{"$f":"R68","v":0},{"$f":"R76","v":0},{"$f":"R84","v":0},{"$f":"R92","v":0},{"$f":"R100","v":0},{"$f":"R108","v":0},{"$f":"Z52","v":0},{"$f":"Z60","v":0},{"$f":"Z68","v":0},{"$f":"Z76","v":0},{"$f":"Z84","v":0},{"$f":"Z92","v":0},{"$f":"Z100","v":0},{"$f":"Z108","v":0},{"$f":"AH52","v":0},{"$f":"AH60","v":0},{"$f":"AH68","v":0},{"$f":"AH76","v":0},{"$f":"AH84","v":0},{"$f":"AH92","v":0},{"$f":"AH100","v":0},{"$f":"AH108","v":0},{"$f":"AP52","v":0},{"$f":"AP60","v":0},{"$f":"AP68","v":0},{"$f":"AP76","v":0},{"$f":"AP84","v":0},{"$f":"AP92","v":0},{"$f":"AP100","v":0}]
[null,null,null,{"$f":"$R$53","v":0},{"$f":"$R$61","v":0},{"$f":"R69","v":0},{"$f":"R77","v":0},{"$f":"R85","v":0},{"$f":"R93","v":0},{"$f":"R101","v":0},{"$f":"R109","v":0},{"$f":"Z53","v":0},{"$f":"Z61","v":0},{"$f":"Z69","v":0},{"$f":"Z77","v":0},{"$f":"Z85","v":0},{"$f":"Z93","v":0},{"$f":"Z101","v":0},{"$f":"Z109","v":0},{"$f":"AH53","v":0},{"$f":"AH61","v":0},{"$f":"AH69","v":0},{"$f":"AH77","v":0},{"$f":"AH85","v":0},{"$f":"AH93","v":0},{"$f":"AH101","v":0},{"$f":"AH109","v":0},{"$f":"AP53","v":0},{"$f":"AP61","v":0},{"$f":"AP69","v":0},{"$f":"AP77","v":0},{"$f":"AP85","v":0},{"$f":"AP93","v":0},{"$f":"AP101","v":0},{"$f":"IFERROR(INT(AVERAGE(V149:AZ152))& \"/\"&INT(AVERAGE(V153:AZ156)),\"平均\")","v":"平均"}]
[null,"食事箋",null,{"$f":"IF(COUNTIF('6月'!D36:AH36,\"*\"),INDEX('6月'!D36:AH36,MATCH(\"\",'6月'!D36:AH36,-1)),\"\")","v":""}]
[null,"形　態",null,{"$f":"IF(COUNTIF('6月'!D37:AH37,\"*\"),INDEX('6月'!D37:AH37,MATCH(\"\",'6月'!D37:AH37,-1)),\"\")","v":""}]
[null,"身　長",null,{"$f":"IF(COUNT('6月'!D38:AH38),LOOKUP(MAX('6月'!D38:AH38)+1,'6月'!D38:AH38),\"\")","v":""},null,null,null,null,null,null,null,null,null,null,null,null,null,null,null,null,null,null,null,null,null,null,null,null,null,null,null,null,null,null,"BMI"]
[null,"体　重",null,null,null,null,null,null,null,null,null,null,null,null,null,null,null,null,null,null,null,null,null,null,null,null,null,null,null,null,null,null,null,null,{"$f":"IF(ISERROR(INDEX(D39:AH39,MATCH(307,D39:AH39))/(INDEX(D38:AH38,MATCH(9E+307,D38:AH38))/100)^2)=TRUE,\"\",INDEX(D39:AH39,MATCH(307,D39:AH39))/(INDEX(D38:AH38,MATCH(9E+307,D38:AH38))/100)^2)","v":""}]
[null,"Ｉ　Ｎ",null,null,null,null,null,null,null,null,null,null,null,null,null,null,null,null,null,null,null,null,null,null,null,null,null,null,null,null,null,null,null,null,{"$f":"IFERROR(INT(AVERAGE(D40:AH40)),\"平均\")","v":"平均"}]
[null,"ＯＵＴ",null,null,null,null,null,null,null,null,null,null,null,null,null,null,null,null,null,null,null,null,null,null,null,null,null,null,null,null,null,null,null,null,{"$f":"IFERROR(INT(AVERAGE(D41:AH41)),\"平均\")","v":"平均"}]
[null,"生　理",null,null,null,null,null,null,null,null,null,null,null,null,null,null,null,null,null,null,null,null,null,null,null,null,null,null,null,null,null,null,null,null,{"$f":"IF(ISERROR(IF(H132-MATCH(\"*\",D42:AH42,0)=0,\"0日目\",IF(H133=J1,IF(ISERROR(H132-MATCH(\"*\",D42:AH42,0)),\"日数\",H132-MATCH(\"*\",D42:AH42,0)),\"日数\"))),\"日数\",(IF(H132-MATCH(\"*\",D42:AH42,0)=0,\"0日目\",IF(H133=J1,IF(ISERROR(H132-MATCH(\"*\",D42:AH42,0)),\"日数\",H132-MATCH(\"*\",D42:AH42,0)),\"日数\"))))","v":"日数"}]
[null,null,null,null,null,null,null,null,null,null,null,null,null,null,null,null,null,null,null,null,null,null,null,null,null,null,null,null,null,null,null,null,null,null,{"$f":"COUNTA(D43:AH43)","v":0}]
[null,null,null,null,null,null,null,null,null,null,null,null,null,null,null,null,null,null,null,null,null,null,null,null,null,null,null,null,null,null,null,null,null,null,{"$f":"COUNTA(D44:AH44)","v":0}]
[null,"日　付",null,1,2,3,4,5,6,7,8,9,10,11,12,13,14,15,16,17,18,19,20,21,22,23,24,25,26,27,28,29,30,31]
[]
[null,{"$f":"$P$3","v":"新体温表 - バックアップ９１ー"},null,null,null,null,null,{"$f":"YEAR(I47)","v":2016},{"$f":"TODAY()","v":"2016-06-08"},{"$f":"TODAY()","v":42529},null,{"$f":"NOW()","v":42529.688973263888}]
[null,"平常時記入",null,null,null,null,null,null,null,null,null,"熱発時記入"]
[null,"日","時間","T",null," P","BP",null,"便",null,null,"日","時間",null,"T",null,"P","BP",null,"日","時間",null,"T",null,"P","BP",null,"日","時間",null,"T",null,"P","BP",null,"日","時間",null,"T",null,"P","BP"]
[null,1,"09:00:00",null,null,null,null,null,null,null,null,1,null,null,null,null,null,null,null,9,null,null,null,null,null,null,null,17,null,null,null,null,null,null,null,25]
[null,2,"09:00:00",null,null,null,null,null,null,null,null,null,"09:00:00",null,{"$f":"IF($D$50=\"\",NA(),$D$50)","v":{"$error":"#N/A"}},null,{"$f":"IF($F$50=\"\",NA(),$F$50)","v":{"$error":"#N/A"}},{"$f":"IF($G$50=\"\",NA(),$G$50)","v":{"$error":"#N/A"}},null,null,"09:00:00",null,{"$f":"IF($D$58=\"\",NA(),$D$58)","v":{"$error":"#N/A"}},null,{"$f":"IF($F$58=\"\",NA(),$F$58)","v":{"$error":"#N/A"}},{"$f":"IF($G$58=\"\",NA(),$G$58)","v":{"$error":"#N/A"}},null,null,"09:00:00",null,{"$f":"IF($D$66=\"\",NA(),$D$66)","v":{"$error":"#N/A"}},null,{"$f":"IF($F$66=\"\",NA(),$F$66)","v":{"$error":"#N/A"}},{"$f":"IF($G$66=\"\",NA(),$G$66)","v":{"$error":"#N/A"}},null,null,"09:00:00",null,{"$f":"IF($D$74=\"\",NA(),$D$74)","v":{"$error":"#N/A"}},null,{"$f":"IF($F$74=\"\",NA(),$F$74)","v":{"$error":"#N/A"}},{"$f":"IF($G$74=\"\",NA(),$G$74)","v":{"$error":"#N/A"}}]
[null,3,"09:00:00",null,null,null,null,null,null,"☆"]
[null,4,"09:00:00"]
[null,5,"09:00:00",null,null,null,null,null,null,"コ"]
[null,6,"09:00:00",null,null,null,null,null,null,"ス"]
[null,7,"09:00:00",null,null,null,null,null,null,"モ"]
[null,8,"09:00:00",null,null,null,null,null,null,"ス"]
[null,9,"09:00:00",null,null,null,null,null,null,"へ",null,2,null,null,null,null,null,null,null,10,null,null,null,null,null,null,null,18,null,null,null,null,null,null,null,26]
[null,10,"09:00:00",null,null,null,null,null,null,"戻",null,null,"09:00:00",null,{"$f":"IF($D$51=\"\",NA(),$D$51)","v":{"$error":"#N/A"}},null,{"$f":"IF($F$51=\"\",NA(),$F$51)","v":{"$error":"#N/A"}},{"$f":"IF($G$51=\"\",NA(),$G$51)","v":{"$error":"#N/A"}},null,null,"09:00:00",null,{"$f":"IF($D$59=\"\",NA(),$D$59)","v":{"$error":"#N/A"}},null,{"$f":"IF($F$59=\"\",NA(),$F$59)","v":{"$error":"#N/A"}},{"$f":"IF($G$59=\"\",NA(),$G$59)","v":{"$error":"#N/A"}},null,null,"09:00:00",null,{"$f":"IF($D$67=\"\",NA(),$D$67)","v":{"$error":"#N/A"}},null,{"$f":"IF($F$67=\"\",NA(),$F$67)","v":{"$error":"#N/A"}},{"$f":"IF($G$67=\"\",NA(),$G$67)","v":{"$error":"#N/A"}},null,null,"09:00:00",null,{"$f":"IF($D$75=\"\",NA(),$D$75)","v":{"$error":"#N/A"}},null,{"$f":"IF($F$75=\"\",NA(),$F$75)","v":{"$error":"#N/A"}},{"$f":"IF($G$75=\"\",NA(),$G$75)","v":{"$error":"#N/A"}}]
[null,11,"09:00:00",null,null,null,null,null,null,"る"]
[null,12,"09:00:00"]
[null,13,"09:00:00"]
[null,14,"09:00:00",null,null,null,null,null,null,"（"]
[null,15,"09:00:00",null,null,null,null,null,null,"選"]
[null,16,"09:00:00",null,null,null,null,null,null,"択"]
[null,17,"09:00:00",null,null,null,null,null,null,"す",null,3,null,null,null,null,null,null,null,11,null,null,null,null,null,null,null,19,null,null,null,null,null,null,null,27]
[null,18,"09:00:00",null,null,null,null,null,null,"る",null,null,"09:00:00",null,{"$f":"IF($D$52=\"\",NA(),$D$52)","v":{"$error":"#N/A"}},null,{"$f":"IF($F$52=\"\",NA(),$F$52)","v":{"$error":"#N/A"}},{"$f":"IF($G$52=\"\",NA(),$G$52)","v":{"$error":"#N/A"}},null,null,"09:00:00",null,{"$f":"IF($D$60=\"\",NA(),$D$60)","v":{"$error":"#N/A"}},null,{"$f":"IF($F$60=\"\",NA(),$F$60)","v":{"$error":"#N/A"}},{"$f":"IF($G$60=\"\",NA(),$G$60)","v":{"$error":"#N/A"}},null,null,"09:00:00",null,{"$f":"IF($D$68=\"\",NA(),$D$68)","v":{"$error":"#N/A"}},null,{"$f":"IF($F$68=\"\",NA(),$F$68)","v":{"$error":"#N/A"}},{"$f":"IF($G$68=\"\",NA(),$G$68)","v":{"$error":"#N/A"}},null,null,"09:00:00",null,{"$f":"IF($D$76=\"\",NA(),$D$76)","v":{"$error":"#N/A"}},null,{"$f":"IF($F$76=\"\",NA(),$F$76)","v":{"$error":"#N/A"}},{"$f":"IF($G$76=\"\",NA(),$G$76)","v":{"$error":"#N/A"}}]
[null,19,"09:00:00",null,null,null,null,null,null,"だ"]
[null,20,"09:00:00",null,null,null,null,null,null,"け"]
[null,21,"09:00:00",null,null,null,null,null,null,"で"]
[null,22,"09:00:00",null,null,null,null,null,null,"移"]
[null,23,"09:00:00",null,null,null,null,null,null,"動"]
[null,24,"09:00:00",null,null,null,null,null,null,"し"]
[null,25,"09:00:00",null,null,null,null,null,null,"ま",null,4,null,null,null,null,null,null,null,12,null,null,null,null,null,null,null,20,null,null,null,null,null,null,null,28]
[null,26,"09:00:00",null,null,null,null,null,null,"す",null,null,"09:00:00",null,{"$f":"IF($D$53=\"\",NA(),$D$53)","v":{"$error":"#N/A"}},null,{"$f":"IF($F$53=\"\",NA(),$F$53)","v":{"$error":"#N/A"}},{"$f":"IF($G$53=\"\",NA(),$G$53)","v":{"$error":"#N/A"}},null,null,"09:00:00",null,{"$f":"IF($D$61=\"\",NA(),$D$61)","v":{"$error":"#N/A"}},null,{"$f":"IF($F$61=\"\",NA(),$F$61)","v":{"$error":"#N/A"}},{"$f":"IF($G$61=\"\",NA(),$G$61)","v":{"$error":"#N/A"}},null,null,"09:00:00",null,{"$f":"IF($D$69=\"\",NA(),$D$69)","v":{"$error":"#N/A"}},null,{"$f":"IF($F$69=\"\",NA(),$F$69)","v":{"$error":"#N/A"}},{"$f":"IF($G$69=\"\",NA(),$G$69)","v":{"$error":"#N/A"}},null,null,"09:00:00",null,{"$f":"IF($D$77=\"\",NA(),$D$77)","v":{"$error":"#N/A"}},null,{"$f":"IF($F$77=\"\",NA(),$F$77)","v":{"$error":"#N/A"}},{"$f":"IF($G$77=\"\",NA(),$G$77)","v":{"$error":"#N/A"}}]
[null,27,"09:00:00",null,null,null,null,null,null,"）"]
[null,28,"09:00:00"]
[null,29,"09:00:00"]
[null,30,"09:00:00"]
[null,31,"09:00:00"]
[]
[null,null,null,null,null,null,null,null,null,null,null,5,null,null,null,null,null,null,null,13,null,null,null,null,null,null,null,21,null,null,null,null,null,null,null,29]
[null,null,null,null,null,null,null,null,null,null,null,null,"09:00:00",null,{"$f":"IF($D$54=\"\",NA(),$D$54)","v":{"$error":"#N/A"}},null,{"$f":"IF($F$54=\"\",NA(),$F$54)","v":{"$error":"#N/A"}},{"$f":"IF($G$54=\"\",NA(),$G$54)","v":{"$error":"#N/A"}},null,null,"09:00:00",null,{"$f":"IF($D$62=\"\",NA(),$D$62)","v":{"$error":"#N/A"}},null,{"$f":"IF($F$62=\"\",NA(),$F$62)","v":{"$error":"#N/A"}},{"$f":"IF($G$62=\"\",NA(),$G$62)","v":{"$error":"#N/A"}},null,null,"09:00:00",null,{"$f":"IF($D$70=\"\",NA(),$D$70)","v":{"$error":"#N/A"}},null,{"$f":"IF($F$70=\"\",NA(),$F$70)","v":{"$error":"#N/A"}},{"$f":"IF($G$70=\"\",NA(),$G$70)","v":{"$error":"#N/A"}},null,null,"09:00:00",null,{"$f":"IF($D$78=\"\",NA(),$D$78)","v":{"$error":"#N/A"}},null,{"$f":"IF($F$78=\"\",NA(),$F$78)","v":{"$error":"#N/A"}},{"$f":"IF($G$78=\"\",NA(),$G$78)","v":{"$error":"#N/A"}}]
[]
[]
[]
[]
[]
[]
[null,null,null,null,null,null,null,null,null,null,null,6,null,null,null,null,null,null,null,14,null,null,null,null,null,null,null,22,null,null,null,null,null,null,null,30]
[null,null,null,null,null,null,null,null,null,null,null,null,"09:00:00",null,{"$f":"IF($D$55=\"\",NA(),$D$55)","v":{"$error":"#N/A"}},null,{"$f":"IF($F$55=\"\",NA(),$F$55)","v":{"$error":"#N/A"}},{"$f":"IF($G$55=\"\",NA(),$G$55)","v":{"$error":"#N/A"}},null,null,"09:00:00",null,{"$f":"IF($D$63=\"\",NA(),$D$63)","v":{"$error":"#N/A"}},null,{"$f":"IF($F$63=\"\",NA(),$F$63)","v":{"$error":"#N/A"}},{"$f":"IF($G$63=\"\",NA(),$G$63)","v":{"$error":"#N/A"}},null,null,"09:00:00",null,{"$f":"IF($D$71=\"\",NA(),$D$71)","v":{"$error":"#N/A"}},null,{"$f":"IF($F$71=\"\",NA(),$F$71)","v":{"$error":"#N/A"}},{"$f":"IF($G$71=\"\",NA(),$G$71)","v":{"$error":"#N/A"}},null,null,"09:00:00",null,{"$f":"IF($D$79=\"\",NA(),$D$79)","v":{"$error":"#N/A"}},null,{"$f":"IF($F$79=\"\",NA(),$F$79)","v":{"$error":"#N/A"}},{"$f":"IF($G$79=\"\",NA(),$G$79)","v":{"$error":"#N/A"}}]
[]
[]
[]
[]
[]
[]
[null,null,null,null,null,null,null,null,null,null,null,7,null,null,null,null,null,null,null,15,null,null,null,null,null,null,null,23,null,null,null,null,null,null,null,31]
[null,null,null,null,null,null,null,null,null,null,null,null,"09:00:00",null,{"$f":"IF($D$56=\"\",NA(),$D$56)","v":{"$error":"#N/A"}},null,{"$f":"IF($F$56=\"\",NA(),$F$56)","v":{"$error":"#N/A"}},{"$f":"IF($G$56=\"\",NA(),$G$56)","v":{"$error":"#N/A"}},null,null,"09:00:00",null,{"$f":"IF($D$64=\"\",NA(),$D$64)","v":{"$error":"#N/A"}},null,{"$f":"IF($F$64=\"\",NA(),$F$64)","v":{"$error":"#N/A"}},{"$f":"IF($G$64=\"\",NA(),$G$64)","v":{"$error":"#N/A"}},null,null,"09:00:00",null,{"$f":"IF($D$72=\"\",NA(),$D$72)","v":{"$error":"#N/A"}},null,{"$f":"IF($F$72=\"\",NA(),$F$72)","v":{"$error":"#N/A"}},{"$f":"IF($G$72=\"\",NA(),$G$72)","v":{"$error":"#N/A"}},null,null,"09:00:00",null,{"$f":"IF($D$80=\"\",NA(),$D$80)","v":{"$error":"#N/A"}},null,{"$f":"IF($F$80=\"\",NA(),$F$80)","v":{"$error":"#N/A"}},{"$f":"IF($G$80=\"\",NA(),$G$80)","v":{"$error":"#N/A"}}]
[]
[]
[]
[]
[]
[]
[null,null,null,null,null,null,null,null,null,null,null,8,null,null,null,null,null,null,null,16,null,null,null,null,null,null,null,24]
[null,null,null,null,null,null,null,null,null,null,null,null,"09:00:00",null,{"$f":"IF($D$57=\"\",NA(),$D$57)","v":{"$error":"#N/A"}},null,{"$f":"IF($F$57=\"\",NA(),$F$57)","v":{"$error":"#N/A"}},{"$f":"IF($G$57=\"\",NA(),$G$57)","v":{"$error":"#N/A"}},null,null,"09:00:00",null,{"$f":"IF($D$65=\"\",NA(),$D$65)","v":{"$error":"#N/A"}},null,{"$f":"IF($F$65=\"\",NA(),$F$65)","v":{"$error":"#N/A"}},{"$f":"IF($G$65=\"\",NA(),$G$65)","v":{"$error":"#N/A"}},null,null,"09:00:00",null,{"$f":"IF($D$73=\"\",NA(),$D$73)","v":{"$error":"#N/A"}},null,{"$f":"IF($F$73=\"\",NA(),$F$73)","v":{"$error":"#N/A"}},{"$f":"IF($G$73=\"\",NA(),$G$73)","v":{"$error":"#N/A"}}]
[]
[]
[]
[]
[]
[]
[]
[]
[]
[]
[]
[]
[]
[]
[]
[]
[]
[]
[]
[]
[]
[null,null,"Enterで入力画面へ"]
[null,null,"ｶｰｿﾙ初期位置",null,null,null,"日付チェック",null,null,null,"バイタルコピー"]
["管理欄",null,"入力に入る",null,null,null,"今日",{"$f":"NOW()","v":"2016-06-08T16:32:07.290"},null,null,{"$f":"IF($D$74=\"\",NA(),$D$74)","v":{"$error":"#N/A"}},null,{"$f":"IF($F$74=\"\",NA(),$F$74)","v":{"$error":"#N/A"}},{"$f":"IF($G$74=\"\",NA(),$G$74)","v":{"$error":"#N/A"}},null,{"$f":"K131&M131&N131","v":{"$error":"#N/A"}}]
[null,null,null,null,null,null,"日",{"$f":"DAY(H131)","v":8},null,null,null,null,null,null,null,"",null,null,null,null,"シンラック"]
[null,null,null,null,null,null,"月",{"$f":"MONTH(H131)","v":6},null,null,null,null,null,null,null,"",null,null,null,null,"なし"]
[null,null,null,null,null,null,"年",{"$f":"YEAR(H131)","v":2016},null,null,null,null,null,null,null,""]
[null,null,null,null,null,null,"時",{"$f":"HOUR(H131)","v":16},null,null,null,null,null,null,null,""]
[null,null,null,null,null,null,null,null,null,null,null,null,null,null,null,"",null,null,null,null,"Link",{"$f":"IF(ISERROR(VALUE(D29)),\"\",VALUE(D29))","v":0},0,0,0,0,0,0,0,0,0,0,0,0,0,0,0,0,0,0,0,0,0,0,0,0,0,0,0,{"$f":"IF(ISERROR(VALUE(AF29)),\"\",VALUE(AF29))","v":0},{"$f":"IF(ISERROR(VALUE(AG29)),\"\",VALUE(AG29))","v":0},0]
[null,null,null,null,null,null,null,null,null,null,null,null,null,null,null,"",null,null,null,null,null,"",0,0,0,0,0,0,0,0,0,0,0,0,0,0,0,0,0,0,0,0,0,0,0,0,0,0,0,{"$f":"IF(ISERROR(VALUE(AF30)),\"\",VALUE(AF30))","v":0},0,0]
[null,null,null,null,null,null,null,null,null,null,null,null,null,null,null,"",null,null,null,null,null,0,0,0,0,0,0,0,0,0,0,0,0,0,0,0,0,0,0,0,0,0,0,0,0,0,0,0,0,{"$f":"IF(ISERROR(VALUE(AF31)),\"\",VALUE(AF31))","v":0},0,0]
[null,null,null,null,null,null,null,null,null,null,null,null,null,null,null,""]
[null,null,null,null,null,null,null,null,null,null,null,null,null,null,null,null,null,null,null,null,"食事平均",null,null,null,null,null,null,null,null,null,null,null,null,{"$f":"AC140&AE140&AF140","v":""}]
[null,null,null,null,null,null,null,null,null,null,null,null,null,null,null,null,null,null,null,null,"左",{"$f":"IF(D25=\"\", \"\", LEFT(D25,SEARCH(\"/\",D25,1)-1)*1)","v":""},"","","","","","","","","",{"$f":"IF(N25=\"\", \"\", LEFT(N25,SEARCH(\"/\",N25,1)-1)*1)","v":""},"","","","","","","","","",{"$f":"IF(X25=\"\", \"\", LEFT(X25,SEARCH(\"/\",X25,1)-1)*1)","v":""},"","","","","","","","","",{"$f":"IF(AH25=\"\", \"\", LEFT(AH25,SEARCH(\"/\",AH25,1)-1)*1)","v":""}]
[null,null,null,null,null,null,null,null,null,null,null,null,null,null,null,null,null,null,null,null,null,"","","","","","","","","","","","","","","","","","","","","","","","","","","","","","",""]
[null,null,null,null,null,null,null,null,null,null,null,null,null,null,null,null,null,null,null,null,null,"","","","","","","","","","","","","","","","","","","","","","","","","","","","","","",""]
[null,null,null,null,null,null,null,null,null,null,null,null,null,null,null,null,null,null,null,null,"右",{"$f":"IF(D25=\"\", \"\", RIGHT(D25,LEN(D25)-FIND(\"/\",D25,1))*1)","v":""},"","","","","","","","","",{"$f":"IF(N25=\"\", \"\", RIGHT(N25,LEN(N25)-FIND(\"/\",N25,1))*1)","v":""},"","","","","","","","","",{"$f":"IF(X25=\"\", \"\", RIGHT(X25,LEN(X25)-FIND(\"/\",X25,1))*1)","v":""},"","","","","","","","","",{"$f":"IF(AH25=\"\", \"\", RIGHT(AH25,LEN(AH25)-FIND(\"/\",AH25,1))*1)","v":""}]
[null,null,null,null,null,null,null,null,null,null,null,null,null,null,null,null,null,null,null,null,null,"","","","","","","","","","","","","","","","","","","","","","","","","","","","","","",""]
[null,null,null,null,null,null,null,null,null,null,null,null,null,null,null,null,null,null,null,null,null,"","","","","","","","","","","","","","","","","","","","","","","","","","","","","","",""]
[null,null,null,null,null,null,null,null,null,null,null,null,null,null,null,null,null,null,null,null,null,null,null,null,null,null,null,null,null,null,null,null,null,{"$f":"AC147&AE147&AF147","v":""}]
[null,null,null,null,null,null,null,null,null,null,null,null,null,null,null,null,null,null,null,null,"BP平均",null,null,null,null,null,null,null,null,null,null,null,null,{"$f":"AC148&AE148&AF148","v":""}]
[null,null,null,null,null,null,null,null,null,null,null,null,null,null,null,null,null,null,null,null,"左",{"$f":"IF(ISERROR(LEFT(D32,SEARCH(\"/\",D32,1)-1)*1),\"\",LEFT(D32,SEARCH(\"/\",D32,1)-1)*1)","v":""},"","","","","","","","","",{"$f":"IF(ISERROR(LEFT(N32,SEARCH(\"/\",N32,1)-1)*1),\"\",LEFT(N32,SEARCH(\"/\",N32,1)-1)*1)","v":""},"","","","","","","","","",{"$f":"IF(ISERROR(LEFT(X32,SEARCH(\"/\",X32,1)-1)*1),\"\",LEFT(X32,SEARCH(\"/\",X32,1)-1)*1)","v":""},"","","","","","","","","",{"$f":"IF(ISERROR(LEFT(AH32,SEARCH(\"/\",AH32,1)-1)*1),\"\",LEFT(AH32,SEARCH(\"/\",AH32,1)-1)*1)","v":""}]
[null,null,null,null,null,null,null,null,null,null,null,null,null,null,null,null,null,null,null,null,null,"","","","","","","","","","","","","","","","","","","","","","","","","","","","","","",""]
[null,null,null,null,null,null,null,null,null,null,null,null,null,null,null,null,null,null,null,null,null,"","","","","","","","","","","","","","","","","","","","","","","","","","","","","","",""]
[null,null,null,null,null,null,null,null,null,null,null,null,null,null,null,null,null,null,null,null,null,"","","","","","","","","","","","","","","","","","","","","","","","","","","","","","",""]
[null,null,null,null,null,null,null,null,null,null,null,null,null,null,null,null,null,null,null,null,"右",{"$f":"IF(ISERROR(RIGHT(D32,LEN(D32)-FIND(\"/\",D32,1))*1),\"\",RIGHT(D32,LEN(D32)-FIND(\"/\",D32,1))*1)","v":""},"","","","","","","","","",{"$f":"IF(ISERROR(RIGHT(N32,LEN(N32)-FIND(\"/\",N32,1))*1),\"\",RIGHT(N32,LEN(N32)-FIND(\"/\",N32,1))*1)","v":""},"","","","","","","","","",{"$f":"IF(ISERROR(RIGHT(X32,LEN(X32)-FIND(\"/\",X32,1))*1),\"\",RIGHT(X32,LEN(X32)-FIND(\"/\",X32,1))*1)","v":""},"","","","","","","","","",{"$f":"IF(ISERROR(RIGHT(AH32,LEN(AH32)-FIND(\"/\",AH32,1))*1),\"\",RIGHT(AH32,LEN(AH32)-FIND(\"/\",AH32,1))*1)","v":""}]
[null,null,null,null,null,null,null,null,null,null,null,null,null,null,null,null,null,null,null,null,null,"","","","","","","","","","","","","","","","","","","","","","","","","","","","","","",""]
[null,null,null,null,null,null,null,null,null,null,null,null,null,null,null,null,null,null,null,null,null,"","","","","","","","","","","","","","","","","","","","","","","","","","","","","","",""]
[null,null,null,null,null,null,null,null,null,null,null,null,null,null,null,null,null,null,null,null,null,"","","","","","","","","","","","","","","","","","","","","","","","","","","","","","",""]
[null,null,null,null,null,null,null,null,null,null,null,null,null,null,null,""]
[null,null,null,null,null,null,null,null,null,null,null,null,null,null,null,""]
[null,null,null,null,null,null,null,null,null,null,null,null,null,null,null,""]
[null,null,null,null,null,null,null,null,null,null,null,null,null,null,null,""]
[null,null,null,null,null,null,null,null,null,null,null,null,null,null,null,{"$f":"K161&M161&N161","v":""}]

{"sheet":"8月","index":7,"n_rows":161,"n_cols":52,"rows_kept":161,"cut":false,"hidden":false,"merged":[[48,41,48,42],[102,12,102,13],[110,12,110,13],[109,12,109,13],[106,12,106,13],[103,12,103,13],[104,12,104,13],[110,25,110,26],[110,28,110,29],[110,30,110,31],[110,33,110,34],[109,25,109,26],[109,28,109,29],[109,30,109,31],[107,30,107,31],[106,14,106,15],[106,17,106,18],[105,14,105,15],[105,17,105,18],[107,33,107,34],[104,20,104,21],[104,36,104,37],[104,22,104,23],[104,25,104,26],[112,33,112,34],[129,2,129,4],[129,6,129,8],[112,25,112,26],[112,28,112,29],[112,30,112,31],[111,12,111,13],[111,14,111,15],[111,25,111,26],[111,28,111,29],[111,30,111,31],[111,33,111,34],[105,27,112,27],[105,28,105,29],[109,33,109,34],[108,17,108,18],[108,20,108,21],[106,25,106,26],[105,33,105,34],[106,28,106,29],[108,33,108,34],[106,33,106,34],[106,20,106,21],[106,22,106,23],[49,3,49,4],[49,6,49,7],[108,30,108,31],[130,0,132,0],[130,2,130,4],[130,7,130,8],[105,11,112,11],[105,12,105,13],[107,12,107,13],[108,12,108,13],[108,14,108,15],[129,10,129,12],[112,22,112,23],[112,12,112,13],[112,14,112,15],[112,17,112,18],[112,20,112,21],[111,17,111,18],[111,20,111,21],[111,22,111,23],[105,30,105,31],[109,17,109,18],[109,20,109,21],[109,22,109,23],[104,28,104,29],[104,30,104,31],[104,38,104,39],[104,33,104,34],[106,30,106,31],[105,22,105,23],[105,25,105,26],[130,10,130,11],[130,13,130,14],[109,14,109,15],[107,28,107,29],[110,14,110,15],[110,17,110,18],[110,20,110,21],[107,17,107,18],[108,22,108,23],[108,25,108,26],[108,28,108,29],[107,20,107,21],[107,22,107,23],[107,14,107,15],[105,19,112,19],[105,20,105,21],[110,22,110,23],[107,25,107,26],[103,41,103,42],[104,41,104,42],[103,30,103,31],[103,33,103,34],[103,36,103,37],[103,38,103,39],[103,14,103,15],[103,17,103,18],[103,20,103,21],[97,35,104,35],[97,36,97,37],[97,38,97,39],[97,41,97,42],[98,36,98,37],[98,38,98,39],[98,41,98,42],[99,36,99,37],[102,33,102,34],[102,14,102,15],[102,17,102,18],[102,20,102,21],[103,22,103,23],[103,25,103,26],[103,28,103,29],[102,36,102,37],[102,38,102,39],[102,41,102,42],[102,22,102,23],[102,25,102,26],[102,28,102,29],[102,30,102,31],[101,33,101,34],[101,36,101,37],[101,38,101,39],[101,41,101,42],[101,22,101,23],[101,25,101,26],[101,28,101,29],[101,30,101,31],[97,27,104,27],[97,28,97,29],[100,33,100,34],[100,36,100,37],[100,22,100,23],[100,25,100,26],[100,28,100,29],[100,30,100,31],[100,38,100,39],[100,41,100,42],[101,20,101,21],[99,38,99,39],[99,41,99,42],[97,33,97,34],[98,28,98,29],[98,30,98,31],[98,33,98,34],[99,33,99,34],[97,30,97,31],[99,28,99,29],[99,30,99,31],[97,22,97,23],[97,25,97,26],[98,20,98,21],[98,22,98,23],[98,25,98,26],[99,20,99,21],[99,22,99,23],[99,25,99,26],[97,11,104,11],[97,12,97,13],[97,14,97,15],[97,17,97,18],[98,12,98,13],[98,14,98,15],[98,17,98,18],[99,12,99,13],[99,14,99,15],[99,17,99,18],[104,14,104,15],[104,17,104,18],[96,36,96,37],[96,38,96,39],[96,41,96,42],[96,22,96,23],[96,25,96,26],[96,28,96,29],[96,30,96,31],[96,12,96,13],[96,14,96,15],[96,17,96,18],[96,20,96,21],[89,11,96,11],[100,12,100,13],[100,14,100,15],[100,17,100,18],[100,20,100,21],[97,19,104,19],[97,20,97,21],[101,12,101,13],[101,14,101,15],[101,17,101,18],[95,12,95,13],[95,14,95,15],[95,17,95,18],[95,20,95,21],[94,12,94,13],[94,14,94,15],[94,17,94,18],[94,20,94,21],[89,14,89,15],[89,17,89,18],[90,12,90,13],[90,14,90,15],[90,17,90,18],[91,12,91,13],[95,38,95,39],[95,41,95,42],[95,22,95,23],[95,25,95,26],[95,28,95,29],[95,30,95,31],[94,33,94,34],[94,36,94,37],[94,38,94,39],[94,41,94,42],[94,22,94,23],[94,25,94,26],[94,28,94,29],[94,30,94,31],[95,36,95,37],[91,14,91,15],[91,17,91,18],[93,33,93,34],[93,36,93,37],[93,12,93,13],[93,14,93,15],[93,17,93,18],[93,20,93,21],[93,38,93,39],[92,17,92,18],[92,20,92,21],[92,12,92,13],[92,14,92,15],[93,41,93,42],[93,22,93,23],[93,25,93,26],[93,28,93,29],[93,30,93,31],[92,33,92,34],[92,36,92,37],[92,38,92,39],[92,41,92,42],[89,35,96,35],[89,36,89,37],[89,38,89,39],[89,41,89,42],[90,36,90,37],[90,38,90,39],[92,22,92,23],[92,25,92,26],[90,41,90,42],[91,36,91,37],[91,38,91,39],[91,41,91,42],[90,22,90,23],[90,25,90,26],[89,33,89,34],[90,28,90,29],[90,30,90,31],[90,33,90,34],[91,33,91,34],[89,19,96,19],[89,20,89,21],[89,22,89,23],[89,25,89,26],[90,20,90,21],[91,20,91,21],[91,22,91,23],[92,28,92,29],[92,30,92,31],[89,27,96,27],[89,28,89,29],[89,30,89,31],[91,28,91,29],[91,30,91,31],[91,25,91,26],[95,33,95,34],[96,33,96,34],[88,41,88,42],[88,22,88,23],[88,25,88,26],[88,28,88,29],[88,30,88,31],[88,12,88,13],[88,14,88,15],[88,17,88,18],[88,20,88,21],[87,12,87,13],[87,14,87,15],[87,17,87,18],[87,20,87,21],[87,38,87,39],[87,41,87,42],[87,22,87,23],[87,25,87,26],[87,28,87,29],[87,30,87,31],[86,41,86,42],[85,36,85,37],[85,38,85,39],[85,41,85,42],[85,33,85,34],[86,12,86,13],[86,14,86,15],[86,17,86,18],[86,20,86,21],[86,22,86,23],[86,25,86,26],[86,28,86,29],[85,12,85,13],[85,14,85,15],[85,17,85,18],[85,20,85,21],[85,22,85,23],[85,25,85,26],[85,28,85,29],[81,30,81,31],[86,30,86,31],[85,30,85,31],[83,33,83,34],[86,33,86,34],[86,36,86,37],[86,38,86,39],[88,33,88,34],[88,36,88,37],[88,38,88,39],[82,33,82,34],[82,30,82,31],[84,33,84,34],[87,33,87,34],[87,36,87,37],[83,20,83,21],[83,22,83,23],[83,25,83,26],[83,28,83,29],[83,30,83,31],[82,20,82,21],[82,22,82,23],[83,41,83,42],[84,12,84,13],[84,14,84,15],[84,17,84,18],[84,20,84,21],[84,22,84,23],[84,25,84,26],[84,28,84,29],[84,30,84,31],[84,38,84,39],[82,25,82,26],[82,28,82,29],[84,41,84,42],[78,41,78,42],[79,3,79,4],[79,6,79,7],[79,12,79,13],[79,14,79,15],[79,17,79,18],[79,41,79,42],[79,20,79,21],[79,22,79,23],[79,25,79,26],[79,28,79,29],[78,30,78,31],[78,33,78,34],[79,30,79,31],[79,33,79,34],[78,20,78,21],[81,41,81,42],[82,12,82,13],[82,14,82,15],[82,17,82,18],[81,33,81,34],[81,35,88,35],[81,36,81,37],[81,38,81,39],[82,36,82,37],[82,38,82,39],[83,36,83,37],[83,38,83,39],[84,36,84,37],[81,20,81,21],[81,22,81,23],[81,25,81,26],[81,27,88,27],[81,28,81,29],[81,17,81,18],[81,19,88,19],[82,41,82,42],[83,12,83,13],[83,14,83,15],[83,17,83,18],[76,41,76,42],[75,41,75,42],[76,17,76,18],[76,20,76,21],[80,41,80,42],[73,41,73,42],[74,30,74,31],[75,30,75,31],[76,30,76,31],[77,28,77,29],[77,30,77,31],[74,25,74,26],[74,28,74,29],[73,25,73,26],[80,36,80,37],[80,28,80,29],[80,30,80,31],[80,33,80,34],[80,38,80,39],[73,27,80,27],[74,20,74,21],[74,22,74,23],[74,41,74,42],[78,17,78,18],[73,28,73,29],[73,30,73,31],[78,28,78,29],[75,22,75,23],[75,25,75,26],[75,28,75,29],[76,22,76,23],[73,36,73,37],[73,38,73,39],[74,33,74,34],[74,36,74,37],[74,38,74,39],[75,33,75,34],[75,36,75,37],[75,38,75,39],[73,33,73,34],[73,35,80,35],[73,22,73,23],[78,36,78,37],[78,38,78,39],[78,22,78,23],[78,25,78,26],[77,38,77,39],[77,36,77,37],[76,36,76,37],[76,38,76,39],[80,22,80,23],[80,25,80,26],[79,36,79,37],[79,38,79,39],[77,33,77,34],[76,33,76,34],[76,25,76,26],[76,28,76,29],[77,17,77,18],[75,14,75,15],[75,17,75,18],[75,20,75,21],[76,3,76,4],[76,6,76,7],[76,12,76,13],[76,14,76,15],[75,3,75,4],[75,6,75,7],[73,19,80,19],[73,20,73,21],[80,12,80,13],[80,14,80,15],[80,17,80,18],[80,20,80,21],[72,3,72,4],[72,6,72,7],[72,12,72,13],[72,14,72,15],[72,17,72,18],[72,41,72,42],[71,17,71,18],[72,20,72,21],[72,22,72,23],[72,25,72,26],[72,28,72,29],[71,30,71,31],[71,20,71,21],[71,22,71,23],[72,30,72,31],[71,36,71,37],[71,38,71,39],[72,36,72,37],[72,38,72,39],[77,41,77,42],[73,3,73,4],[73,6,73,7],[73,11,80,11],[73,12,73,13],[73,14,73,15],[73,17,73,18],[78,3,78,4],[78,6,78,7],[78,12,78,13],[78,14,78,15],[77,20,77,21],[77,22,77,23],[77,25,77,26],[75,12,75,13],[74,3,74,4],[74,6,74,7],[74,12,74,13],[74,14,74,15],[74,17,74,18],[77,3,77,4],[77,6,77,7],[77,12,77,13],[77,14,77,15],[70,41,70,42],[71,33,71,34],[70,33,70,34],[69,36,69,37],[69,38,69,39],[69,41,69,42],[70,3,70,4],[70,6,70,7],[70,12,70,13],[70,14,70,15],[70,17,70,18],[70,20,70,21],[70,22,70,23],[71,25,71,26],[71,28,71,29],[70,28,70,29],[71,41,71,42],[68,36,68,37],[68,38,68,39],[65,27,72,27],[65,36,65,37],[65,38,65,39],[66,33,66,34],[66,36,66,37],[66,38,66,39],[65,33,65,34],[65,35,72,35],[67,33,67,34],[68,33,68,34],[70,36,70,37],[70,38,70,39],[69,33,69,34],[72,33,72,34],[68,28,68,29],[67,30,67,31],[69,30,69,31],[65,28,65,29],[69,28,69,29],[66,28,66,29],[68,30,68,31],[70,30,70,31],[64,22,64,23],[64,25,64,26],[65,3,65,4],[65,6,65,7],[65,11,72,11],[65,12,65,13],[65,14,65,15],[65,17,65,18],[71,3,71,4],[71,6,71,7],[71,12,71,13],[71,14,71,15],[68,12,68,13],[68,14,68,15],[68,17,68,18],[68,20,68,21],[68,22,68,23],[68,25,68,26],[65,19,72,19],[65,20,65,21],[65,22,65,23],[66,25,66,26],[69,25,69,26],[70,25,70,26],[67,22,67,23],[67,25,67,26],[67,28,67,29],[67,36,67,37],[67,38,67,39],[65,41,65,42],[66,3,66,4],[66,6,66,7],[66,12,66,13],[66,14,66,15],[66,17,66,18],[66,20,66,21],[66,22,66,23],[66,30,66,31],[65,25,65,26],[65,30,65,31],[60,3,60,4],[58,3,58,4],[58,17,58,18],[58,20,58,21],[58,22,58,23],[64,30,64,31],[68,41,68,42],[69,3,69,4],[69,6,69,7],[69,12,69,13],[69,14,69,15],[69,17,69,18],[69,20,69,21],[69,22,69,23],[67,41,67,42],[68,3,68,4],[68,6,68,7],[66,41,66,42],[67,3,67,4],[67,6,67,7],[67,12,67,13],[67,14,67,15],[67,17,67,18],[67,20,67,21],[63,12,63,13],[63,14,63,15],[62,3,62,4],[62,6,62,7],[62,12,62,13],[62,14,62,15],[61,3,61,4],[61,6,61,7],[63,36,63,37],[61,12,61,13],[54,25,54,26],[54,38,54,39],[58,14,58,15],[61,38,61,39],[62,30,62,31],[61,33,61,34],[54,36,54,37],[58,33,58,34],[58,36,58,37],[60,33,60,34],[52,38,52,39],[51,20,51,21],[51,22,51,23],[53,22,53,23],[62,22,62,23],[50,38,50,39],[49,33,49,34],[62,36,62,37],[55,25,55,26],[57,30,57,31],[58,30,58,31],[59,30,59,31],[60,30,60,31],[58,38,58,39],[59,38,59,39],[59,28,59,29],[56,25,56,26],[55,30,55,31],[56,28,56,29],[56,30,56,31],[56,33,56,34],[54,30,54,31],[53,38,53,39],[56,20,56,21],[64,20,64,21],[55,6,55,7],[55,12,55,13],[55,14,55,15],[55,17,55,18],[55,20,55,21],[55,22,55,23],[60,22,60,23],[62,38,62,39],[61,22,61,23],[61,17,61,18],[60,6,60,7],[60,12,60,13],[60,14,60,15],[57,38,57,39],[57,33,57,34],[59,20,59,21],[59,22,59,23],[56,12,56,13],[58,25,58,26],[63,30,63,31],[63,33,63,34],[56,14,56,15],[56,17,56,18],[55,41,55,42],[57,35,64,35],[57,36,57,37],[49,35,56,35],[51,41,51,42],[53,25,53,26],[56,38,56,39],[55,33,55,34],[55,36,55,37],[52,41,52,42],[51,36,51,37],[51,38,51,39],[54,41,54,42],[62,41,62,42],[60,41,60,42],[61,36,61,37],[64,41,64,42],[57,41,57,42],[60,36,60,37],[61,41,61,42],[63,41,63,42],[58,41,58,42],[64,33,64,34],[64,36,64,37],[59,41,59,42],[62,33,62,34],[60,38,60,39],[57,25,57,26],[57,27,64,27],[57,28,57,29],[61,28,61,29],[61,25,61,26],[62,25,62,26],[59,36,59,37],[64,28,64,29],[64,38,64,39],[63,38,63,39],[40,1,40,2],[41,1,41,2],[48,25,48,26],[48,28,48,29],[48,3,48,4],[48,6,48,7],[51,25,51,26],[51,28,51,29],[55,3,55,4],[47,1,47,9],[47,11,47,18],[47,19,47,26],[47,27,47,34],[48,20,48,21],[48,30,48,31],[48,33,48,34],[42,1,42,2],[43,1,43,2],[44,1,44,2],[46,1,46,5],[49,22,49,23],[53,20,53,21],[55,28,55,29],[49,12,49,13],[57,3,57,4],[57,6,57,7],[57,11,64,11],[57,12,57,13],[57,14,57,15],[57,17,57,18],[57,19,64,19],[56,3,56,4],[56,6,56,7],[59,6,59,7],[59,12,59,13],[59,14,59,15],[59,3,59,4],[49,11,56,11],[53,3,53,4],[58,6,58,7],[58,12,58,13],[64,17,64,18],[64,3,64,4],[64,6,64,7],[64,12,64,13],[64,14,64,15],[63,3,63,4],[63,6,63,7],[49,36,49,37],[56,41,56,42],[56,36,56,37],[48,38,48,39],[52,3,52,4],[52,6,52,7],[52,12,52,13],[52,14,52,15],[52,17,52,18],[52,20,52,21],[51,3,51,4],[51,6,51,7],[51,12,51,13],[51,14,51,15],[49,41,49,42],[50,3,50,4],[50,6,50,7],[50,12,50,13],[50,41,50,42],[49,38,49,39],[50,36,50,37],[55,38,55,39],[53,41,53,42],[48,17,48,18],[39,1,39,2],[54,28,54,29],[54,3,54,4],[54,6,54,7],[54,12,54,13],[54,14,54,15],[0,1,0,2],[0,5,0,6],[1,1,1,3],[1,4,1,6],[1,10,1,13],[1,14,1,15],[1,16,1,21],[2,10,3,11],[2,12,3,13],[2,15,3,21],[31,1,34,2],[35,1,35,2],[36,1,36,2],[37,1,37,2],[38,1,38,2],[28,1,30,2],[0,25,0,34],[53,6,53,7],[18,1,18,2],[19,1,19,2],[20,1,20,2],[21,1,22,2],[16,1,16,2],[17,1,17,2],[2,1,3,3],[1,7,1,9],[13,37,13,40],[4,37,4,40],[5,37,9,40],[10,37,10,40],[11,37,11,40],[12,37,12,40],[2,25,2,30],[3,25,3,30],[1,23,1,24],[2,23,3,24],[1,25,1,31],[1,32,1,34],[2,32,3,34],[23,1,23,2],[27,1,27,2],[53,36,53,37],[48,22,48,23],[48,36,48,37],[24,1,26,2],[52,33,52,34],[52,36,52,37],[50,20,50,21],[50,22,50,23],[50,25,50,26],[52,22,52,23],[52,25,52,26],[52,28,52,29],[48,12,48,13],[48,14,48,15],[51,33,51,34],[49,25,49,26],[49,27,56,27],[49,28,49,29],[49,30,49,31],[50,30,50,31],[51,30,51,31],[49,20,49,21],[53,28,53,29],[53,30,53,31],[50,28,50,29],[58,28,58,29],[60,25,60,26],[61,14,61,15],[50,14,50,15],[50,17,50,18],[49,19,56,19],[54,17,54,18],[51,17,51,18],[53,17,53,18],[61,30,61,31],[60,17,60,18],[60,20,60,21],[60,28,60,29],[59,25,59,26],[49,14,49,15],[49,17,49,18],[61,20,61,21],[57,20,57,21],[56,22,56,23],[54,20,54,21],[54,22,54,23],[160,10,160,11],[160,13,160,14],[147,28,147,29],[147,31,147,32],[139,31,139,32],[131,10,131,11],[131,13,131,14],[132,10,132,11],[132,13,132,14],[133,10,133,11],[133,13,133,14],[134,10,134,11],[134,13,134,14],[135,10,135,11],[135,13,135,14],[136,10,136,11],[136,13,136,14],[137,10,137,11],[137,13,137,14],[81,11,88,11],[81,12,81,13],[81,14,81,15],[89,12,89,13],[50,33,50,34],[138,10,138,11],[138,13,138,14],[139,28,139,29],[53,33,53,34],[54,33,54,34],[53,12,53,13],[53,14,53,15],[59,33,59,34],[57,22,57,23],[63,25,63,26],[63,28,63,29],[62,28,62,29],[62,17,62,18],[62,20,62,21],[59,17,59,18],[63,17,63,18],[63,20,63,21],[63,22,63,23],[52,30,52,31]]}
[null,"体温表",null,null,null,{"$f":"設定!$F$7","v":2017},null,"年",null,8,"月",null,null,null,null,null,null,null,null,null,null,null,null,null,null,"伊都の丘病院"]
[null,"カルテ番号",null,null,"病棟",null,null,"入院形態",null,null,"主治医",null,null,null,"　姓名",null,{"$f":"'7月'!$Q$2","v":0},null,null,null,null,null,null,"性別",null,"生年月日　",null,null,null,null,null,null,"担当Ns"]
[null,{"$f":"'7月'!B3","v":0},null,null,{"$f":"IF(COUNTIF('7月'!E3:G3,\"*\"),INDEX('7月'!E3:G3,MATCH(\"\",'7月'!E3:G3,-1)),\"\")","v":""},null,null,{"$f":"IF(COUNTIF('7月'!H3:J3,\"*\"),INDEX('7月'!H3:J3,MATCH(\"\",'7月'!H3:J3,-1)),\"\")","v":""},null,null,{"$f":"IF(COUNTIF('7月'!K3:M3,\"*\"),INDEX('7月'!K3:M3,MATCH(\"\",'7月'!K3:M3,-1)),\"\")","v":""},null,null,null,null,{"$f":"'7月'!$P$3","v":"新体温表 - バックアップ９１ー"},null,null,null,null,null,null,null,{"$f":"'7月'!$X$3","v":0},null,{"$f":"'7月'!$Z$3","v":"ここに生年月日を記入"},null,null,null,null,null,{"$f":"IF(ISERROR(DATEDIF(Z3,DATE(設定!F7,8,31),\"Y\"))=TRUE,\"\",DATEDIF(Z3,DATE(設定!F7,8,31),\"Y\"))","v":""},{"$f":"'7月'!$AG$3","v":0}]
[null,null,null,null,"/","/","/","/","/","/",null,null,null,null,null,null,null,null,null,null,null,null,null,null,null,{"$f":"SUBSTITUTE(Z3,\"ここに生年月日を記入\",\"\")","v":""},null,null,null,null,null,"歳"]
[null,null,null,null,null,null,null,null,null,null,null,null,null,null,null,null,null,null,null,null,null,null,null,null,null,null,null,null,null,null,null,null,null,null,null,null,null,{"$f":"設定!C11","v":"便利ボタン"}]
[]
[]
[]
[]
[]
[]
[null,null,null,null,null,null,null,null,null,null,null,null,null,null,null,null,null,null,null,null,null,null,null,null,null,null,null,null,null,null,null,null,null,null,null,null,null,{"$f":"設定!C18","v":" ※自動保存されます"}]
[null,null,null,null,null,null,null,null,null,null,null,null,null,null,null,null,null,null,null,null,null,null,null,null,null,null,null,null,null,null,null,null,null,null,null,null,null,{"$f":"設定!C19","v":0}]
[null,null,null,null,null,null,null,null,null,null,null,null,null,null,null,null,null,null,null,null,null,null,null,null,null,null,null,null,null,null,null,null,null,null,null,null,null,{"$f":"設定!C20","v":0}]
[]
[]
[null,"日　付",null,1,2,3,4,5,6,7,8,9,10,11,12,13,14,15,16,17,18,19,20,21,22,23,24,25,26,27,28,29,30,31,"統計"]
[null,"行　動"]
[null,"時　間"]
[null,"行　動"]
[null,"時　間",null,null,null,null,null,null,null,null,null,null,null,null,null,null,null,null,null,null,null,null,null,null,null,null,null,null,null,null,null,null,null,null,{"$f":"IF(COUNTIF(D18:AH21,\"外出\")+COUNTIF(D18:AH21,\"外泊\")=0,\"回数\",COUNTIF(D18:AH21,\"外出\")+COUNTIF(D18:AH21,\"外泊\"))","v":"回数"}]
[null,"面　会"]
[null,null,null,null,null,null,null,null,null,null,null,null,null,null,null,null,null,null,null,null,null,null,null,null,null,null,null,null,null,null,null,null,null,null,{"$f":"IF(COUNTA(D22:AH22)=0,\"回数\",COUNTA(D22:AH22))","v":"回数"}]
[null,"入　浴",null,null,null,null,null,null,null,null,null,null,null,null,null,null,null,null,null,null,null,null,null,null,null,null,null,null,null,null,null,null,null,null,{"$f":"IF(COUNTA(D24:AH24)=0,\"回数\",COUNTA(D24:AH24))","v":"回数"}]
[null,"食　事"]
[]
[null,null,null,null,null,null,null,null,null,null,null,null,null,null,null,null,null,null,null,null,null,null,null,null,null,null,null,null,null,null,null,null,null,null,{"$f":"IFERROR(INT(AVERAGE(V141:AZ143))& \"/\"&INT(AVERAGE(V144:AZ146)),\"平均\")","v":"平均"}]
[null,"便　通",null,{"$f":"IF(ISBLANK(I50),\"\",I50)","v":""},{"$f":"IF(ISBLANK(I51),\"\",I51)","v":""},{"$f":"IF(ISBLANK(I52),\"\",I52)","v":""},{"$f":"IF(ISBLANK(I53),\"\",I53)","v":""},{"$f":"IF(ISBLANK(I54),\"\",I54)","v":""},{"$f":"IF(ISBLANK(I55),\"\",I55)","v":""},{"$f":"IF(ISBLANK(I56),\"\",I56)","v":""},{"$f":"IF(ISBLANK(I57),\"\",I57)","v":""},{"$f":"IF(ISBLANK(I58),\"\",I58)","v":""},{"$f":"IF(ISBLANK(I59),\"\",I59)","v":""},{"$f":"IF(ISBLANK(I60),\"\",I60)","v":""},{"$f":"IF(ISBLANK(I61),\"\",I61)","v":""},{"$f":"IF(ISBLANK(I62),\"\",I62)","v":""},{"$f":"IF(ISBLANK(I63),\"\",I63)","v":""},{"$f":"IF(ISBLANK(I64),\"\",I64)","v":""},{"$f":"IF(ISBLANK(I65),\"\",I65)","v":""},{"$f":"IF(ISBLANK(I66),\"\",I66)","v":""},{"$f":"IF(ISBLANK(I67),\"\",I67)","v":""},{"$f":"IF(ISBLANK(I68),\"\",I68)","v":""},{"$f":"IF(ISBLANK(I69),\"\",I69)","v":""},{"$f":"IF(ISBLANK(I70),\"\",I70)","v":""},{"$f":"IF(ISBLANK(I71),\"\",I71)","v":""},{"$f":"IF(ISBLANK(I72),\"\",I72)","v":""},{"$f":"IF(ISBLANK(I73),\"\",I73)","v":""},{"$f":"IF(ISBLANK(I74),\"\",I74)","v":""},{"$f":"IF(ISBLANK(I75),\"\",I75)","v":""},{"$f":"IF(ISBLANK(I76),\"\",I76)","v":""},{"$f":"IF(ISBLANK(I77),\"\",I77)","v":""},{"$f":"IF(ISBLANK(I78),\"\",I78)","v":""},{"$f":"IF(ISBLANK(I79),\"\",I79)","v":""},{"$f":"IF(ISBLANK(I80),\"\",I80)","v":""},{"$f":"IF(COUNTIF(D28:AH28,0)=0,\"回数\",COUNTIF(D28:AH28,0))","v":"回数"}]
[null,"便処置"]
[null,null,null,"　",null,null,null,null,null,null,null,null,null,null,null,null,null,null,null,null,null,null,null,null,null,null,null,null,null,null,null,null,null,null,{"$f":"IF(SUM(V136:AZ138)=0,\"滴数\",SUM(V136:AZ138))","v":"滴数"}]
[null,null,null,null,null,null,null,null,null,null,null,null,null,null,null,null,null,null,null,null,null,null,null,null,null,null,null,null,null,null,null,null,null,null,{"$f":"IF(AI30=\"滴数\",\"本数\",AI30/150)","v":"本数"}]
[null,"血　圧",null,{"$f":"$R$50","v":0},{"$f":"$R$58","v":0},{"$f":"R66","v":0},{"$f":"R74","v":0},{"$f":"R82","v":0},{"$f":"R90","v":0},{"$f":"R98","v":0},{"$f":"R106","v":0},{"$f":"Z50","v":0},{"$f":"Z58","v":0},{"$f":"Z66","v":0},{"$f":"Z74","v":0},{"$f":"Z82","v":0},{"$f":"Z90","v":0},{"$f":"Z98","v":0},{"$f":"Z106","v":0},{"$f":"AH50","v":0},{"$f":"AH58","v":0},{"$f":"AH66","v":0},{"$f":"AH74","v":0},{"$f":"AH82","v":0},{"$f":"AH90","v":0},{"$f":"AH98","v":0},{"$f":"AH106","v":0},{"$f":"AP50","v":0},{"$f":"AP58","v":0},{"$f":"AP66","v":0},{"$f":"AP74","v":0},{"$f":"AP82","v":0},{"$f":"AP90","v":0},{"$f":"AP98","v":0}]
[null,null,null,{"$f":" IF(ISERROR($R$51),\"\",($R$51))","v":""},{"$f":" IF(ISERROR($R$59),\"\",($R$59))","v":""},{"$f":" IF(ISERROR($R$67),\"\",($R$67))","v":""},{"$f":" IF(ISERROR($R$75),\"\",($R$75))","v":""},{"$f":" IF(ISERROR($R$83),\"\",($R$83))","v":""},{"$f":" IF(ISERROR($R$91),\"\",($R$91))","v":""},{"$f":" IF(ISERROR($R$99),\"\",($R$99))","v":""},{"$f":" IF(ISERROR($R$107),\"\",($R$107))","v":""},{"$f":" IF(ISERROR($Z$51),\"\",($Z$51))","v":""},{"$f":" IF(ISERROR($Z$59),\"\",($Z$59))","v":""},{"$f":" IF(ISERROR($Z$67),\"\",($Z$67))","v":""},{"$f":" IF(ISERROR($Z$75),\"\",($Z$75))","v":""},{"$f":" IF(ISERROR($Z$83),\"\",($Z$83))","v":""},{"$f":" IF(ISERROR($Z$91),\"\",($Z$91))","v":""},{"$f":" IF(ISERROR($Z$99),\"\",($Z$99))","v":""},{"$f":" IF(ISERROR($Z$107),\"\",($Z$107))","v":""},{"$f":" IF(ISERROR($AH$51),\"\",($AH$51))","v":""},{"$f":" IF(ISERROR($AH$59),\"\",($AH$59))","v":""},{"$f":" IF(ISERROR($AH$67),\"\",($AH$67))","v":""},{"$f":" IF(ISERROR($AH$75),\"\",($AH$75))","v":""},{"$f":" IF(ISERROR($AH$83),\"\",($AH$83))","v":""},{"$f":" IF(ISERROR($AH$91),\"\",($AH$91))","v":""},{"$f":" IF(ISERROR($AH$99),\"\",($AH$99))","v":""},{"$f":" IF(ISERROR($AH$107),\"\",($AH$107))","v":""},{"$f":" IF(ISERROR($AP$51),\"\",($AP$51))","v":""},{"$f":" IF(ISERROR($AP$59),\"\",($AP$59))","v":""},{"$f":" IF(ISERROR($AP$67),\"\",($AP$67))","v":""},{"$f":" IF(ISERROR($AP$75),\"\",($AP$75))","v":""},{"$f":" IF(ISERROR($AP$83),\"\",($AP$83))","v":""},{"$f":" IF(ISERROR($AP$91),\"\",($AP$91))","v":""},{"$f":" IF(ISERROR($AP$99),\"\",($AP$99))","v":""}]
[null,null,null,{"$f":"$R$52","v":0},{"$f":"$R$60","v":0},{"$f":"R68","v":0},{"$f":"R76","v":0},{"$f":"R84","v":0},{"$f":"R92","v":0},{"$f":"R100","v":0},{"$f":"R108","v":0},{"$f":"Z52","v":0},{"$f":"Z60","v":0},{"$f":"Z68","v":0},{"$f":"Z76","v":0},{"$f":"Z84","v":0},{"$f":"Z92","v":0},{"$f":"Z100","v":0},{"$f":"Z108","v":0},{"$f":"AH52","v":0},{"$f":"AH60","v":0},{"$f":"AH68","v":0},{"$f":"AH76","v":0},{"$f":"AH84","v":0},{"$f":"AH92","v":0},{"$f":"AH100","v":0},{"$f":"AH108","v":0},{"$f":"AP52","v":0},{"$f":"AP60","v":0},{"$f":"AP68","v":0},{"$f":"AP76","v":0},{"$f":"AP84","v":0},{"$f":"AP92","v":0},{"$f":"AP100","v":0}]
[null,null,null,{"$f":"$R$53","v":0},{"$f":"$R$61","v":0},{"$f":"R69","v":0},{"$f":"R77","v":0},{"$f":"R85","v":0},{"$f":"R93","v":0},{"$f":"R101","v":0},{"$f":"R109","v":0},{"$f":"Z53","v":0},{"$f":"Z61","v":0},{"$f":"Z69","v":0},{"$f":"Z77","v":0},{"$f":"Z85","v":0},{"$f":"Z93","v":0},{"$f":"Z101","v":0},{"$f":"Z109","v":0},{"$f":"AH53","v":0},{"$f":"AH61","v":0},{"$f":"AH69","v":0},{"$f":"AH77","v":0},{"$f":"AH85","v":0},{"$f":"AH93","v":0},{"$f":"AH101","v":0},{"$f":"AH109","v":0},{"$f":"AP53","v":0},{"$f":"AP61","v":0},{"$f":"AP69","v":0},{"$f":"AP77","v":0},{"$f":"AP85","v":0},{"$f":"AP93","v":0},{"$f":"AP101","v":0},{"$f":"IFERROR(INT(AVERAGE(V149:AZ152))& \"/\"&INT(AVERAGE(V153:AZ156)),\"平均\")","v":"平均"}]
[null,"食事箋",null,{"$f":"IF(COUNTIF('7月'!D36:AH36,\"*\"),INDEX('7月'!D36:AH36,MATCH(\"\",'7月'!D36:AH36,-1)),\"\")","v":""}]
[null,"形　態",null,{"$f":"IF(COUNTIF('7月'!D37:AH37,\"*\"),INDEX('7月'!D37:AH37,MATCH(\"\",'7月'!D37:AH37,-1)),\"\")","v":""}]
[null,"身　長",null,{"$f":"IF(COUNT('7月'!D38:AH38),LOOKUP(MAX('7月'!D38:AH38)+1,'7月'!D38:AH38),\"\")","v":""},null,null,null,null,null,null,null,null,null,null,null,null,null,null,null,null,null,null,null,null,null,null,null,null,null,null,null,null,null,null,"BMI"]
[null,"体　重",null,null,null,null,null,null,null,null,null,null,null,null,null,null,null,null,null,null,null,null,null,null,null,null,null,null,null,null,null,null,null,null,{"$f":"IF(ISERROR(INDEX(D39:AH39,MATCH(307,D39:AH39))/(INDEX(D38:AH38,MATCH(9E+307,D38:AH38))/100)^2)=TRUE,\"\",INDEX(D39:AH39,MATCH(307,D39:AH39))/(INDEX(D38:AH38,MATCH(9E+307,D38:AH38))/100)^2)","v":""}]
[null,"Ｉ　Ｎ",null,null,null,null,null,null,null,null,null,null,null,null,null,null,null,null,null,null,null,null,null,null,null,null,null,null,null,null,null,null,null,null,{"$f":"IFERROR(INT(AVERAGE(D40:AH40)),\"平均\")","v":"平均"}]
[null,"ＯＵＴ",null,null,null,null,null,null,null,null,null,null,null,null,null,null,null,null,null,null,null,null,null,null,null,null,null,null,null,null,null,null,null,null,{"$f":"IFERROR(INT(AVERAGE(D41:AH41)),\"平均\")","v":"平均"}]
[null,"生　理",null,null,null,null,null,null,null,null,null,null,null,null,null,null,null,null,null,null,null,null,null,null,null,null,null,null,null,null,null,null,null,null,{"$f":"IF(ISERROR(IF(H132-MATCH(\"*\",D42:AH42,0)=0,\"0日目\",IF(H133=J1,IF(ISERROR(H132-MATCH(\"*\",D42:AH42,0)),\"日数\",H132-MATCH(\"*\",D42:AH42,0)),\"日数\"))),\"日数\",(IF(H132-MATCH(\"*\",D42:AH42,0)=0,\"0日目\",IF(H133=J1,IF(ISERROR(H132-MATCH(\"*\",D42:AH42,0)),\"日数\",H132-MATCH(\"*\",D42:AH42,0)),\"日数\"))))","v":"日数"}]
[null,null,null,null,null,null,null,null,null,null,null,null,null,null,null,null,null,null,null,null,null,null,null,null,null,null,null,null,null,null,null,null,null,null,{"$f":"COUNTA(D43:AH43)","v":0}]
[null,null,null,null,null,null,null,null,null,null,null,null,null,null,null,null,null,null,null,null,null,null,null,null,null,null,null,null,null,null,null,null,null,null,{"$f":"COUNTA(D44:AH44)","v":0}]
[null,"日　付",null,1,2,3,4,5,6,7,8,9,10,11,12,13,14,15,16,17,18,19,20,21,22,23,24,25,26,27,28,29,30,31]
[]
[null,{"$f":"$P$3","v":"新体温表 - バックアップ９１ー"},null,null,null,null,null,{"$f":"YEAR(I47)","v":2016},{"$f":"TODAY()","v":"2016-06-08"},{"$f":"TODAY()","v":42529},null,{"$f":"NOW()","v":42529.688973263888}]
[null,"平常時記入",null,null,null,null,null,null,null,null,null,"熱発時記入"]
[null,"日","時間","T",null," P","BP",null,"便",null,null,"日","時間",null,"T",null,"P","BP",null,"日","時間",null,"T",null,"P","BP",null,"日","時間",null,"T",null,"P","BP",null,"日","時間",null,"T",null,"P","BP"]
[null,1,"09:00:00",null,null,null,null,null,null,null,null,1,null,null,null,null,null,null,null,9,null,null,null,null,null,null,null,17,null,null,null,null,null,null,null,25]
[null,2,"09:00:00",null,null,null,null,null,null,null,null,null,"09:00:00",null,{"$f":"IF($D$50=\"\",NA(),$D$50)","v":{"$error":"#N/A"}},null,{"$f":"IF($F$50=\"\",NA(),$F$50)","v":{"$error":"#N/A"}},{"$f":"IF($G$50=\"\",NA(),$G$50)","v":{"$error":"#N/A"}},null,null,"09:00:00",null,{"$f":"IF($D$58=\"\",NA(),$D$58)","v":{"$error":"#N/A"}},null,{"$f":"IF($F$58=\"\",NA(),$F$58)","v":{"$error":"#N/A"}},{"$f":"IF($G$58=\"\",NA(),$G$58)","v":{"$error":"#N/A"}},null,null,"09:00:00",null,{"$f":"IF($D$66=\"\",NA(),$D$66)","v":{"$error":"#N/A"}},null,{"$f":"IF($F$66=\"\",NA(),$F$66)","v":{"$error":"#N/A"}},{"$f":"IF($G$66=\"\",NA(),$G$66)","v":{"$error":"#N/A"}},null,null,"09:00:00",null,{"$f":"IF($D$74=\"\",NA(),$D$74)","v":{"$error":"#N/A"}},null,{"$f":"IF($F$74=\"\",NA(),$F$74)","v":{"$error":"#N/A"}},{"$f":"IF($G$74=\"\",NA(),$G$74)","v":{"$error":"#N/A"}}]
[null,3,"09:00:00",null,null,null,null,null,null,"☆"]
[null,4,"09:00:00"]
[null,5,"09:00:00",null,null,null,null,null,null,"コ"]
[null,6,"09:00:00",null,null,null,null,null,null,"ス"]
[null,7,"09:00:00",null,null,null,null,null,null,"モ"]
[null,8,"09:00:00",null,null,null,null,null,null,"ス"]
[null,9,"09:00:00",null,null,null,null,null,null,"へ",null,2,null,null,null,null,null,null,null,10,null,null,null,null,null,null,null,18,null,null,null,null,null,null,null,26]
[null,10,"09:00:00",null,null,null,null,null,null,"戻",null,null,"09:00:00",null,{"$f":"IF($D$51=\"\",NA(),$D$51)","v":{"$error":"#N/A"}},null,{"$f":"IF($F$51=\"\",NA(),$F$51)","v":{"$error":"#N/A"}},{"$f":"IF($G$51=\"\",NA(),$G$51)","v":{"$error":"#N/A"}},null,null,"09:00:00",null,{"$f":"IF($D$59=\"\",NA(),$D$59)","v":{"$error":"#N/A"}},null,{"$f":"IF($F$59=\"\",NA(),$F$59)","v":{"$error":"#N/A"}},{"$f":"IF($G$59=\"\",NA(),$G$59)","v":{"$error":"#N/A"}},null,null,"09:00:00",null,{"$f":"IF($D$67=\"\",NA(),$D$67)","v":{"$error":"#N/A"}},null,{"$f":"IF($F$67=\"\",NA(),$F$67)","v":{"$error":"#N/A"}},{"$f":"IF($G$67=\"\",NA(),$G$67)","v":{"$error":"#N/A"}},null,null,"09:00:00",null,{"$f":"IF($D$75=\"\",NA(),$D$75)","v":{"$error":"#N/A"}},null,{"$f":"IF($F$75=\"\",NA(),$F$75)","v":{"$error":"#N/A"}},{"$f":"IF($G$75=\"\",NA(),$G$75)","v":{"$error":"#N/A"}}]
[null,11,"09:00:00",null,null,null,null,null,null,"る"]
[null,12,"09:00:00"]
[null,13,"09:00:00"]
[null,14,"09:00:00",null,null,null,null,null,null,"（"]
[null,15,"09:00:00",null,null,null,null,null,null,"選"]
[null,16,"09:00:00",null,null,null,null,null,null,"択"]
[null,17,"09:00:00",null,null,null,null,null,null,"す",null,3,null,null,null,null,null,null,null,11,null,null,null,null,null,null,null,19,null,null,null,null,null,null,null,27]
[null,18,"09:00:00",null,null,null,null,null,null,"る",null,null,"09:00:00",null,{"$f":"IF($D$52=\"\",NA(),$D$52)","v":{"$error":"#N/A"}},null,{"$f":"IF($F$52=\"\",NA(),$F$52)","v":{"$error":"#N/A"}},{"$f":"IF($G$52=\"\",NA(),$G$52)","v":{"$error":"#N/A"}},null,null,"09:00:00",null,{"$f":"IF($D$60=\"\",NA(),$D$60)","v":{"$error":"#N/A"}},null,{"$f":"IF($F$60=\"\",NA(),$F$60)","v":{"$error":"#N/A"}},{"$f":"IF($G$60=\"\",NA(),$G$60)","v":{"$error":"#N/A"}},null,null,"09:00:00",null,{"$f":"IF($D$68=\"\",NA(),$D$68)","v":{"$error":"#N/A"}},null,{"$f":"IF($F$68=\"\",NA(),$F$68)","v":{"$error":"#N/A"}},{"$f":"IF($G$68=\"\",NA(),$G$68)","v":{"$error":"#N/A"}},null,null,"09:00:00",null,{"$f":"IF($D$76=\"\",NA(),$D$76)","v":{"$error":"#N/A"}},null,{"$f":"IF($F$76=\"\",NA(),$F$76)","v":{"$error":"#N/A"}},{"$f":"IF($G$76=\"\",NA(),$G$76)","v":{"$error":"#N/A"}}]
[null,19,"09:00:00",null,null,null,null,null,null,"だ"]
[null,20,"09:00:00",null,null,null,null,null,null,"け"]
[null,21,"09:00:00",null,null,null,null,null,null,"で"]
[null,22,"09:00:00",null,null,null,null,null,null,"移"]
[null,23,"09:00:00",null,null,null,null,null,null,"動"]
[null,24,"09:00:00",null,null,null,null,null,null,"し"]
[null,25,"09:00:00",null,null,null,null,null,null,"ま",null,4,null,null,null,null,null,null,null,12,null,null,null,null,null,null,null,20,null,null,null,null,null,null,null,28]
[null,26,"09:00:00",null,null,null,null,null,null,"す",null,null,"09:00:00",null,{"$f":"IF($D$53=\"\",NA(),$D$53)","v":{"$error":"#N/A"}},null,{"$f":"IF($F$53=\"\",NA(),$F$53)","v":{"$error":"#N/A"}},{"$f":"IF($G$53=\"\",NA(),$G$53)","v":{"$error":"#N/A"}},null,null,"09:00:00",null,{"$f":"IF($D$61=\"\",NA(),$D$61)","v":{"$error":"#N/A"}},null,{"$f":"IF($F$61=\"\",NA(),$F$61)","v":{"$error":"#N/A"}},{"$f":"IF($G$61=\"\",NA(),$G$61)","v":{"$error":"#N/A"}},null,null,"09:00:00",null,{"$f":"IF($D$69=\"\",NA(),$D$69)","v":{"$error":"#N/A"}},null,{"$f":"IF($F$69=\"\",NA(),$F$69)","v":{"$error":"#N/A"}},{"$f":"IF($G$69=\"\",NA(),$G$69)","v":{"$error":"#N/A"}},null,null,"09:00:00",null,{"$f":"IF($D$77=\"\",NA(),$D$77)","v":{"$error":"#N/A"}},null,{"$f":"IF($F$77=\"\",NA(),$F$77)","v":{"$error":"#N/A"}},{"$f":"IF($G$77=\"\",NA(),$G$77)","v":{"$error":"#N/A"}}]
[null,27,"09:00:00",null,null,null,null,null,null,"）"]
[null,28,"09:00:00"]
[null,29,"09:00:00"]
[null,30,"09:00:00"]
[null,31,"09:00:00"]
[]
[null,null,null,null,null,null,null,null,null,null,null,5,null,null,null,null,null,null,null,13,null,null,null,null,null,null,null,21,null,null,null,null,null,null,null,29]
[null,null,null,null,null,null,null,null,null,null,null,null,"09:00:00",null,{"$f":"IF($D$54=\"\",NA(),$D$54)","v":{"$error":"#N/A"}},null,{"$f":"IF($F$54=\"\",NA(),$F$54)","v":{"$error":"#N/A"}},{"$f":"IF($G$54=\"\",NA(),$G$54)","v":{"$error":"#N/A"}},null,null,"09:00:00",null,{"$f":"IF($D$62=\"\",NA(),$D$62)","v":{"$error":"#N/A"}},null,{"$f":"IF($F$62=\"\",NA(),$F$62)","v":{"$error":"#N/A"}},{"$f":"IF($G$62=\"\",NA(),$G$62)","v":{"$error":"#N/A"}},null,null,"09:00:00",null,{"$f":"IF($D$70=\"\",NA(),$D$70)","v":{"$error":"#N/A"}},null,{"$f":"IF($F$70=\"\",NA(),$F$70)","v":{"$error":"#N/A"}},{"$f":"IF($G$70=\"\",NA(),$G$70)","v":{"$error":"#N/A"}},null,null,"09:00:00",null,{"$f":"IF($D$78=\"\",NA(),$D$78)","v":{"$error":"#N/A"}},null,{"$f":"IF($F$78=\"\",NA(),$F$78)","v":{"$error":"#N/A"}},{"$f":"IF($G$78=\"\",NA(),$G$78)","v":{"$error":"#N/A"}}]
[]
[]
[]
[]
[]
[]
[null,null,null,null,null,null,null,null,null,null,null,6,null,null,null,null,null,null,null,14,null,null,null,null,null,null,null,22,null,null,null,null,null,null,null,30]
[null,null,null,null,null,null,null,null,null,null,null,null,"09:00:00",null,{"$f":"IF($D$55=\"\",NA(),$D$55)","v":{"$error":"#N/A"}},null,{"$f":"IF($F$55=\"\",NA(),$F$55)","v":{"$error":"#N/A"}},{"$f":"IF($G$55=\"\",NA(),$G$55)","v":{"$error":"#N/A"}},null,null,"09:00:00",null,{"$f":"IF($D$63=\"\",NA(),$D$63)","v":{"$error":"#N/A"}},null,{"$f":"IF($F$63=\"\",NA(),$F$63)","v":{"$error":"#N/A"}},{"$f":"IF($G$63=\"\",NA(),$G$63)","v":{"$error":"#N/A"}},null,null,"09:00:00",null,{"$f":"IF($D$71=\"\",NA(),$D$71)","v":{"$error":"#N/A"}},null,{"$f":"IF($F$71=\"\",NA(),$F$71)","v":{"$error":"#N/A"}},{"$f":"IF($G$71=\"\",NA(),$G$71)","v":{"$error":"#N/A"}},null,null,"09:00:00",null,{"$f":"IF($D$79=\"\",NA(),$D$79)","v":{"$error":"#N/A"}},null,{"$f":"IF($F$79=\"\",NA(),$F$79)","v":{"$error":"#N/A"}},{"$f":"IF($G$79=\"\",NA(),$G$79)","v":{"$error":"#N/A"}}]
[]
[]
[]
[]
[]
[]
[null,null,null,null,null,null,null,null,null,null,null,7,null,null,null,null,null,null,null,15,null,null,null,null,null,null,null,23,null,null,null,null,null,null,null,31]
[null,null,null,null,null,null,null,null,null,null,null,null,"09:00:00",null,{"$f":"IF($D$56=\"\",NA(),$D$56)","v":{"$error":"#N/A"}},null,{"$f":"IF($F$56=\"\",NA(),$F$56)","v":{"$error":"#N/A"}},{"$f":"IF($G$56=\"\",NA(),$G$56)","v":{"$error":"#N/A"}},null,null,"09:00:00",null,{"$f":"IF($D$64=\"\",NA(),$D$64)","v":{"$error":"#N/A"}},null,{"$f":"IF($F$64=\"\",NA(),$F$64)","v":{"$error":"#N/A"}},{"$f":"IF($G$64=\"\",NA(),$G$64)","v":{"$error":"#N/A"}},null,null,"09:00:00",null,{"$f":"IF($D$72=\"\",NA(),$D$72)","v":{"$error":"#N/A"}},null,{"$f":"IF($F$72=\"\",NA(),$F$72)","v":{"$error":"#N/A"}},{"$f":"IF($G$72=\"\",NA(),$G$72)","v":{"$error":"#N/A"}},null,null,"09:00:00",null,{"$f":"IF($D$80=\"\",NA(),$D$80)","v":{"$error":"#N/A"}},null,{"$f":"IF($F$80=\"\",NA(),$F$80)","v":{"$error":"#N/A"}},{"$f":"IF($G$80=\"\",NA(),$G$80)","v":{"$error":"#N/A"}}]
[]
[]
[]
[]
[]
[]
[null,null,null,null,null,null,null,null,null,null,null,8,null,null,null,null,null,null,null,16,null,null,null,null,null,null,null,24]
[null,null,null,null,null,null,null,null,null,null,null,null,"09:00:00",null,{"$f":"IF($D$57=\"\",NA(),$D$57)","v":{"$error":"#N/A"}},null,{"$f":"IF($F$57=\"\",NA(),$F$57)","v":{"$error":"#N/A"}},{"$f":"IF($G$57=\"\",NA(),$G$57)","v":{"$error":"#N/A"}},null,null,"09:00:00",null,{"$f":"IF($D$65=\"\",NA(),$D$65)","v":{"$error":"#N/A"}},null,{"$f":"IF($F$65=\"\",NA(),$F$65)","v":{"$error":"#N/A"}},{"$f":"IF($G$65=\"\",NA(),$G$65)","v":{"$error":"#N/A"}},null,null,"09:00:00",null,{"$f":"IF($D$73=\"\",NA(),$D$73)","v":{"$error":"#N/A"}},null,{"$f":"IF($F$73=\"\",NA(),$F$73)","v":{"$error":"#N/A"}},{"$f":"IF($G$73=\"\",NA(),$G$73)","v":{"$error":"#N/A"}}]
[]
[]
[]
[]
[]
[]
[]
[]
[]
[]
[]
[]
[]
[]
[]
[]
[]
[]
[]
[]
[]
[null,null,"Enterで入力画面へ"]
[null,null,"ｶｰｿﾙ初期位置",null,null,null,"日付チェック",null,null,null,"バイタルコピー"]
["管理欄",null,"入力に入る",null,null,null,"今日",{"$f":"NOW()","v":"2016-06-08T16:32:07.290"},null,null,{"$f":"IF($D$74=\"\",NA(),$D$74)","v":{"$error":"#N/A"}},null,{"$f":"IF($F$74=\"\",NA(),$F$74)","v":{"$error":"#N/A"}},{"$f":"IF($G$74=\"\",NA(),$G$74)","v":{"$error":"#N/A"}},null,{"$f":"K131&M131&N131","v":{"$error":"#N/A"}}]
[null,null,null,null,null,null,"日",{"$f":"DAY(H131)","v":8},null,null,null,null,null,null,null,"",null,null,null,null,"シンラック"]
[null,null,null,null,null,null,"月",{"$f":"MONTH(H131)","v":6},null,null,null,null,null,null,null,"",null,null,null,null,"なし"]
[null,null,null,null,null,null,"年",{"$f":"YEAR(H131)","v":2016},null,null,null,null,null,null,null,""]
[null,null,null,null,null,null,"時",{"$f":"HOUR(H131)","v":16},null,null,null,null,null,null,null,""]
[null,null,null,null,null,null,null,null,null,null,null,null,null,null,null,"",null,null,null,null,"Link",{"$f":"IF(ISERROR(VALUE(D29)),\"\",VALUE(D29))","v":0},0,0,0,0,0,0,0,0,0,0,0,0,0,0,0,0,0,0,0,0,0,0,0,0,0,0,0,{"$f":"IF(ISERROR(VALUE(AF29)),\"\",VALUE(AF29))","v":0},{"$f":"IF(ISERROR(VALUE(AG29)),\"\",VALUE(AG29))","v":0},0]
[null,null,null,null,null,null,null,null,null,null,null,null,null,null,null,"",null,null,null,null,null,"",0,0,0,0,0,0,0,0,0,0,0,0,0,0,0,0,0,0,0,0,0,0,0,0,0,0,0,{"$f":"IF(ISERROR(VALUE(AF30)),\"\",VALUE(AF30))","v":0},0,0]
[null,null,null,null,null,null,null,null,null,null,null,null,null,null,null,"",null,null,null,null,null,0,0,0,0,0,0,0,0,0,0,0,0,0,0,0,0,0,0,0,0,0,0,0,0,0,0,0,0,{"$f":"IF(ISERROR(VALUE(AF31)),\"\",VALUE(AF31))","v":0},0,0]
[null,null,null,null,null,null,null,null,null,null,null,null,null,null,null,""]
[null,null,null,null,null,null,null,null,null,null,null,null,null,null,null,null,null,null,null,null,"食事平均",null,null,null,null,null,null,null,null,null,null,null,null,{"$f":"AC140&AE140&AF140","v":""}]
[null,null,null,null,null,null,null,null,null,null,null,null,null,null,null,null,null,null,null,null,"左",{"$f":"IF(D25=\"\", \"\", LEFT(D25,SEARCH(\"/\",D25,1)-1)*1)","v":""},"","","","","","","","","",{"$f":"IF(N25=\"\", \"\", LEFT(N25,SEARCH(\"/\",N25,1)-1)*1)","v":""},"","","","","","","","","",{"$f":"IF(X25=\"\", \"\", LEFT(X25,SEARCH(\"/\",X25,1)-1)*1)","v":""},"","","","","","","","","",{"$f":"IF(AH25=\"\", \"\", LEFT(AH25,SEARCH(\"/\",AH25,1)-1)*1)","v":""}]
[null,null,null,null,null,null,null,null,null,null,null,null,null,null,null,null,null,null,null,null,null,"","","","","","","","","","","","","","","","","","","","","","","","","","","","","","",""]
[null,null,null,null,null,null,null,null,null,null,null,null,null,null,null,null,null,null,null,null,null,"","","","","","","","","","","","","","","","","","","","","","","","","","","","","","",""]
[null,null,null,null,null,null,null,null,null,null,null,null,null,null,null,null,null,null,null,null,"右",{"$f":"IF(D25=\"\", \"\", RIGHT(D25,LEN(D25)-FIND(\"/\",D25,1))*1)","v":""},"","","","","","","","","",{"$f":"IF(N25=\"\", \"\", RIGHT(N25,LEN(N25)-FIND(\"/\",N25,1))*1)","v":""},"","","","","","","","","",{"$f":"IF(X25=\"\", \"\", RIGHT(X25,LEN(X25)-FIND(\"/\",X25,1))*1)","v":""},"","","","","","","","","",{"$f":"IF(AH25=\"\", \"\", RIGHT(AH25,LEN(AH25)-FIND(\"/\",AH25,1))*1)","v":""}]
[null,null,null,null,null,null,null,null,null,null,null,null,null,null,null,null,null,null,null,null,null,"","","","","","","","","","","","","","","","","","","","","","","","","","","","","","",""]
[null,null,null,null,null,null,null,null,null,null,null,null,null,null,null,null,null,null,null,null,null,"","","","","","","","","","","","","","","","","","","","","","","","","","","","","","",""]
[null,null,null,null,null,null,null,null,null,null,null,null,null,null,null,null,null,null,null,null,null,null,null,null,null,null,null,null,null,null,null,null,null,{"$f":"AC147&AE147&AF147","v":""}]
[null,null,null,null,null,null,null,null,null,null,null,null,null,null,null,null,null,null,null,null,"BP平均",null,null,null,null,null,null,null,null,null,null,null,null,{"$f":"AC148&AE148&AF148","v":""}]
[null,null,null,null,null,null,null,null,null,null,null,null,null,null,null,null,null,null,null,null,"左",{"$f":"IF(ISERROR(LEFT(D32,SEARCH(\"/\",D32,1)-1)*1),\"\",LEFT(D32,SEARCH(\"/\",D32,1)-1)*1)","v":""},"","","","","","","","","",{"$f":"IF(ISERROR(LEFT(N32,SEARCH(\"/\",N32,1)-1)*1),\"\",LEFT(N32,SEARCH(\"/\",N32,1)-1)*1)","v":""},"","","","","","","","","",{"$f":"IF(ISERROR(LEFT(X32,SEARCH(\"/\",X32,1)-1)*1),\"\",LEFT(X32,SEARCH(\"/\",X32,1)-1)*1)","v":""},"","","","","","","","","",{"$f":"IF(ISERROR(LEFT(AH32,SEARCH(\"/\",AH32,1)-1)*1),\"\",LEFT(AH32,SEARCH(\"/\",AH32,1)-1)*1)","v":""}]
[null,null,null,null,null,null,null,null,null,null,null,null,null,null,null,null,null,null,null,null,null,"","","","","","","","","","","","","","","","","","","","","","","","","","","","","","",""]
[null,null,null,null,null,null,null,null,null,null,null,null,null,null,null,null,null,null,null,null,null,"","","","","","","","","","","","","","","","","","","","","","","","","","","","","","",""]
[null,null,null,null,null,null,null,null,null,null,null,null,null,null,null,null,null,null,null,null,null,"","","","","","","","","","","","","","","","","","","","","","","","","","","","","","",""]
[null,null,null,null,null,null,null,null,null,null,null,null,null,null,null,null,null,null,null,null,"右",{"$f":"IF(ISERROR(RIGHT(D32,LEN(D32)-FIND(\"/\",D32,1))*1),\"\",RIGHT(D32,LEN(D32)-FIND(\"/\",D32,1))*1)","v":""},"","","","","","","","","",{"$f":"IF(ISERROR(RIGHT(N32,LEN(N32)-FIND(\"/\",N32,1))*1),\"\",RIGHT(N32,LEN(N32)-FIND(\"/\",N32,1))*1)","v":""},"","","","","","","","","",{"$f":"IF(ISERROR(RIGHT(X32,LEN(X32)-FIND(\"/\",X32,1))*1),\"\",RIGHT(X32,LEN(X32)-FIND(\"/\",X32,1))*1)","v":""},"","","","","","","","","",{"$f":"IF(ISERROR(RIGHT(AH32,LEN(AH32)-FIND(\"/\",AH32,1))*1),\"\",RIGHT(AH32,LEN(AH32)-FIND(\"/\",AH32,1))*1)","v":""}]
[null,null,null,null,null,null,null,null,null,null,null,null,null,null,null,null,null,null,null,null,null,"","","","","","","","","","","","","","","","","","","","","","","","","","","","","","",""]
[null,null,null,null,null,null,null,null,null,null,null,null,null,null,null,null,null,null,null,null,null,"","","","","","","","","","","","","","","","","","","","","","","","","","","","","","",""]
[null,null,null,null,null,null,null,null,null,null,null,null,null,null,null,null,null,null,null,null,null,"","","","","","","","","","","","","","","","","","","","","","","","","","","","","","",""]
[null,null,null,null,null,null,null,null,null,null,null,null,null,null,null,""]
[null,null,null,null,null,null,null,null,null,null,null,null,null,null,null,""]
[null,null,null,null,null,null,null,null,null,null,null,null,null,null,null,""]
[null,null,null,null,null,null,null,null,null,null,null,null,null,null,null,""]
[null,null,null,null,null,null,null,null,null,null,null,null,null,null,null,{"$f":"K161&M161&N161","v":""}]

{"sheet":"9月","index":8,"n_rows":161,"n_cols":52,"rows_kept":161,"cut":false,"hidden":false,"merged":[[147,28,147,29],[147,31,147,32],[160,10,160,11],[160,13,160,14],[139,28,139,29],[139,31,139,32],[137,10,137,11],[137,13,137,14],[138,10,138,11],[138,13,138,14],[46,1,46,5],[52,17,52,18],[56,3,56,4],[56,6,56,7],[56,12,56,13],[56,14,56,15],[56,17,56,18],[65,12,65,13],[65,14,65,15],[65,17,65,18],[61,12,61,13],[61,14,61,15],[64,14,64,15],[64,17,64,18],[57,3,57,4],[57,6,57,7],[57,11,64,11],[60,3,60,4],[60,6,60,7],[63,3,63,4],[63,6,63,7],[58,12,58,13],[58,14,58,15],[58,17,58,18],[135,10,135,11],[135,13,135,14],[136,10,136,11],[136,13,136,14],[133,10,133,11],[133,13,133,14],[134,10,134,11],[134,13,134,14],[47,1,47,9],[47,11,47,18],[66,3,66,4],[66,6,66,7],[66,12,66,13],[49,14,49,15],[49,17,49,18],[49,11,56,11],[53,3,53,4],[53,6,53,7],[53,12,53,13],[49,12,49,13],[60,12,60,13],[60,14,60,15],[61,3,61,4],[61,6,61,7],[47,19,47,26],[48,3,48,4],[0,1,0,2],[0,5,0,6],[1,1,1,3],[1,4,1,6],[4,37,4,40],[5,37,9,40],[16,1,16,2],[17,1,17,2],[2,1,3,3],[18,1,18,2],[19,1,19,2],[20,1,20,2],[21,1,22,2],[23,1,23,2],[27,1,27,2],[28,1,30,2],[39,1,39,2],[40,1,40,2],[41,1,41,2],[42,1,42,2],[43,1,43,2],[44,1,44,2],[47,27,47,34],[48,22,48,23],[48,25,48,26],[48,28,48,29],[56,22,56,23],[56,25,56,26],[56,28,56,29],[48,6,48,7],[48,41,48,42],[48,36,48,37],[48,30,48,31],[48,33,48,34],[48,38,48,39],[48,12,48,13],[48,14,48,15],[48,17,48,18],[48,20,48,21],[54,33,54,34],[54,36,54,37],[50,33,50,34],[50,36,50,37],[54,30,54,31],[53,30,53,31],[49,33,49,34],[56,36,56,37],[56,38,56,39],[56,41,56,42],[49,35,56,35],[51,41,51,42],[49,36,49,37],[51,33,51,34],[51,36,51,37],[51,38,51,39],[49,41,49,42],[53,36,53,37],[52,36,52,37],[53,33,53,34],[53,38,53,39],[53,41,53,42],[54,38,54,39],[54,41,54,42],[52,41,52,42],[50,41,50,42],[49,38,49,39],[55,33,55,34],[55,36,55,37],[55,38,55,39],[55,41,55,42],[54,25,54,26],[52,22,52,23],[52,6,52,7],[52,12,52,13],[52,14,52,15],[50,25,50,26],[55,30,55,31],[50,17,50,18],[50,22,50,23],[55,25,55,26],[52,20,52,21],[51,12,51,13],[51,14,51,15],[51,20,51,21],[51,22,51,23],[52,30,52,31],[56,30,56,31],[56,33,56,34],[50,38,50,39],[51,3,51,4],[51,6,51,7],[52,38,52,39],[52,3,52,4],[51,28,51,29],[52,33,52,34],[51,30,51,31],[49,19,56,19],[54,17,54,18],[51,17,51,18],[49,20,49,21],[53,14,53,15],[50,20,50,21],[54,3,54,4],[54,6,54,7],[54,12,54,13],[49,30,49,31],[50,3,50,4],[50,6,50,7],[50,12,50,13],[50,14,50,15],[49,22,49,23],[55,3,55,4],[55,6,55,7],[55,12,55,13],[55,14,55,15],[55,17,55,18],[55,20,55,21],[55,22,55,23],[54,14,54,15],[54,20,54,21],[54,22,54,23],[62,28,62,29],[64,22,64,23],[64,25,64,26],[59,25,59,26],[61,22,61,23],[60,22,60,23],[60,25,60,26],[63,22,63,23],[57,33,57,34],[61,33,61,34],[62,33,62,34],[57,30,57,31],[58,30,58,31],[59,30,59,31],[63,28,63,29],[64,30,64,31],[64,33,64,34],[57,22,57,23],[57,25,57,26],[57,27,64,27],[63,25,63,26],[58,36,58,37],[58,38,58,39],[62,30,62,31],[60,30,60,31],[60,33,60,34],[60,38,60,39],[61,30,61,31],[59,33,59,34],[61,36,61,37],[60,36,60,37],[62,41,62,42],[59,41,59,42],[64,41,64,42],[60,41,60,42],[58,41,58,42],[64,3,64,4],[64,6,64,7],[57,38,57,39],[57,28,57,29],[61,28,61,29],[58,33,58,34],[59,17,59,18],[59,20,59,21],[59,22,59,23],[58,28,58,29],[62,38,62,39],[58,25,58,26],[60,28,60,29],[61,38,61,39],[61,25,61,26],[62,25,62,26],[59,36,59,37],[59,38,59,39],[59,28,59,29],[58,20,58,21],[58,22,58,23],[57,19,64,19],[57,20,57,21],[59,3,59,4],[59,6,59,7],[59,12,59,13],[59,14,59,15],[64,20,64,21],[60,17,60,18],[60,20,60,21],[61,17,61,18],[61,20,61,21],[57,12,57,13],[57,14,57,15],[57,17,57,18],[63,12,63,13],[63,14,63,15],[64,12,64,13],[64,36,64,37],[64,38,64,39],[64,28,64,29],[63,33,63,34],[61,41,61,42],[62,3,62,4],[62,6,62,7],[62,12,62,13],[62,14,62,15],[62,17,62,18],[62,20,62,21],[62,22,62,23],[62,36,62,37],[63,17,63,18],[63,20,63,21],[63,30,63,31],[63,41,63,42],[63,36,63,37],[63,38,63,39],[57,35,64,35],[57,36,57,37],[57,41,57,42],[58,3,58,4],[58,6,58,7],[66,30,66,31],[67,30,67,31],[65,38,65,39],[66,33,66,34],[66,36,66,37],[66,38,66,39],[67,36,67,37],[65,33,65,34],[65,35,72,35],[67,33,67,34],[72,38,72,39],[67,38,67,39],[70,38,70,39],[70,30,70,31],[70,33,70,34],[68,36,68,37],[68,30,68,31],[67,41,67,42],[65,41,65,42],[68,41,68,42],[72,41,72,42],[69,36,69,37],[69,38,69,39],[66,41,66,42],[65,36,65,37],[71,30,71,31],[71,33,71,34],[71,36,71,37],[71,38,71,39],[71,41,71,42],[72,30,72,31],[72,33,72,34],[72,36,72,37],[69,41,69,42],[68,38,68,39],[70,41,70,42],[68,33,68,34],[69,33,69,34],[70,36,70,37],[69,30,69,31],[65,30,65,31],[70,25,70,26],[71,25,71,26],[71,28,71,29],[66,28,66,29],[72,25,72,26],[67,25,67,26],[67,28,67,29],[65,25,65,26],[68,3,68,4],[68,6,68,7],[68,12,68,13],[68,14,68,15],[68,17,68,18],[68,20,68,21],[68,25,68,26],[68,28,68,29],[72,20,72,21],[65,11,72,11],[72,28,72,29],[69,3,69,4],[65,3,65,4],[72,3,72,4],[66,20,66,21],[67,3,67,4],[70,3,70,4],[70,6,70,7],[70,12,70,13],[70,14,70,15],[70,17,70,18],[70,20,70,21],[70,22,70,23],[67,6,67,7],[67,12,67,13],[70,28,70,29],[65,27,72,27],[65,28,65,29],[69,28,69,29],[66,25,66,26],[69,25,69,26],[79,3,79,4],[79,17,79,18],[78,3,78,4],[67,20,67,21],[66,22,66,23],[71,22,71,23],[66,14,66,15],[66,17,66,18],[65,22,65,23],[69,20,69,21],[65,19,72,19],[65,20,65,21],[72,22,72,23],[71,3,71,4],[71,6,71,7],[71,12,71,13],[71,14,71,15],[71,17,71,18],[71,20,71,21],[69,6,69,7],[69,12,69,13],[69,14,69,15],[69,17,69,18],[65,6,65,7],[69,22,69,23],[72,6,72,7],[72,12,72,13],[72,14,72,15],[68,22,68,23],[67,22,67,23],[67,14,67,15],[67,17,67,18],[79,20,79,21],[75,22,75,23],[75,25,75,26],[75,28,75,29],[78,6,78,7],[78,12,78,13],[78,14,78,15],[78,17,78,18],[78,20,78,21],[76,14,76,15],[76,17,76,18],[76,20,76,21],[76,22,76,23],[77,22,77,23],[77,25,77,26],[78,22,78,23],[78,25,78,26],[78,28,78,29],[76,25,76,26],[73,11,80,11],[73,12,73,13],[73,14,73,15],[73,17,73,18],[73,41,73,42],[74,3,74,4],[74,6,74,7],[74,12,74,13],[74,14,74,15],[74,17,74,18],[74,20,74,21],[74,22,74,23],[74,25,74,26],[74,28,74,29],[74,41,74,42],[73,33,73,34],[73,35,80,35],[74,30,74,31],[75,30,75,31],[76,30,76,31],[77,28,77,29],[77,30,77,31],[73,28,73,29],[79,22,79,23],[79,25,79,26],[79,6,79,7],[79,12,79,13],[79,14,79,15],[73,36,73,37],[76,3,76,4],[76,6,76,7],[76,12,76,13],[73,20,73,21],[73,22,73,23],[73,25,73,26],[73,30,73,31],[76,38,76,39],[76,28,76,29],[76,33,76,34],[76,36,76,37],[75,38,75,39],[75,3,75,4],[75,6,75,7],[75,12,75,13],[75,14,75,15],[75,17,75,18],[75,20,75,21],[73,3,73,4],[73,6,73,7],[76,41,76,42],[77,3,77,4],[77,6,77,7],[77,12,77,13],[77,14,77,15],[77,17,77,18],[77,20,77,21],[77,36,77,37],[77,38,77,39],[77,41,77,42],[73,19,80,19],[80,12,80,13],[80,14,80,15],[80,17,80,18],[80,20,80,21],[80,22,80,23],[80,25,80,26],[73,38,73,39],[74,33,74,34],[78,33,78,34],[78,36,78,37],[78,38,78,39],[78,41,78,42],[73,27,80,27],[79,33,79,34],[79,36,79,37],[79,38,79,39],[77,33,77,34],[79,28,79,29],[79,30,79,31],[79,41,79,42],[80,28,80,29],[80,30,80,31],[80,33,80,34],[80,36,80,37],[80,38,80,39],[80,41,80,42],[78,30,78,31],[75,41,75,42],[74,36,74,37],[74,38,74,39],[75,33,75,34],[75,36,75,37],[86,33,86,34],[81,11,88,11],[81,12,81,13],[81,14,81,15],[81,17,81,18],[81,19,88,19],[81,20,81,21],[81,22,81,23],[81,25,81,26],[81,27,88,27],[82,12,82,13],[82,14,82,15],[82,17,82,18],[82,20,82,21],[82,22,82,23],[82,25,82,26],[83,12,83,13],[83,14,83,15],[83,17,83,18],[83,20,83,21],[83,22,83,23],[83,25,83,26],[84,12,84,13],[84,14,84,15],[81,36,81,37],[85,41,85,42],[81,38,81,39],[82,36,82,37],[82,38,82,39],[83,36,83,37],[83,38,83,39],[84,36,84,37],[84,38,84,39],[81,41,81,42],[82,41,82,42],[83,41,83,42],[84,41,84,42],[85,12,85,13],[85,14,85,15],[85,17,85,18],[85,20,85,21],[85,22,85,23],[85,25,85,26],[86,36,86,37],[86,38,86,39],[86,41,86,42],[87,12,87,13],[87,14,87,15],[87,17,87,18],[87,20,87,21],[87,22,87,23],[87,25,87,26],[87,33,87,34],[87,36,87,37],[87,38,87,39],[87,41,87,42],[86,30,86,31],[87,28,87,29],[87,30,87,31],[81,35,88,35],[82,28,82,29],[82,30,82,31],[82,33,82,34],[83,28,83,29],[83,30,83,31],[83,33,83,34],[86,28,86,29],[85,28,85,29],[85,30,85,31],[85,33,85,34],[85,36,85,37],[85,38,85,39],[84,17,84,18],[96,41,96,42],[88,12,88,13],[88,14,88,15],[88,17,88,18],[88,20,88,21],[88,22,88,23],[88,25,88,26],[88,33,88,34],[88,36,88,37],[88,38,88,39],[88,41,88,42],[93,25,93,26],[93,33,93,34],[93,36,93,37],[93,38,93,39],[93,41,93,42],[94,12,94,13],[94,14,94,15],[94,36,94,37],[94,38,94,39],[94,41,94,42],[88,28,88,29],[88,30,88,31],[89,38,89,39],[95,25,95,26],[95,28,95,29],[95,30,95,31],[95,33,95,34],[95,36,95,37],[95,38,95,39],[91,38,91,39],[92,25,92,26],[96,36,96,37],[96,38,96,39],[95,41,95,42],[91,41,91,42],[91,28,91,29],[91,30,91,31],[93,28,93,29],[91,33,91,34],[89,25,89,26],[90,25,90,26],[89,33,89,34],[90,28,90,29],[94,25,94,26],[94,30,94,31],[94,33,94,34],[92,41,92,42],[89,41,89,42],[90,36,90,37],[90,38,90,39],[90,30,90,31],[90,33,90,34],[91,25,91,26],[90,41,90,42],[91,36,91,37],[100,41,100,42],[97,35,104,35],[97,36,97,37],[97,38,97,39],[97,41,97,42],[98,36,98,37],[98,38,98,39],[101,12,101,13],[101,14,101,15],[99,28,99,29],[99,30,99,31],[101,28,101,29],[101,30,101,31],[102,28,102,29],[100,33,100,34],[101,17,101,18],[101,20,101,21],[101,22,101,23],[101,36,101,37],[101,38,101,39],[101,41,101,42],[102,36,102,37],[102,38,102,39],[102,41,102,42],[103,38,103,39],[97,19,104,19],[97,20,97,21],[97,22,97,23],[97,25,97,26],[98,20,98,21],[98,22,98,23],[98,25,98,26],[99,20,99,21],[99,22,99,23],[97,33,97,34],[98,28,98,29],[104,38,104,39],[104,33,104,34],[100,36,100,37],[100,38,100,39],[103,30,103,31],[103,33,103,34],[102,33,102,34],[102,30,102,31],[103,20,103,21],[102,20,102,21],[103,36,103,37],[103,41,103,42],[104,41,104,42],[104,14,104,15],[104,17,104,18],[104,20,104,21],[104,36,104,37],[104,22,104,23],[104,25,104,26],[104,28,104,29],[104,30,104,31],[97,27,104,27],[97,28,97,29],[97,30,97,31],[98,41,98,42],[99,36,99,37],[99,38,99,39],[99,41,99,42],[99,17,99,18],[99,33,99,34],[98,30,98,31],[98,33,98,34],[99,25,99,26],[103,25,103,26],[103,28,103,29],[111,28,111,29],[111,30,111,31],[111,33,111,34],[110,33,110,34],[110,22,110,23],[110,25,110,26],[110,28,110,29],[110,30,110,31],[111,17,111,18],[111,20,111,21],[111,22,111,23],[111,25,111,26],[105,19,112,19],[105,20,105,21],[112,22,112,23],[108,17,108,18],[108,20,108,21],[106,25,106,26],[107,20,107,21],[107,22,107,23],[107,28,107,29],[108,28,108,29],[105,27,112,27],[105,28,105,29],[109,28,109,29],[105,17,105,18],[106,28,106,29],[106,30,106,31],[112,33,112,34],[112,25,112,26],[112,28,112,29],[112,14,112,15],[112,17,112,18],[112,20,112,21],[111,14,111,15],[108,14,108,15],[110,14,110,15],[110,17,110,18],[110,20,110,21],[107,17,107,18],[109,17,109,18],[109,20,109,21],[112,30,112,31],[108,33,108,34],[108,22,108,23],[108,25,108,26],[109,22,109,23],[109,25,109,26],[111,12,111,13],[130,0,132,0],[130,2,130,4],[130,7,130,8],[105,11,112,11],[105,12,105,13],[107,12,107,13],[108,12,108,13],[110,12,110,13],[109,12,109,13],[106,12,106,13],[129,10,129,12],[130,10,130,11],[130,13,130,14],[129,2,129,4],[129,6,129,8],[112,12,112,13],[131,10,131,11],[131,13,131,14],[132,10,132,11],[132,13,132,14],[109,14,109,15],[106,14,106,15],[107,14,107,15],[13,37,13,40],[10,37,10,40],[11,37,11,40],[12,37,12,40],[93,17,93,18],[93,20,93,21],[93,22,93,23],[92,36,92,37],[92,38,92,39],[89,35,96,35],[89,36,89,37],[89,19,96,19],[89,20,89,21],[89,22,89,23],[90,20,90,21],[90,22,90,23],[91,22,91,23],[92,20,92,21],[92,22,92,23],[92,28,92,29],[92,30,92,31],[89,27,96,27],[89,28,89,29],[89,30,89,31],[107,33,107,34],[97,11,104,11],[97,12,97,13],[97,14,97,15],[97,17,97,18],[98,12,98,13],[98,14,98,15],[98,17,98,18],[99,12,99,13],[99,14,99,15],[103,22,103,23],[105,22,105,23],[105,25,105,26],[106,20,106,21],[106,22,106,23],[107,30,107,31],[107,25,107,26],[105,30,105,31],[106,17,106,18],[103,14,103,15],[103,17,103,18],[102,14,102,15],[102,17,102,18],[102,25,102,26],[96,30,96,31],[96,33,96,34],[93,30,93,31],[1,25,1,31],[2,25,2,30],[3,25,3,30],[105,14,105,15],[105,33,105,34],[106,33,106,34],[94,28,94,29],[92,33,92,34],[96,25,96,26],[96,28,96,29],[95,17,95,18],[95,20,95,21],[95,22,95,23],[84,22,84,23],[84,25,84,26],[84,28,84,29],[84,30,84,31],[84,33,84,34],[81,28,81,29],[81,30,81,31],[81,33,81,34],[86,25,86,26],[84,20,84,21],[72,17,72,18],[109,30,109,31],[109,33,109,34],[108,30,108,31],[101,25,101,26],[101,33,101,34],[93,12,93,13],[93,14,93,15],[96,17,96,18],[96,20,96,21],[96,22,96,23],[104,12,104,13],[100,12,100,13],[100,14,100,15],[100,17,100,18],[100,20,100,21],[100,22,100,23],[100,25,100,26],[100,28,100,29],[100,30,100,31],[96,12,96,13],[96,14,96,15],[89,11,96,11],[89,12,89,13],[89,14,89,15],[89,17,89,18],[90,12,90,13],[90,14,90,15],[90,17,90,18],[91,12,91,13],[91,14,91,15],[91,17,91,18],[94,17,94,18],[103,12,103,13],[94,20,94,21],[94,22,94,23],[92,12,92,13],[92,14,92,15],[92,17,92,18],[95,12,95,13],[95,14,95,15],[86,12,86,13],[86,14,86,15],[86,17,86,18],[86,20,86,21],[86,22,86,23],[102,12,102,13],[102,22,102,23],[91,20,91,21],[0,25,0,34],[1,10,1,13],[1,14,1,15],[1,16,1,21],[2,10,3,11],[2,12,3,13],[2,15,3,21],[31,1,34,2],[35,1,35,2],[1,23,1,24],[2,23,3,24],[1,7,1,9],[36,1,36,2],[37,1,37,2],[38,1,38,2],[24,1,26,2],[49,3,49,4],[49,6,49,7],[1,32,1,34],[2,32,3,34],[49,25,49,26],[49,27,56,27],[49,28,49,29],[50,30,50,31],[50,28,50,29],[54,28,54,29],[52,25,52,26],[52,28,52,29],[51,25,51,26],[53,17,53,18],[53,20,53,21],[53,22,53,23],[53,25,53,26],[53,28,53,29],[55,28,55,29],[56,20,56,21]]}
[null,"体温表",null,null,null,{"$f":"設定!$F$7","v":2017},null,"年",null,9,"月",null,null,null,null,null,null,null,null,null,null,null,null,null,null,"伊都の丘病院"]
[null,"カルテ番号",null,null,"病棟",null,null,"入院形態",null,null,"主治医",null,null,null,"　姓名",null,{"$f":"'8月'!$Q$2","v":0},null,null,null,null,null,null,"性別",null,"生年月日　",null,null,null,null,null,null,"担当Ns"]
[null,{"$f":"'8月'!B3","v":0},null,null,{"$f":"IF(COUNTIF('8月'!E3:G3,\"*\"),INDEX('8月'!E3:G3,MATCH(\"\",'8月'!E3:G3,-1)),\"\")","v":""},null,null,{"$f":"IF(COUNTIF('8月'!H3:J3,\"*\"),INDEX('8月'!H3:J3,MATCH(\"\",'8月'!H3:J3,-1)),\"\")","v":""},null,null,{"$f":"IF(COUNTIF('8月'!K3:M3,\"*\"),INDEX('8月'!K3:M3,MATCH(\"\",'8月'!K3:M3,-1)),\"\")","v":""},null,null,null,null,{"$f":"'8月'!$P$3","v":"新体温表 - バックアップ９１ー"},null,null,null,null,null,null,null,{"$f":"'8月'!$X$3","v":0},null,{"$f":"'8月'!$Z$3","v":"ここに生年月日を記入"},null,null,null,null,null,{"$f":"IF(ISERROR(DATEDIF(Z3,DATE(設定!F7,9,31),\"Y\"))=TRUE,\"\",DATEDIF(Z3,DATE(設定!F7,9,31),\"Y\"))","v":""},{"$f":"'8月'!$AG$3","v":0}]
[null,null,null,null,"/","/","/","/","/","/",null,null,null,null,null,null,null,null,null,null,null,null,null,null,null,{"$f":"SUBSTITUTE(Z3,\"ここに生年月日を記入\",\"\")","v":""},null,null,null,null,null,"歳"]
[null,null,null,null,null,null,null,null,null,null,null,null,null,null,null,null,null,null,null,null,null,null,null,null,null,null,null,null,null,null,null,null,null,null,null,null,null,{"$f":"設定!C11","v":"便利ボタン"}]
[]
[]
[]
[]
[]
[]
[null,null,null,null,null,null,null,null,null,null,null,null,null,null,null,null,null,null,null,null,null,null,null,null,null,null,null,null,null,null,null,null,null,null,null,null,null,{"$f":"設定!C18","v":" ※自動保存されます"}]
[null,null,null,null,null,null,null,null,null,null,null,null,null,null,null,null,null,null,null,null,null,null,null,null,null,null,null,null,null,null,null,null,null,null,null,null,null,{"$f":"設定!C19","v":0}]
[null,null,null,null,null,null,null,null,null,null,null,null,null,null,null,null,null,null,null,null,null,null,null,null,null,null,null,null,null,null,null,null,null,null,null,null,null,{"$f":"設定!C20","v":0}]
[]
[]
[null,"日　付",null,1,2,3,4,5,6,7,8,9,10,11,12,13,14,15,16,17,18,19,20,21,22,23,24,25,26,27,28,29,30,null,"統計"]
[null,"行　動"]
[null,"時　間"]
[null,"行　動"]
[null,"時　間",null,null,null,null,null,null,null,null,null,null,null,null,null,null,null,null,null,null,null,null,null,null,null,null,null,null,null,null,null,null,null,null,{"$f":"IF(COUNTIF(D18:AH21,\"外出\")+COUNTIF(D18:AH21,\"外泊\")=0,\"回数\",COUNTIF(D18:AH21,\"外出\")+COUNTIF(D18:AH21,\"外泊\"))","v":"回数"}]
[null,"面　会"]
[null,null,null,null,null,null,null,null,null,null,null,null,null,null,null,null,null,null,null,null,null,null,null,null,null,null,null,null,null,null,null,null,null,null,{"$f":"IF(COUNTA(D22:AH22)=0,\"回数\",COUNTA(D22:AH22))","v":"回数"}]
[null,"入　浴",null,null,null,null,null,null,null,null,null,null,null,null,null,null,null,null,null,null,null,null,null,null,null,null,null,null,null,null,null,null,null,null,{"$f":"IF(COUNTA(D24:AH24)=0,\"回数\",COUNTA(D24:AH24))","v":"回数"}]
[null,"食　事"]
[]
[null,null,null,null,null,null,null,null,null,null,null,null,null,null,null,null,null,null,null,null,null,null,null,null,null,null,null,null,null,null,null,null,null,null,{"$f":"IFERROR(INT(AVERAGE(V141:AZ143))& \"/\"&INT(AVERAGE(V144:AZ146)),\"平均\")","v":"平均"}]
[null,"便　通",null,{"$f":"IF(ISBLANK(I50),\"\",I50)","v":""},{"$f":"IF(ISBLANK(I51),\"\",I51)","v":""},{"$f":"IF(ISBLANK(I52),\"\",I52)","v":""},{"$f":"IF(ISBLANK(I53),\"\",I53)","v":""},{"$f":"IF(ISBLANK(I54),\"\",I54)","v":""},{"$f":"IF(ISBLANK(I55),\"\",I55)","v":""},{"$f":"IF(ISBLANK(I56),\"\",I56)","v":""},{"$f":"IF(ISBLANK(I57),\"\",I57)","v":""},{"$f":"IF(ISBLANK(I58),\"\",I58)","v":""},{"$f":"IF(ISBLANK(I59),\"\",I59)","v":""},{"$f":"IF(ISBLANK(I60),\"\",I60)","v":""},{"$f":"IF(ISBLANK(I61),\"\",I61)","v":""},{"$f":"IF(ISBLANK(I62),\"\",I62)","v":""},{"$f":"IF(ISBLANK(I63),\"\",I63)","v":""},{"$f":"IF(ISBLANK(I64),\"\",I64)","v":""},{"$f":"IF(ISBLANK(I65),\"\",I65)","v":""},{"$f":"IF(ISBLANK(I66),\"\",I66)","v":""},{"$f":"IF(ISBLANK(I67),\"\",I67)","v":""},{"$f":"IF(ISBLANK(I68),\"\",I68)","v":""},{"$f":"IF(ISBLANK(I69),\"\",I69)","v":""},{"$f":"IF(ISBLANK(I70),\"\",I70)","v":""},{"$f":"IF(ISBLANK(I71),\"\",I71)","v":""},{"$f":"IF(ISBLANK(I72),\"\",I72)","v":""},{"$f":"IF(ISBLANK(I73),\"\",I73)","v":""},{"$f":"IF(ISBLANK(I74),\"\",I74)","v":""},{"$f":"IF(ISBLANK(I75),\"\",I75)","v":""},{"$f":"IF(ISBLANK(I76),\"\",I76)","v":""},{"$f":"IF(ISBLANK(I77),\"\",I77)","v":""},{"$f":"IF(ISBLANK(I78),\"\",I78)","v":""},{"$f":"IF(ISBLANK(I79),\"\",I79)","v":""},{"$f":"IF(ISBLANK(I80),\"\",I80)","v":""},{"$f":"IF(COUNTIF(D28:AH28,0)=0,\"回数\",COUNTIF(D28:AH28,0))","v":"回数"}]
[null,"便処置"]
[null,null,null,"　",null,null,null,null,null,null,null,null,null,null,null,null,null,null,null,null,null,null,null,null,null,null,null,null,null,null,null,null,null,null,{"$f":"IF(SUM(V136:AZ138)=0,\"滴数\",SUM(V136:AZ138))","v":"滴数"}]
[null,null,null,null,null,null,null,null,null,null,null,null,null,null,null,null,null,null,null,null,null,null,null,null,null,null,null,null,null,null,null,null,null,null,{"$f":"IF(AI30=\"滴数\",\"本数\",AI30/150)","v":"本数"}]
[null,"血　圧",null,{"$f":"$R$50","v":0},{"$f":"$R$58","v":0},{"$f":"R66","v":0},{"$f":"R74","v":0},{"$f":"R82","v":0},{"$f":"R90","v":0},{"$f":"R98","v":0},{"$f":"R106","v":0},{"$f":"Z50","v":0},{"$f":"Z58","v":0},{"$f":"Z66","v":0},{"$f":"Z74","v":0},{"$f":"Z82","v":0},{"$f":"Z90","v":0},{"$f":"Z98","v":0},{"$f":"Z106","v":0},{"$f":"AH50","v":0},{"$f":"AH58","v":0},{"$f":"AH66","v":0},{"$f":"AH74","v":0},{"$f":"AH82","v":0},{"$f":"AH90","v":0},{"$f":"AH98","v":0},{"$f":"AH106","v":0},{"$f":"AP50","v":0},{"$f":"AP58","v":0},{"$f":"AP66","v":0},{"$f":"AP74","v":0},{"$f":"AP82","v":0},{"$f":"AP90","v":0},{"$f":"AP98","v":0}]
[null,null,null,{"$f":" IF(ISERROR($R$51),\"\",($R$51))","v":""},{"$f":" IF(ISERROR($R$59),\"\",($R$59))","v":""},{"$f":" IF(ISERROR($R$67),\"\",($R$67))","v":""},{"$f":" IF(ISERROR($R$75),\"\",($R$75))","v":""},{"$f":" IF(ISERROR($R$83),\"\",($R$83))","v":""},{"$f":" IF(ISERROR($R$91),\"\",($R$91))","v":""},{"$f":" IF(ISERROR($R$99),\"\",($R$99))","v":""},{"$f":" IF(ISERROR($R$107),\"\",($R$107))","v":""},{"$f":" IF(ISERROR($Z$51),\"\",($Z$51))","v":""},{"$f":" IF(ISERROR($Z$59),\"\",($Z$59))","v":""},{"$f":" IF(ISERROR($Z$67),\"\",($Z$67))","v":""},{"$f":" IF(ISERROR($Z$75),\"\",($Z$75))","v":""},{"$f":" IF(ISERROR($Z$83),\"\",($Z$83))","v":""},{"$f":" IF(ISERROR($Z$91),\"\",($Z$91))","v":""},{"$f":" IF(ISERROR($Z$99),\"\",($Z$99))","v":""},{"$f":" IF(ISERROR($Z$107),\"\",($Z$107))","v":""},{"$f":" IF(ISERROR($AH$51),\"\",($AH$51))","v":""},{"$f":" IF(ISERROR($AH$59),\"\",($AH$59))","v":""},{"$f":" IF(ISERROR($AH$67),\"\",($AH$67))","v":""},{"$f":" IF(ISERROR($AH$75),\"\",($AH$75))","v":""},{"$f":" IF(ISERROR($AH$83),\"\",($AH$83))","v":""},{"$f":" IF(ISERROR($AH$91),\"\",($AH$91))","v":""},{"$f":" IF(ISERROR($AH$99),\"\",($AH$99))","v":""},{"$f":" IF(ISERROR($AH$107),\"\",($AH$107))","v":""},{"$f":" IF(ISERROR($AP$51),\"\",($AP$51))","v":""},{"$f":" IF(ISERROR($AP$59),\"\",($AP$59))","v":""},{"$f":" IF(ISERROR($AP$67),\"\",($AP$67))","v":""},{"$f":" IF(ISERROR($AP$75),\"\",($AP$75))","v":""},{"$f":" IF(ISERROR($AP$83),\"\",($AP$83))","v":""},{"$f":" IF(ISERROR($AP$91),\"\",($AP$91))","v":""},{"$f":" IF(ISERROR($AP$99),\"\",($AP$99))","v":0}]
[null,null,null,{"$f":"$R$52","v":0},{"$f":"$R$60","v":0},{"$f":"R68","v":0},{"$f":"R76","v":0},{"$f":"R84","v":0},{"$f":"R92","v":0},{"$f":"R100","v":0},{"$f":"R108","v":0},{"$f":"Z52","v":0},{"$f":"Z60","v":0},{"$f":"Z68","v":0},{"$f":"Z76","v":0},{"$f":"Z84","v":0},{"$f":"Z92","v":0},{"$f":"Z100","v":0},{"$f":"Z108","v":0},{"$f":"AH52","v":0},{"$f":"AH60","v":0},{"$f":"AH68","v":0},{"$f":"AH76","v":0},{"$f":"AH84","v":0},{"$f":"AH92","v":0},{"$f":"AH100","v":0},{"$f":"AH108","v":0},{"$f":"AP52","v":0},{"$f":"AP60","v":0},{"$f":"AP68","v":0},{"$f":"AP76","v":0},{"$f":"AP84","v":0},{"$f":"AP92","v":0},{"$f":"AP100","v":0}]
[null,null,null,{"$f":"$R$53","v":0},{"$f":"$R$61","v":0},{"$f":"R69","v":0},{"$f":"R77","v":0},{"$f":"R85","v":0},{"$f":"R93","v":0},{"$f":"R101","v":0},{"$f":"R109","v":0},{"$f":"Z53","v":0},{"$f":"Z61","v":0},{"$f":"Z69","v":0},{"$f":"Z77","v":0},{"$f":"Z85","v":0},{"$f":"Z93","v":0},{"$f":"Z101","v":0},{"$f":"Z109","v":0},{"$f":"AH53","v":0},{"$f":"AH61","v":0},{"$f":"AH69","v":0},{"$f":"AH77","v":0},{"$f":"AH85","v":0},{"$f":"AH93","v":0},{"$f":"AH101","v":0},{"$f":"AH109","v":0},{"$f":"AP53","v":0},{"$f":"AP61","v":0},{"$f":"AP69","v":0},{"$f":"AP77","v":0},{"$f":"AP85","v":0},{"$f":"AP93","v":0},{"$f":"AP101","v":0},{"$f":"IFERROR(INT(AVERAGE(V149:AZ152))& \"/\"&INT(AVERAGE(V153:AZ156)),\"平均\")","v":"平均"}]
[null,"食事箋",null,{"$f":"IF(COUNTIF('8月'!D36:AH36,\"*\"),INDEX('8月'!D36:AH36,MATCH(\"\",'8月'!D36:AH36,-1)),\"\")","v":""}]
[null,"形　態",null,{"$f":"IF(COUNTIF('8月'!D37:AH37,\"*\"),INDEX('8月'!D37:AH37,MATCH(\"\",'8月'!D37:AH37,-1)),\"\")","v":""}]
[null,"身　長",null,{"$f":"IF(COUNT('8月'!D38:AH38),LOOKUP(MAX('8月'!D38:AH38)+1,'8月'!D38:AH38),\"\")","v":""},null,null,null,null,null,null,null,null,null,null,null,null,null,null,null,null,null,null,null,null,null,null,null,null,null,null,null,null,null,null,"BMI"]
[null,"体　重",null,null,null,null,null,null,null,null,null,null,null,null,null,null,null,null,null,null,null,null,null,null,null,null,null,null,null,null,null,null,null,null,{"$f":"IF(ISERROR(INDEX(D39:AH39,MATCH(307,D39:AH39))/(INDEX(D38:AH38,MATCH(9E+307,D38:AH38))/100)^2)=TRUE,\"\",INDEX(D39:AH39,MATCH(307,D39:AH39))/(INDEX(D38:AH38,MATCH(9E+307,D38:AH38))/100)^2)","v":""}]
[null,"Ｉ　Ｎ",null,null,null,null,null,null,null,null,null,null,null,null,null,null,null,null,null,null,null,null,null,null,null,null,null,null,null,null,null,null,null,null,{"$f":"IFERROR(INT(AVERAGE(D40:AH40)),\"平均\")","v":"平均"}]
[null,"ＯＵＴ",null,null,null,null,null,null,null,null,null,null,null,null,null,null,null,null,null,null,null,null,null,null,null,null,null,null,null,null,null,null,null,null,{"$f":"IFERROR(INT(AVERAGE(D41:AH41)),\"平均\")","v":"平均"}]
[null,"生　理",null,null,null,null,null,null,null,null,null,null,null,null,null,null,null,null,null,null,null,null,null,null,null,null,null,null,null,null,null,null,null,null,{"$f":"IF(ISERROR(IF(H132-MATCH(\"*\",D42:AH42,0)=0,\"0日目\",IF(H133=J1,IF(ISERROR(H132-MATCH(\"*\",D42:AH42,0)),\"日数\",H132-MATCH(\"*\",D42:AH42,0)),\"日数\"))),\"日数\",(IF(H132-MATCH(\"*\",D42:AH42,0)=0,\"0日目\",IF(H133=J1,IF(ISERROR(H132-MATCH(\"*\",D42:AH42,0)),\"日数\",H132-MATCH(\"*\",D42:AH42,0)),\"日数\"))))","v":"日数"}]
[null,null,null,null,null,null,null,null,null,null,null,null,null,null,null,null,null,null,null,null,null,null,null,null,null,null,null,null,null,null,null,null,null,null,{"$f":"COUNTA(D43:AH43)","v":0}]
[null,null,null,null,null,null,null,null,null,null,null,null,null,null,null,null,null,null,null,null,null,null,null,null,null,null,null,null,null,null,null,null,null,null,{"$f":"COUNTA(D44:AH44)","v":0}]
[null,"日　付",null,1,2,3,4,5,6,7,8,9,10,11,12,13,14,15,16,17,18,19,20,21,22,23,24,25,26,27,28,29,30]
[]
[null,{"$f":"$P$3","v":"新体温表 - バックアップ９１ー"},null,null,null,null,null,{"$f":"YEAR(I47)","v":2016},{"$f":"TODAY()","v":"2016-06-08"},{"$f":"TODAY()","v":42529},null,{"$f":"NOW()","v":42529.688973263888}]
[null,"平常時記入",null,null,null,null,null,null,null,null,null,"熱発時記入"]
[null,"日","時間","T",null," P","BP",null,"便",null,null,"日","時間",null,"T",null,"P","BP",null,"日","時間",null,"T",null,"P","BP",null,"日","時間",null,"T",null,"P","BP",null,"日","時間",null,"T",null,"P","BP"]
[null,1,"09:00:00",null,null,null,null,null,null,null,null,1,null,null,null,null,null,null,null,9,null,null,null,null,null,null,null,17,null,null,null,null,null,null,null,25]
[null,2,"09:00:00",null,null,null,null,null,null,null,null,null,"09:00:00",null,{"$f":"IF($D$50=\"\",NA(),$D$50)","v":{"$error":"#N/A"}},null,{"$f":"IF($F$50=\"\",NA(),$F$50)","v":{"$error":"#N/A"}},{"$f":"IF($G$50=\"\",NA(),$G$50)","v":{"$error":"#N/A"}},null,null,"09:00:00",null,{"$f":"IF($D$58=\"\",NA(),$D$58)","v":{"$error":"#N/A"}},null,{"$f":"IF($F$58=\"\",NA(),$F$58)","v":{"$error":"#N/A"}},{"$f":"IF($G$58=\"\",NA(),$G$58)","v":{"$error":"#N/A"}},null,null,"09:00:00",null,{"$f":"IF($D$66=\"\",NA(),$D$66)","v":{"$error":"#N/A"}},null,{"$f":"IF($F$66=\"\",NA(),$F$66)","v":{"$error":"#N/A"}},{"$f":"IF($G$66=\"\",NA(),$G$66)","v":{"$error":"#N/A"}},null,null,"09:00:00",null,{"$f":"IF($D$74=\"\",NA(),$D$74)","v":{"$error":"#N/A"}},null,{"$f":"IF($F$74=\"\",NA(),$F$74)","v":{"$error":"#N/A"}},{"$f":"IF($G$74=\"\",NA(),$G$74)","v":{"$error":"#N/A"}}]
[null,3,"09:00:00",null,null,null,null,null,null,"☆"]
[null,4,"09:00:00"]
[null,5,"09:00:00",null,null,null,null,null,null,"コ"]
[null,6,"09:00:00",null,null,null,null,null,null,"ス"]
[null,7,"09:00:00",null,null,null,null,null,null,"モ"]
[null,8,"09:00:00",null,null,null,null,null,null,"ス"]
[null,9,"09:00:00",null,null,null,null,null,null,"へ",null,2,null,null,null,null,null,null,null,10,null,null,null,null,null,null,null,18,null,null,null,null,null,null,null,26]
[null,10,"09:00:00",null,null,null,null,null,null,"戻",null,null,"09:00:00",null,{"$f":"IF($D$51=\"\",NA(),$D$51)","v":{"$error":"#N/A"}},null,{"$f":"IF($F$51=\"\",NA(),$F$51)","v":{"$error":"#N/A"}},{"$f":"IF($G$51=\"\",NA(),$G$51)","v":{"$error":"#N/A"}},null,null,"09:00:00",null,{"$f":"IF($D$59=\"\",NA(),$D$59)","v":{"$error":"#N/A"}},null,{"$f":"IF($F$59=\"\",NA(),$F$59)","v":{"$error":"#N/A"}},{"$f":"IF($G$59=\"\",NA(),$G$59)","v":{"$error":"#N/A"}},null,null,"09:00:00",null,{"$f":"IF($D$67=\"\",NA(),$D$67)","v":{"$error":"#N/A"}},null,{"$f":"IF($F$67=\"\",NA(),$F$67)","v":{"$error":"#N/A"}},{"$f":"IF($G$67=\"\",NA(),$G$67)","v":{"$error":"#N/A"}},null,null,"09:00:00",null,{"$f":"IF($D$75=\"\",NA(),$D$75)","v":{"$error":"#N/A"}},null,{"$f":"IF($F$75=\"\",NA(),$F$75)","v":{"$error":"#N/A"}},{"$f":"IF($G$75=\"\",NA(),$G$75)","v":{"$error":"#N/A"}}]
[null,11,"09:00:00",null,null,null,null,null,null,"る"]
[null,12,"09:00:00"]
[null,13,"09:00:00"]
[null,14,"09:00:00",null,null,null,null,null,null,"（"]
[null,15,"09:00:00",null,null,null,null,null,null,"選"]
[null,16,"09:00:00",null,null,null,null,null,null,"択"]
[null,17,"09:00:00",null,null,null,null,null,null,"す",null,3,null,null,null,null,null,null,null,11,null,null,null,null,null,null,null,19,null,null,null,null,null,null,null,27]
[null,18,"09:00:00",null,null,null,null,null,null,"る",null,null,"09:00:00",null,{"$f":"IF($D$52=\"\",NA(),$D$52)","v":{"$error":"#N/A"}},null,{"$f":"IF($F$52=\"\",NA(),$F$52)","v":{"$error":"#N/A"}},{"$f":"IF($G$52=\"\",NA(),$G$52)","v":{"$error":"#N/A"}},null,null,"09:00:00",null,{"$f":"IF($D$60=\"\",NA(),$D$60)","v":{"$error":"#N/A"}},null,{"$f":"IF($F$60=\"\",NA(),$F$60)","v":{"$error":"#N/A"}},{"$f":"IF($G$60=\"\",NA(),$G$60)","v":{"$error":"#N/A"}},null,null,"09:00:00",null,{"$f":"IF($D$68=\"\",NA(),$D$68)","v":{"$error":"#N/A"}},null,{"$f":"IF($F$68=\"\",NA(),$F$68)","v":{"$error":"#N/A"}},{"$f":"IF($G$68=\"\",NA(),$G$68)","v":{"$error":"#N/A"}},null,null,"09:00:00",null,{"$f":"IF($D$76=\"\",NA(),$D$76)","v":{"$error":"#N/A"}},null,{"$f":"IF($F$76=\"\",NA(),$F$76)","v":{"$error":"#N/A"}},{"$f":"IF($G$76=\"\",NA(),$G$76)","v":{"$error":"#N/A"}}]
[null,19,"09:00:00",null,null,null,null,null,null,"だ"]
[null,20,"09:00:00",null,null,null,null,null,null,"け"]
[null,21,"09:00:00",null,null,null,null,null,null,"で"]
[null,22,"09:00:00",null,null,null,null,null,null,"移"]
[null,23,"09:00:00",null,null,null,null,null,null,"動"]
[null,24,"09:00:00",null,null,null,null,null,null,"し"]
[null,25,"09:00:00",null,null,null,null,null,null,"ま",null,4,null,null,null,null,null,null,null,12,null,null,null,null,null,null,null,20,null,null,null,null,null,null,null,28]
[null,26,"09:00:00",null,null,null,null,null,null,"す",null,null,"09:00:00",null,{"$f":"IF($D$53=\"\",NA(),$D$53)","v":{"$error":"#N/A"}},null,{"$f":"IF($F$53=\"\",NA(),$F$53)","v":{"$error":"#N/A"}},{"$f":"IF($G$53=\"\",NA(),$G$53)","v":{"$error":"#N/A"}},null,null,"09:00:00",null,{"$f":"IF($D$61=\"\",NA(),$D$61)","v":{"$error":"#N/A"}},null,{"$f":"IF($F$61=\"\",NA(),$F$61)","v":{"$error":"#N/A"}},{"$f":"IF($G$61=\"\",NA(),$G$61)","v":{"$error":"#N/A"}},null,null,"09:00:00",null,{"$f":"IF($D$69=\"\",NA(),$D$69)","v":{"$error":"#N/A"}},null,{"$f":"IF($F$69=\"\",NA(),$F$69)","v":{"$error":"#N/A"}},{"$f":"IF($G$69=\"\",NA(),$G$69)","v":{"$error":"#N/A"}},null,null,"09:00:00",null,{"$f":"IF($D$77=\"\",NA(),$D$77)","v":{"$error":"#N/A"}},null,{"$f":"IF($F$77=\"\",NA(),$F$77)","v":{"$error":"#N/A"}},{"$f":"IF($G$77=\"\",NA(),$G$77)","v":{"$error":"#N/A"}}]
[null,27,"09:00:00",null,null,null,null,null,null,"）"]
[null,28,"09:00:00"]
[null,29,"09:00:00"]
[null,30,"09:00:00"]
[]
[]
[null,null,null,null,null,null,null,null,null,null,null,5,null,null,null,null,null,null,null,13,null,null,null,null,null,null,null,21,null,null,null,null,null,null,null,29]
[null,null,null,null,null,null,null,null,null,null,null,null,"09:00:00",null,{"$f":"IF($D$54=\"\",NA(),$D$54)","v":{"$error":"#N/A"}},null,{"$f":"IF($F$54=\"\",NA(),$F$54)","v":{"$error":"#N/A"}},{"$f":"IF($G$54=\"\",NA(),$G$54)","v":{"$error":"#N/A"}},null,null,"09:00:00",null,{"$f":"IF($D$62=\"\",NA(),$D$62)","v":{"$error":"#N/A"}},null,{"$f":"IF($F$62=\"\",NA(),$F$62)","v":{"$error":"#N/A"}},{"$f":"IF($G$62=\"\",NA(),$G$62)","v":{"$error":"#N/A"}},null,null,"09:00:00",null,{"$f":"IF($D$70=\"\",NA(),$D$70)","v":{"$error":"#N/A"}},null,{"$f":"IF($F$70=\"\",NA(),$F$70)","v":{"$error":"#N/A"}},{"$f":"IF($G$70=\"\",NA(),$G$70)","v":{"$error":"#N/A"}},null,null,"09:00:00",null,{"$f":"IF($D$78=\"\",NA(),$D$78)","v":{"$error":"#N/A"}},null,{"$f":"IF($F$78=\"\",NA(),$F$78)","v":{"$error":"#N/A"}},{"$f":"IF($G$78=\"\",NA(),$G$78)","v":{"$error":"#N/A"}}]
[]
[]
[]
[]
[]
[]
[null,null,null,null,null,null,null,null,null,null,null,6,null,null,null,null,null,null,null,14,null,null,null,null,null,null,null,22,null,null,null,null,null,null,null,30]
[null,null,null,null,null,null,null,null,null,null,null,null,"09:00:00",null,{"$f":"IF($D$55=\"\",NA(),$D$55)","v":{"$error":"#N/A"}},null,{"$f":"IF($F$55=\"\",NA(),$F$55)","v":{"$error":"#N/A"}},{"$f":"IF($G$55=\"\",NA(),$G$55)","v":{"$error":"#N/A"}},null,null,"09:00:00",null,{"$f":"IF($D$63=\"\",NA(),$D$63)","v":{"$error":"#N/A"}},null,{"$f":"IF($F$63=\"\",NA(),$F$63)","v":{"$error":"#N/A"}},{"$f":"IF($G$63=\"\",NA(),$G$63)","v":{"$error":"#N/A"}},null,null,"09:00:00",null,{"$f":"IF($D$71=\"\",NA(),$D$71)","v":{"$error":"#N/A"}},null,{"$f":"IF($F$71=\"\",NA(),$F$71)","v":{"$error":"#N/A"}},{"$f":"IF($G$71=\"\",NA(),$G$71)","v":{"$error":"#N/A"}},null,null,"09:00:00",null,{"$f":"IF($D$79=\"\",NA(),$D$79)","v":{"$error":"#N/A"}},null,{"$f":"IF($F$79=\"\",NA(),$F$79)","v":{"$error":"#N/A"}},{"$f":"IF($G$79=\"\",NA(),$G$79)","v":{"$error":"#N/A"}}]
[]
[]
[]
[]
[]
[]
[null,null,null,null,null,null,null,null,null,null,null,7,null,null,null,null,null,null,null,15,null,null,null,null,null,null,null,23]
[null,null,null,null,null,null,null,null,null,null,null,null,"09:00:00",null,{"$f":"IF($D$56=\"\",NA(),$D$56)","v":{"$error":"#N/A"}},null,{"$f":"IF($F$56=\"\",NA(),$F$56)","v":{"$error":"#N/A"}},{"$f":"IF($G$56=\"\",NA(),$G$56)","v":{"$error":"#N/A"}},null,null,"09:00:00",null,{"$f":"IF($D$64=\"\",NA(),$D$64)","v":{"$error":"#N/A"}},null,{"$f":"IF($F$64=\"\",NA(),$F$64)","v":{"$error":"#N/A"}},{"$f":"IF($G$64=\"\",NA(),$G$64)","v":{"$error":"#N/A"}},null,null,"09:00:00",null,{"$f":"IF($D$72=\"\",NA(),$D$72)","v":{"$error":"#N/A"}},null,{"$f":"IF($F$72=\"\",NA(),$F$72)","v":{"$error":"#N/A"}},{"$f":"IF($G$72=\"\",NA(),$G$72)","v":{"$error":"#N/A"}}]
[]
[]
[]
[]
[]
[]
[null,null,null,null,null,null,null,null,null,null,null,8,null,null,null,null,null,null,null,16,null,null,null,null,null,null,null,24]
[null,null,null,null,null,null,null,null,null,null,null,null,"09:00:00",null,{"$f":"IF($D$57=\"\",NA(),$D$57)","v":{"$error":"#N/A"}},null,{"$f":"IF($F$57=\"\",NA(),$F$57)","v":{"$error":"#N/A"}},{"$f":"IF($G$57=\"\",NA(),$G$57)","v":{"$error":"#N/A"}},null,null,"09:00:00",null,{"$f":"IF($D$65=\"\",NA(),$D$65)","v":{"$error":"#N/A"}},null,{"$f":"IF($F$65=\"\",NA(),$F$65)","v":{"$error":"#N/A"}},{"$f":"IF($G$65=\"\",NA(),$G$65)","v":{"$error":"#N/A"}},null,null,"09:00:00",null,{"$f":"IF($D$73=\"\",NA(),$D$73)","v":{"$error":"#N/A"}},null,{"$f":"IF($F$73=\"\",NA(),$F$73)","v":{"$error":"#N/A"}},{"$f":"IF($G$73=\"\",NA(),$G$73)","v":{"$error":"#N/A"}}]
[]
[]
[]
[]
[]
[]
[]
[]
[]
[]
[]
[]
[]
[]
[]
[]
[]
[]
[]
[]
[]
[null,null,"Enterで入力画面へ"]
[null,null,"ｶｰｿﾙ初期位置",null,null,null,"日付チェック",null,null,null,"バイタルコピー"]
["管理欄",null,"入力に入る",null,null,null,"今日",{"$f":"NOW()","v":"2016-06-08T16:32:07.290"},null,null,{"$f":"IF($D$74=\"\",NA(),$D$74)","v":{"$error":"#N/A"}},null,{"$f":"IF($F$74=\"\",NA(),$F$74)","v":{"$error":"#N/A"}},{"$f":"IF($G$74=\"\",NA(),$G$74)","v":{"$error":"#N/A"}},null,{"$f":"K131&M131&N131","v":{"$error":"#N/A"}}]
[null,null,null,null,null,null,"日",{"$f":"DAY(H131)","v":8},null,null,null,null,null,null,null,"",null,null,null,null,"シンラック"]
[null,null,null,null,null,null,"月",{"$f":"MONTH(H131)","v":6},null,null,null,null,null,null,null,"",null,null,null,null,"なし"]
[null,null,null,null,null,null,"年",{"$f":"YEAR(H131)","v":2016},null,null,null,null,null,null,null,""]
[null,null,null,null,null,null,"時",{"$f":"HOUR(H131)","v":16},null,null,null,null,null,null,null,""]
[null,null,null,null,null,null,null,null,null,null,null,null,null,null,null,"",null,null,null,null,"Link",{"$f":"IF(ISERROR(VALUE(D29)),\"\",VALUE(D29))","v":0},0,0,0,0,0,0,0,0,0,0,0,0,0,0,0,0,0,0,0,0,0,0,0,0,0,0,0,{"$f":"IF(ISERROR(VALUE(AF29)),\"\",VALUE(AF29))","v":0},{"$f":"IF(ISERROR(VALUE(AG29)),\"\",VALUE(AG29))","v":0},0]
[null,null,null,null,null,null,null,null,null,null,null,null,null,null,null,"",null,null,null,null,null,"",0,0,0,0,0,0,0,0,0,0,0,0,0,0,0,0,0,0,0,0,0,0,0,0,0,0,0,{"$f":"IF(ISERROR(VALUE(AF30)),\"\",VALUE(AF30))","v":0},0,0]
[null,null,null,null,null,null,null,null,null,null,null,null,null,null,null,"",null,null,null,null,null,0,0,0,0,0,0,0,0,0,0,0,0,0,0,0,0,0,0,0,0,0,0,0,0,0,0,0,0,{"$f":"IF(ISERROR(VALUE(AF31)),\"\",VALUE(AF31))","v":0},0,0]
[null,null,null,null,null,null,null,null,null,null,null,null,null,null,null,""]
[null,null,null,null,null,null,null,null,null,null,null,null,null,null,null,null,null,null,null,null,"食事平均",null,null,null,null,null,null,null,null,null,null,null,null,{"$f":"AC140&AE140&AF140","v":""}]
[null,null,null,null,null,null,null,null,null,null,null,null,null,null,null,null,null,null,null,null,"左",{"$f":"IF(D25=\"\", \"\", LEFT(D25,SEARCH(\"/\",D25,1)-1)*1)","v":""},"","","","","","","","","",{"$f":"IF(N25=\"\", \"\", LEFT(N25,SEARCH(\"/\",N25,1)-1)*1)","v":""},"","","","","","","","","",{"$f":"IF(X25=\"\", \"\", LEFT(X25,SEARCH(\"/\",X25,1)-1)*1)","v":""},"","","","","","","","",""]
[null,null,null,null,null,null,null,null,null,null,null,null,null,null,null,null,null,null,null,null,null,"","","","","","","","","","","","","","","","","","","","","","","","","","","","","",""]
[null,null,null,null,null,null,null,null,null,null,null,null,null,null,null,null,null,null,null,null,null,"","","","","","","","","","","","","","","","","","","","","","","","","","","","","",""]
[null,null,null,null,null,null,null,null,null,null,null,null,null,null,null,null,null,null,null,null,"右",{"$f":"IF(D25=\"\", \"\", RIGHT(D25,LEN(D25)-FIND(\"/\",D25,1))*1)","v":""},"","","","","","","","","",{"$f":"IF(N25=\"\", \"\", RIGHT(N25,LEN(N25)-FIND(\"/\",N25,1))*1)","v":""},"","","","","","","","","",{"$f":"IF(X25=\"\", \"\", RIGHT(X25,LEN(X25)-FIND(\"/\",X25,1))*1)","v":""},"","","","","","","","",""]
[null,null,null,null,null,null,null,null,null,null,null,null,null,null,null,null,null,null,null,null,null,"","","","","","","","","","","","","","","","","","","","","","","","","","","","","",""]
[null,null,null,null,null,null,null,null,null,null,null,null,null,null,null,null,null,null,null,null,null,"","","","","","","","","","","","","","","","","","","","","","","","","","","","","",""]
[null,null,null,null,null,null,null,null,null,null,null,null,null,null,null,null,null,null,null,null,null,null,null,null,null,null,null,null,null,null,null,null,null,{"$f":"AC147&AE147&AF147","v":""}]
[null,null,null,null,null,null,null,null,null,null,null,null,null,null,null,null,null,null,null,null,"BP平均",null,null,null,null,null,null,null,null,null,null,null,null,{"$f":"AC148&AE148&AF148","v":""}]
[null,null,null,null,null,null,null,null,null,null,null,null,null,null,null,null,null,null,null,null,"左",{"$f":"IF(ISERROR(LEFT(D32,SEARCH(\"/\",D32,1)-1)*1),\"\",LEFT(D32,SEARCH(\"/\",D32,1)-1)*1)","v":""},"","","","","","","","","",{"$f":"IF(ISERROR(LEFT(N32,SEARCH(\"/\",N32,1)-1)*1),\"\",LEFT(N32,SEARCH(\"/\",N32,1)-1)*1)","v":""},"","","","","","","","","",{"$f":"IF(ISERROR(LEFT(X32,SEARCH(\"/\",X32,1)-1)*1),\"\",LEFT(X32,SEARCH(\"/\",X32,1)-1)*1)","v":""},"","","","","","","","",""]
[null,null,null,null,null,null,null,null,null,null,null,null,null,null,null,null,null,null,null,null,null,"","","","","","","","","","","","","","","","","","","","","","","","","","","","","",""]
[null,null,null,null,null,null,null,null,null,null,null,null,null,null,null,null,null,null,null,null,null,"","","","","","","","","","","","","","","","","","","","","","","","","","","","","",""]
[null,null,null,null,null,null,null,null,null,null,null,null,null,null,null,null,null,null,null,null,null,"","","","","","","","","","","","","","","","","","","","","","","","","","","","","",""]
[null,null,null,null,null,null,null,null,null,null,null,null,null,null,null,null,null,null,null,null,"右",{"$f":"IF(ISERROR(RIGHT(D32,LEN(D32)-FIND(\"/\",D32,1))*1),\"\",RIGHT(D32,LEN(D32)-FIND(\"/\",D32,1))*1)","v":""},"","","","","","","","","",{"$f":"IF(ISERROR(RIGHT(N32,LEN(N32)-FIND(\"/\",N32,1))*1),\"\",RIGHT(N32,LEN(N32)-FIND(\"/\",N32,1))*1)","v":""},"","","","","","","","","",{"$f":"IF(ISERROR(RIGHT(X32,LEN(X32)-FIND(\"/\",X32,1))*1),\"\",RIGHT(X32,LEN(X32)-FIND(\"/\",X32,1))*1)","v":""},"","","","","","","","",""]
[null,null,null,null,null,null,null,null,null,null,null,null,null,null,null,null,null,null,null,null,null,"","","","","","","","","","","","","","","","","","","","","","","","","","","","","",""]
[null,null,null,null,null,null,null,null,null,null,null,null,null,null,null,null,null,null,null,null,null,"","","","","","","","","","","","","","","","","","","","","","","","","","","","","",""]
[null,null,null,null,null,null,null,null,null,null,null,null,null,null,null,null,null,null,null,null,null,"","","","","","","","","","","","","","","","","","","","","","","","","","","","","",""]
[null,null,null,null,null,null,null,null,null,null,null,null,null,null,null,""]
[null,null,null,null,null,null,null,null,null,null,null,null,null,null,null,""]
[null,null,null,null,null,null,null,null,null,null,null,null,null,null,null,""]
[null,null,null,null,null,null,null,null,null,null,null,null,null,null,null,""]
[null,null,null,null,null,null,null,null,null,null,null,null,null,null,null,{"$f":"K161&M161&N161","v":""}]

{"sheet":"10月","index":9,"n_rows":161,"n_cols":52,"rows_kept":161,"cut":false,"hidden":false,"merged":[[48,41,48,42],[102,12,102,13],[110,12,110,13],[109,12,109,13],[106,12,106,13],[103,12,103,13],[104,12,104,13],[110,25,110,26],[110,28,110,29],[110,30,110,31],[110,33,110,34],[109,25,109,26],[109,28,109,29],[109,30,109,31],[107,30,107,31],[106,14,106,15],[106,17,106,18],[105,14,105,15],[105,17,105,18],[107,33,107,34],[104,20,104,21],[104,36,104,37],[104,22,104,23],[104,25,104,26],[112,33,112,34],[129,2,129,4],[129,6,129,8],[112,25,112,26],[112,28,112,29],[112,30,112,31],[111,12,111,13],[111,14,111,15],[111,25,111,26],[111,28,111,29],[111,30,111,31],[111,33,111,34],[105,27,112,27],[105,28,105,29],[109,33,109,34],[108,17,108,18],[108,20,108,21],[106,25,106,26],[105,33,105,34],[106,28,106,29],[108,33,108,34],[106,33,106,34],[106,20,106,21],[106,22,106,23],[49,3,49,4],[49,6,49,7],[108,30,108,31],[130,0,132,0],[130,2,130,4],[130,7,130,8],[105,11,112,11],[105,12,105,13],[107,12,107,13],[108,12,108,13],[108,14,108,15],[129,10,129,12],[112,22,112,23],[112,12,112,13],[112,14,112,15],[112,17,112,18],[112,20,112,21],[111,17,111,18],[111,20,111,21],[111,22,111,23],[105,30,105,31],[109,17,109,18],[109,20,109,21],[109,22,109,23],[104,28,104,29],[104,30,104,31],[104,38,104,39],[104,33,104,34],[106,30,106,31],[105,22,105,23],[105,25,105,26],[130,10,130,11],[130,13,130,14],[109,14,109,15],[107,28,107,29],[110,14,110,15],[110,17,110,18],[110,20,110,21],[107,17,107,18],[108,22,108,23],[108,25,108,26],[108,28,108,29],[107,20,107,21],[107,22,107,23],[107,14,107,15],[105,19,112,19],[105,20,105,21],[110,22,110,23],[107,25,107,26],[103,41,103,42],[104,41,104,42],[103,30,103,31],[103,33,103,34],[103,36,103,37],[103,38,103,39],[103,14,103,15],[103,17,103,18],[103,20,103,21],[97,35,104,35],[97,36,97,37],[97,38,97,39],[97,41,97,42],[98,36,98,37],[98,38,98,39],[98,41,98,42],[99,36,99,37],[102,33,102,34],[102,14,102,15],[102,17,102,18],[102,20,102,21],[103,22,103,23],[103,25,103,26],[103,28,103,29],[102,36,102,37],[102,38,102,39],[102,41,102,42],[102,22,102,23],[102,25,102,26],[102,28,102,29],[102,30,102,31],[101,33,101,34],[101,36,101,37],[101,38,101,39],[101,41,101,42],[101,22,101,23],[101,25,101,26],[101,28,101,29],[101,30,101,31],[97,27,104,27],[97,28,97,29],[100,33,100,34],[100,36,100,37],[100,22,100,23],[100,25,100,26],[100,28,100,29],[100,30,100,31],[100,38,100,39],[100,41,100,42],[101,20,101,21],[99,38,99,39],[99,41,99,42],[97,33,97,34],[98,28,98,29],[98,30,98,31],[98,33,98,34],[99,33,99,34],[97,30,97,31],[99,28,99,29],[99,30,99,31],[97,22,97,23],[97,25,97,26],[98,20,98,21],[98,22,98,23],[98,25,98,26],[99,20,99,21],[99,22,99,23],[99,25,99,26],[97,11,104,11],[97,12,97,13],[97,14,97,15],[97,17,97,18],[98,12,98,13],[98,14,98,15],[98,17,98,18],[99,12,99,13],[99,14,99,15],[99,17,99,18],[104,14,104,15],[104,17,104,18],[96,36,96,37],[96,38,96,39],[96,41,96,42],[96,22,96,23],[96,25,96,26],[96,28,96,29],[96,30,96,31],[96,12,96,13],[96,14,96,15],[96,17,96,18],[96,20,96,21],[89,11,96,11],[100,12,100,13],[100,14,100,15],[100,17,100,18],[100,20,100,21],[97,19,104,19],[97,20,97,21],[101,12,101,13],[101,14,101,15],[101,17,101,18],[95,12,95,13],[95,14,95,15],[95,17,95,18],[95,20,95,21],[94,12,94,13],[94,14,94,15],[94,17,94,18],[94,20,94,21],[89,14,89,15],[89,17,89,18],[90,12,90,13],[90,14,90,15],[90,17,90,18],[91,12,91,13],[95,38,95,39],[95,41,95,42],[95,22,95,23],[95,25,95,26],[95,28,95,29],[95,30,95,31],[94,33,94,34],[94,36,94,37],[94,38,94,39],[94,41,94,42],[94,22,94,23],[94,25,94,26],[94,28,94,29],[94,30,94,31],[95,36,95,37],[91,14,91,15],[91,17,91,18],[93,33,93,34],[93,36,93,37],[93,12,93,13],[93,14,93,15],[93,17,93,18],[93,20,93,21],[93,38,93,39],[92,17,92,18],[92,20,92,21],[92,12,92,13],[92,14,92,15],[93,41,93,42],[93,22,93,23],[93,25,93,26],[93,28,93,29],[93,30,93,31],[92,33,92,34],[92,36,92,37],[92,38,92,39],[92,41,92,42],[89,35,96,35],[89,36,89,37],[89,38,89,39],[89,41,89,42],[90,36,90,37],[90,38,90,39],[92,22,92,23],[92,25,92,26],[90,41,90,42],[91,36,91,37],[91,38,91,39],[91,41,91,42],[90,22,90,23],[90,25,90,26],[89,33,89,34],[90,28,90,29],[90,30,90,31],[90,33,90,34],[91,33,91,34],[89,19,96,19],[89,20,89,21],[89,22,89,23],[89,25,89,26],[90,20,90,21],[91,20,91,21],[91,22,91,23],[92,28,92,29],[92,30,92,31],[89,27,96,27],[89,28,89,29],[89,30,89,31],[91,28,91,29],[91,30,91,31],[91,25,91,26],[95,33,95,34],[96,33,96,34],[88,41,88,42],[88,22,88,23],[88,25,88,26],[88,28,88,29],[88,30,88,31],[88,12,88,13],[88,14,88,15],[88,17,88,18],[88,20,88,21],[87,12,87,13],[87,14,87,15],[87,17,87,18],[87,20,87,21],[87,38,87,39],[87,41,87,42],[87,22,87,23],[87,25,87,26],[87,28,87,29],[87,30,87,31],[86,41,86,42],[85,36,85,37],[85,38,85,39],[85,41,85,42],[85,33,85,34],[86,12,86,13],[86,14,86,15],[86,17,86,18],[86,20,86,21],[86,22,86,23],[86,25,86,26],[86,28,86,29],[85,12,85,13],[85,14,85,15],[85,17,85,18],[85,20,85,21],[85,22,85,23],[85,25,85,26],[85,28,85,29],[81,30,81,31],[86,30,86,31],[85,30,85,31],[83,33,83,34],[86,33,86,34],[86,36,86,37],[86,38,86,39],[88,33,88,34],[88,36,88,37],[88,38,88,39],[82,33,82,34],[82,30,82,31],[84,33,84,34],[87,33,87,34],[87,36,87,37],[83,20,83,21],[83,22,83,23],[83,25,83,26],[83,28,83,29],[83,30,83,31],[82,20,82,21],[82,22,82,23],[83,41,83,42],[84,12,84,13],[84,14,84,15],[84,17,84,18],[84,20,84,21],[84,22,84,23],[84,25,84,26],[84,28,84,29],[84,30,84,31],[84,38,84,39],[82,25,82,26],[82,28,82,29],[84,41,84,42],[78,41,78,42],[79,3,79,4],[79,6,79,7],[79,12,79,13],[79,14,79,15],[79,17,79,18],[79,41,79,42],[79,20,79,21],[79,22,79,23],[79,25,79,26],[79,28,79,29],[78,30,78,31],[78,33,78,34],[79,30,79,31],[79,33,79,34],[78,20,78,21],[81,41,81,42],[82,12,82,13],[82,14,82,15],[82,17,82,18],[81,33,81,34],[81,35,88,35],[81,36,81,37],[81,38,81,39],[82,36,82,37],[82,38,82,39],[83,36,83,37],[83,38,83,39],[84,36,84,37],[81,20,81,21],[81,22,81,23],[81,25,81,26],[81,27,88,27],[81,28,81,29],[81,17,81,18],[81,19,88,19],[82,41,82,42],[83,12,83,13],[83,14,83,15],[83,17,83,18],[76,41,76,42],[75,41,75,42],[76,17,76,18],[76,20,76,21],[80,41,80,42],[73,41,73,42],[74,30,74,31],[75,30,75,31],[76,30,76,31],[77,28,77,29],[77,30,77,31],[74,25,74,26],[74,28,74,29],[73,25,73,26],[80,36,80,37],[80,28,80,29],[80,30,80,31],[80,33,80,34],[80,38,80,39],[73,27,80,27],[74,20,74,21],[74,22,74,23],[74,41,74,42],[78,17,78,18],[73,28,73,29],[73,30,73,31],[78,28,78,29],[75,22,75,23],[75,25,75,26],[75,28,75,29],[76,22,76,23],[73,36,73,37],[73,38,73,39],[74,33,74,34],[74,36,74,37],[74,38,74,39],[75,33,75,34],[75,36,75,37],[75,38,75,39],[73,33,73,34],[73,35,80,35],[73,22,73,23],[78,36,78,37],[78,38,78,39],[78,22,78,23],[78,25,78,26],[77,38,77,39],[77,36,77,37],[76,36,76,37],[76,38,76,39],[80,22,80,23],[80,25,80,26],[79,36,79,37],[79,38,79,39],[77,33,77,34],[76,33,76,34],[76,25,76,26],[76,28,76,29],[77,17,77,18],[75,14,75,15],[75,17,75,18],[75,20,75,21],[76,3,76,4],[76,6,76,7],[76,12,76,13],[76,14,76,15],[75,3,75,4],[75,6,75,7],[73,19,80,19],[73,20,73,21],[80,12,80,13],[80,14,80,15],[80,17,80,18],[80,20,80,21],[72,3,72,4],[72,6,72,7],[72,12,72,13],[72,14,72,15],[72,17,72,18],[72,41,72,42],[71,17,71,18],[72,20,72,21],[72,22,72,23],[72,25,72,26],[72,28,72,29],[71,30,71,31],[71,20,71,21],[71,22,71,23],[72,30,72,31],[71,36,71,37],[71,38,71,39],[72,36,72,37],[72,38,72,39],[77,41,77,42],[73,3,73,4],[73,6,73,7],[73,11,80,11],[73,12,73,13],[73,14,73,15],[73,17,73,18],[78,3,78,4],[78,6,78,7],[78,12,78,13],[78,14,78,15],[77,20,77,21],[77,22,77,23],[77,25,77,26],[75,12,75,13],[74,3,74,4],[74,6,74,7],[74,12,74,13],[74,14,74,15],[74,17,74,18],[77,3,77,4],[77,6,77,7],[77,12,77,13],[77,14,77,15],[70,41,70,42],[71,33,71,34],[70,33,70,34],[69,36,69,37],[69,38,69,39],[69,41,69,42],[70,3,70,4],[70,6,70,7],[70,12,70,13],[70,14,70,15],[70,17,70,18],[70,20,70,21],[70,22,70,23],[71,25,71,26],[71,28,71,29],[70,28,70,29],[71,41,71,42],[68,36,68,37],[68,38,68,39],[65,27,72,27],[65,36,65,37],[65,38,65,39],[66,33,66,34],[66,36,66,37],[66,38,66,39],[65,33,65,34],[65,35,72,35],[67,33,67,34],[68,33,68,34],[70,36,70,37],[70,38,70,39],[69,33,69,34],[72,33,72,34],[68,28,68,29],[67,30,67,31],[69,30,69,31],[65,28,65,29],[69,28,69,29],[66,28,66,29],[68,30,68,31],[70,30,70,31],[64,22,64,23],[64,25,64,26],[65,3,65,4],[65,6,65,7],[65,11,72,11],[65,12,65,13],[65,14,65,15],[65,17,65,18],[71,3,71,4],[71,6,71,7],[71,12,71,13],[71,14,71,15],[68,12,68,13],[68,14,68,15],[68,17,68,18],[68,20,68,21],[68,22,68,23],[68,25,68,26],[65,19,72,19],[65,20,65,21],[65,22,65,23],[66,25,66,26],[69,25,69,26],[70,25,70,26],[67,22,67,23],[67,25,67,26],[67,28,67,29],[67,36,67,37],[67,38,67,39],[65,41,65,42],[66,3,66,4],[66,6,66,7],[66,12,66,13],[66,14,66,15],[66,17,66,18],[66,20,66,21],[66,22,66,23],[66,30,66,31],[65,25,65,26],[65,30,65,31],[60,3,60,4],[58,3,58,4],[58,17,58,18],[58,20,58,21],[58,22,58,23],[64,30,64,31],[68,41,68,42],[69,3,69,4],[69,6,69,7],[69,12,69,13],[69,14,69,15],[69,17,69,18],[69,20,69,21],[69,22,69,23],[67,41,67,42],[68,3,68,4],[68,6,68,7],[66,41,66,42],[67,3,67,4],[67,6,67,7],[67,12,67,13],[67,14,67,15],[67,17,67,18],[67,20,67,21],[63,12,63,13],[63,14,63,15],[62,3,62,4],[62,6,62,7],[62,12,62,13],[62,14,62,15],[61,3,61,4],[61,6,61,7],[63,36,63,37],[61,12,61,13],[54,38,54,39],[58,14,58,15],[61,38,61,39],[62,30,62,31],[61,33,61,34],[54,36,54,37],[58,33,58,34],[58,36,58,37],[60,33,60,34],[52,38,52,39],[51,20,51,21],[51,22,51,23],[53,22,53,23],[62,22,62,23],[50,38,50,39],[49,33,49,34],[62,36,62,37],[55,25,55,26],[57,30,57,31],[58,30,58,31],[59,30,59,31],[60,30,60,31],[58,38,58,39],[59,38,59,39],[59,28,59,29],[56,25,56,26],[55,30,55,31],[56,28,56,29],[56,30,56,31],[56,33,56,34],[54,30,54,31],[53,38,53,39],[56,20,56,21],[55,6,55,7],[55,12,55,13],[55,14,55,15],[55,17,55,18],[55,20,55,21],[55,22,55,23],[60,22,60,23],[62,38,62,39],[61,22,61,23],[61,17,61,18],[60,6,60,7],[60,12,60,13],[60,14,60,15],[57,38,57,39],[57,33,57,34],[59,20,59,21],[59,22,59,23],[56,12,56,13],[58,25,58,26],[56,14,56,15],[56,17,56,18],[56,22,56,23],[55,41,55,42],[57,35,64,35],[57,36,57,37],[49,35,56,35],[51,41,51,42],[53,25,53,26],[56,38,56,39],[55,33,55,34],[55,36,55,37],[52,41,52,42],[51,36,51,37],[51,38,51,39],[54,41,54,42],[62,41,62,42],[60,41,60,42],[61,36,61,37],[64,41,64,42],[57,41,57,42],[60,36,60,37],[61,41,61,42],[63,41,63,42],[58,41,58,42],[64,33,64,34],[64,36,64,37],[59,41,59,42],[62,33,62,34],[60,38,60,39],[57,25,57,26],[57,27,64,27],[57,28,57,29],[61,28,61,29],[61,25,61,26],[62,25,62,26],[59,36,59,37],[64,28,64,29],[64,38,64,39],[63,38,63,39],[63,30,63,31],[63,33,63,34],[40,1,40,2],[41,1,41,2],[48,25,48,26],[48,28,48,29],[48,3,48,4],[48,6,48,7],[51,25,51,26],[51,28,51,29],[55,3,55,4],[47,1,47,9],[47,11,47,18],[47,19,47,26],[47,27,47,34],[48,20,48,21],[48,30,48,31],[48,33,48,34],[42,1,42,2],[43,1,43,2],[44,1,44,2],[46,1,46,5],[49,22,49,23],[53,20,53,21],[55,28,55,29],[49,12,49,13],[57,3,57,4],[57,6,57,7],[57,11,64,11],[57,12,57,13],[57,14,57,15],[57,17,57,18],[57,19,64,19],[56,3,56,4],[56,6,56,7],[59,6,59,7],[59,12,59,13],[59,14,59,15],[59,3,59,4],[49,11,56,11],[53,3,53,4],[58,6,58,7],[58,12,58,13],[64,17,64,18],[64,3,64,4],[64,6,64,7],[64,12,64,13],[64,14,64,15],[63,3,63,4],[63,6,63,7],[49,36,49,37],[56,41,56,42],[56,36,56,37],[48,38,48,39],[52,3,52,4],[52,6,52,7],[52,12,52,13],[52,14,52,15],[52,17,52,18],[52,20,52,21],[51,3,51,4],[51,6,51,7],[51,12,51,13],[51,14,51,15],[49,41,49,42],[50,3,50,4],[50,6,50,7],[50,12,50,13],[50,41,50,42],[49,38,49,39],[50,36,50,37],[55,38,55,39],[53,41,53,42],[48,17,48,18],[39,1,39,2],[54,28,54,29],[54,3,54,4],[54,6,54,7],[54,12,54,13],[54,14,54,15],[0,1,0,2],[0,5,0,6],[1,1,1,3],[1,4,1,6],[1,10,1,13],[1,14,1,15],[1,16,1,21],[2,10,3,11],[2,12,3,13],[2,15,3,21],[31,1,34,2],[35,1,35,2],[36,1,36,2],[37,1,37,2],[38,1,38,2],[28,1,30,2],[0,25,0,34],[53,6,53,7],[18,1,18,2],[19,1,19,2],[20,1,20,2],[21,1,22,2],[16,1,16,2],[17,1,17,2],[2,1,3,3],[1,7,1,9],[13,37,13,40],[4,37,4,40],[5,37,9,40],[10,37,10,40],[11,37,11,40],[12,37,12,40],[2,25,2,30],[3,25,3,30],[1,23,1,24],[2,23,3,24],[1,25,1,31],[1,32,1,34],[2,32,3,34],[23,1,23,2],[27,1,27,2],[53,36,53,37],[48,22,48,23],[48,36,48,37],[24,1,26,2],[52,33,52,34],[52,36,52,37],[50,20,50,21],[50,22,50,23],[50,25,50,26],[52,22,52,23],[52,25,52,26],[52,28,52,29],[48,12,48,13],[48,14,48,15],[51,33,51,34],[49,25,49,26],[49,27,56,27],[49,28,49,29],[49,30,49,31],[50,30,50,31],[51,30,51,31],[49,20,49,21],[50,28,50,29],[58,28,58,29],[60,25,60,26],[61,14,61,15],[50,14,50,15],[50,17,50,18],[49,19,56,19],[54,17,54,18],[51,17,51,18],[53,17,53,18],[60,17,60,18],[60,20,60,21],[60,28,60,29],[59,25,59,26],[49,14,49,15],[49,17,49,18],[61,20,61,21],[57,20,57,21],[54,20,54,21],[54,22,54,23],[54,25,54,26],[52,30,52,31],[160,10,160,11],[160,13,160,14],[147,28,147,29],[147,31,147,32],[139,31,139,32],[131,10,131,11],[131,13,131,14],[132,10,132,11],[132,13,132,14],[133,10,133,11],[133,13,133,14],[134,10,134,11],[134,13,134,14],[135,10,135,11],[135,13,135,14],[136,10,136,11],[136,13,136,14],[137,10,137,11],[137,13,137,14],[53,28,53,29],[53,30,53,31],[61,30,61,31],[64,20,64,21],[45,1,45,11],[81,11,88,11],[81,12,81,13],[81,14,81,15],[89,12,89,13],[50,33,50,34],[138,10,138,11],[138,13,138,14],[139,28,139,29],[53,33,53,34],[54,33,54,34],[53,12,53,13],[53,14,53,15],[59,33,59,34],[57,22,57,23],[63,25,63,26],[63,28,63,29],[62,28,62,29],[62,17,62,18],[62,20,62,21],[59,17,59,18],[63,17,63,18],[63,20,63,21],[63,22,63,23]]}
[null,"体温表",null,null,null,{"$f":"設定!$F$7","v":2017},null,"年",null,10,"月",null,null,null,null,null,null,null,null,null,null,null,null,null,null,"伊都の丘病院"]
[null,"カルテ番号",null,null,"病棟",null,null,"入院形態",null,null,"主治医",null,null,null,"　姓名",null,{"$f":"'9月'!$Q$2","v":0},null,null,null,null,null,null,"性別",null,"生年月日　",null,null,null,null,null,null,"担当Ns"]
[null,{"$f":"'9月'!B3","v":0},null,null,{"$f":"IF(COUNTIF('9月'!E3:G3,\"*\"),INDEX('9月'!E3:G3,MATCH(\"\",'9月'!E3:G3,-1)),\"\")","v":""},null,null,{"$f":"IF(COUNTIF('9月'!H3:J3,\"*\"),INDEX('9月'!H3:J3,MATCH(\"\",'9月'!H3:J3,-1)),\"\")","v":""},null,null,{"$f":"IF(COUNTIF('9月'!K3:M3,\"*\"),INDEX('9月'!K3:M3,MATCH(\"\",'9月'!K3:M3,-1)),\"\")","v":""},null,null,null,null,{"$f":"'9月'!$P$3","v":"新体温表 - バックアップ９１ー"},null,null,null,null,null,null,null,{"$f":"'9月'!$X$3","v":0},null,{"$f":"'9月'!$Z$3","v":"ここに生年月日を記入"},null,null,null,null,null,{"$f":"IF(ISERROR(DATEDIF(Z3,DATE(設定!F7,10,31),\"Y\"))=TRUE,\"\",DATEDIF(Z3,DATE(設定!F7,10,31),\"Y\"))","v":""},{"$f":"'9月'!$AG$3","v":0}]
[null,null,null,null,"/","/","/","/","/","/",null,null,null,null,null,null,null,null,null,null,null,null,null,null,null,{"$f":"SUBSTITUTE(Z3,\"ここに生年月日を記入\",\"\")","v":""},null,null,null,null,null,"歳"]
[null,null,null,null,null,null,null,null,null,null,null,null,null,null,null,null,null,null,null,null,null,null,null,null,null,null,null,null,null,null,null,null,null,null,null,null,null,{"$f":"設定!C11","v":"便利ボタン"}]
[]
[]
[]
[]
[]
[]
[null,null,null,null,null,null,null,null,null,null,null,null,null,null,null,null,null,null,null,null,null,null,null,null,null,null,null,null,null,null,null,null,null,null,null,null,null,{"$f":"設定!C18","v":" ※自動保存されます"}]
[null,null,null,null,null,null,null,null,null,null,null,null,null,null,null,null,null,null,null,null,null,null,null,null,null,null,null,null,null,null,null,null,null,null,null,null,null,{"$f":"設定!C19","v":0}]
[null,null,null,null,null,null,null,null,null,null,null,null,null,null,null,null,null,null,null,null,null,null,null,null,null,null,null,null,null,null,null,null,null,null,null,null,null,{"$f":"設定!C20","v":0}]
[]
[]
[null,"日　付",null,1,2,3,4,5,6,7,8,9,10,11,12,13,14,15,16,17,18,19,20,21,22,23,24,25,26,27,28,29,30,31,"統計"]
[null,"行　動"]
[null,"時　間"]
[null,"行　動"]
[null,"時　間",null,null,null,null,null,null,null,null,null,null,null,null,null,null,null,null,null,null,null,null,null,null,null,null,null,null,null,null,null,null,null,null,{"$f":"IF(COUNTIF(D18:AH21,\"外出\")+COUNTIF(D18:AH21,\"外泊\")=0,\"回数\",COUNTIF(D18:AH21,\"外出\")+COUNTIF(D18:AH21,\"外泊\"))","v":"回数"}]
[null,"面　会"]
[null,null,null,null,null,null,null,null,null,null,null,null,null,null,null,null,null,null,null,null,null,null,null,null,null,null,null,null,null,null,null,null,null,null,{"$f":"IF(COUNTA(D22:AH22)=0,\"回数\",COUNTA(D22:AH22))","v":"回数"}]
[null,"入　浴",null,null,null,null,null,null,null,null,null,null,null,null,null,null,null,null,null,null,null,null,null,null,null,null,null,null,null,null,null,null,null,null,{"$f":"IF(COUNTA(D24:AH24)=0,\"回数\",COUNTA(D24:AH24))","v":"回数"}]
[null,"食　事"]
[]
[null,null,null,null,null,null,null,null,null,null,null,null,null,null,null,null,null,null,null,null,null,null,null,null,null,null,null,null,null,null,null,null,null,null,{"$f":"IFERROR(INT(AVERAGE(V141:AZ143))& \"/\"&INT(AVERAGE(V144:AZ146)),\"平均\")","v":"平均"}]
[null,"便　通",null,{"$f":"IF(ISBLANK(I50),\"\",I50)","v":""},{"$f":"IF(ISBLANK(I51),\"\",I51)","v":""},{"$f":"IF(ISBLANK(I52),\"\",I52)","v":""},{"$f":"IF(ISBLANK(I53),\"\",I53)","v":""},{"$f":"IF(ISBLANK(I54),\"\",I54)","v":""},{"$f":"IF(ISBLANK(I55),\"\",I55)","v":""},{"$f":"IF(ISBLANK(I56),\"\",I56)","v":""},{"$f":"IF(ISBLANK(I57),\"\",I57)","v":""},{"$f":"IF(ISBLANK(I58),\"\",I58)","v":""},{"$f":"IF(ISBLANK(I59),\"\",I59)","v":""},{"$f":"IF(ISBLANK(I60),\"\",I60)","v":""},{"$f":"IF(ISBLANK(I61),\"\",I61)","v":""},{"$f":"IF(ISBLANK(I62),\"\",I62)","v":""},{"$f":"IF(ISBLANK(I63),\"\",I63)","v":""},{"$f":"IF(ISBLANK(I64),\"\",I64)","v":""},{"$f":"IF(ISBLANK(I65),\"\",I65)","v":""},{"$f":"IF(ISBLANK(I66),\"\",I66)","v":""},{"$f":"IF(ISBLANK(I67),\"\",I67)","v":""},{"$f":"IF(ISBLANK(I68),\"\",I68)","v":""},{"$f":"IF(ISBLANK(I69),\"\",I69)","v":""},{"$f":"IF(ISBLANK(I70),\"\",I70)","v":""},{"$f":"IF(ISBLANK(I71),\"\",I71)","v":""},{"$f":"IF(ISBLANK(I72),\"\",I72)","v":""},{"$f":"IF(ISBLANK(I73),\"\",I73)","v":""},{"$f":"IF(ISBLANK(I74),\"\",I74)","v":""},{"$f":"IF(ISBLANK(I75),\"\",I75)","v":""},{"$f":"IF(ISBLANK(I76),\"\",I76)","v":""},{"$f":"IF(ISBLANK(I77),\"\",I77)","v":""},{"$f":"IF(ISBLANK(I78),\"\",I78)","v":""},{"$f":"IF(ISBLANK(I79),\"\",I79)","v":""},{"$f":"IF(ISBLANK(I80),\"\",I80)","v":""},{"$f":"IF(COUNTIF(D28:AH28,0)=0,\"回数\",COUNTIF(D28:AH28,0))","v":"回数"}]
[null,"便処置"]
[null,null,null,"　",null,null,null,null,null,null,null,null,null,null,null,null,null,null,null,null,null,null,null,null,null,null,null,null,null,null,null,null,null,null,{"$f":"IF(SUM(V136:AZ138)=0,\"滴数\",SUM(V136:AZ138))","v":"滴数"}]
[null,null,null,null,null,null,null,null,null,null,null,null,null,null,null,null,null,null,null,null,null,null,null,null,null,null,null,null,null,null,null,null,null,null,{"$f":"IF(AI30=\"滴数\",\"本数\",AI30/150)","v":"本数"}]
[null,"血　圧",null,{"$f":"$R$50","v":0},{"$f":"$R$58","v":0},{"$f":"R66","v":0},{"$f":"R74","v":0},{"$f":"R82","v":0},{"$f":"R90","v":0},{"$f":"R98","v":0},{"$f":"R106","v":0},{"$f":"Z50","v":0},{"$f":"Z58","v":0},{"$f":"Z66","v":0},{"$f":"Z74","v":0},{"$f":"Z82","v":0},{"$f":"Z90","v":0},{"$f":"Z98","v":0},{"$f":"Z106","v":0},{"$f":"AH50","v":0},{"$f":"AH58","v":0},{"$f":"AH66","v":0},{"$f":"AH74","v":0},{"$f":"AH82","v":0},{"$f":"AH90","v":0},{"$f":"AH98","v":0},{"$f":"AH106","v":0},{"$f":"AP50","v":0},{"$f":"AP58","v":0},{"$f":"AP66","v":0},{"$f":"AP74","v":0},{"$f":"AP82","v":0},{"$f":"AP90","v":0},{"$f":"AP98","v":0}]
[null,null,null,{"$f":" IF(ISERROR($R$51),\"\",($R$51))","v":""},{"$f":" IF(ISERROR($R$59),\"\",($R$59))","v":""},{"$f":" IF(ISERROR($R$67),\"\",($R$67))","v":""},{"$f":" IF(ISERROR($R$75),\"\",($R$75))","v":""},{"$f":" IF(ISERROR($R$83),\"\",($R$83))","v":""},{"$f":" IF(ISERROR($R$91),\"\",($R$91))","v":""},{"$f":" IF(ISERROR($R$99),\"\",($R$99))","v":""},{"$f":" IF(ISERROR($R$107),\"\",($R$107))","v":""},{"$f":" IF(ISERROR($Z$51),\"\",($Z$51))","v":""},{"$f":" IF(ISERROR($Z$59),\"\",($Z$59))","v":""},{"$f":" IF(ISERROR($Z$67),\"\",($Z$67))","v":""},{"$f":" IF(ISERROR($Z$75),\"\",($Z$75))","v":""},{"$f":" IF(ISERROR($Z$83),\"\",($Z$83))","v":""},{"$f":" IF(ISERROR($Z$91),\"\",($Z$91))","v":""},{"$f":" IF(ISERROR($Z$99),\"\",($Z$99))","v":""},{"$f":" IF(ISERROR($Z$107),\"\",($Z$107))","v":""},{"$f":" IF(ISERROR($AH$51),\"\",($AH$51))","v":""},{"$f":" IF(ISERROR($AH$59),\"\",($AH$59))","v":""},{"$f":" IF(ISERROR($AH$67),\"\",($AH$67))","v":""},{"$f":" IF(ISERROR($AH$75),\"\",($AH$75))","v":""},{"$f":" IF(ISERROR($AH$83),\"\",($AH$83))","v":""},{"$f":" IF(ISERROR($AH$91),\"\",($AH$91))","v":""},{"$f":" IF(ISERROR($AH$99),\"\",($AH$99))","v":""},{"$f":" IF(ISERROR($AH$107),\"\",($AH$107))","v":""},{"$f":" IF(ISERROR($AP$51),\"\",($AP$51))","v":""},{"$f":" IF(ISERROR($AP$59),\"\",($AP$59))","v":""},{"$f":" IF(ISERROR($AP$67),\"\",($AP$67))","v":""},{"$f":" IF(ISERROR($AP$75),\"\",($AP$75))","v":""},{"$f":" IF(ISERROR($AP$83),\"\",($AP$83))","v":""},{"$f":" IF(ISERROR($AP$91),\"\",($AP$91))","v":""},{"$f":" IF(ISERROR($AP$99),\"\",($AP$99))","v":""}]
[null,null,null,{"$f":"$R$52","v":0},{"$f":"$R$60","v":0},{"$f":"R68","v":0},{"$f":"R76","v":0},{"$f":"R84","v":0},{"$f":"R92","v":0},{"$f":"R100","v":0},{"$f":"R108","v":0},{"$f":"Z52","v":0},{"$f":"Z60","v":0},{"$f":"Z68","v":0},{"$f":"Z76","v":0},{"$f":"Z84","v":0},{"$f":"Z92","v":0},{"$f":"Z100","v":0},{"$f":"Z108","v":0},{"$f":"AH52","v":0},{"$f":"AH60","v":0},{"$f":"AH68","v":0},{"$f":"AH76","v":0},{"$f":"AH84","v":0},{"$f":"AH92","v":0},{"$f":"AH100","v":0},{"$f":"AH108","v":0},{"$f":"AP52","v":0},{"$f":"AP60","v":0},{"$f":"AP68","v":0},{"$f":"AP76","v":0},{"$f":"AP84","v":0},{"$f":"AP92","v":0},{"$f":"AP100","v":0}]
[null,null,null,{"$f":"$R$53","v":0},{"$f":"$R$61","v":0},{"$f":"R69","v":0},{"$f":"R77","v":0},{"$f":"R85","v":0},{"$f":"R93","v":0},{"$f":"R101","v":0},{"$f":"R109","v":0},{"$f":"Z53","v":0},{"$f":"Z61","v":0},{"$f":"Z69","v":0},{"$f":"Z77","v":0},{"$f":"Z85","v":0},{"$f":"Z93","v":0},{"$f":"Z101","v":0},{"$f":"Z109","v":0},{"$f":"AH53","v":0},{"$f":"AH61","v":0},{"$f":"AH69","v":0},{"$f":"AH77","v":0},{"$f":"AH85","v":0},{"$f":"AH93","v":0},{"$f":"AH101","v":0},{"$f":"AH109","v":0},{"$f":"AP53","v":0},{"$f":"AP61","v":0},{"$f":"AP69","v":0},{"$f":"AP77","v":0},{"$f":"AP85","v":0},{"$f":"AP93","v":0},{"$f":"AP101","v":0},{"$f":"IFERROR(INT(AVERAGE(V149:AZ152))& \"/\"&INT(AVERAGE(V153:AZ156)),\"平均\")","v":"平均"}]
[null,"食事箋",null,{"$f":"IF(COUNTIF('9月'!D36:AH36,\"*\"),INDEX('9月'!D36:AH36,MATCH(\"\",'9月'!D36:AH36,-1)),\"\")","v":""}]
[null,"形　態",null,{"$f":"IF(COUNTIF('9月'!D37:AH37,\"*\"),INDEX('9月'!D37:AH37,MATCH(\"\",'9月'!D37:AH37,-1)),\"\")","v":""}]
[null,"身　長",null,{"$f":"IF(COUNT('9月'!D38:AH38),LOOKUP(MAX('9月'!D38:AH38)+1,'9月'!D38:AH38),\"\")","v":""},null,null,null,null,null,null,null,null,null,null,null,null,null,null,null,null,null,null,null,null,null,null,null,null,null,null,null,null,null,null,"BMI"]
[null,"体　重",null,null,null,null,null,null,null,null,null,null,null,null,null,null,null,null,null,null,null,null,null,null,null,null,null,null,null,null,null,null,null,null,{"$f":"IF(ISERROR(INDEX(D39:AH39,MATCH(307,D39:AH39))/(INDEX(D38:AH38,MATCH(9E+307,D38:AH38))/100)^2)=TRUE,\"\",INDEX(D39:AH39,MATCH(307,D39:AH39))/(INDEX(D38:AH38,MATCH(9E+307,D38:AH38))/100)^2)","v":""}]
[null,"Ｉ　Ｎ",null,null,null,null,null,null,null,null,null,null,null,null,null,null,null,null,null,null,null,null,null,null,null,null,null,null,null,null,null,null,null,null,{"$f":"IFERROR(INT(AVERAGE(D40:AH40)),\"平均\")","v":"平均"}]
[null,"ＯＵＴ",null,null,null,null,null,null,null,null,null,null,null,null,null,null,null,null,null,null,null,null,null,null,null,null,null,null,null,null,null,null,null,null,{"$f":"IFERROR(INT(AVERAGE(D41:AH41)),\"平均\")","v":"平均"}]
[null,"生　理",null,null,null,null,null,null,null,null,null,null,null,null,null,null,null,null,null,null,null,null,null,null,null,null,null,null,null,null,null,null,null,null,{"$f":"IF(ISERROR(IF(H132-MATCH(\"*\",D42:AH42,0)=0,\"0日目\",IF(H133=J1,IF(ISERROR(H132-MATCH(\"*\",D42:AH42,0)),\"日数\",H132-MATCH(\"*\",D42:AH42,0)),\"日数\"))),\"日数\",(IF(H132-MATCH(\"*\",D42:AH42,0)=0,\"0日目\",IF(H133=J1,IF(ISERROR(H132-MATCH(\"*\",D42:AH42,0)),\"日数\",H132-MATCH(\"*\",D42:AH42,0)),\"日数\"))))","v":"日数"}]
[null,null,null,null,null,null,null,null,null,null,null,null,null,null,null,null,null,null,null,null,null,null,null,null,null,null,null,null,null,null,null,null,null,null,{"$f":"COUNTA(D43:AH43)","v":0}]
[null,null,null,null,null,null,null,null,null,null,null,null,null,null,null,null,null,null,null,null,null,null,null,null,null,null,null,null,null,null,null,null,null,null,{"$f":"COUNTA(D44:AH44)","v":0}]
[null,"日　付",null,1,2,3,4,5,6,7,8,9,10,11,12,13,14,15,16,17,18,19,20,21,22,23,24,25,26,27,28,29,30,31]
[null,"Enterキーで右方向に移動します。便もEnterで右上に移動します。"]
[null,{"$f":"$P$3","v":"新体温表 - バックアップ９１ー"},null,null,null,null,null,{"$f":"YEAR(I47)","v":2016},{"$f":"TODAY()","v":"2016-06-08"},{"$f":"TODAY()","v":42529},null,{"$f":"NOW()","v":42529.688973263888}]
[null,"平常時記入",null,null,null,null,null,null,null,null,null,"熱発時記入"]
[null,"日","時間","T",null," P","BP",null,"便",null,null,"日","時間",null,"T",null,"P","BP",null,"日","時間",null,"T",null,"P","BP",null,"日","時間",null,"T",null,"P","BP",null,"日","時間",null,"T",null,"P","BP"]
[null,1,"09:00:00",null,null,null,null,null,null,null,null,1,null,null,null,null,null,null,null,9,null,null,null,null,null,null,null,17,null,null,null,null,null,null,null,25]
[null,2,"09:00:00",null,null,null,null,null,null,null,null,null,"09:00:00",null,{"$f":"IF($D$50=\"\",NA(),$D$50)","v":{"$error":"#N/A"}},null,{"$f":"IF($F$50=\"\",NA(),$F$50)","v":{"$error":"#N/A"}},{"$f":"IF($G$50=\"\",NA(),$G$50)","v":{"$error":"#N/A"}},null,null,"09:00:00",null,{"$f":"IF($D$58=\"\",NA(),$D$58)","v":{"$error":"#N/A"}},null,{"$f":"IF($F$58=\"\",NA(),$F$58)","v":{"$error":"#N/A"}},{"$f":"IF($G$58=\"\",NA(),$G$58)","v":{"$error":"#N/A"}},null,null,"09:00:00",null,{"$f":"IF($D$66=\"\",NA(),$D$66)","v":{"$error":"#N/A"}},null,{"$f":"IF($F$66=\"\",NA(),$F$66)","v":{"$error":"#N/A"}},{"$f":"IF($G$66=\"\",NA(),$G$66)","v":{"$error":"#N/A"}},null,null,"09:00:00",null,{"$f":"IF($D$74=\"\",NA(),$D$74)","v":{"$error":"#N/A"}},null,{"$f":"IF($F$74=\"\",NA(),$F$74)","v":{"$error":"#N/A"}},{"$f":"IF($G$74=\"\",NA(),$G$74)","v":{"$error":"#N/A"}}]
[null,3,"09:00:00",null,null,null,null,null,null,"☆"]
[null,4,"09:00:00"]
[null,5,"09:00:00",null,null,null,null,null,null,"コ"]
[null,6,"09:00:00",null,null,null,null,null,null,"ス"]
[null,7,"09:00:00",null,null,null,null,null,null,"モ"]
[null,8,"09:00:00",null,null,null,null,null,null,"ス"]
[null,9,"09:00:00",null,null,null,null,null,null,"へ",null,2,null,null,null,null,null,null,null,10,null,null,null,null,null,null,null,18,null,null,null,null,null,null,null,26]
[null,10,"09:00:00",null,null,null,null,null,null,"戻",null,null,"09:00:00",null,{"$f":"IF($D$51=\"\",NA(),$D$51)","v":{"$error":"#N/A"}},null,{"$f":"IF($F$51=\"\",NA(),$F$51)","v":{"$error":"#N/A"}},{"$f":"IF($G$51=\"\",NA(),$G$51)","v":{"$error":"#N/A"}},null,null,"09:00:00",null,{"$f":"IF($D$59=\"\",NA(),$D$59)","v":{"$error":"#N/A"}},null,{"$f":"IF($F$59=\"\",NA(),$F$59)","v":{"$error":"#N/A"}},{"$f":"IF($G$59=\"\",NA(),$G$59)","v":{"$error":"#N/A"}},null,null,"09:00:00",null,{"$f":"IF($D$67=\"\",NA(),$D$67)","v":{"$error":"#N/A"}},null,{"$f":"IF($F$67=\"\",NA(),$F$67)","v":{"$error":"#N/A"}},{"$f":"IF($G$67=\"\",NA(),$G$67)","v":{"$error":"#N/A"}},null,null,"09:00:00",null,{"$f":"IF($D$75=\"\",NA(),$D$75)","v":{"$error":"#N/A"}},null,{"$f":"IF($F$75=\"\",NA(),$F$75)","v":{"$error":"#N/A"}},{"$f":"IF($G$75=\"\",NA(),$G$75)","v":{"$error":"#N/A"}}]
[null,11,"09:00:00",null,null,null,null,null,null,"る"]
[null,12,"09:00:00"]
[null,13,"09:00:00"]
[null,14,"09:00:00",null,null,null,null,null,null,"（"]
[null,15,"09:00:00",null,null,null,null,null,null,"選"]
[null,16,"09:00:00",null,null,null,null,null,null,"択"]
[null,17,"09:00:00",null,null,null,null,null,null,"す",null,3,null,null,null,null,null,null,null,11,null,null,null,null,null,null,null,19,null,null,null,null,null,null,null,27]
[null,18,"09:00:00",null,null,null,null,null,null,"る",null,null,"09:00:00",null,{"$f":"IF($D$52=\"\",NA(),$D$52)","v":{"$error":"#N/A"}},null,{"$f":"IF($F$52=\"\",NA(),$F$52)","v":{"$error":"#N/A"}},{"$f":"IF($G$52=\"\",NA(),$G$52)","v":{"$error":"#N/A"}},null,null,"09:00:00",null,{"$f":"IF($D$60=\"\",NA(),$D$60)","v":{"$error":"#N/A"}},null,{"$f":"IF($F$60=\"\",NA(),$F$60)","v":{"$error":"#N/A"}},{"$f":"IF($G$60=\"\",NA(),$G$60)","v":{"$error":"#N/A"}},null,null,"09:00:00",null,{"$f":"IF($D$68=\"\",NA(),$D$68)","v":{"$error":"#N/A"}},null,{"$f":"IF($F$68=\"\",NA(),$F$68)","v":{"$error":"#N/A"}},{"$f":"IF($G$68=\"\",NA(),$G$68)","v":{"$error":"#N/A"}},null,null,"09:00:00",null,{"$f":"IF($D$76=\"\",NA(),$D$76)","v":{"$error":"#N/A"}},null,{"$f":"IF($F$76=\"\",NA(),$F$76)","v":{"$error":"#N/A"}},{"$f":"IF($G$76=\"\",NA(),$G$76)","v":{"$error":"#N/A"}}]
[null,19,"09:00:00",null,null,null,null,null,null,"だ"]
[null,20,"09:00:00",null,null,null,null,null,null,"け"]
[null,21,"09:00:00",null,null,null,null,null,null,"で"]
[null,22,"09:00:00",null,null,null,null,null,null,"移"]
[null,23,"09:00:00",null,null,null,null,null,null,"動"]
[null,24,"09:00:00",null,null,null,null,null,null,"し"]
[null,25,"09:00:00",null,null,null,null,null,null,"ま",null,4,null,null,null,null,null,null,null,12,null,null,null,null,null,null,null,20,null,null,null,null,null,null,null,28]
[null,26,"09:00:00",null,null,null,null,null,null,"す",null,null,"09:00:00",null,{"$f":"IF($D$53=\"\",NA(),$D$53)","v":{"$error":"#N/A"}},null,{"$f":"IF($F$53=\"\",NA(),$F$53)","v":{"$error":"#N/A"}},{"$f":"IF($G$53=\"\",NA(),$G$53)","v":{"$error":"#N/A"}},null,null,"09:00:00",null,{"$f":"IF($D$61=\"\",NA(),$D$61)","v":{"$error":"#N/A"}},null,{"$f":"IF($F$61=\"\",NA(),$F$61)","v":{"$error":"#N/A"}},{"$f":"IF($G$61=\"\",NA(),$G$61)","v":{"$error":"#N/A"}},null,null,"09:00:00",null,{"$f":"IF($D$69=\"\",NA(),$D$69)","v":{"$error":"#N/A"}},null,{"$f":"IF($F$69=\"\",NA(),$F$69)","v":{"$error":"#N/A"}},{"$f":"IF($G$69=\"\",NA(),$G$69)","v":{"$error":"#N/A"}},null,null,"09:00:00",null,{"$f":"IF($D$77=\"\",NA(),$D$77)","v":{"$error":"#N/A"}},null,{"$f":"IF($F$77=\"\",NA(),$F$77)","v":{"$error":"#N/A"}},{"$f":"IF($G$77=\"\",NA(),$G$77)","v":{"$error":"#N/A"}}]
[null,27,"09:00:00",null,null,null,null,null,null,"）"]
[null,28,"09:00:00"]
[null,29,"09:00:00"]
[null,30,"09:00:00"]
[null,31,"09:00:00"]
[]
[null,null,null,null,null,null,null,null,null,null,null,5,null,null,null,null,null,null,null,13,null,null,null,null,null,null,null,21,null,null,null,null,null,null,null,29]
[null,null,null,null,null,null,null,null,null,null,null,null,"09:00:00",null,{"$f":"IF($D$54=\"\",NA(),$D$54)","v":{"$error":"#N/A"}},null,{"$f":"IF($F$54=\"\",NA(),$F$54)","v":{"$error":"#N/A"}},{"$f":"IF($G$54=\"\",NA(),$G$54)","v":{"$error":"#N/A"}},null,null,"09:00:00",null,{"$f":"IF($D$62=\"\",NA(),$D$62)","v":{"$error":"#N/A"}},null,{"$f":"IF($F$62=\"\",NA(),$F$62)","v":{"$error":"#N/A"}},{"$f":"IF($G$62=\"\",NA(),$G$62)","v":{"$error":"#N/A"}},null,null,"09:00:00",null,{"$f":"IF($D$70=\"\",NA(),$D$70)","v":{"$error":"#N/A"}},null,{"$f":"IF($F$70=\"\",NA(),$F$70)","v":{"$error":"#N/A"}},{"$f":"IF($G$70=\"\",NA(),$G$70)","v":{"$error":"#N/A"}},null,null,"09:00:00",null,{"$f":"IF($D$78=\"\",NA(),$D$78)","v":{"$error":"#N/A"}},null,{"$f":"IF($F$78=\"\",NA(),$F$78)","v":{"$error":"#N/A"}},{"$f":"IF($G$78=\"\",NA(),$G$78)","v":{"$error":"#N/A"}}]
[]
[]
[]
[]
[]
[]
[null,null,null,null,null,null,null,null,null,null,null,6,null,null,null,null,null,null,null,14,null,null,null,null,null,null,null,22,null,null,null,null,null,null,null,30]
[null,null,null,null,null,null,null,null,null,null,null,null,"09:00:00",null,{"$f":"IF($D$55=\"\",NA(),$D$55)","v":{"$error":"#N/A"}},null,{"$f":"IF($F$55=\"\",NA(),$F$55)","v":{"$error":"#N/A"}},{"$f":"IF($G$55=\"\",NA(),$G$55)","v":{"$error":"#N/A"}},null,null,"09:00:00",null,{"$f":"IF($D$63=\"\",NA(),$D$63)","v":{"$error":"#N/A"}},null,{"$f":"IF($F$63=\"\",NA(),$F$63)","v":{"$error":"#N/A"}},{"$f":"IF($G$63=\"\",NA(),$G$63)","v":{"$error":"#N/A"}},null,null,"09:00:00",null,{"$f":"IF($D$71=\"\",NA(),$D$71)","v":{"$error":"#N/A"}},null,{"$f":"IF($F$71=\"\",NA(),$F$71)","v":{"$error":"#N/A"}},{"$f":"IF($G$71=\"\",NA(),$G$71)","v":{"$error":"#N/A"}},null,null,"09:00:00",null,{"$f":"IF($D$79=\"\",NA(),$D$79)","v":{"$error":"#N/A"}},null,{"$f":"IF($F$79=\"\",NA(),$F$79)","v":{"$error":"#N/A"}},{"$f":"IF($G$79=\"\",NA(),$G$79)","v":{"$error":"#N/A"}}]
[]
[]
[]
[]
[]
[]
[null,null,null,null,null,null,null,null,null,null,null,7,null,null,null,null,null,null,null,15,null,null,null,null,null,null,null,23,null,null,null,null,null,null,null,31]
[null,null,null,null,null,null,null,null,null,null,null,null,"09:00:00",null,{"$f":"IF($D$56=\"\",NA(),$D$56)","v":{"$error":"#N/A"}},null,{"$f":"IF($F$56=\"\",NA(),$F$56)","v":{"$error":"#N/A"}},{"$f":"IF($G$56=\"\",NA(),$G$56)","v":{"$error":"#N/A"}},null,null,"09:00:00",null,{"$f":"IF($D$64=\"\",NA(),$D$64)","v":{"$error":"#N/A"}},null,{"$f":"IF($F$64=\"\",NA(),$F$64)","v":{"$error":"#N/A"}},{"$f":"IF($G$64=\"\",NA(),$G$64)","v":{"$error":"#N/A"}},null,null,"09:00:00",null,{"$f":"IF($D$72=\"\",NA(),$D$72)","v":{"$error":"#N/A"}},null,{"$f":"IF($F$72=\"\",NA(),$F$72)","v":{"$error":"#N/A"}},{"$f":"IF($G$72=\"\",NA(),$G$72)","v":{"$error":"#N/A"}},null,null,"09:00:00",null,{"$f":"IF($D$80=\"\",NA(),$D$80)","v":{"$error":"#N/A"}},null,{"$f":"IF($F$80=\"\",NA(),$F$80)","v":{"$error":"#N/A"}},{"$f":"IF($G$80=\"\",NA(),$G$80)","v":{"$error":"#N/A"}}]
[]
[]
[]
[]
[]
[]
[null,null,null,null,null,null,null,null,null,null,null,8,null,null,null,null,null,null,null,16,null,null,null,null,null,null,null,24]
[null,null,null,null,null,null,null,null,null,null,null,null,"09:00:00",null,{"$f":"IF($D$57=\"\",NA(),$D$57)","v":{"$error":"#N/A"}},null,{"$f":"IF($F$57=\"\",NA(),$F$57)","v":{"$error":"#N/A"}},{"$f":"IF($G$57=\"\",NA(),$G$57)","v":{"$error":"#N/A"}},null,null,"09:00:00",null,{"$f":"IF($D$65=\"\",NA(),$D$65)","v":{"$error":"#N/A"}},null,{"$f":"IF($F$65=\"\",NA(),$F$65)","v":{"$error":"#N/A"}},{"$f":"IF($G$65=\"\",NA(),$G$65)","v":{"$error":"#N/A"}},null,null,"09:00:00",null,{"$f":"IF($D$73=\"\",NA(),$D$73)","v":{"$error":"#N/A"}},null,{"$f":"IF($F$73=\"\",NA(),$F$73)","v":{"$error":"#N/A"}},{"$f":"IF($G$73=\"\",NA(),$G$73)","v":{"$error":"#N/A"}}]
[]
[]
[]
[]
[]
[]
[]
[]
[]
[]
[]
[]
[]
[]
[]
[]
[]
[]
[]
[]
[]
[null,null,"Enterで入力画面へ"]
[null,null,"ｶｰｿﾙ初期位置",null,null,null,"日付チェック",null,null,null,"バイタルコピー"]
["管理欄",null,"入力に入る",null,null,null,"今日",{"$f":"NOW()","v":"2016-06-08T16:32:07.290"},null,null,"T=未測定",null," P=未測定"," BP=未測定",null,{"$f":"K131&M131&N131","v":"T=未測定 P=未測定 BP=未測定"},"   "]
[null,null,null,null,null,null,"日",{"$f":"DAY(H131)","v":8},null,null,null,null,null,null,null,"",null,null,null,null,"シンラック"]
[null,null,null,null,null,null,"月",{"$f":"MONTH(H131)","v":6},null,null,null,null,null,null,null,"",null,null,null,null,"なし"]
[null,null,null,null,null,null,"年",{"$f":"YEAR(H131)","v":2016},null,null,null,null,null,null,null,""]
[null,null,null,null,null,null,"時",{"$f":"HOUR(H131)","v":16},null,null,null,null,null,null,null,""]
[null,null,null,null,null,null,null,null,null,null,null,null,null,null,null,"",null,null,null,null,"Link",{"$f":"IF(ISERROR(VALUE(D29)),\"\",VALUE(D29))","v":0},0,0,0,0,0,0,0,0,0,0,0,0,0,0,0,0,0,0,0,0,0,0,0,0,0,0,0,{"$f":"IF(ISERROR(VALUE(AF29)),\"\",VALUE(AF29))","v":0},{"$f":"IF(ISERROR(VALUE(AG29)),\"\",VALUE(AG29))","v":0},0]
[null,null,null,null,null,null,null,null,null,null,null,null,null,null,null,"",null,null,null,null,null,"",0,0,0,0,0,0,0,0,0,0,0,0,0,0,0,0,0,0,0,0,0,0,0,0,0,0,0,{"$f":"IF(ISERROR(VALUE(AF30)),\"\",VALUE(AF30))","v":0},0,0]
[null,null,null,null,null,null,null,null,null,null,null,null,null,null,null,"",null,null,null,null,null,0,0,0,0,0,0,0,0,0,0,0,0,0,0,0,0,0,0,0,0,0,0,0,0,0,0,0,0,{"$f":"IF(ISERROR(VALUE(AF31)),\"\",VALUE(AF31))","v":0},0,0]
[null,null,null,null,null,null,null,null,null,null,null,null,null,null,null,""]
[null,null,null,null,null,null,null,null,null,null,null,null,null,null,null,null,null,null,null,null,"食事平均",null,null,null,null,null,null,null,null,null,null,null,null,{"$f":"AC140&AE140&AF140","v":""}]
[null,null,null,null,null,null,null,null,null,null,null,null,null,null,null,null,null,null,null,null,"左",{"$f":"IF(D25=\"\", \"\", LEFT(D25,SEARCH(\"/\",D25,1)-1)*1)","v":""},"","","","","","","","","",{"$f":"IF(N25=\"\", \"\", LEFT(N25,SEARCH(\"/\",N25,1)-1)*1)","v":""},"","","","","","","","","",{"$f":"IF(X25=\"\", \"\", LEFT(X25,SEARCH(\"/\",X25,1)-1)*1)","v":""},"","","","","","","","","",{"$f":"IF(AH25=\"\", \"\", LEFT(AH25,SEARCH(\"/\",AH25,1)-1)*1)","v":""}]
[null,null,null,null,null,null,null,null,null,null,null,null,null,null,null,null,null,null,null,null,null,"","","","","","","","","","","","","","","","","","","","","","","","","","","","","","",""]
[null,null,null,null,null,null,null,null,null,null,null,null,null,null,null,null,null,null,null,null,null,"","","","","","","","","","","","","","","","","","","","","","","","","","","","","","",""]
[null,null,null,null,null,null,null,null,null,null,null,null,null,null,null,null,null,null,null,null,"右",{"$f":"IF(D25=\"\", \"\", RIGHT(D25,LEN(D25)-FIND(\"/\",D25,1))*1)","v":""},"","","","","","","","","",{"$f":"IF(N25=\"\", \"\", RIGHT(N25,LEN(N25)-FIND(\"/\",N25,1))*1)","v":""},"","","","","","","","","",{"$f":"IF(X25=\"\", \"\", RIGHT(X25,LEN(X25)-FIND(\"/\",X25,1))*1)","v":""},"","","","","","","","","",{"$f":"IF(AH25=\"\", \"\", RIGHT(AH25,LEN(AH25)-FIND(\"/\",AH25,1))*1)","v":""}]
[null,null,null,null,null,null,null,null,null,null,null,null,null,null,null,null,null,null,null,null,null,"","","","","","","","","","","","","","","","","","","","","","","","","","","","","","",""]
[null,null,null,null,null,null,null,null,null,null,null,null,null,null,null,null,null,null,null,null,null,"","","","","","","","","","","","","","","","","","","","","","","","","","","","","","",""]
[null,null,null,null,null,null,null,null,null,null,null,null,null,null,null,null,null,null,null,null,null,null,null,null,null,null,null,null,null,null,null,null,null,{"$f":"AC147&AE147&AF147","v":""}]
[null,null,null,null,null,null,null,null,null,null,null,null,null,null,null,null,null,null,null,null,"BP平均",null,null,null,null,null,null,null,null,null,null,null,null,{"$f":"AC148&AE148&AF148","v":""}]
[null,null,null,null,null,null,null,null,null,null,null,null,null,null,null,null,null,null,null,null,"左",{"$f":"IF(ISERROR(LEFT(D32,SEARCH(\"/\",D32,1)-1)*1),\"\",LEFT(D32,SEARCH(\"/\",D32,1)-1)*1)","v":""},"","","","","","","","","",{"$f":"IF(ISERROR(LEFT(N32,SEARCH(\"/\",N32,1)-1)*1),\"\",LEFT(N32,SEARCH(\"/\",N32,1)-1)*1)","v":""},"","","","","","","","","",{"$f":"IF(ISERROR(LEFT(X32,SEARCH(\"/\",X32,1)-1)*1),\"\",LEFT(X32,SEARCH(\"/\",X32,1)-1)*1)","v":""},"","","","","","","","","",{"$f":"IF(ISERROR(LEFT(AH32,SEARCH(\"/\",AH32,1)-1)*1),\"\",LEFT(AH32,SEARCH(\"/\",AH32,1)-1)*1)","v":""}]
[null,null,null,null,null,null,null,null,null,null,null,null,null,null,null,null,null,null,null,null,null,"","","","","","","","","","","","","","","","","","","","","","","","","","","","","","",""]
[null,null,null,null,null,null,null,null,null,null,null,null,null,null,null,null,null,null,null,null,null,"","","","","","","","","","","","","","","","","","","","","","","","","","","","","","",""]
[null,null,null,null,null,null,null,null,null,null,null,null,null,null,null,null,null,null,null,null,null,"","","","","","","","","","","","","","","","","","","","","","","","","","","","","","",""]
[null,null,null,null,null,null,null,null,null,null,null,null,null,null,null,null,null,null,null,null,"右",{"$f":"IF(ISERROR(RIGHT(D32,LEN(D32)-FIND(\"/\",D32,1))*1),\"\",RIGHT(D32,LEN(D32)-FIND(\"/\",D32,1))*1)","v":""},"","","","","","","","","",{"$f":"IF(ISERROR(RIGHT(N32,LEN(N32)-FIND(\"/\",N32,1))*1),\"\",RIGHT(N32,LEN(N32)-FIND(\"/\",N32,1))*1)","v":""},"","","","","","","","","",{"$f":"IF(ISERROR(RIGHT(X32,LEN(X32)-FIND(\"/\",X32,1))*1),\"\",RIGHT(X32,LEN(X32)-FIND(\"/\",X32,1))*1)","v":""},"","","","","","","","","",{"$f":"IF(ISERROR(RIGHT(AH32,LEN(AH32)-FIND(\"/\",AH32,1))*1),\"\",RIGHT(AH32,LEN(AH32)-FIND(\"/\",AH32,1))*1)","v":""}]
[null,null,null,null,null,null,null,null,null,null,null,null,null,null,null,null,null,null,null,null,null,"","","","","","","","","","","","","","","","","","","","","","","","","","","","","","",""]
[null,null,null,null,null,null,null,null,null,null,null,null,null,null,null,null,null,null,null,null,null,"","","","","","","","","","","","","","","","","","","","","","","","","","","","","","",""]
[null,null,null,null,null,null,null,null,null,null,null,null,null,null,null,null,null,null,null,null,null,"","","","","","","","","","","","","","","","","","","","","","","","","","","","","","",""]
[null,null,null,null,null,null,null,null,null,null,null,null,null,null,null,""]
[null,null,null,null,null,null,null,null,null,null,null,null,null,null,null,""]
[null,null,null,null,null,null,null,null,null,null,null,null,null,null,null,""]
[null,null,null,null,null,null,null,null,null,null,null,null,null,null,null,""]
[null,null,null,null,null,null,null,null,null,null,null,null,null,null,null,{"$f":"K161&M161&N161","v":""}]

{"sheet":"11月","index":10,"n_rows":161,"n_cols":52,"rows_kept":161,"cut":false,"hidden":false,"merged":[[147,28,147,29],[147,31,147,32],[160,10,160,11],[160,13,160,14],[139,28,139,29],[139,31,139,32],[137,10,137,11],[137,13,137,14],[138,10,138,11],[138,13,138,14],[46,1,46,5],[52,17,52,18],[56,3,56,4],[56,6,56,7],[56,12,56,13],[56,14,56,15],[56,17,56,18],[65,12,65,13],[65,14,65,15],[65,17,65,18],[61,12,61,13],[61,14,61,15],[64,14,64,15],[64,17,64,18],[57,3,57,4],[57,6,57,7],[57,11,64,11],[60,3,60,4],[60,6,60,7],[63,3,63,4],[63,6,63,7],[58,12,58,13],[58,14,58,15],[58,17,58,18],[135,10,135,11],[135,13,135,14],[136,10,136,11],[136,13,136,14],[133,10,133,11],[133,13,133,14],[134,10,134,11],[134,13,134,14],[47,1,47,9],[47,11,47,18],[66,3,66,4],[66,6,66,7],[66,12,66,13],[49,14,49,15],[49,17,49,18],[49,11,56,11],[53,3,53,4],[53,6,53,7],[53,12,53,13],[49,12,49,13],[60,12,60,13],[60,14,60,15],[61,3,61,4],[61,6,61,7],[47,19,47,26],[48,3,48,4],[0,1,0,2],[0,5,0,6],[1,1,1,3],[1,4,1,6],[4,37,4,40],[5,37,9,40],[16,1,16,2],[17,1,17,2],[2,1,3,3],[18,1,18,2],[19,1,19,2],[20,1,20,2],[21,1,22,2],[23,1,23,2],[27,1,27,2],[28,1,30,2],[39,1,39,2],[40,1,40,2],[41,1,41,2],[42,1,42,2],[43,1,43,2],[44,1,44,2],[47,27,47,34],[48,22,48,23],[48,25,48,26],[48,28,48,29],[56,22,56,23],[56,25,56,26],[56,28,56,29],[48,6,48,7],[48,41,48,42],[48,36,48,37],[48,30,48,31],[48,33,48,34],[48,38,48,39],[48,12,48,13],[48,14,48,15],[48,17,48,18],[48,20,48,21],[54,33,54,34],[54,36,54,37],[50,33,50,34],[50,36,50,37],[54,30,54,31],[53,30,53,31],[49,33,49,34],[56,36,56,37],[56,38,56,39],[56,41,56,42],[49,35,56,35],[51,41,51,42],[49,36,49,37],[51,33,51,34],[51,36,51,37],[51,38,51,39],[49,41,49,42],[53,36,53,37],[52,36,52,37],[53,33,53,34],[53,38,53,39],[53,41,53,42],[54,38,54,39],[54,41,54,42],[52,41,52,42],[50,41,50,42],[49,38,49,39],[55,33,55,34],[55,36,55,37],[55,38,55,39],[55,41,55,42],[54,25,54,26],[52,22,52,23],[52,6,52,7],[52,12,52,13],[52,14,52,15],[50,25,50,26],[55,30,55,31],[50,17,50,18],[50,22,50,23],[55,25,55,26],[52,20,52,21],[51,12,51,13],[51,14,51,15],[51,20,51,21],[51,22,51,23],[52,30,52,31],[56,30,56,31],[56,33,56,34],[50,38,50,39],[51,3,51,4],[51,6,51,7],[52,38,52,39],[52,3,52,4],[51,28,51,29],[52,33,52,34],[51,30,51,31],[49,19,56,19],[54,17,54,18],[51,17,51,18],[49,20,49,21],[53,14,53,15],[50,20,50,21],[54,3,54,4],[54,6,54,7],[54,12,54,13],[49,30,49,31],[50,3,50,4],[50,6,50,7],[50,12,50,13],[50,14,50,15],[49,22,49,23],[55,3,55,4],[55,6,55,7],[55,12,55,13],[55,14,55,15],[55,17,55,18],[55,20,55,21],[55,22,55,23],[54,14,54,15],[54,20,54,21],[54,22,54,23],[62,28,62,29],[64,22,64,23],[64,25,64,26],[59,25,59,26],[61,22,61,23],[60,22,60,23],[60,25,60,26],[63,22,63,23],[57,33,57,34],[61,33,61,34],[62,33,62,34],[57,30,57,31],[58,30,58,31],[59,30,59,31],[63,28,63,29],[64,30,64,31],[64,33,64,34],[57,22,57,23],[57,25,57,26],[57,27,64,27],[63,25,63,26],[58,36,58,37],[58,38,58,39],[62,30,62,31],[60,30,60,31],[60,33,60,34],[60,38,60,39],[61,30,61,31],[59,33,59,34],[61,36,61,37],[60,36,60,37],[62,41,62,42],[59,41,59,42],[64,41,64,42],[60,41,60,42],[58,41,58,42],[64,3,64,4],[64,6,64,7],[57,38,57,39],[57,28,57,29],[61,28,61,29],[58,33,58,34],[59,17,59,18],[59,20,59,21],[59,22,59,23],[58,28,58,29],[62,38,62,39],[58,25,58,26],[60,28,60,29],[61,38,61,39],[61,25,61,26],[62,25,62,26],[59,36,59,37],[59,38,59,39],[59,28,59,29],[58,20,58,21],[58,22,58,23],[57,19,64,19],[57,20,57,21],[59,3,59,4],[59,6,59,7],[59,12,59,13],[59,14,59,15],[64,20,64,21],[60,17,60,18],[60,20,60,21],[61,17,61,18],[61,20,61,21],[57,12,57,13],[57,14,57,15],[57,17,57,18],[63,12,63,13],[63,14,63,15],[64,12,64,13],[64,36,64,37],[64,38,64,39],[64,28,64,29],[63,33,63,34],[61,41,61,42],[62,3,62,4],[62,6,62,7],[62,12,62,13],[62,14,62,15],[62,17,62,18],[62,20,62,21],[62,22,62,23],[62,36,62,37],[63,17,63,18],[63,20,63,21],[63,30,63,31],[63,41,63,42],[63,36,63,37],[63,38,63,39],[57,35,64,35],[57,36,57,37],[57,41,57,42],[58,3,58,4],[58,6,58,7],[66,30,66,31],[67,30,67,31],[65,38,65,39],[66,33,66,34],[66,36,66,37],[66,38,66,39],[67,36,67,37],[65,33,65,34],[65,35,72,35],[67,33,67,34],[72,38,72,39],[67,38,67,39],[70,38,70,39],[70,30,70,31],[70,33,70,34],[68,36,68,37],[68,30,68,31],[67,41,67,42],[65,41,65,42],[68,41,68,42],[72,41,72,42],[69,36,69,37],[69,38,69,39],[66,41,66,42],[65,36,65,37],[71,30,71,31],[71,33,71,34],[71,36,71,37],[71,38,71,39],[71,41,71,42],[72,30,72,31],[72,33,72,34],[72,36,72,37],[69,41,69,42],[68,38,68,39],[70,41,70,42],[68,33,68,34],[69,33,69,34],[70,36,70,37],[69,30,69,31],[65,30,65,31],[70,25,70,26],[71,25,71,26],[71,28,71,29],[66,28,66,29],[72,25,72,26],[67,25,67,26],[67,28,67,29],[65,25,65,26],[68,3,68,4],[68,6,68,7],[68,12,68,13],[68,14,68,15],[68,17,68,18],[68,20,68,21],[68,25,68,26],[68,28,68,29],[72,20,72,21],[65,11,72,11],[72,28,72,29],[69,3,69,4],[65,3,65,4],[72,3,72,4],[66,20,66,21],[67,3,67,4],[70,3,70,4],[70,6,70,7],[70,12,70,13],[70,14,70,15],[70,17,70,18],[70,20,70,21],[70,22,70,23],[67,6,67,7],[67,12,67,13],[70,28,70,29],[65,27,72,27],[65,28,65,29],[69,28,69,29],[66,25,66,26],[69,25,69,26],[79,3,79,4],[79,17,79,18],[78,3,78,4],[67,20,67,21],[66,22,66,23],[71,22,71,23],[66,14,66,15],[66,17,66,18],[65,22,65,23],[69,20,69,21],[65,19,72,19],[65,20,65,21],[72,22,72,23],[71,3,71,4],[71,6,71,7],[71,12,71,13],[71,14,71,15],[71,17,71,18],[71,20,71,21],[69,6,69,7],[69,12,69,13],[69,14,69,15],[69,17,69,18],[65,6,65,7],[69,22,69,23],[72,6,72,7],[72,12,72,13],[72,14,72,15],[68,22,68,23],[67,22,67,23],[67,14,67,15],[67,17,67,18],[79,20,79,21],[75,22,75,23],[75,25,75,26],[75,28,75,29],[78,6,78,7],[78,12,78,13],[78,14,78,15],[78,17,78,18],[78,20,78,21],[76,14,76,15],[76,17,76,18],[76,20,76,21],[76,22,76,23],[77,22,77,23],[77,25,77,26],[78,22,78,23],[78,25,78,26],[78,28,78,29],[76,25,76,26],[73,11,80,11],[73,12,73,13],[73,14,73,15],[73,17,73,18],[73,41,73,42],[74,3,74,4],[74,6,74,7],[74,12,74,13],[74,14,74,15],[74,17,74,18],[74,20,74,21],[74,22,74,23],[74,25,74,26],[74,28,74,29],[74,41,74,42],[73,33,73,34],[73,35,80,35],[74,30,74,31],[75,30,75,31],[76,30,76,31],[77,28,77,29],[77,30,77,31],[73,28,73,29],[79,22,79,23],[79,25,79,26],[79,6,79,7],[79,12,79,13],[79,14,79,15],[73,36,73,37],[76,3,76,4],[76,6,76,7],[76,12,76,13],[73,20,73,21],[73,22,73,23],[73,25,73,26],[73,30,73,31],[76,38,76,39],[76,28,76,29],[76,33,76,34],[76,36,76,37],[75,38,75,39],[75,3,75,4],[75,6,75,7],[75,12,75,13],[75,14,75,15],[75,17,75,18],[75,20,75,21],[73,3,73,4],[73,6,73,7],[76,41,76,42],[77,3,77,4],[77,6,77,7],[77,12,77,13],[77,14,77,15],[77,17,77,18],[77,20,77,21],[77,36,77,37],[77,38,77,39],[77,41,77,42],[73,19,80,19],[80,12,80,13],[80,14,80,15],[80,17,80,18],[80,20,80,21],[80,22,80,23],[80,25,80,26],[73,38,73,39],[74,33,74,34],[78,33,78,34],[78,36,78,37],[78,38,78,39],[78,41,78,42],[73,27,80,27],[79,33,79,34],[79,36,79,37],[79,38,79,39],[77,33,77,34],[79,28,79,29],[79,30,79,31],[79,41,79,42],[80,28,80,29],[80,30,80,31],[80,33,80,34],[80,36,80,37],[80,38,80,39],[80,41,80,42],[78,30,78,31],[75,41,75,42],[74,36,74,37],[74,38,74,39],[75,33,75,34],[75,36,75,37],[86,33,86,34],[81,11,88,11],[81,12,81,13],[81,14,81,15],[81,17,81,18],[81,19,88,19],[81,20,81,21],[81,22,81,23],[81,25,81,26],[81,27,88,27],[82,12,82,13],[82,14,82,15],[82,17,82,18],[82,20,82,21],[82,22,82,23],[82,25,82,26],[83,12,83,13],[83,14,83,15],[83,17,83,18],[83,20,83,21],[83,22,83,23],[83,25,83,26],[84,12,84,13],[84,14,84,15],[81,36,81,37],[85,41,85,42],[81,38,81,39],[82,36,82,37],[82,38,82,39],[83,36,83,37],[83,38,83,39],[84,36,84,37],[84,38,84,39],[81,41,81,42],[82,41,82,42],[83,41,83,42],[84,41,84,42],[85,12,85,13],[85,14,85,15],[85,17,85,18],[85,20,85,21],[85,22,85,23],[85,25,85,26],[86,36,86,37],[86,38,86,39],[86,41,86,42],[87,12,87,13],[87,14,87,15],[87,17,87,18],[87,20,87,21],[87,22,87,23],[87,25,87,26],[87,33,87,34],[87,36,87,37],[87,38,87,39],[87,41,87,42],[86,30,86,31],[87,28,87,29],[87,30,87,31],[81,35,88,35],[82,28,82,29],[82,30,82,31],[82,33,82,34],[83,28,83,29],[83,30,83,31],[83,33,83,34],[86,28,86,29],[85,28,85,29],[85,30,85,31],[85,33,85,34],[85,36,85,37],[85,38,85,39],[84,17,84,18],[96,41,96,42],[88,12,88,13],[88,14,88,15],[88,17,88,18],[88,20,88,21],[88,22,88,23],[88,25,88,26],[88,33,88,34],[88,36,88,37],[88,38,88,39],[88,41,88,42],[93,25,93,26],[93,33,93,34],[93,36,93,37],[93,38,93,39],[93,41,93,42],[94,12,94,13],[94,14,94,15],[94,36,94,37],[94,38,94,39],[94,41,94,42],[88,28,88,29],[88,30,88,31],[89,38,89,39],[95,25,95,26],[95,28,95,29],[95,30,95,31],[95,33,95,34],[95,36,95,37],[95,38,95,39],[91,38,91,39],[92,25,92,26],[96,36,96,37],[96,38,96,39],[95,41,95,42],[91,41,91,42],[91,28,91,29],[91,30,91,31],[93,28,93,29],[91,33,91,34],[89,25,89,26],[90,25,90,26],[89,33,89,34],[90,28,90,29],[94,25,94,26],[94,30,94,31],[94,33,94,34],[92,41,92,42],[89,41,89,42],[90,36,90,37],[90,38,90,39],[90,30,90,31],[90,33,90,34],[91,25,91,26],[90,41,90,42],[91,36,91,37],[100,41,100,42],[97,35,104,35],[97,36,97,37],[97,38,97,39],[97,41,97,42],[98,36,98,37],[98,38,98,39],[101,12,101,13],[101,14,101,15],[99,28,99,29],[99,30,99,31],[101,28,101,29],[101,30,101,31],[102,28,102,29],[100,33,100,34],[101,17,101,18],[101,20,101,21],[101,22,101,23],[101,36,101,37],[101,38,101,39],[101,41,101,42],[102,36,102,37],[102,38,102,39],[102,41,102,42],[103,38,103,39],[97,19,104,19],[97,20,97,21],[97,22,97,23],[97,25,97,26],[98,20,98,21],[98,22,98,23],[98,25,98,26],[99,20,99,21],[99,22,99,23],[97,33,97,34],[98,28,98,29],[104,38,104,39],[104,33,104,34],[100,36,100,37],[100,38,100,39],[103,30,103,31],[103,33,103,34],[102,33,102,34],[102,30,102,31],[103,20,103,21],[102,20,102,21],[103,36,103,37],[103,41,103,42],[104,41,104,42],[104,14,104,15],[104,17,104,18],[104,20,104,21],[104,36,104,37],[104,22,104,23],[104,25,104,26],[104,28,104,29],[104,30,104,31],[97,27,104,27],[97,28,97,29],[97,30,97,31],[98,41,98,42],[99,36,99,37],[99,38,99,39],[99,41,99,42],[99,17,99,18],[99,33,99,34],[98,30,98,31],[98,33,98,34],[99,25,99,26],[103,25,103,26],[103,28,103,29],[111,28,111,29],[111,30,111,31],[111,33,111,34],[110,33,110,34],[110,22,110,23],[110,25,110,26],[110,28,110,29],[110,30,110,31],[111,17,111,18],[111,20,111,21],[111,22,111,23],[111,25,111,26],[105,19,112,19],[105,20,105,21],[112,22,112,23],[108,17,108,18],[108,20,108,21],[106,25,106,26],[107,20,107,21],[107,22,107,23],[107,28,107,29],[108,28,108,29],[105,27,112,27],[105,28,105,29],[109,28,109,29],[105,17,105,18],[106,28,106,29],[106,30,106,31],[112,33,112,34],[112,25,112,26],[112,28,112,29],[112,14,112,15],[112,17,112,18],[112,20,112,21],[111,14,111,15],[108,14,108,15],[110,14,110,15],[110,17,110,18],[110,20,110,21],[107,17,107,18],[109,17,109,18],[109,20,109,21],[112,30,112,31],[108,33,108,34],[108,22,108,23],[108,25,108,26],[109,22,109,23],[109,25,109,26],[111,12,111,13],[130,0,132,0],[130,2,130,4],[130,7,130,8],[105,11,112,11],[105,12,105,13],[107,12,107,13],[108,12,108,13],[110,12,110,13],[109,12,109,13],[106,12,106,13],[129,10,129,12],[130,10,130,11],[130,13,130,14],[129,2,129,4],[129,6,129,8],[112,12,112,13],[131,10,131,11],[131,13,131,14],[132,10,132,11],[132,13,132,14],[109,14,109,15],[106,14,106,15],[107,14,107,15],[13,37,13,40],[10,37,10,40],[11,37,11,40],[12,37,12,40],[93,17,93,18],[93,20,93,21],[93,22,93,23],[92,36,92,37],[92,38,92,39],[89,35,96,35],[89,36,89,37],[89,19,96,19],[89,20,89,21],[89,22,89,23],[90,20,90,21],[90,22,90,23],[91,22,91,23],[92,20,92,21],[92,22,92,23],[92,28,92,29],[92,30,92,31],[89,27,96,27],[89,28,89,29],[89,30,89,31],[107,33,107,34],[97,11,104,11],[97,12,97,13],[97,14,97,15],[97,17,97,18],[98,12,98,13],[98,14,98,15],[98,17,98,18],[99,12,99,13],[99,14,99,15],[103,22,103,23],[105,22,105,23],[105,25,105,26],[106,20,106,21],[106,22,106,23],[107,30,107,31],[107,25,107,26],[105,30,105,31],[106,17,106,18],[103,14,103,15],[103,17,103,18],[102,14,102,15],[102,17,102,18],[102,25,102,26],[96,30,96,31],[96,33,96,34],[93,30,93,31],[1,25,1,31],[2,25,2,30],[3,25,3,30],[105,14,105,15],[105,33,105,34],[106,33,106,34],[94,28,94,29],[92,33,92,34],[96,25,96,26],[96,28,96,29],[95,17,95,18],[95,20,95,21],[95,22,95,23],[84,22,84,23],[84,25,84,26],[84,28,84,29],[84,30,84,31],[84,33,84,34],[81,28,81,29],[81,30,81,31],[81,33,81,34],[86,25,86,26],[84,20,84,21],[72,17,72,18],[109,30,109,31],[109,33,109,34],[108,30,108,31],[101,25,101,26],[101,33,101,34],[93,12,93,13],[93,14,93,15],[96,17,96,18],[96,20,96,21],[96,22,96,23],[104,12,104,13],[100,12,100,13],[100,14,100,15],[100,17,100,18],[100,20,100,21],[100,22,100,23],[100,25,100,26],[100,28,100,29],[100,30,100,31],[96,12,96,13],[96,14,96,15],[89,11,96,11],[89,12,89,13],[89,14,89,15],[89,17,89,18],[90,12,90,13],[90,14,90,15],[90,17,90,18],[91,12,91,13],[91,14,91,15],[91,17,91,18],[94,17,94,18],[103,12,103,13],[94,20,94,21],[94,22,94,23],[92,12,92,13],[92,14,92,15],[92,17,92,18],[95,12,95,13],[95,14,95,15],[86,12,86,13],[86,14,86,15],[86,17,86,18],[86,20,86,21],[86,22,86,23],[102,12,102,13],[102,22,102,23],[91,20,91,21],[0,25,0,34],[1,10,1,13],[1,14,1,15],[1,16,1,21],[2,10,3,11],[2,12,3,13],[2,15,3,21],[31,1,34,2],[35,1,35,2],[1,23,1,24],[2,23,3,24],[1,7,1,9],[36,1,36,2],[37,1,37,2],[38,1,38,2],[24,1,26,2],[49,3,49,4],[49,6,49,7],[1,32,1,34],[2,32,3,34],[49,25,49,26],[49,27,56,27],[49,28,49,29],[50,30,50,31],[50,28,50,29],[54,28,54,29],[52,25,52,26],[52,28,52,29],[51,25,51,26],[53,17,53,18],[53,20,53,21],[53,22,53,23],[53,25,53,26],[53,28,53,29],[55,28,55,29],[56,20,56,21]]}
[null,"体温表",null,null,null,{"$f":"設定!$F$7","v":2017},null,"年",null,11,"月",null,null,null,null,null,null,null,null,null,null,null,null,null,null,"伊都の丘病院"]
[null,"カルテ番号",null,null,"病棟",null,null,"入院形態",null,null,"主治医",null,null,null,"　姓名",null,{"$f":"'10月'!$Q$2","v":0},null,null,null,null,null,null,"性別",null,"生年月日　",null,null,null,null,null,null,"担当Ns"]
[null,{"$f":"'10月'!B3","v":0},null,null,{"$f":"IF(COUNTIF('10月'!E3:G3,\"*\"),INDEX('10月'!E3:G3,MATCH(\"\",'10月'!E3:G3,-1)),\"\")","v":""},null,null,{"$f":"IF(COUNTIF('10月'!H3:J3,\"*\"),INDEX('10月'!H3:J3,MATCH(\"\",'10月'!H3:J3,-1)),\"\")","v":""},null,null,{"$f":"IF(COUNTIF('10月'!K3:M3,\"*\"),INDEX('10月'!K3:M3,MATCH(\"\",'10月'!K3:M3,-1)),\"\")","v":""},null,null,null,null,{"$f":"'10月'!$P$3","v":"新体温表 - バックアップ９１ー"},null,null,null,null,null,null,null,{"$f":"'10月'!$X$3","v":0},null,{"$f":"'10月'!$Z$3","v":"ここに生年月日を記入"},null,null,null,null,null,{"$f":"IF(ISERROR(DATEDIF(Z3,DATE(設定!F7,11,31),\"Y\"))=TRUE,\"\",DATEDIF(Z3,DATE(設定!F7,11,31),\"Y\"))","v":""},{"$f":"'10月'!$AG$3","v":0}]
[null,null,null,null,"/","/","/","/","/","/",null,null,null,null,null,null,null,null,null,null,null,null,null,null,null,{"$f":"SUBSTITUTE(Z3,\"ここに生年月日を記入\",\"\")","v":""},null,null,null,null,null,"歳"]
[null,null,null,null,null,null,null,null,null,null,null,null,null,null,null,null,null,null,null,null,null,null,null,null,null,null,null,null,null,null,null,null,null,null,null,null,null,{"$f":"設定!C11","v":"便利ボタン"}]
[]
[]
[]
[]
[]
[]
[null,null,null,null,null,null,null,null,null,null,null,null,null,null,null,null,null,null,null,null,null,null,null,null,null,null,null,null,null,null,null,null,null,null,null,null,null,{"$f":"設定!C18","v":" ※自動保存されます"}]
[null,null,null,null,null,null,null,null,null,null,null,null,null,null,null,null,null,null,null,null,null,null,null,null,null,null,null,null,null,null,null,null,null,null,null,null,null,{"$f":"設定!C19","v":0}]
[null,null,null,null,null,null,null,null,null,null,null,null,null,null,null,null,null,null,null,null,null,null,null,null,null,null,null,null,null,null,null,null,null,null,null,null,null,{"$f":"設定!C20","v":0}]
[]
[]
[null,"日　付",null,1,2,3,4,5,6,7,8,9,10,11,12,13,14,15,16,17,18,19,20,21,22,23,24,25,26,27,28,29,30,null,"統計"]
[null,"行　動"]
[null,"時　間"]
[null,"行　動"]
[null,"時　間",null,null,null,null,null,null,null,null,null,null,null,null,null,null,null,null,null,null,null,null,null,null,null,null,null,null,null,null,null,null,null,null,{"$f":"IF(COUNTIF(D18:AH21,\"外出\")+COUNTIF(D18:AH21,\"外泊\")=0,\"回数\",COUNTIF(D18:AH21,\"外出\")+COUNTIF(D18:AH21,\"外泊\"))","v":"回数"}]
[null,"面　会"]
[null,null,null,null,null,null,null,null,null,null,null,null,null,null,null,null,null,null,null,null,null,null,null,null,null,null,null,null,null,null,null,null,null,null,{"$f":"IF(COUNTA(D22:AH22)=0,\"回数\",COUNTA(D22:AH22))","v":"回数"}]
[null,"入　浴",null,null,null,null,null,null,null,null,null,null,null,null,null,null,null,null,null,null,null,null,null,null,null,null,null,null,null,null,null,null,null,null,{"$f":"IF(COUNTA(D24:AH24)=0,\"回数\",COUNTA(D24:AH24))","v":"回数"}]
[null,"食　事"]
[]
[null,null,null,null,null,null,null,null,null,null,null,null,null,null,null,null,null,null,null,null,null,null,null,null,null,null,null,null,null,null,null,null,null,null,{"$f":"IFERROR(INT(AVERAGE(V141:AZ143))& \"/\"&INT(AVERAGE(V144:AZ146)),\"平均\")","v":"平均"}]
[null,"便　通",null,{"$f":"IF(ISBLANK(I50),\"\",I50)","v":""},{"$f":"IF(ISBLANK(I51),\"\",I51)","v":""},{"$f":"IF(ISBLANK(I52),\"\",I52)","v":""},{"$f":"IF(ISBLANK(I53),\"\",I53)","v":""},{"$f":"IF(ISBLANK(I54),\"\",I54)","v":""},{"$f":"IF(ISBLANK(I55),\"\",I55)","v":""},{"$f":"IF(ISBLANK(I56),\"\",I56)","v":""},{"$f":"IF(ISBLANK(I57),\"\",I57)","v":""},{"$f":"IF(ISBLANK(I58),\"\",I58)","v":""},{"$f":"IF(ISBLANK(I59),\"\",I59)","v":""},{"$f":"IF(ISBLANK(I60),\"\",I60)","v":""},{"$f":"IF(ISBLANK(I61),\"\",I61)","v":""},{"$f":"IF(ISBLANK(I62),\"\",I62)","v":""},{"$f":"IF(ISBLANK(I63),\"\",I63)","v":""},{"$f":"IF(ISBLANK(I64),\"\",I64)","v":""},{"$f":"IF(ISBLANK(I65),\"\",I65)","v":""},{"$f":"IF(ISBLANK(I66),\"\",I66)","v":""},{"$f":"IF(ISBLANK(I67),\"\",I67)","v":""},{"$f":"IF(ISBLANK(I68),\"\",I68)","v":""},{"$f":"IF(ISBLANK(I69),\"\",I69)","v":""},{"$f":"IF(ISBLANK(I70),\"\",I70)","v":""},{"$f":"IF(ISBLANK(I71),\"\",I71)","v":""},{"$f":"IF(ISBLANK(I72),\"\",I72)","v":""},{"$f":"IF(ISBLANK(I73),\"\",I73)","v":""},{"$f":"IF(ISBLANK(I74),\"\",I74)","v":""},{"$f":"IF(ISBLANK(I75),\"\",I75)","v":""},{"$f":"IF(ISBLANK(I76),\"\",I76)","v":""},{"$f":"IF(ISBLANK(I77),\"\",I77)","v":""},{"$f":"IF(ISBLANK(I78),\"\",I78)","v":""},{"$f":"IF(ISBLANK(I79),\"\",I79)","v":""},{"$f":"IF(ISBLANK(I80),\"\",I80)","v":""},{"$f":"IF(COUNTIF(D28:AH28,0)=0,\"回数\",COUNTIF(D28:AH28,0))","v":"回数"}]
[null,"便処置"]
[null,null,null,"　",null,null,null,null,null,null,null,null,null,null,null,null,null,null,null,null,null,null,null,null,null,null,null,null,null,null,null,null,null,null,{"$f":"IF(SUM(V136:AZ138)=0,\"滴数\",SUM(V136:AZ138))","v":"滴数"}]
[null,null,null,null,null,null,null,null,null,null,null,null,null,null,null,null,null,null,null,null,null,null,null,null,null,null,null,null,null,null,null,null,null,null,{"$f":"IF(AI30=\"滴数\",\"本数\",AI30/150)","v":"本数"}]
[null,"血　圧",null,{"$f":"$R$50","v":0},{"$f":"$R$58","v":0},{"$f":"R66","v":0},{"$f":"R74","v":0},{"$f":"R82","v":0},{"$f":"R90","v":0},{"$f":"R98","v":0},{"$f":"R106","v":0},{"$f":"Z50","v":0},{"$f":"Z58","v":0},{"$f":"Z66","v":0},{"$f":"Z74","v":0},{"$f":"Z82","v":0},{"$f":"Z90","v":0},{"$f":"Z98","v":0},{"$f":"Z106","v":0},{"$f":"AH50","v":0},{"$f":"AH58","v":0},{"$f":"AH66","v":0},{"$f":"AH74","v":0},{"$f":"AH82","v":0},{"$f":"AH90","v":0},{"$f":"AH98","v":0},{"$f":"AH106","v":0},{"$f":"AP50","v":0},{"$f":"AP58","v":0},{"$f":"AP66","v":0},{"$f":"AP74","v":0},{"$f":"AP82","v":0},{"$f":"AP90","v":0},{"$f":"AP98","v":0}]
[null,null,null,{"$f":" IF(ISERROR($R$51),\"\",($R$51))","v":""},{"$f":" IF(ISERROR($R$59),\"\",($R$59))","v":""},{"$f":" IF(ISERROR($R$67),\"\",($R$67))","v":""},{"$f":" IF(ISERROR($R$75),\"\",($R$75))","v":""},{"$f":" IF(ISERROR($R$83),\"\",($R$83))","v":""},{"$f":" IF(ISERROR($R$91),\"\",($R$91))","v":""},{"$f":" IF(ISERROR($R$99),\"\",($R$99))","v":""},{"$f":" IF(ISERROR($R$107),\"\",($R$107))","v":""},{"$f":" IF(ISERROR($Z$51),\"\",($Z$51))","v":""},{"$f":" IF(ISERROR($Z$59),\"\",($Z$59))","v":""},{"$f":" IF(ISERROR($Z$67),\"\",($Z$67))","v":""},{"$f":" IF(ISERROR($Z$75),\"\",($Z$75))","v":""},{"$f":" IF(ISERROR($Z$83),\"\",($Z$83))","v":""},{"$f":" IF(ISERROR($Z$91),\"\",($Z$91))","v":""},{"$f":" IF(ISERROR($Z$99),\"\",($Z$99))","v":""},{"$f":" IF(ISERROR($Z$107),\"\",($Z$107))","v":""},{"$f":" IF(ISERROR($AH$51),\"\",($AH$51))","v":""},{"$f":" IF(ISERROR($AH$59),\"\",($AH$59))","v":""},{"$f":" IF(ISERROR($AH$67),\"\",($AH$67))","v":""},{"$f":" IF(ISERROR($AH$75),\"\",($AH$75))","v":""},{"$f":" IF(ISERROR($AH$83),\"\",($AH$83))","v":""},{"$f":" IF(ISERROR($AH$91),\"\",($AH$91))","v":""},{"$f":" IF(ISERROR($AH$99),\"\",($AH$99))","v":""},{"$f":" IF(ISERROR($AH$107),\"\",($AH$107))","v":""},{"$f":" IF(ISERROR($AP$51),\"\",($AP$51))","v":""},{"$f":" IF(ISERROR($AP$59),\"\",($AP$59))","v":""},{"$f":" IF(ISERROR($AP$67),\"\",($AP$67))","v":""},{"$f":" IF(ISERROR($AP$75),\"\",($AP$75))","v":""},{"$f":" IF(ISERROR($AP$83),\"\",($AP$83))","v":""},{"$f":" IF(ISERROR($AP$91),\"\",($AP$91))","v":""},{"$f":" IF(ISERROR($AP$99),\"\",($AP$99))","v":0}]
[null,null,null,{"$f":"$R$52","v":0},{"$f":"$R$60","v":0},{"$f":"R68","v":0},{"$f":"R76","v":0},{"$f":"R84","v":0},{"$f":"R92","v":0},{"$f":"R100","v":0},{"$f":"R108","v":0},{"$f":"Z52","v":0},{"$f":"Z60","v":0},{"$f":"Z68","v":0},{"$f":"Z76","v":0},{"$f":"Z84","v":0},{"$f":"Z92","v":0},{"$f":"Z100","v":0},{"$f":"Z108","v":0},{"$f":"AH52","v":0},{"$f":"AH60","v":0},{"$f":"AH68","v":0},{"$f":"AH76","v":0},{"$f":"AH84","v":0},{"$f":"AH92","v":0},{"$f":"AH100","v":0},{"$f":"AH108","v":0},{"$f":"AP52","v":0},{"$f":"AP60","v":0},{"$f":"AP68","v":0},{"$f":"AP76","v":0},{"$f":"AP84","v":0},{"$f":"AP92","v":0},{"$f":"AP100","v":0}]
[null,null,null,{"$f":"$R$53","v":0},{"$f":"$R$61","v":0},{"$f":"R69","v":0},{"$f":"R77","v":0},{"$f":"R85","v":0},{"$f":"R93","v":0},{"$f":"R101","v":0},{"$f":"R109","v":0},{"$f":"Z53","v":0},{"$f":"Z61","v":0},{"$f":"Z69","v":0},{"$f":"Z77","v":0},{"$f":"Z85","v":0},{"$f":"Z93","v":0},{"$f":"Z101","v":0},{"$f":"Z109","v":0},{"$f":"AH53","v":0},{"$f":"AH61","v":0},{"$f":"AH69","v":0},{"$f":"AH77","v":0},{"$f":"AH85","v":0},{"$f":"AH93","v":0},{"$f":"AH101","v":0},{"$f":"AH109","v":0},{"$f":"AP53","v":0},{"$f":"AP61","v":0},{"$f":"AP69","v":0},{"$f":"AP77","v":0},{"$f":"AP85","v":0},{"$f":"AP93","v":0},{"$f":"AP101","v":0},{"$f":"IFERROR(INT(AVERAGE(V149:AZ152))& \"/\"&INT(AVERAGE(V153:AZ156)),\"平均\")","v":"平均"}]
[null,"食事箋",null,{"$f":"IF(COUNTIF('10月'!D36:AH36,\"*\"),INDEX('10月'!D36:AH36,MATCH(\"\",'10月'!D36:AH36,-1)),\"\")","v":""}]
[null,"形　態",null,{"$f":"IF(COUNTIF('10月'!D37:AH37,\"*\"),INDEX('10月'!D37:AH37,MATCH(\"\",'10月'!D37:AH37,-1)),\"\")","v":""}]
[null,"身　長",null,{"$f":"IF(COUNT('10月'!D38:AH38),LOOKUP(MAX('10月'!D38:AH38)+1,'10月'!D38:AH38),\"\")","v":""},null,null,null,null,null,null,null,null,null,null,null,null,null,null,null,null,null,null,null,null,null,null,null,null,null,null,null,null,null,null,"BMI"]
[null,"体　重",null,null,null,null,null,null,null,null,null,null,null,null,null,null,null,null,null,null,null,null,null,null,null,null,null,null,null,null,null,null,null,null,{"$f":"IF(ISERROR(INDEX(D39:AH39,MATCH(307,D39:AH39))/(INDEX(D38:AH38,MATCH(9E+307,D38:AH38))/100)^2)=TRUE,\"\",INDEX(D39:AH39,MATCH(307,D39:AH39))/(INDEX(D38:AH38,MATCH(9E+307,D38:AH38))/100)^2)","v":""}]
[null,{"$f":"'10月'!B40","v":"Ｉ　Ｎ"},null,null,null,null,null,null,null,null,null,null,null,null,null,null,null,null,null,null,null,null,null,null,null,null,null,null,null,null,null,null,null,null,{"$f":"IFERROR(INT(AVERAGE(D40:AH40)),\"平均\")","v":"平均"}]
[null,"ＯＵＴ",null,null,null,null,null,null,null,null,null,null,null,null,null,null,null,null,null,null,null,null,null,null,null,null,null,null,null,null,null,null,null,null,{"$f":"IFERROR(INT(AVERAGE(D41:AH41)),\"平均\")","v":"平均"}]
[null,"生　理",null,null,null,null,null,null,null,null,null,null,null,null,null,null,null,null,null,null,null,null,null,null,null,null,null,null,null,null,null,null,null,null,{"$f":"IF(ISERROR(IF(H132-MATCH(\"*\",D42:AH42,0)=0,\"0日目\",IF(H133=J1,IF(ISERROR(H132-MATCH(\"*\",D42:AH42,0)),\"日数\",H132-MATCH(\"*\",D42:AH42,0)),\"日数\"))),\"日数\",(IF(H132-MATCH(\"*\",D42:AH42,0)=0,\"0日目\",IF(H133=J1,IF(ISERROR(H132-MATCH(\"*\",D42:AH42,0)),\"日数\",H132-MATCH(\"*\",D42:AH42,0)),\"日数\"))))","v":"日数"}]
[null,null,null,null,null,null,null,null,null,null,null,null,null,null,null,null,null,null,null,null,null,null,null,null,null,null,null,null,null,null,null,null,null,null,{"$f":"COUNTA(D43:AH43)","v":0}]
[null,null,null,null,null,null,null,null,null,null,null,null,null,null,null,null,null,null,null,null,null,null,null,null,null,null,null,null,null,null,null,null,null,null,{"$f":"COUNTA(D44:AH44)","v":0}]
[null,"日　付",null,1,2,3,4,5,6,7,8,9,10,11,12,13,14,15,16,17,18,19,20,21,22,23,24,25,26,27,28,29,30]
[]
[null,{"$f":"$P$3","v":"新体温表 - バックアップ９１ー"},null,null,null,null,null,{"$f":"YEAR(I47)","v":2016},{"$f":"TODAY()","v":"2016-06-08"},{"$f":"TODAY()","v":42529},null,{"$f":"NOW()","v":42529.688973263888}]
[null,"平常時記入",null,null,null,null,null,null,null,null,null,"熱発時記入"]
[null,"日","時間","T",null," P","BP",null,"便",null,null,"日","時間",null,"T",null,"P","BP",null,"日","時間",null,"T",null,"P","BP",null,"日","時間",null,"T",null,"P","BP",null,"日","時間",null,"T",null,"P","BP"]
[null,1,"09:00:00",null,null,null,null,null,null,null,null,1,null,null,null,null,null,null,null,9,null,null,null,null,null,null,null,17,null,null,null,null,null,null,null,25]
[null,2,"09:00:00",null,null,null,null,null,null,null,null,null,"09:00:00",null,{"$f":"IF($D$50=\"\",NA(),$D$50)","v":{"$error":"#N/A"}},null,{"$f":"IF($F$50=\"\",NA(),$F$50)","v":{"$error":"#N/A"}},{"$f":"IF($G$50=\"\",NA(),$G$50)","v":{"$error":"#N/A"}},null,null,"09:00:00",null,{"$f":"IF($D$58=\"\",NA(),$D$58)","v":{"$error":"#N/A"}},null,{"$f":"IF($F$58=\"\",NA(),$F$58)","v":{"$error":"#N/A"}},{"$f":"IF($G$58=\"\",NA(),$G$58)","v":{"$error":"#N/A"}},null,null,"09:00:00",null,{"$f":"IF($D$66=\"\",NA(),$D$66)","v":{"$error":"#N/A"}},null,{"$f":"IF($F$66=\"\",NA(),$F$66)","v":{"$error":"#N/A"}},{"$f":"IF($G$66=\"\",NA(),$G$66)","v":{"$error":"#N/A"}},null,null,"09:00:00",null,{"$f":"IF($D$74=\"\",NA(),$D$74)","v":{"$error":"#N/A"}},null,{"$f":"IF($F$74=\"\",NA(),$F$74)","v":{"$error":"#N/A"}},{"$f":"IF($G$74=\"\",NA(),$G$74)","v":{"$error":"#N/A"}}]
[null,3,"09:00:00",null,null,null,null,null,null,"☆"]
[null,4,"09:00:00"]
[null,5,"09:00:00",null,null,null,null,null,null,"コ"]
[null,6,"09:00:00",null,null,null,null,null,null,"ス"]
[null,7,"09:00:00",null,null,null,null,null,null,"モ"]
[null,8,"09:00:00",null,null,null,null,null,null,"ス"]
[null,9,"09:00:00",null,null,null,null,null,null,"へ",null,2,null,null,null,null,null,null,null,10,null,null,null,null,null,null,null,18,null,null,null,null,null,null,null,26]
[null,10,"09:00:00",null,null,null,null,null,null,"戻",null,null,"09:00:00",null,{"$f":"IF($D$51=\"\",NA(),$D$51)","v":{"$error":"#N/A"}},null,{"$f":"IF($F$51=\"\",NA(),$F$51)","v":{"$error":"#N/A"}},{"$f":"IF($G$51=\"\",NA(),$G$51)","v":{"$error":"#N/A"}},null,null,"09:00:00",null,{"$f":"IF($D$59=\"\",NA(),$D$59)","v":{"$error":"#N/A"}},null,{"$f":"IF($F$59=\"\",NA(),$F$59)","v":{"$error":"#N/A"}},{"$f":"IF($G$59=\"\",NA(),$G$59)","v":{"$error":"#N/A"}},null,null,"09:00:00",null,{"$f":"IF($D$67=\"\",NA(),$D$67)","v":{"$error":"#N/A"}},null,{"$f":"IF($F$67=\"\",NA(),$F$67)","v":{"$error":"#N/A"}},{"$f":"IF($G$67=\"\",NA(),$G$67)","v":{"$error":"#N/A"}},null,null,"09:00:00",null,{"$f":"IF($D$75=\"\",NA(),$D$75)","v":{"$error":"#N/A"}},null,{"$f":"IF($F$75=\"\",NA(),$F$75)","v":{"$error":"#N/A"}},{"$f":"IF($G$75=\"\",NA(),$G$75)","v":{"$error":"#N/A"}}]
[null,11,"09:00:00",null,null,null,null,null,null,"る"]
[null,12,"09:00:00"]
[null,13,"09:00:00"]
[null,14,"09:00:00",null,null,null,null,null,null,"（"]
[null,15,"09:00:00",null,null,null,null,null,null,"選"]
[null,16,"09:00:00",null,null,null,null,null,null,"択"]
[null,17,"09:00:00",null,null,null,null,null,null,"す",null,3,null,null,null,null,null,null,null,11,null,null,null,null,null,null,null,19,null,null,null,null,null,null,null,27]
[null,18,"09:00:00",null,null,null,null,null,null,"る",null,null,"09:00:00",null,{"$f":"IF($D$52=\"\",NA(),$D$52)","v":{"$error":"#N/A"}},null,{"$f":"IF($F$52=\"\",NA(),$F$52)","v":{"$error":"#N/A"}},{"$f":"IF($G$52=\"\",NA(),$G$52)","v":{"$error":"#N/A"}},null,null,"09:00:00",null,{"$f":"IF($D$60=\"\",NA(),$D$60)","v":{"$error":"#N/A"}},null,{"$f":"IF($F$60=\"\",NA(),$F$60)","v":{"$error":"#N/A"}},{"$f":"IF($G$60=\"\",NA(),$G$60)","v":{"$error":"#N/A"}},null,null,"09:00:00",null,{"$f":"IF($D$68=\"\",NA(),$D$68)","v":{"$error":"#N/A"}},null,{"$f":"IF($F$68=\"\",NA(),$F$68)","v":{"$error":"#N/A"}},{"$f":"IF($G$68=\"\",NA(),$G$68)","v":{"$error":"#N/A"}},null,null,"09:00:00",null,{"$f":"IF($D$76=\"\",NA(),$D$76)","v":{"$error":"#N/A"}},null,{"$f":"IF($F$76=\"\",NA(),$F$76)","v":{"$error":"#N/A"}},{"$f":"IF($G$76=\"\",NA(),$G$76)","v":{"$error":"#N/A"}}]
[null,19,"09:00:00",null,null,null,null,null,null,"だ"]
[null,20,"09:00:00",null,null,null,null,null,null,"け"]
[null,21,"09:00:00",null,null,null,null,null,null,"で"]
[null,22,"09:00:00",null,null,null,null,null,null,"移"]
[null,23,"09:00:00",null,null,null,null,null,null,"動"]
[null,24,"09:00:00",null,null,null,null,null,null,"し"]
[null,25,"09:00:00",null,null,null,null,null,null,"ま",null,4,null,null,null,null,null,null,null,12,null,null,null,null,null,null,null,20,null,null,null,null,null,null,null,28]
[null,26,"09:00:00",null,null,null,null,null,null,"す",null,null,"09:00:00",null,{"$f":"IF($D$53=\"\",NA(),$D$53)","v":{"$error":"#N/A"}},null,{"$f":"IF($F$53=\"\",NA(),$F$53)","v":{"$error":"#N/A"}},{"$f":"IF($G$53=\"\",NA(),$G$53)","v":{"$error":"#N/A"}},null,null,"09:00:00",null,{"$f":"IF($D$61=\"\",NA(),$D$61)","v":{"$error":"#N/A"}},null,{"$f":"IF($F$61=\"\",NA(),$F$61)","v":{"$error":"#N/A"}},{"$f":"IF($G$61=\"\",NA(),$G$61)","v":{"$error":"#N/A"}},null,null,"09:00:00",null,{"$f":"IF($D$69=\"\",NA(),$D$69)","v":{"$error":"#N/A"}},null,{"$f":"IF($F$69=\"\",NA(),$F$69)","v":{"$error":"#N/A"}},{"$f":"IF($G$69=\"\",NA(),$G$69)","v":{"$error":"#N/A"}},null,null,"09:00:00",null,{"$f":"IF($D$77=\"\",NA(),$D$77)","v":{"$error":"#N/A"}},null,{"$f":"IF($F$77=\"\",NA(),$F$77)","v":{"$error":"#N/A"}},{"$f":"IF($G$77=\"\",NA(),$G$77)","v":{"$error":"#N/A"}}]
[null,27,"09:00:00",null,null,null,null,null,null,"）"]
[null,28,"09:00:00"]
[null,29,"09:00:00"]
[null,30,"09:00:00"]
[]
[]
[null,null,null,null,null,null,null,null,null,null,null,5,null,null,null,null,null,null,null,13,null,null,null,null,null,null,null,21,null,null,null,null,null,null,null,29]
[null,null,null,null,null,null,null,null,null,null,null,null,"09:00:00",null,{"$f":"IF($D$54=\"\",NA(),$D$54)","v":{"$error":"#N/A"}},null,{"$f":"IF($F$54=\"\",NA(),$F$54)","v":{"$error":"#N/A"}},{"$f":"IF($G$54=\"\",NA(),$G$54)","v":{"$error":"#N/A"}},null,null,"09:00:00",null,{"$f":"IF($D$62=\"\",NA(),$D$62)","v":{"$error":"#N/A"}},null,{"$f":"IF($F$62=\"\",NA(),$F$62)","v":{"$error":"#N/A"}},{"$f":"IF($G$62=\"\",NA(),$G$62)","v":{"$error":"#N/A"}},null,null,"09:00:00",null,{"$f":"IF($D$70=\"\",NA(),$D$70)","v":{"$error":"#N/A"}},null,{"$f":"IF($F$70=\"\",NA(),$F$70)","v":{"$error":"#N/A"}},{"$f":"IF($G$70=\"\",NA(),$G$70)","v":{"$error":"#N/A"}},null,null,"09:00:00",null,{"$f":"IF($D$78=\"\",NA(),$D$78)","v":{"$error":"#N/A"}},null,{"$f":"IF($F$78=\"\",NA(),$F$78)","v":{"$error":"#N/A"}},{"$f":"IF($G$78=\"\",NA(),$G$78)","v":{"$error":"#N/A"}}]
[]
[]
[]
[]
[]
[]
[null,null,null,null,null,null,null,null,null,null,null,6,null,null,null,null,null,null,null,14,null,null,null,null,null,null,null,22,null,null,null,null,null,null,null,30]
[null,null,null,null,null,null,null,null,null,null,null,null,"09:00:00",null,{"$f":"IF($D$55=\"\",NA(),$D$55)","v":{"$error":"#N/A"}},null,{"$f":"IF($F$55=\"\",NA(),$F$55)","v":{"$error":"#N/A"}},{"$f":"IF($G$55=\"\",NA(),$G$55)","v":{"$error":"#N/A"}},null,null,"09:00:00",null,{"$f":"IF($D$63=\"\",NA(),$D$63)","v":{"$error":"#N/A"}},null,{"$f":"IF($F$63=\"\",NA(),$F$63)","v":{"$error":"#N/A"}},{"$f":"IF($G$63=\"\",NA(),$G$63)","v":{"$error":"#N/A"}},null,null,"09:00:00",null,{"$f":"IF($D$71=\"\",NA(),$D$71)","v":{"$error":"#N/A"}},null,{"$f":"IF($F$71=\"\",NA(),$F$71)","v":{"$error":"#N/A"}},{"$f":"IF($G$71=\"\",NA(),$G$71)","v":{"$error":"#N/A"}},null,null,"09:00:00",null,{"$f":"IF($D$79=\"\",NA(),$D$79)","v":{"$error":"#N/A"}},null,{"$f":"IF($F$79=\"\",NA(),$F$79)","v":{"$error":"#N/A"}},{"$f":"IF($G$79=\"\",NA(),$G$79)","v":{"$error":"#N/A"}}]
[]
[]
[]
[]
[]
[]
[null,null,null,null,null,null,null,null,null,null,null,7,null,null,null,null,null,null,null,15,null,null,null,null,null,null,null,23]
[null,null,null,null,null,null,null,null,null,null,null,null,"09:00:00",null,{"$f":"IF($D$56=\"\",NA(),$D$56)","v":{"$error":"#N/A"}},null,{"$f":"IF($F$56=\"\",NA(),$F$56)","v":{"$error":"#N/A"}},{"$f":"IF($G$56=\"\",NA(),$G$56)","v":{"$error":"#N/A"}},null,null,"09:00:00",null,{"$f":"IF($D$64=\"\",NA(),$D$64)","v":{"$error":"#N/A"}},null,{"$f":"IF($F$64=\"\",NA(),$F$64)","v":{"$error":"#N/A"}},{"$f":"IF($G$64=\"\",NA(),$G$64)","v":{"$error":"#N/A"}},null,null,"09:00:00",null,{"$f":"IF($D$72=\"\",NA(),$D$72)","v":{"$error":"#N/A"}},null,{"$f":"IF($F$72=\"\",NA(),$F$72)","v":{"$error":"#N/A"}},{"$f":"IF($G$72=\"\",NA(),$G$72)","v":{"$error":"#N/A"}}]
[]
[]
[]
[]
[]
[]
[null,null,null,null,null,null,null,null,null,null,null,8,null,null,null,null,null,null,null,16,null,null,null,null,null,null,null,24]
[null,null,null,null,null,null,null,null,null,null,null,null,"09:00:00",null,{"$f":"IF($D$57=\"\",NA(),$D$57)","v":{"$error":"#N/A"}},null,{"$f":"IF($F$57=\"\",NA(),$F$57)","v":{"$error":"#N/A"}},{"$f":"IF($G$57=\"\",NA(),$G$57)","v":{"$error":"#N/A"}},null,null,"09:00:00",null,{"$f":"IF($D$65=\"\",NA(),$D$65)","v":{"$error":"#N/A"}},null,{"$f":"IF($F$65=\"\",NA(),$F$65)","v":{"$error":"#N/A"}},{"$f":"IF($G$65=\"\",NA(),$G$65)","v":{"$error":"#N/A"}},null,null,"09:00:00",null,{"$f":"IF($D$73=\"\",NA(),$D$73)","v":{"$error":"#N/A"}},null,{"$f":"IF($F$73=\"\",NA(),$F$73)","v":{"$error":"#N/A"}},{"$f":"IF($G$73=\"\",NA(),$G$73)","v":{"$error":"#N/A"}}]
[]
[]
[]
[]
[]
[]
[]
[]
[]
[]
[]
[]
[]
[]
[]
[]
[]
[]
[]
[]
[]
[null,null,"Enterで入力画面へ"]
[null,null,"ｶｰｿﾙ初期位置",null,null,null,"日付チェック",null,null,null,"バイタルコピー"]
["管理欄",null,"入力に入る",null,null,null,"今日",{"$f":"NOW()","v":"2016-06-08T16:32:07.290"},null,null,{"$f":"IF($D$74=\"\",NA(),$D$74)","v":{"$error":"#N/A"}},null,{"$f":"IF($F$74=\"\",NA(),$F$74)","v":{"$error":"#N/A"}},{"$f":"IF($G$74=\"\",NA(),$G$74)","v":{"$error":"#N/A"}},null,{"$f":"K131&M131&N131","v":{"$error":"#N/A"}}]
[null,null,null,null,null,null,"日",{"$f":"DAY(H131)","v":8},null,null,null,null,null,null,null,"",null,null,null,null,"シンラック"]
[null,null,null,null,null,null,"月",{"$f":"MONTH(H131)","v":6},null,null,null,null,null,null,null,"",null,null,null,null,"なし"]
[null,null,null,null,null,null,"年",{"$f":"YEAR(H131)","v":2016},null,null,null,null,null,null,null,""]
[null,null,null,null,null,null,"時",{"$f":"HOUR(H131)","v":16},null,null,null,null,null,null,null,""]
[null,null,null,null,null,null,null,null,null,null,null,null,null,null,null,"",null,null,null,null,"Link",{"$f":"IF(ISERROR(VALUE(D29)),\"\",VALUE(D29))","v":0},0,0,0,0,0,0,0,0,0,0,0,0,0,0,0,0,0,0,0,0,0,0,0,0,0,0,0,{"$f":"IF(ISERROR(VALUE(AF29)),\"\",VALUE(AF29))","v":0},{"$f":"IF(ISERROR(VALUE(AG29)),\"\",VALUE(AG29))","v":0},0]
[null,null,null,null,null,null,null,null,null,null,null,null,null,null,null,"",null,null,null,null,null,"",0,0,0,0,0,0,0,0,0,0,0,0,0,0,0,0,0,0,0,0,0,0,0,0,0,0,0,{"$f":"IF(ISERROR(VALUE(AF30)),\"\",VALUE(AF30))","v":0},0,0]
[null,null,null,null,null,null,null,null,null,null,null,null,null,null,null,"",null,null,null,null,null,0,0,0,0,0,0,0,0,0,0,0,0,0,0,0,0,0,0,0,0,0,0,0,0,0,0,0,0,{"$f":"IF(ISERROR(VALUE(AF31)),\"\",VALUE(AF31))","v":0},0,0]
[null,null,null,null,null,null,null,null,null,null,null,null,null,null,null,""]
[null,null,null,null,null,null,null,null,null,null,null,null,null,null,null,null,null,null,null,null,"食事平均",null,null,null,null,null,null,null,null,null,null,null,null,{"$f":"AC140&AE140&AF140","v":""}]
[null,null,null,null,null,null,null,null,null,null,null,null,null,null,null,null,null,null,null,null,"左",{"$f":"IF(D25=\"\", \"\", LEFT(D25,SEARCH(\"/\",D25,1)-1)*1)","v":""},"","","","","","","","","",{"$f":"IF(N25=\"\", \"\", LEFT(N25,SEARCH(\"/\",N25,1)-1)*1)","v":""},"","","","","","","","","",{"$f":"IF(X25=\"\", \"\", LEFT(X25,SEARCH(\"/\",X25,1)-1)*1)","v":""},"","","","","","","","","",{"$f":"IF(AH25=\"\", \"\", LEFT(AH25,SEARCH(\"/\",AH25,1)-1)*1)","v":""}]
[null,null,null,null,null,null,null,null,null,null,null,null,null,null,null,null,null,null,null,null,null,"","","","","","","","","","","","","","","","","","","","","","","","","","","","","","",""]
[null,null,null,null,null,null,null,null,null,null,null,null,null,null,null,null,null,null,null,null,null,"","","","","","","","","","","","","","","","","","","","","","","","","","","","","","",""]
[null,null,null,null,null,null,null,null,null,null,null,null,null,null,null,null,null,null,null,null,"右",{"$f":"IF(D25=\"\", \"\", RIGHT(D25,LEN(D25)-FIND(\"/\",D25,1))*1)","v":""},"","","","","","","","","",{"$f":"IF(N25=\"\", \"\", RIGHT(N25,LEN(N25)-FIND(\"/\",N25,1))*1)","v":""},"","","","","","","","","",{"$f":"IF(X25=\"\", \"\", RIGHT(X25,LEN(X25)-FIND(\"/\",X25,1))*1)","v":""},"","","","","","","","","",{"$f":"IF(AH25=\"\", \"\", RIGHT(AH25,LEN(AH25)-FIND(\"/\",AH25,1))*1)","v":""}]
[null,null,null,null,null,null,null,null,null,null,null,null,null,null,null,null,null,null,null,null,null,"","","","","","","","","","","","","","","","","","","","","","","","","","","","","","",""]
[null,null,null,null,null,null,null,null,null,null,null,null,null,null,null,null,null,null,null,null,null,"","","","","","","","","","","","","","","","","","","","","","","","","","","","","","",""]
[null,null,null,null,null,null,null,null,null,null,null,null,null,null,null,null,null,null,null,null,null,null,null,null,null,null,null,null,null,null,null,null,null,{"$f":"AC147&AE147&AF147","v":""}]
[null,null,null,null,null,null,null,null,null,null,null,null,null,null,null,null,null,null,null,null,"BP平均",null,null,null,null,null,null,null,null,null,null,null,null,{"$f":"AC148&AE148&AF148","v":""}]
[null,null,null,null,null,null,null,null,null,null,null,null,null,null,null,null,null,null,null,null,"左",{"$f":"IF(ISERROR(LEFT(D32,SEARCH(\"/\",D32,1)-1)*1),\"\",LEFT(D32,SEARCH(\"/\",D32,1)-1)*1)","v":""},"","","","","","","","","",{"$f":"IF(ISERROR(LEFT(N32,SEARCH(\"/\",N32,1)-1)*1),\"\",LEFT(N32,SEARCH(\"/\",N32,1)-1)*1)","v":""},"","","","","","","","","",{"$f":"IF(ISERROR(LEFT(X32,SEARCH(\"/\",X32,1)-1)*1),\"\",LEFT(X32,SEARCH(\"/\",X32,1)-1)*1)","v":""},"","","","","","","","","",{"$f":"IF(ISERROR(LEFT(AH32,SEARCH(\"/\",AH32,1)-1)*1),\"\",LEFT(AH32,SEARCH(\"/\",AH32,1)-1)*1)","v":""}]
[null,null,null,null,null,null,null,null,null,null,null,null,null,null,null,null,null,null,null,null,null,"","","","","","","","","","","","","","","","","","","","","","","","","","","","","","",""]
[null,null,null,null,null,null,null,null,null,null,null,null,null,null,null,null,null,null,null,null,null,"","","","","","","","","","","","","","","","","","","","","","","","","","","","","","",""]
[null,null,null,null,null,null,null,null,null,null,null,null,null,null,null,null,null,null,null,null,null,"","","","","","","","","","","","","","","","","","","","","","","","","","","","","","",""]
[null,null,null,null,null,null,null,null,null,null,null,null,null,null,null,null,null,null,null,null,"右",{"$f":"IF(ISERROR(RIGHT(D32,LEN(D32)-FIND(\"/\",D32,1))*1),\"\",RIGHT(D32,LEN(D32)-FIND(\"/\",D32,1))*1)","v":""},"","","","","","","","","",{"$f":"IF(ISERROR(RIGHT(N32,LEN(N32)-FIND(\"/\",N32,1))*1),\"\",RIGHT(N32,LEN(N32)-FIND(\"/\",N32,1))*1)","v":""},"","","","","","","","","",{"$f":"IF(ISERROR(RIGHT(X32,LEN(X32)-FIND(\"/\",X32,1))*1),\"\",RIGHT(X32,LEN(X32)-FIND(\"/\",X32,1))*1)","v":""},"","","","","","","","","",{"$f":"IF(ISERROR(RIGHT(AH32,LEN(AH32)-FIND(\"/\",AH32,1))*1),\"\",RIGHT(AH32,LEN(AH32)-FIND(\"/\",AH32,1))*1)","v":""}]
[null,null,null,null,null,null,null,null,null,null,null,null,null,null,null,null,null,null,null,null,null,"","","","","","","","","","","","","","","","","","","","","","","","","","","","","","",""]
[null,null,null,null,null,null,null,null,null,null,null,null,null,null,null,null,null,null,null,null,null,"","","","","","","","","","","","","","","","","","","","","","","","","","","","","","",""]
[null,null,null,null,null,null,null,null,null,null,null,null,null,null,null,null,null,null,null,null,null,"","","","","","","","","","","","","","","","","","","","","","","","","","","","","","",""]
[null,null,null,null,null,null,null,null,null,null,null,null,null,null,null,""]
[null,null,null,null,null,null,null,null,null,null,null,null,null,null,null,""]
[null,null,null,null,null,null,null,null,null,null,null,null,null,null,null,""]
[null,null,null,null,null,null,null,null,null,null,null,null,null,null,null,""]
[null,null,null,null,null,null,null,null,null,null,null,null,null,null,null,{"$f":"K161&M161&N161","v":""}]

{"sheet":"12月","index":11,"n_rows":161,"n_cols":52,"rows_kept":161,"cut":false,"hidden":false,"merged":[[48,41,48,42],[102,12,102,13],[110,12,110,13],[109,12,109,13],[106,12,106,13],[103,12,103,13],[104,12,104,13],[110,25,110,26],[110,28,110,29],[110,30,110,31],[110,33,110,34],[109,25,109,26],[109,28,109,29],[109,30,109,31],[107,30,107,31],[106,14,106,15],[106,17,106,18],[105,14,105,15],[105,17,105,18],[107,33,107,34],[104,20,104,21],[104,36,104,37],[104,22,104,23],[104,25,104,26],[112,33,112,34],[129,2,129,4],[129,6,129,8],[112,25,112,26],[112,28,112,29],[112,30,112,31],[111,12,111,13],[111,14,111,15],[111,25,111,26],[111,28,111,29],[111,30,111,31],[111,33,111,34],[105,27,112,27],[105,28,105,29],[109,33,109,34],[108,17,108,18],[108,20,108,21],[106,25,106,26],[105,33,105,34],[106,28,106,29],[108,33,108,34],[106,33,106,34],[106,20,106,21],[106,22,106,23],[49,3,49,4],[49,6,49,7],[108,30,108,31],[130,0,132,0],[130,2,130,4],[130,7,130,8],[105,11,112,11],[105,12,105,13],[107,12,107,13],[108,12,108,13],[108,14,108,15],[129,10,129,12],[112,22,112,23],[112,12,112,13],[112,14,112,15],[112,17,112,18],[112,20,112,21],[111,17,111,18],[111,20,111,21],[111,22,111,23],[105,30,105,31],[109,17,109,18],[109,20,109,21],[109,22,109,23],[104,28,104,29],[104,30,104,31],[104,38,104,39],[104,33,104,34],[106,30,106,31],[105,22,105,23],[105,25,105,26],[130,10,130,11],[130,13,130,14],[109,14,109,15],[107,28,107,29],[110,14,110,15],[110,17,110,18],[110,20,110,21],[107,17,107,18],[108,22,108,23],[108,25,108,26],[108,28,108,29],[107,20,107,21],[107,22,107,23],[107,14,107,15],[105,19,112,19],[105,20,105,21],[110,22,110,23],[107,25,107,26],[103,41,103,42],[104,41,104,42],[103,30,103,31],[103,33,103,34],[103,36,103,37],[103,38,103,39],[103,14,103,15],[103,17,103,18],[103,20,103,21],[97,35,104,35],[97,36,97,37],[97,38,97,39],[97,41,97,42],[98,36,98,37],[98,38,98,39],[98,41,98,42],[99,36,99,37],[102,33,102,34],[102,14,102,15],[102,17,102,18],[102,20,102,21],[103,22,103,23],[103,25,103,26],[103,28,103,29],[102,36,102,37],[102,38,102,39],[102,41,102,42],[102,22,102,23],[102,25,102,26],[102,28,102,29],[102,30,102,31],[101,33,101,34],[101,36,101,37],[101,38,101,39],[101,41,101,42],[101,22,101,23],[101,25,101,26],[101,28,101,29],[101,30,101,31],[97,27,104,27],[97,28,97,29],[100,33,100,34],[100,36,100,37],[100,22,100,23],[100,25,100,26],[100,28,100,29],[100,30,100,31],[100,38,100,39],[100,41,100,42],[101,20,101,21],[99,38,99,39],[99,41,99,42],[97,33,97,34],[98,28,98,29],[98,30,98,31],[98,33,98,34],[99,33,99,34],[97,30,97,31],[99,28,99,29],[99,30,99,31],[97,22,97,23],[97,25,97,26],[98,20,98,21],[98,22,98,23],[98,25,98,26],[99,20,99,21],[99,22,99,23],[99,25,99,26],[97,11,104,11],[97,12,97,13],[97,14,97,15],[97,17,97,18],[98,12,98,13],[98,14,98,15],[98,17,98,18],[99,12,99,13],[99,14,99,15],[99,17,99,18],[104,14,104,15],[104,17,104,18],[96,36,96,37],[96,38,96,39],[96,41,96,42],[96,22,96,23],[96,25,96,26],[96,28,96,29],[96,30,96,31],[96,12,96,13],[96,14,96,15],[96,17,96,18],[96,20,96,21],[89,11,96,11],[100,12,100,13],[100,14,100,15],[100,17,100,18],[100,20,100,21],[97,19,104,19],[97,20,97,21],[101,12,101,13],[101,14,101,15],[101,17,101,18],[95,12,95,13],[95,14,95,15],[95,17,95,18],[95,20,95,21],[94,12,94,13],[94,14,94,15],[94,17,94,18],[94,20,94,21],[89,14,89,15],[89,17,89,18],[90,12,90,13],[90,14,90,15],[90,17,90,18],[91,12,91,13],[95,38,95,39],[95,41,95,42],[95,22,95,23],[95,25,95,26],[95,28,95,29],[95,30,95,31],[94,33,94,34],[94,36,94,37],[94,38,94,39],[94,41,94,42],[94,22,94,23],[94,25,94,26],[94,28,94,29],[94,30,94,31],[95,36,95,37],[91,14,91,15],[91,17,91,18],[93,33,93,34],[93,36,93,37],[93,12,93,13],[93,14,93,15],[93,17,93,18],[93,20,93,21],[93,38,93,39],[92,17,92,18],[92,20,92,21],[92,12,92,13],[92,14,92,15],[93,41,93,42],[93,22,93,23],[93,25,93,26],[93,28,93,29],[93,30,93,31],[92,33,92,34],[92,36,92,37],[92,38,92,39],[92,41,92,42],[89,35,96,35],[89,36,89,37],[89,38,89,39],[89,41,89,42],[90,36,90,37],[90,38,90,39],[92,22,92,23],[92,25,92,26],[90,41,90,42],[91,36,91,37],[91,38,91,39],[91,41,91,42],[90,22,90,23],[90,25,90,26],[89,33,89,34],[90,28,90,29],[90,30,90,31],[90,33,90,34],[91,33,91,34],[89,19,96,19],[89,20,89,21],[89,22,89,23],[89,25,89,26],[90,20,90,21],[91,20,91,21],[91,22,91,23],[92,28,92,29],[92,30,92,31],[89,27,96,27],[89,28,89,29],[89,30,89,31],[91,28,91,29],[91,30,91,31],[91,25,91,26],[95,33,95,34],[96,33,96,34],[88,41,88,42],[88,22,88,23],[88,25,88,26],[88,28,88,29],[88,30,88,31],[88,12,88,13],[88,14,88,15],[88,17,88,18],[88,20,88,21],[87,12,87,13],[87,14,87,15],[87,17,87,18],[87,20,87,21],[87,38,87,39],[87,41,87,42],[87,22,87,23],[87,25,87,26],[87,28,87,29],[87,30,87,31],[86,41,86,42],[85,36,85,37],[85,38,85,39],[85,41,85,42],[85,33,85,34],[86,12,86,13],[86,14,86,15],[86,17,86,18],[86,20,86,21],[86,22,86,23],[86,25,86,26],[86,28,86,29],[85,12,85,13],[85,14,85,15],[85,17,85,18],[85,20,85,21],[85,22,85,23],[85,25,85,26],[85,28,85,29],[81,30,81,31],[86,30,86,31],[85,30,85,31],[83,33,83,34],[86,33,86,34],[86,36,86,37],[86,38,86,39],[88,33,88,34],[88,36,88,37],[88,38,88,39],[82,33,82,34],[82,30,82,31],[84,33,84,34],[87,33,87,34],[87,36,87,37],[83,20,83,21],[83,22,83,23],[83,25,83,26],[83,28,83,29],[83,30,83,31],[82,20,82,21],[82,22,82,23],[83,41,83,42],[84,12,84,13],[84,14,84,15],[84,17,84,18],[84,20,84,21],[84,22,84,23],[84,25,84,26],[84,28,84,29],[84,30,84,31],[84,38,84,39],[82,25,82,26],[82,28,82,29],[84,41,84,42],[78,41,78,42],[79,3,79,4],[79,6,79,7],[79,12,79,13],[79,14,79,15],[79,17,79,18],[79,41,79,42],[79,20,79,21],[79,22,79,23],[79,25,79,26],[79,28,79,29],[78,30,78,31],[78,33,78,34],[79,30,79,31],[79,33,79,34],[78,20,78,21],[81,41,81,42],[82,12,82,13],[82,14,82,15],[82,17,82,18],[81,33,81,34],[81,35,88,35],[81,36,81,37],[81,38,81,39],[82,36,82,37],[82,38,82,39],[83,36,83,37],[83,38,83,39],[84,36,84,37],[81,20,81,21],[81,22,81,23],[81,25,81,26],[81,27,88,27],[81,28,81,29],[81,17,81,18],[81,19,88,19],[82,41,82,42],[83,12,83,13],[83,14,83,15],[83,17,83,18],[76,41,76,42],[75,41,75,42],[76,17,76,18],[76,20,76,21],[80,41,80,42],[73,41,73,42],[74,30,74,31],[75,30,75,31],[76,30,76,31],[77,28,77,29],[77,30,77,31],[74,25,74,26],[74,28,74,29],[73,25,73,26],[80,36,80,37],[80,28,80,29],[80,30,80,31],[80,33,80,34],[80,38,80,39],[73,27,80,27],[74,20,74,21],[74,22,74,23],[74,41,74,42],[78,17,78,18],[73,28,73,29],[73,30,73,31],[78,28,78,29],[75,22,75,23],[75,25,75,26],[75,28,75,29],[76,22,76,23],[73,36,73,37],[73,38,73,39],[74,33,74,34],[74,36,74,37],[74,38,74,39],[75,33,75,34],[75,36,75,37],[75,38,75,39],[73,33,73,34],[73,35,80,35],[73,22,73,23],[78,36,78,37],[78,38,78,39],[78,22,78,23],[78,25,78,26],[77,38,77,39],[77,36,77,37],[76,36,76,37],[76,38,76,39],[80,22,80,23],[80,25,80,26],[79,36,79,37],[79,38,79,39],[77,33,77,34],[76,33,76,34],[76,25,76,26],[76,28,76,29],[77,17,77,18],[75,14,75,15],[75,17,75,18],[75,20,75,21],[76,3,76,4],[76,6,76,7],[76,12,76,13],[76,14,76,15],[75,3,75,4],[75,6,75,7],[73,19,80,19],[73,20,73,21],[80,12,80,13],[80,14,80,15],[80,17,80,18],[80,20,80,21],[80,3,80,4],[80,6,80,7],[72,3,72,4],[72,6,72,7],[72,12,72,13],[72,14,72,15],[72,17,72,18],[72,41,72,42],[71,17,71,18],[72,20,72,21],[72,22,72,23],[72,25,72,26],[72,28,72,29],[71,30,71,31],[71,20,71,21],[71,22,71,23],[72,30,72,31],[71,36,71,37],[71,38,71,39],[72,36,72,37],[72,38,72,39],[77,41,77,42],[73,3,73,4],[73,6,73,7],[73,11,80,11],[73,12,73,13],[73,14,73,15],[73,17,73,18],[78,3,78,4],[78,6,78,7],[78,12,78,13],[78,14,78,15],[77,20,77,21],[77,22,77,23],[77,25,77,26],[75,12,75,13],[74,3,74,4],[74,6,74,7],[74,12,74,13],[74,14,74,15],[74,17,74,18],[77,3,77,4],[77,6,77,7],[77,12,77,13],[77,14,77,15],[70,41,70,42],[71,33,71,34],[70,33,70,34],[69,36,69,37],[69,38,69,39],[69,41,69,42],[70,3,70,4],[70,6,70,7],[70,12,70,13],[70,14,70,15],[70,17,70,18],[70,20,70,21],[70,22,70,23],[71,25,71,26],[71,28,71,29],[70,28,70,29],[71,41,71,42],[68,36,68,37],[68,38,68,39],[65,27,72,27],[65,36,65,37],[65,38,65,39],[66,33,66,34],[66,36,66,37],[66,38,66,39],[65,33,65,34],[65,35,72,35],[67,33,67,34],[68,33,68,34],[70,36,70,37],[70,38,70,39],[69,33,69,34],[72,33,72,34],[68,28,68,29],[67,30,67,31],[69,30,69,31],[65,28,65,29],[69,28,69,29],[66,28,66,29],[68,30,68,31],[70,30,70,31],[64,22,64,23],[64,25,64,26],[65,3,65,4],[65,6,65,7],[65,11,72,11],[65,12,65,13],[65,14,65,15],[65,17,65,18],[71,3,71,4],[71,6,71,7],[71,12,71,13],[71,14,71,15],[68,12,68,13],[68,14,68,15],[68,17,68,18],[68,20,68,21],[68,22,68,23],[68,25,68,26],[65,19,72,19],[65,20,65,21],[65,22,65,23],[66,25,66,26],[69,25,69,26],[70,25,70,26],[67,22,67,23],[67,25,67,26],[67,28,67,29],[67,36,67,37],[67,38,67,39],[65,41,65,42],[66,3,66,4],[66,6,66,7],[66,12,66,13],[66,14,66,15],[66,17,66,18],[66,20,66,21],[66,22,66,23],[66,30,66,31],[65,25,65,26],[65,30,65,31],[60,3,60,4],[58,3,58,4],[58,17,58,18],[58,20,58,21],[58,22,58,23],[64,30,64,31],[68,41,68,42],[69,3,69,4],[69,6,69,7],[69,12,69,13],[69,14,69,15],[69,17,69,18],[69,20,69,21],[69,22,69,23],[67,41,67,42],[68,3,68,4],[68,6,68,7],[66,41,66,42],[67,3,67,4],[67,6,67,7],[67,12,67,13],[67,14,67,15],[67,17,67,18],[67,20,67,21],[63,12,63,13],[63,14,63,15],[62,3,62,4],[62,6,62,7],[62,12,62,13],[62,14,62,15],[61,3,61,4],[61,6,61,7],[63,36,63,37],[61,12,61,13],[54,25,54,26],[54,38,54,39],[58,14,58,15],[61,38,61,39],[62,30,62,31],[61,33,61,34],[54,36,54,37],[58,33,58,34],[58,36,58,37],[60,33,60,34],[52,38,52,39],[51,20,51,21],[51,22,51,23],[53,22,53,23],[62,22,62,23],[50,38,50,39],[49,33,49,34],[62,36,62,37],[55,25,55,26],[57,30,57,31],[58,30,58,31],[59,30,59,31],[60,30,60,31],[58,38,58,39],[59,38,59,39],[59,28,59,29],[56,25,56,26],[55,30,55,31],[56,28,56,29],[56,30,56,31],[56,33,56,34],[54,30,54,31],[53,38,53,39],[56,20,56,21],[64,20,64,21],[55,6,55,7],[55,12,55,13],[55,14,55,15],[55,17,55,18],[55,20,55,21],[55,22,55,23],[60,22,60,23],[62,38,62,39],[61,22,61,23],[61,17,61,18],[60,6,60,7],[60,12,60,13],[60,14,60,15],[57,38,57,39],[57,33,57,34],[59,20,59,21],[59,22,59,23],[56,12,56,13],[58,25,58,26],[63,30,63,31],[63,33,63,34],[56,14,56,15],[56,17,56,18],[55,41,55,42],[57,35,64,35],[57,36,57,37],[49,35,56,35],[51,41,51,42],[53,25,53,26],[56,38,56,39],[55,33,55,34],[55,36,55,37],[52,41,52,42],[51,36,51,37],[51,38,51,39],[54,41,54,42],[62,41,62,42],[60,41,60,42],[61,36,61,37],[64,41,64,42],[57,41,57,42],[60,36,60,37],[61,41,61,42],[63,41,63,42],[58,41,58,42],[64,33,64,34],[64,36,64,37],[59,41,59,42],[62,33,62,34],[60,38,60,39],[57,25,57,26],[57,27,64,27],[57,28,57,29],[61,28,61,29],[61,25,61,26],[62,25,62,26],[59,36,59,37],[64,28,64,29],[64,38,64,39],[63,38,63,39],[40,1,40,2],[41,1,41,2],[48,25,48,26],[48,28,48,29],[48,3,48,4],[48,6,48,7],[51,25,51,26],[51,28,51,29],[55,3,55,4],[47,1,47,9],[47,11,47,18],[47,19,47,26],[47,27,47,34],[48,20,48,21],[48,30,48,31],[48,33,48,34],[42,1,42,2],[43,1,43,2],[44,1,44,2],[46,1,46,5],[49,22,49,23],[53,20,53,21],[55,28,55,29],[49,12,49,13],[57,3,57,4],[57,6,57,7],[57,11,64,11],[57,12,57,13],[57,14,57,15],[57,17,57,18],[57,19,64,19],[56,3,56,4],[56,6,56,7],[59,6,59,7],[59,12,59,13],[59,14,59,15],[59,3,59,4],[49,11,56,11],[53,3,53,4],[58,6,58,7],[58,12,58,13],[64,17,64,18],[64,3,64,4],[64,6,64,7],[64,12,64,13],[64,14,64,15],[63,3,63,4],[63,6,63,7],[49,36,49,37],[56,41,56,42],[56,36,56,37],[48,38,48,39],[52,3,52,4],[52,6,52,7],[52,12,52,13],[52,14,52,15],[52,17,52,18],[52,20,52,21],[51,3,51,4],[51,6,51,7],[51,12,51,13],[51,14,51,15],[49,41,49,42],[50,3,50,4],[50,6,50,7],[50,12,50,13],[50,41,50,42],[49,38,49,39],[50,36,50,37],[55,38,55,39],[53,41,53,42],[48,17,48,18],[39,1,39,2],[54,28,54,29],[54,3,54,4],[54,6,54,7],[54,12,54,13],[54,14,54,15],[0,1,0,2],[0,5,0,6],[1,1,1,3],[1,4,1,6],[1,10,1,13],[1,14,1,15],[1,16,1,21],[2,10,3,11],[2,12,3,13],[2,15,3,21],[31,1,34,2],[35,1,35,2],[36,1,36,2],[37,1,37,2],[38,1,38,2],[28,1,30,2],[0,25,0,34],[53,6,53,7],[18,1,18,2],[19,1,19,2],[20,1,20,2],[21,1,22,2],[16,1,16,2],[17,1,17,2],[2,1,3,3],[1,7,1,9],[13,37,13,40],[4,37,4,40],[5,37,9,40],[10,37,10,40],[11,37,11,40],[12,37,12,40],[2,25,2,30],[3,25,3,30],[1,23,1,24],[2,23,3,24],[1,25,1,31],[1,32,1,34],[2,32,3,34],[23,1,23,2],[27,1,27,2],[53,36,53,37],[48,22,48,23],[48,36,48,37],[24,1,26,2],[52,33,52,34],[52,36,52,37],[50,20,50,21],[50,22,50,23],[50,25,50,26],[52,22,52,23],[52,25,52,26],[52,28,52,29],[48,12,48,13],[48,14,48,15],[51,33,51,34],[49,25,49,26],[49,27,56,27],[49,28,49,29],[49,30,49,31],[50,30,50,31],[51,30,51,31],[49,20,49,21],[53,28,53,29],[53,30,53,31],[50,28,50,29],[58,28,58,29],[60,25,60,26],[61,14,61,15],[50,14,50,15],[50,17,50,18],[49,19,56,19],[54,17,54,18],[51,17,51,18],[53,17,53,18],[61,30,61,31],[60,17,60,18],[60,20,60,21],[60,28,60,29],[59,25,59,26],[49,14,49,15],[49,17,49,18],[61,20,61,21],[57,20,57,21],[56,22,56,23],[54,20,54,21],[54,22,54,23],[160,10,160,11],[160,13,160,14],[147,28,147,29],[147,31,147,32],[139,31,139,32],[131,10,131,11],[131,13,131,14],[132,10,132,11],[132,13,132,14],[133,10,133,11],[133,13,133,14],[134,10,134,11],[134,13,134,14],[135,10,135,11],[135,13,135,14],[136,10,136,11],[136,13,136,14],[137,10,137,11],[137,13,137,14],[81,11,88,11],[81,12,81,13],[81,14,81,15],[89,12,89,13],[50,33,50,34],[138,10,138,11],[138,13,138,14],[139,28,139,29],[53,33,53,34],[54,33,54,34],[53,12,53,13],[53,14,53,15],[59,33,59,34],[57,22,57,23],[63,25,63,26],[63,28,63,29],[62,28,62,29],[62,17,62,18],[62,20,62,21],[59,17,59,18],[63,17,63,18],[63,20,63,21],[63,22,63,23],[52,30,52,31]]}
[null,"体温表",null,null,null,{"$f":"設定!$F$7","v":2017},null,"年",null,12,"月",null,null,null,null,null,null,null,null,null,null,null,null,null,null,"伊都の丘病院"]
[null,"カルテ番号",null,null,"病棟",null,null,"入院形態",null,null,"主治医",null,null,null,"　姓名",null,{"$f":"'11月'!$Q$2","v":0},null,null,null,null,null,null,"性別",null,"生年月日　",null,null,null,null,null,null,"担当Ns"]
[null,{"$f":"'11月'!B3","v":0},null,null,{"$f":"IF(COUNTIF('11月'!E3:G3,\"*\"),INDEX('11月'!E3:G3,MATCH(\"\",'11月'!E3:G3,-1)),\"\")","v":""},null,null,{"$f":"IF(COUNTIF('11月'!H3:J3,\"*\"),INDEX('11月'!H3:J3,MATCH(\"\",'11月'!H3:J3,-1)),\"\")","v":""},null,null,{"$f":"IF(COUNTIF('11月'!K3:M3,\"*\"),INDEX('11月'!K3:M3,MATCH(\"\",'11月'!K3:M3,-1)),\"\")","v":""},null,null,null,null,{"$f":"'11月'!$P$3","v":"新体温表 - バックアップ９１ー"},null,null,null,null,null,null,null,{"$f":"'11月'!$X$3","v":0},null,{"$f":"'11月'!$Z$3","v":"ここに生年月日を記入"},null,null,null,null,null,{"$f":"IF(ISERROR(DATEDIF(Z3,DATE(設定!F7,12,31),\"Y\"))=TRUE,\"\",DATEDIF(Z3,DATE(設定!F7,12,31),\"Y\"))","v":""},{"$f":"'11月'!$AG$3","v":0}]
[null,null,null,null,"/","/","/","/","/","/",null,null,null,null,null,null,null,null,null,null,null,null,null,null,null,{"$f":"SUBSTITUTE(Z3,\"ここに生年月日を記入\",\"\")","v":""},null,null,null,null,null,"歳"]
[null,null,null,null,null,null,null,null,null,null,null,null,null,null,null,null,null,null,null,null,null,null,null,null,null,null,null,null,null,null,null,null,null,null,null,null,null,{"$f":"設定!C11","v":"便利ボタン"}]
[]
[]
[]
[]
[]
[]
[null,null,null,null,null,null,null,null,null,null,null,null,null,null,null,null,null,null,null,null,null,null,null,null,null,null,null,null,null,null,null,null,null,null,null,null,null,{"$f":"設定!C18","v":" ※自動保存されます"}]
[null,null,null,null,null,null,null,null,null,null,null,null,null,null,null,null,null,null,null,null,null,null,null,null,null,null,null,null,null,null,null,null,null,null,null,null,null,{"$f":"設定!C19","v":0}]
[null,null,null,null,null,null,null,null,null,null,null,null,null,null,null,null,null,null,null,null,null,null,null,null,null,null,null,null,null,null,null,null,null,null,null,null,null,{"$f":"設定!C20","v":0}]
[]
[]
[null,"日　付",null,1,2,3,4,5,6,7,8,9,10,11,12,13,14,15,16,17,18,19,20,21,22,23,24,25,26,27,28,29,30,31,"統計"]
[null,"行　動"]
[null,"時　間"]
[null,"行　動"]
[null,"時　間",null,null,null,null,null,null,null,null,null,null,null,null,null,null,null,null,null,null,null,null,null,null,null,null,null,null,null,null,null,null,null,null,{"$f":"IF(COUNTIF(D18:AH21,\"外出\")+COUNTIF(D18:AH21,\"外泊\")=0,\"回数\",COUNTIF(D18:AH21,\"外出\")+COUNTIF(D18:AH21,\"外泊\"))","v":"回数"}]
[null,"面　会"]
[null,null,null,null,null,null,null,null,null,null,null,null,null,null,null,null,null,null,null,null,null,null,null,null,null,null,null,null,null,null,null,null,null,null,{"$f":"IF(COUNTA(D22:AH22)=0,\"回数\",COUNTA(D22:AH22))","v":"回数"}]
[null,"入　浴",null,null,null,null,null,null,null,null,null,null,null,null,null,null,null,null,null,null,null,null,null,null,null,null,null,null,null,null,null,null,null,null,{"$f":"IF(COUNTA(D24:AH24)=0,\"回数\",COUNTA(D24:AH24))","v":"回数"}]
[null,"食　事"]
[]
[null,null,null,null,null,null,null,null,null,null,null,null,null,null,null,null,null,null,null,null,null,null,null,null,null,null,null,null,null,null,null,null,null,null,{"$f":"IFERROR(INT(AVERAGE(V141:AZ143))& \"/\"&INT(AVERAGE(V144:AZ146)),\"平均\")","v":"平均"}]
[null,"便　通",null,{"$f":"IF(ISBLANK(I50),\"\",I50)","v":""},{"$f":"IF(ISBLANK(I51),\"\",I51)","v":""},{"$f":"IF(ISBLANK(I52),\"\",I52)","v":""},{"$f":"IF(ISBLANK(I53),\"\",I53)","v":""},{"$f":"IF(ISBLANK(I54),\"\",I54)","v":""},{"$f":"IF(ISBLANK(I55),\"\",I55)","v":""},{"$f":"IF(ISBLANK(I56),\"\",I56)","v":""},{"$f":"IF(ISBLANK(I57),\"\",I57)","v":""},{"$f":"IF(ISBLANK(I58),\"\",I58)","v":""},{"$f":"IF(ISBLANK(I59),\"\",I59)","v":""},{"$f":"IF(ISBLANK(I60),\"\",I60)","v":""},{"$f":"IF(ISBLANK(I61),\"\",I61)","v":""},{"$f":"IF(ISBLANK(I62),\"\",I62)","v":""},{"$f":"IF(ISBLANK(I63),\"\",I63)","v":""},{"$f":"IF(ISBLANK(I64),\"\",I64)","v":""},{"$f":"IF(ISBLANK(I65),\"\",I65)","v":""},{"$f":"IF(ISBLANK(I66),\"\",I66)","v":""},{"$f":"IF(ISBLANK(I67),\"\",I67)","v":""},{"$f":"IF(ISBLANK(I68),\"\",I68)","v":""},{"$f":"IF(ISBLANK(I69),\"\",I69)","v":""},{"$f":"IF(ISBLANK(I70),\"\",I70)","v":""},{"$f":"IF(ISBLANK(I71),\"\",I71)","v":""},{"$f":"IF(ISBLANK(I72),\"\",I72)","v":""},{"$f":"IF(ISBLANK(I73),\"\",I73)","v":""},{"$f":"IF(ISBLANK(I74),\"\",I74)","v":""},{"$f":"IF(ISBLANK(I75),\"\",I75)","v":""},{"$f":"IF(ISBLANK(I76),\"\",I76)","v":""},{"$f":"IF(ISBLANK(I77),\"\",I77)","v":""},{"$f":"IF(ISBLANK(I78),\"\",I78)","v":""},{"$f":"IF(ISBLANK(I79),\"\",I79)","v":""},{"$f":"IF(ISBLANK(I80),\"\",I80)","v":""},{"$f":"IF(COUNTIF(D28:AH28,0)=0,\"回数\",COUNTIF(D28:AH28,0))","v":"回数"}]
[null,"便処置"]
[null,null,null,"　",null,null,null,null,null,null,null,null,null,null,null,null,null,null,null,null,null,null,null,null,null,null,null,null,null,null,null,null,null,null,{"$f":"IF(SUM(V136:AZ138)=0,\"滴数\",SUM(V136:AZ138))","v":"滴数"}]
[null,null,null,null,null,null,null,null,null,null,null,null,null,null,null,null,null,null,null,null,null,null,null,null,null,null,null,null,null,null,null,null,null,null,{"$f":"IF(AI30=\"滴数\",\"本数\",AI30/150)","v":"本数"}]
[null,"血　圧",null,{"$f":"$R$50","v":0},{"$f":"$R$58","v":0},{"$f":"R66","v":0},{"$f":"R74","v":0},{"$f":"R82","v":0},{"$f":"R90","v":0},{"$f":"R98","v":0},{"$f":"R106","v":0},{"$f":"Z50","v":0},{"$f":"Z58","v":0},{"$f":"Z66","v":0},{"$f":"Z74","v":0},{"$f":"Z82","v":0},{"$f":"Z90","v":0},{"$f":"Z98","v":0},{"$f":"Z106","v":0},{"$f":"AH50","v":0},{"$f":"AH58","v":0},{"$f":"AH66","v":0},{"$f":"AH74","v":0},{"$f":"AH82","v":0},{"$f":"AH90","v":0},{"$f":"AH98","v":0},{"$f":"AH106","v":0},{"$f":"AP50","v":0},{"$f":"AP58","v":0},{"$f":"AP66","v":0},{"$f":"AP74","v":0},{"$f":"AP82","v":0},{"$f":"AP90","v":0},{"$f":"AP98","v":0}]
[null,null,null,{"$f":" IF(ISERROR($R$51),\"\",($R$51))","v":""},{"$f":" IF(ISERROR($R$59),\"\",($R$59))","v":""},{"$f":" IF(ISERROR($R$67),\"\",($R$67))","v":""},{"$f":" IF(ISERROR($R$75),\"\",($R$75))","v":""},{"$f":" IF(ISERROR($R$83),\"\",($R$83))","v":""},{"$f":" IF(ISERROR($R$91),\"\",($R$91))","v":""},{"$f":" IF(ISERROR($R$99),\"\",($R$99))","v":""},{"$f":" IF(ISERROR($R$107),\"\",($R$107))","v":""},{"$f":" IF(ISERROR($Z$51),\"\",($Z$51))","v":""},{"$f":" IF(ISERROR($Z$59),\"\",($Z$59))","v":""},{"$f":" IF(ISERROR($Z$67),\"\",($Z$67))","v":""},{"$f":" IF(ISERROR($Z$75),\"\",($Z$75))","v":""},{"$f":" IF(ISERROR($Z$83),\"\",($Z$83))","v":""},{"$f":" IF(ISERROR($Z$91),\"\",($Z$91))","v":""},{"$f":" IF(ISERROR($Z$99),\"\",($Z$99))","v":""},{"$f":" IF(ISERROR($Z$107),\"\",($Z$107))","v":""},{"$f":" IF(ISERROR($AH$51),\"\",($AH$51))","v":""},{"$f":" IF(ISERROR($AH$59),\"\",($AH$59))","v":""},{"$f":" IF(ISERROR($AH$67),\"\",($AH$67))","v":""},{"$f":" IF(ISERROR($AH$75),\"\",($AH$75))","v":""},{"$f":" IF(ISERROR($AH$83),\"\",($AH$83))","v":""},{"$f":" IF(ISERROR($AH$91),\"\",($AH$91))","v":""},{"$f":" IF(ISERROR($AH$99),\"\",($AH$99))","v":""},{"$f":" IF(ISERROR($AH$107),\"\",($AH$107))","v":""},{"$f":" IF(ISERROR($AP$51),\"\",($AP$51))","v":""},{"$f":" IF(ISERROR($AP$59),\"\",($AP$59))","v":""},{"$f":" IF(ISERROR($AP$67),\"\",($AP$67))","v":""},{"$f":" IF(ISERROR($AP$75),\"\",($AP$75))","v":""},{"$f":" IF(ISERROR($AP$83),\"\",($AP$83))","v":""},{"$f":" IF(ISERROR($AP$91),\"\",($AP$91))","v":""},{"$f":" IF(ISERROR($AP$99),\"\",($AP$99))","v":""}]
[null,null,null,{"$f":"$R$52","v":0},{"$f":"$R$60","v":0},{"$f":"R68","v":0},{"$f":"R76","v":0},{"$f":"R84","v":0},{"$f":"R92","v":0},{"$f":"R100","v":0},{"$f":"R108","v":0},{"$f":"Z52","v":0},{"$f":"Z60","v":0},{"$f":"Z68","v":0},{"$f":"Z76","v":0},{"$f":"Z84","v":0},{"$f":"Z92","v":0},{"$f":"Z100","v":0},{"$f":"Z108","v":0},{"$f":"AH52","v":0},{"$f":"AH60","v":0},{"$f":"AH68","v":0},{"$f":"AH76","v":0},{"$f":"AH84","v":0},{"$f":"AH92","v":0},{"$f":"AH100","v":0},{"$f":"AH108","v":0},{"$f":"AP52","v":0},{"$f":"AP60","v":0},{"$f":"AP68","v":0},{"$f":"AP76","v":0},{"$f":"AP84","v":0},{"$f":"AP92","v":0},{"$f":"AP100","v":0}]
[null,null,null,{"$f":"$R$53","v":0},{"$f":"$R$61","v":0},{"$f":"R69","v":0},{"$f":"R77","v":0},{"$f":"R85","v":0},{"$f":"R93","v":0},{"$f":"R101","v":0},{"$f":"R109","v":0},{"$f":"Z53","v":0},{"$f":"Z61","v":0},{"$f":"Z69","v":0},{"$f":"Z77","v":0},{"$f":"Z85","v":0},{"$f":"Z93","v":0},{"$f":"Z101","v":0},{"$f":"Z109","v":0},{"$f":"AH53","v":0},{"$f":"AH61","v":0},{"$f":"AH69","v":0},{"$f":"AH77","v":0},{"$f":"AH85","v":0},{"$f":"AH93","v":0},{"$f":"AH101","v":0},{"$f":"AH109","v":0},{"$f":"AP53","v":0},{"$f":"AP61","v":0},{"$f":"AP69","v":0},{"$f":"AP77","v":0},{"$f":"AP85","v":0},{"$f":"AP93","v":0},{"$f":"AP101","v":0},{"$f":"IFERROR(INT(AVERAGE(V149:AZ152))& \"/\"&INT(AVERAGE(V153:AZ156)),\"平均\")","v":"平均"}]
[null,"食事箋"]
[null,"形　態"]
[null,"身　長",null,null,null,null,null,null,null,null,null,null,null,null,null,null,null,null,null,null,null,null,null,null,null,null,null,null,null,null,null,null,null,null,"BMI"]
[null,"体　重",null,null,null,null,null,null,null,null,null,null,null,null,null,null,null,null,null,null,null,null,null,null,null,null,null,null,null,null,null,null,null,null,{"$f":"IF(ISERROR(INDEX(D39:AH39,MATCH(307,D39:AH39))/(INDEX(D38:AH38,MATCH(9E+307,D38:AH38))/100)^2)=TRUE,\"\",INDEX(D39:AH39,MATCH(307,D39:AH39))/(INDEX(D38:AH38,MATCH(9E+307,D38:AH38))/100)^2)","v":""}]
[null,"Ｉ　Ｎ",null,null,null,null,null,null,null,null,null,null,null,null,null,null,null,null,null,null,null,null,null,null,null,null,null,null,null,null,null,null,null,null,{"$f":"IFERROR(INT(AVERAGE(D40:AH40)),\"平均\")","v":"平均"}]
[null,"ＯＵＴ",null,null,null,null,null,null,null,null,null,null,null,null,null,null,null,null,null,null,null,null,null,null,null,null,null,null,null,null,null,null,null,null,{"$f":"IFERROR(INT(AVERAGE(D41:AH41)),\"平均\")","v":"平均"}]
[null,"生　理",null,null,null,null,null,null,null,null,null,null,null,null,null,null,null,null,null,null,null,null,null,null,null,null,null,null,null,null,null,null,null,null,{"$f":"IF(ISERROR(IF(H132-MATCH(\"*\",D42:AH42,0)=0,\"0日目\",IF(H133=J1,IF(ISERROR(H132-MATCH(\"*\",D42:AH42,0)),\"日数\",H132-MATCH(\"*\",D42:AH42,0)),\"日数\"))),\"日数\",(IF(H132-MATCH(\"*\",D42:AH42,0)=0,\"0日目\",IF(H133=J1,IF(ISERROR(H132-MATCH(\"*\",D42:AH42,0)),\"日数\",H132-MATCH(\"*\",D42:AH42,0)),\"日数\"))))","v":"日数"}]
[null,null,null,null,null,null,null,null,null,null,null,null,null,null,null,null,null,null,null,null,null,null,null,null,null,null,null,null,null,null,null,null,null,null,{"$f":"COUNTA(D43:AH43)","v":0}]
[null,null,null,null,null,null,null,null,null,null,null,null,null,null,null,null,null,null,null,null,null,null,null,null,null,null,null,null,null,null,null,null,null,null,{"$f":"COUNTA(D44:AH44)","v":0}]
[null,"日　付",null,1,2,3,4,5,6,7,8,9,10,11,12,13,14,15,16,17,18,19,20,21,22,23,24,25,26,27,28,29,30,31]
[]
[null,{"$f":"$P$3","v":"新体温表 - バックアップ９１ー"},null,null,null,null,null,{"$f":"YEAR(I47)","v":2016},{"$f":"TODAY()","v":"2016-06-08"},{"$f":"TODAY()","v":42529},null,{"$f":"NOW()","v":42529.688973263888}]
[null,"平常時記入",null,null,null,null,null,null,null,null,null,"熱発時記入"]
[null,"日","時間","T",null," P","BP",null,"便",null,null,"日","時間",null,"T",null,"P","BP",null,"日","時間",null,"T",null,"P","BP",null,"日","時間",null,"T",null,"P","BP",null,"日","時間",null,"T",null,"P","BP"]
[null,1,"09:00:00",null,null,null,null,null,null,null,null,1,null,null,null,null,null,null,null,9,null,null,null,null,null,null,null,17,null,null,null,null,null,null,null,25]
[null,2,"09:00:00",null,null,null,null,null,null,null,null,null,"09:00:00",null,{"$f":"IF($D$50=\"\",NA(),$D$50)","v":{"$error":"#N/A"}},null,{"$f":"IF($F$50=\"\",NA(),$F$50)","v":{"$error":"#N/A"}},{"$f":"IF($G$50=\"\",NA(),$G$50)","v":{"$error":"#N/A"}},null,null,"09:00:00",null,{"$f":"IF($D$58=\"\",NA(),$D$58)","v":{"$error":"#N/A"}},null,{"$f":"IF($F$58=\"\",NA(),$F$58)","v":{"$error":"#N/A"}},{"$f":"IF($G$58=\"\",NA(),$G$58)","v":{"$error":"#N/A"}},null,null,"09:00:00",null,{"$f":"IF($D$66=\"\",NA(),$D$66)","v":{"$error":"#N/A"}},null,{"$f":"IF($F$66=\"\",NA(),$F$66)","v":{"$error":"#N/A"}},{"$f":"IF($G$66=\"\",NA(),$G$66)","v":{"$error":"#N/A"}},null,null,"09:00:00",null,{"$f":"IF($D$74=\"\",NA(),$D$74)","v":{"$error":"#N/A"}},null,{"$f":"IF($F$74=\"\",NA(),$F$74)","v":{"$error":"#N/A"}},{"$f":"IF($G$74=\"\",NA(),$G$74)","v":{"$error":"#N/A"}}]
[null,3,"09:00:00",null,null,null,null,null,null,"☆"]
[null,4,"09:00:00"]
[null,5,"09:00:00",null,null,null,null,null,null,"コ"]
[null,6,"09:00:00",null,null,null,null,null,null,"ス"]
[null,7,"09:00:00",null,null,null,null,null,null,"モ"]
[null,8,"09:00:00",null,null,null,null,null,null,"ス"]
[null,9,"09:00:00",null,null,null,null,null,null,"へ",null,2,null,null,null,null,null,null,null,10,null,null,null,null,null,null,null,18,null,null,null,null,null,null,null,26]
[null,10,"09:00:00",null,null,null,null,null,null,"戻",null,null,"09:00:00",null,{"$f":"IF($D$51=\"\",NA(),$D$51)","v":{"$error":"#N/A"}},null,{"$f":"IF($F$51=\"\",NA(),$F$51)","v":{"$error":"#N/A"}},{"$f":"IF($G$51=\"\",NA(),$G$51)","v":{"$error":"#N/A"}},null,null,"09:00:00",null,{"$f":"IF($D$59=\"\",NA(),$D$59)","v":{"$error":"#N/A"}},null,{"$f":"IF($F$59=\"\",NA(),$F$59)","v":{"$error":"#N/A"}},{"$f":"IF($G$59=\"\",NA(),$G$59)","v":{"$error":"#N/A"}},null,null,"09:00:00",null,{"$f":"IF($D$67=\"\",NA(),$D$67)","v":{"$error":"#N/A"}},null,{"$f":"IF($F$67=\"\",NA(),$F$67)","v":{"$error":"#N/A"}},{"$f":"IF($G$67=\"\",NA(),$G$67)","v":{"$error":"#N/A"}},null,null,"09:00:00",null,{"$f":"IF($D$75=\"\",NA(),$D$75)","v":{"$error":"#N/A"}},null,{"$f":"IF($F$75=\"\",NA(),$F$75)","v":{"$error":"#N/A"}},{"$f":"IF($G$75=\"\",NA(),$G$75)","v":{"$error":"#N/A"}}]
[null,11,"09:00:00",null,null,null,null,null,null,"る"]
[null,12,"09:00:00"]
[null,13,"09:00:00"]
[null,14,"09:00:00",null,null,null,null,null,null,"（"]
[null,15,"09:00:00",null,null,null,null,null,null,"選"]
[null,16,"09:00:00",null,null,null,null,null,null,"択"]
[null,17,"09:00:00",null,null,null,null,null,null,"す",null,3,null,null,null,null,null,null,null,11,null,null,null,null,null,null,null,19,null,null,null,null,null,null,null,27]
[null,18,"09:00:00",null,null,null,null,null,null,"る",null,null,"09:00:00",null,{"$f":"IF($D$52=\"\",NA(),$D$52)","v":{"$error":"#N/A"}},null,{"$f":"IF($F$52=\"\",NA(),$F$52)","v":{"$error":"#N/A"}},{"$f":"IF($G$52=\"\",NA(),$G$52)","v":{"$error":"#N/A"}},null,null,"09:00:00",null,{"$f":"IF($D$60=\"\",NA(),$D$60)","v":{"$error":"#N/A"}},null,{"$f":"IF($F$60=\"\",NA(),$F$60)","v":{"$error":"#N/A"}},{"$f":"IF($G$60=\"\",NA(),$G$60)","v":{"$error":"#N/A"}},null,null,"09:00:00",null,{"$f":"IF($D$68=\"\",NA(),$D$68)","v":{"$error":"#N/A"}},null,{"$f":"IF($F$68=\"\",NA(),$F$68)","v":{"$error":"#N/A"}},{"$f":"IF($G$68=\"\",NA(),$G$68)","v":{"$error":"#N/A"}},null,null,"09:00:00",null,{"$f":"IF($D$76=\"\",NA(),$D$76)","v":{"$error":"#N/A"}},null,{"$f":"IF($F$76=\"\",NA(),$F$76)","v":{"$error":"#N/A"}},{"$f":"IF($G$76=\"\",NA(),$G$76)","v":{"$error":"#N/A"}}]
[null,19,"09:00:00",null,null,null,null,null,null,"だ"]
[null,20,"09:00:00",null,null,null,null,null,null,"け"]
[null,21,"09:00:00",null,null,null,null,null,null,"で"]
[null,22,"09:00:00",null,null,null,null,null,null,"移"]
[null,23,"09:00:00",null,null,null,null,null,null,"動"]
[null,24,"09:00:00",null,null,null,null,null,null,"し"]
[null,25,"09:00:00",null,null,null,null,null,null,"ま",null,4,null,null,null,null,null,null,null,12,null,null,null,null,null,null,null,20,null,null,null,null,null,null,null,28]
[null,26,"09:00:00",null,null,null,null,null,null,"す",null,null,"09:00:00",null,{"$f":"IF($D$53=\"\",NA(),$D$53)","v":{"$error":"#N/A"}},null,{"$f":"IF($F$53=\"\",NA(),$F$53)","v":{"$error":"#N/A"}},{"$f":"IF($G$53=\"\",NA(),$G$53)","v":{"$error":"#N/A"}},null,null,"09:00:00",null,{"$f":"IF($D$61=\"\",NA(),$D$61)","v":{"$error":"#N/A"}},null,{"$f":"IF($F$61=\"\",NA(),$F$61)","v":{"$error":"#N/A"}},{"$f":"IF($G$61=\"\",NA(),$G$61)","v":{"$error":"#N/A"}},null,null,"09:00:00",null,{"$f":"IF($D$69=\"\",NA(),$D$69)","v":{"$error":"#N/A"}},null,{"$f":"IF($F$69=\"\",NA(),$F$69)","v":{"$error":"#N/A"}},{"$f":"IF($G$69=\"\",NA(),$G$69)","v":{"$error":"#N/A"}},null,null,"09:00:00",null,{"$f":"IF($D$77=\"\",NA(),$D$77)","v":{"$error":"#N/A"}},null,{"$f":"IF($F$77=\"\",NA(),$F$77)","v":{"$error":"#N/A"}},{"$f":"IF($G$77=\"\",NA(),$G$77)","v":{"$error":"#N/A"}}]
[null,27,"09:00:00",null,null,null,null,null,null,"）"]
[null,28,"09:00:00"]
[null,29,"09:00:00"]
[null,30,"09:00:00"]
[null,31,"09:00:00"]
[null,"1/1"]
[null,null,null,null,null,null,null,null,null,null,null,5,null,null,null,null,null,null,null,13,null,null,null,null,null,null,null,21,"02:30:00",null,null,null,null,null,null,29]
[null,null,null,null,null,null,null,null,null,null,null,null,"09:00:00",null,{"$f":"IF($D$54=\"\",NA(),$D$54)","v":{"$error":"#N/A"}},null,{"$f":"IF($F$54=\"\",NA(),$F$54)","v":{"$error":"#N/A"}},{"$f":"IF($G$54=\"\",NA(),$G$54)","v":{"$error":"#N/A"}},null,null,"09:00:00",null,{"$f":"IF($D$62=\"\",NA(),$D$62)","v":{"$error":"#N/A"}},null,{"$f":"IF($F$62=\"\",NA(),$F$62)","v":{"$error":"#N/A"}},{"$f":"IF($G$62=\"\",NA(),$G$62)","v":{"$error":"#N/A"}},null,null,"09:00:00",null,{"$f":"IF($D$70=\"\",NA(),$D$70)","v":{"$error":"#N/A"}},null,{"$f":"IF($F$70=\"\",NA(),$F$70)","v":{"$error":"#N/A"}},{"$f":"IF($G$70=\"\",NA(),$G$70)","v":{"$error":"#N/A"}},null,null,"09:00:00",null,{"$f":"IF($D$78=\"\",NA(),$D$78)","v":{"$error":"#N/A"}},null,{"$f":"IF($F$78=\"\",NA(),$F$78)","v":{"$error":"#N/A"}},{"$f":"IF($G$78=\"\",NA(),$G$78)","v":{"$error":"#N/A"}}]
[]
[]
[]
[]
[]
[]
[null,null,null,null,null,null,null,null,null,null,null,6,null,null,null,null,null,null,null,14,null,null,null,null,null,null,null,22,null,null,null,null,null,null,null,30]
[null,null,null,null,null,null,null,null,null,null,null,null,"09:00:00",null,{"$f":"IF($D$55=\"\",NA(),$D$55)","v":{"$error":"#N/A"}},null,{"$f":"IF($F$55=\"\",NA(),$F$55)","v":{"$error":"#N/A"}},{"$f":"IF($G$55=\"\",NA(),$G$55)","v":{"$error":"#N/A"}},null,null,"09:00:00",null,{"$f":"IF($D$63=\"\",NA(),$D$63)","v":{"$error":"#N/A"}},null,{"$f":"IF($F$63=\"\",NA(),$F$63)","v":{"$error":"#N/A"}},{"$f":"IF($G$63=\"\",NA(),$G$63)","v":{"$error":"#N/A"}},null,null,"09:00:00",null,{"$f":"IF($D$71=\"\",NA(),$D$71)","v":{"$error":"#N/A"}},null,{"$f":"IF($F$71=\"\",NA(),$F$71)","v":{"$error":"#N/A"}},{"$f":"IF($G$71=\"\",NA(),$G$71)","v":{"$error":"#N/A"}},null,null,"09:00:00",null,{"$f":"IF($D$79=\"\",NA(),$D$79)","v":{"$error":"#N/A"}},null,{"$f":"IF($F$79=\"\",NA(),$F$79)","v":{"$error":"#N/A"}},{"$f":"IF($G$79=\"\",NA(),$G$79)","v":{"$error":"#N/A"}}]
[]
[]
[]
[]
[]
[]
[null,null,null,null,null,null,null,null,null,null,null,7,null,null,null,null,null,null,null,15,null,null,null,null,null,null,null,23,null,null,null,null,null,null,null,31]
[null,null,null,null,null,null,null,null,null,null,null,null,"09:00:00",null,{"$f":"IF($D$56=\"\",NA(),$D$56)","v":{"$error":"#N/A"}},null,{"$f":"IF($F$56=\"\",NA(),$F$56)","v":{"$error":"#N/A"}},{"$f":"IF($G$56=\"\",NA(),$G$56)","v":{"$error":"#N/A"}},null,null,"09:00:00",null,{"$f":"IF($D$64=\"\",NA(),$D$64)","v":{"$error":"#N/A"}},null,{"$f":"IF($F$64=\"\",NA(),$F$64)","v":{"$error":"#N/A"}},{"$f":"IF($G$64=\"\",NA(),$G$64)","v":{"$error":"#N/A"}},null,null,"09:00:00",null,{"$f":"IF($D$72=\"\",NA(),$D$72)","v":{"$error":"#N/A"}},null,{"$f":"IF($F$72=\"\",NA(),$F$72)","v":{"$error":"#N/A"}},{"$f":"IF($G$72=\"\",NA(),$G$72)","v":{"$error":"#N/A"}},null,null,"09:00:00",null,{"$f":"IF($D$80=\"\",NA(),$D$80)","v":{"$error":"#N/A"}},null,{"$f":"IF($F$80=\"\",NA(),$F$80)","v":{"$error":"#N/A"}},{"$f":"IF($G$80=\"\",NA(),$G$80)","v":{"$error":"#N/A"}}]
[]
[]
[]
[]
[]
[]
[null,null,null,null,null,null,null,null,null,null,null,8,null,null,null,null,null,null,null,16,null,null,null,null,null,null,null,24]
[null,null,null,null,null,null,null,null,null,null,null,null,"09:00:00",null,{"$f":"IF($D$57=\"\",NA(),$D$57)","v":{"$error":"#N/A"}},null,{"$f":"IF($F$57=\"\",NA(),$F$57)","v":{"$error":"#N/A"}},{"$f":"IF($G$57=\"\",NA(),$G$57)","v":{"$error":"#N/A"}},null,null,"09:00:00",null,{"$f":"IF($D$65=\"\",NA(),$D$65)","v":{"$error":"#N/A"}},null,{"$f":"IF($F$65=\"\",NA(),$F$65)","v":{"$error":"#N/A"}},{"$f":"IF($G$65=\"\",NA(),$G$65)","v":{"$error":"#N/A"}},null,null,"09:00:00",null,{"$f":"IF($D$73=\"\",NA(),$D$73)","v":{"$error":"#N/A"}},null,{"$f":"IF($F$73=\"\",NA(),$F$73)","v":{"$error":"#N/A"}},{"$f":"IF($G$73=\"\",NA(),$G$73)","v":{"$error":"#N/A"}}]
[]
[]
[]
[]
[]
[]
[]
[]
[]
[]
[]
[]
[]
[]
[]
[]
[]
[]
[]
[]
[]
[null,null,"Enterで入力画面へ"]
[null,null,"ｶｰｿﾙ初期位置",null,null,null,"日付チェック",null,null,null,"バイタルコピー"]
["管理欄",null,"入力に入る",null,null,null,"今日",{"$f":"NOW()","v":"2016-06-08T16:32:07.290"},null,null,"T=未測定",null," P=未測定"," BP=未測定",null,{"$f":"K131&M131&N131","v":"T=未測定 P=未測定 BP=未測定"},"   "]
[null,null,null,null,null,null,"日",{"$f":"DAY(H131)","v":8},null,null,null,null,null,null,null,"",null,null,null,null,"シンラック"]
[null,null,null,null,null,null,"月",{"$f":"MONTH(H131)","v":6},null,null,null,null,null,null,null,"",null,null,null,null,"なし"]
[null,null,null,null,null,null,"年",{"$f":"YEAR(H131)","v":2016},null,null,null,null,null,null,null,""]
[null,null,null,null,null,null,"時",{"$f":"HOUR(H131)","v":16},null,null,null,null,null,null,null,""]
[null,null,null,null,null,null,null,null,null,null,null,null,null,null,null,"",null,null,null,null,"Link",{"$f":"IF(ISERROR(VALUE(D29)),\"\",VALUE(D29))","v":0},0,0,0,0,0,0,0,0,0,0,0,0,0,0,0,0,0,0,0,0,0,0,0,0,0,0,0,{"$f":"IF(ISERROR(VALUE(AF29)),\"\",VALUE(AF29))","v":0},{"$f":"IF(ISERROR(VALUE(AG29)),\"\",VALUE(AG29))","v":0},0]
[null,null,null,null,null,null,null,null,null,null,null,null,null,null,null,"",null,null,null,null,null,"",0,0,0,0,0,0,0,0,0,0,0,0,0,0,0,0,0,0,0,0,0,0,0,0,0,0,0,{"$f":"IF(ISERROR(VALUE(AF30)),\"\",VALUE(AF30))","v":0},0,0]
[null,null,null,null,null,null,null,null,null,null,null,null,null,null,null,"",null,null,null,null,null,0,0,0,0,0,0,0,0,0,0,0,0,0,0,0,0,0,0,0,0,0,0,0,0,0,0,0,0,{"$f":"IF(ISERROR(VALUE(AF31)),\"\",VALUE(AF31))","v":0},0,0]
[null,null,null,null,null,null,null,null,null,null,null,null,null,null,null,""]
[null,null,null,null,null,null,null,null,null,null,null,null,null,null,null,null,null,null,null,null,"食事平均",null,null,null,null,null,null,null,null,null,null,null,null,{"$f":"AC140&AE140&AF140","v":""}]
[null,null,null,null,null,null,null,null,null,null,null,null,null,null,null,null,null,null,null,null,"左",{"$f":"IF(D25=\"\", \"\", LEFT(D25,SEARCH(\"/\",D25,1)-1)*1)","v":""},"","","","","","","","","",{"$f":"IF(N25=\"\", \"\", LEFT(N25,SEARCH(\"/\",N25,1)-1)*1)","v":""},"","","","","","","","","",{"$f":"IF(X25=\"\", \"\", LEFT(X25,SEARCH(\"/\",X25,1)-1)*1)","v":""},"","","","","","","","","",{"$f":"IF(AH25=\"\", \"\", LEFT(AH25,SEARCH(\"/\",AH25,1)-1)*1)","v":""}]
[null,null,null,null,null,null,null,null,null,null,null,null,null,null,null,null,null,null,null,null,null,"","","","","","","","","","","","","","","","","","","","","","","","","","","","","","",""]
[null,null,null,null,null,null,null,null,null,null,null,null,null,null,null,null,null,null,null,null,null,"","","","","","","","","","","","","","","","","","","","","","","","","","","","","","",""]
[null,null,null,null,null,null,null,null,null,null,null,null,null,null,null,null,null,null,null,null,"右",{"$f":"IF(D25=\"\", \"\", RIGHT(D25,LEN(D25)-FIND(\"/\",D25,1))*1)","v":""},"","","","","","","","","",{"$f":"IF(N25=\"\", \"\", RIGHT(N25,LEN(N25)-FIND(\"/\",N25,1))*1)","v":""},"","","","","","","","","",{"$f":"IF(X25=\"\", \"\", RIGHT(X25,LEN(X25)-FIND(\"/\",X25,1))*1)","v":""},"","","","","","","","","",{"$f":"IF(AH25=\"\", \"\", RIGHT(AH25,LEN(AH25)-FIND(\"/\",AH25,1))*1)","v":""}]
[null,null,null,null,null,null,null,null,null,null,null,null,null,null,null,null,null,null,null,null,null,"","","","","","","","","","","","","","","","","","","","","","","","","","","","","","",""]
[null,null,null,null,null,null,null,null,null,null,null,null,null,null,null,null,null,null,null,null,null,"","","","","","","","","","","","","","","","","","","","","","","","","","","","","","",""]
[null,null,null,null,null,null,null,null,null,null,null,null,null,null,null,null,null,null,null,null,null,null,null,null,null,null,null,null,null,null,null,null,null,{"$f":"AC147&AE147&AF147","v":""}]
[null,null,null,null,null,null,null,null,null,null,null,null,null,null,null,null,null,null,null,null,"BP平均",null,null,null,null,null,null,null,null,null,null,null,null,{"$f":"AC148&AE148&AF148","v":""}]
[null,null,null,null,null,null,null,null,null,null,null,null,null,null,null,null,null,null,null,null,"左",{"$f":"IF(ISERROR(LEFT(D32,SEARCH(\"/\",D32,1)-1)*1),\"\",LEFT(D32,SEARCH(\"/\",D32,1)-1)*1)","v":""},"","","","","","","","","",{"$f":"IF(ISERROR(LEFT(N32,SEARCH(\"/\",N32,1)-1)*1),\"\",LEFT(N32,SEARCH(\"/\",N32,1)-1)*1)","v":""},"","","","","","","","","",{"$f":"IF(ISERROR(LEFT(X32,SEARCH(\"/\",X32,1)-1)*1),\"\",LEFT(X32,SEARCH(\"/\",X32,1)-1)*1)","v":""},"","","","","","","","","",{"$f":"IF(ISERROR(LEFT(AH32,SEARCH(\"/\",AH32,1)-1)*1),\"\",LEFT(AH32,SEARCH(\"/\",AH32,1)-1)*1)","v":""}]
[null,null,null,null,null,null,null,null,null,null,null,null,null,null,null,null,null,null,null,null,null,"","","","","","","","","","","","","","","","","","","","","","","","","","","","","","",""]
[null,null,null,null,null,null,null,null,null,null,null,null,null,null,null,null,null,null,null,null,null,"","","","","","","","","","","","","","","","","","","","","","","","","","","","","","",""]
[null,null,null,null,null,null,null,null,null,null,null,null,null,null,null,null,null,null,null,null,null,"","","","","","","","","","","","","","","","","","","","","","","","","","","","","","",""]
[null,null,null,null,null,null,null,null,null,null,null,null,null,null,null,null,null,null,null,null,"右",{"$f":"IF(ISERROR(RIGHT(D32,LEN(D32)-FIND(\"/\",D32,1))*1),\"\",RIGHT(D32,LEN(D32)-FIND(\"/\",D32,1))*1)","v":""},"","","","","","","","","",{"$f":"IF(ISERROR(RIGHT(N32,LEN(N32)-FIND(\"/\",N32,1))*1),\"\",RIGHT(N32,LEN(N32)-FIND(\"/\",N32,1))*1)","v":""},"","","","","","","","","",{"$f":"IF(ISERROR(RIGHT(X32,LEN(X32)-FIND(\"/\",X32,1))*1),\"\",RIGHT(X32,LEN(X32)-FIND(\"/\",X32,1))*1)","v":""},"","","","","","","","","",{"$f":"IF(ISERROR(RIGHT(AH32,LEN(AH32)-FIND(\"/\",AH32,1))*1),\"\",RIGHT(AH32,LEN(AH32)-FIND(\"/\",AH32,1))*1)","v":""}]
[null,null,null,null,null,null,null,null,null,null,null,null,null,null,null,null,null,null,null,null,null,"","","","","","","","","","","","","","","","","","","","","","","","","","","","","","",""]
[null,null,null,null,null,null,null,null,null,null,null,null,null,null,null,null,null,null,null,null,null,"","","","","","","","","","","","","","","","","","","","","","","","","","","","","","",""]
[null,null,null,null,null,null,null,null,null,null,null,null,null,null,null,null,null,null,null,null,null,"","","","","","","","","","","","","","","","","","","","","","","","","","","","","","",""]
[null,null,null,null,null,null,null,null,null,null,null,null,null,null,null,""]
[null,null,null,null,null,null,null,null,null,null,null,null,null,null,null,""]
[null,null,null,null,null,null,null,null,null,null,null,null,null,null,null,""]
[null,null,null,null,null,null,null,null,null,null,null,null,null,null,null,""]
[null,null,null,null,null,null,null,null,null,null,null,null,null,null,null,{"$f":"K161&M161&N161","v":""}]

{"sheet":"設定","index":12,"n_rows":133,"n_cols":25,"rows_kept":133,"cut":false,"hidden":false,"merged":[[19,2,19,5],[18,2,18,5],[17,2,17,5],[6,5,6,7],[10,2,10,5],[21,2,21,5],[10,8,10,11],[11,2,16,5],[31,4,31,5],[30,4,30,5],[22,8,22,9],[30,8,30,9],[31,8,31,9],[25,8,25,9],[26,8,29,9],[26,10,26,11],[33,8,33,9],[33,4,33,5],[32,4,32,5],[22,4,22,5],[23,2,23,3],[23,4,23,5],[22,2,22,3],[26,2,26,3],[27,2,27,3],[24,2,24,3],[25,2,25,3],[38,2,38,3],[39,2,39,3],[36,2,36,3],[37,2,37,3],[25,4,25,5],[24,4,24,5],[27,4,27,5],[30,2,30,3],[31,2,31,3],[28,2,28,3],[29,2,29,3],[34,2,34,3],[35,2,35,3],[32,2,32,3],[33,2,33,3],[26,4,26,5],[29,4,29,5],[28,4,28,5],[50,2,50,3],[50,4,50,5],[48,2,48,3],[49,2,49,3],[46,2,46,3],[47,2,47,3],[49,4,49,5],[48,4,48,5],[23,8,23,9],[24,8,24,9],[45,2,45,3],[42,2,42,3],[43,2,43,3],[40,2,40,3],[41,2,41,3],[44,2,44,3],[50,8,50,9],[48,8,48,9],[49,8,49,9],[46,8,46,9],[47,8,47,9],[44,8,44,9],[45,8,45,9],[42,8,42,9],[40,8,40,9],[41,8,41,9],[38,8,38,9],[39,8,39,9],[38,10,38,11],[10,14,10,17],[14,14,14,17],[15,14,15,17],[16,14,16,17],[17,14,17,17],[18,14,18,17],[19,14,19,17],[20,14,20,17],[11,8,11,9],[12,8,12,9],[13,8,13,9],[14,8,14,9],[17,8,20,9],[15,8,15,9],[16,8,16,9],[34,14,34,17],[34,8,34,9],[37,8,37,9],[32,8,32,9],[47,4,47,5],[46,4,46,5],[41,4,41,5],[40,4,40,5],[11,10,11,11],[12,10,12,11],[13,10,13,11],[14,10,14,11],[15,10,15,11],[16,10,16,11],[17,10,17,11],[18,10,18,11],[27,10,27,11],[28,10,28,11],[29,10,29,11],[34,10,34,11],[33,10,33,11],[32,10,32,11],[31,10,31,11],[30,10,30,11],[43,10,43,11],[44,10,44,11],[37,10,37,11],[43,8,43,9],[49,10,49,11],[50,10,50,11],[13,14,13,17],[12,14,12,17],[45,10,45,11],[46,10,46,11],[47,10,47,11],[48,10,48,11],[41,10,41,11],[42,10,42,11],[21,14,21,17],[30,14,30,17],[31,14,31,17],[22,14,22,17],[24,14,24,17],[26,14,26,17],[27,14,27,17],[25,14,25,17],[19,10,19,11],[20,10,20,11],[28,14,28,17],[29,14,29,17],[21,10,21,11],[22,10,22,11],[0,5,0,8],[36,14,36,17],[0,21,0,24],[41,14,41,17],[46,14,46,17],[40,14,40,17],[11,14,11,17],[33,14,33,17],[39,10,39,11],[40,10,40,11],[43,4,43,5],[42,4,42,5],[37,4,37,5],[36,4,36,5],[39,4,39,5],[38,4,38,5],[34,4,34,5],[35,4,35,5],[45,4,45,5],[44,4,44,5],[23,10,23,11],[24,10,24,11],[25,10,25,11],[21,8,21,9],[47,14,47,17],[48,14,48,17],[49,14,49,17],[50,14,50,17],[39,14,39,17],[35,14,35,17],[37,14,37,17],[38,14,38,17],[45,14,45,17],[43,14,43,17],[44,14,44,17],[42,14,42,17],[10,24,10,25],[11,24,11,25],[12,24,12,25],[13,24,13,25],[14,24,14,25],[15,24,15,25],[16,24,16,25],[17,24,17,25],[18,24,18,25],[36,24,36,25],[19,24,19,25],[20,24,20,25],[21,24,21,25],[22,24,22,25],[23,24,23,25],[24,24,24,25],[25,24,25,25],[26,24,26,25],[27,24,27,25],[6,23,6,25],[8,15,8,25],[46,24,46,25],[47,24,47,25],[48,24,48,25],[49,24,49,25],[50,24,50,25],[37,24,37,25],[38,24,38,25],[39,24,39,25],[40,24,40,25],[41,24,41,25],[42,24,42,25],[43,24,43,25],[44,24,44,25],[45,24,45,25],[28,24,28,25],[29,24,29,25],[30,24,30,25],[31,24,31,25],[32,24,32,25],[33,24,33,25],[34,24,34,25],[35,24,35,25]]}
[null,"伊都の丘病院",null,null,null,{"$f":"$F$7","v":2017},null,null,null,null,null,"入力項目の設定",null,null,null,null,null,null,null,null,"更新","2016-02-09T22:20:24"]
[]
[null,"年始に備えて新しい体温表を更新する際に、以下の □ の変更があった項目を設定して下さい。黄色部分は必ず確認して下さい。"]
[null,"新しい主治医を編集する際なども、こちらで編集して下さい。設定した項目は、当体温表の1月から12月に反映されます。"]
[]
[]
[null,"①","この体温表は",null,null,2017,null,null," 年分です。",null,null,null,null,"②","9：00～11:59は開いてすぐ入力ポイントへ移動",null,null,null,null,null,null,null,null,"YES"]
[]
[null,"③","『コスモスに戻る』を選択した時 　保存して閉じる（遅い）　/ 　最小化しておく（高速）",null,null,null,null,null,null,null,null,null,null,null,null,"保存して閉じる（遅い）"]
[]
[null,"④","便利ボタン",null,null,null,null,"⑥","食事箋",null,null,null,null,"⑧","主治医",null,null,null,null,null,"年数",null,null,null,"その他"]
[null,null," ",null,null,null,null,null,null,null,null,null,null,null,null,null,null,null,null,null,2015]
[null,null,null,null,null,null,null,null,"常食",null,"常食",null,null,null,"Dr舩津",null,null,null,null,null,2016]
[null,null,null,null,null,null,null,null,"心臓",null,"心臓",null,null,null,"Dr高木",null,null,null,null,null,2017]
[null,null,null,null,null,null,null,null,"すい臓",null,"膵臓",null,null,null,"Dr橋本",null,null,null,null,null,2018]
[null,null,null,null,null,null,null,null,"じん臓",null,"腎臓",null,null,null,"Dr",null,null,null,null,null,2019]
[null,null,null,null,null,null,null,null,"高血圧",null,"高血",null,null,null,null,null,null,null,null,null,2020]
[null,null," ※自動保存されます",null,null,null,null,null,"糖尿",1200,"糖1200",null,null,null,null,null,null,null,null,null,2021]
[null,null,null,null,null,null,null,null,null,1440,"糖1440",null,null,null,null,null,null,null,null,null,2022]
[null,null,null,null,null,null,null,null,null,1600,"糖1600",null,null,null,null,null,null,null,null,null,2023]
[null,null,null,null,null,null,null,null,null,1800,"糖1800",null,null,null,null,null,null,null,null,null,2024]
[null,"⑤","面会",null,null,null,null,null,"肝臓A",null,"肝Ａ",null,null,null,null,null,null,null,null,null,2025]
[null,null,null,null,null,null,null,null,"肝臓B",null,"肝Ｂ",null,null,null,null,null,null,null,null,null,2026]
[null,null,"両親",null,"両親",null,null,null,"潰瘍",null,"潰瘍",null,null,null,null,null,null,null,null,null,2027]
[null,null,"父",null,"父",null,null,null,"低残渣食",null,"低残",null,null,"⑨","入院形態",null,null,null,null,null,2028]
[null,null,"母",null,"母",null,null,null,"貧血",null,"貧血",null,null,null,null,null,null,null,null,null,2029]
[null,null,"主人",null,"夫",null,null,null,"脂質異常",1200,"脂1200",null,null,null,"任意",null,null,null,null,null,2030]
[null,null,"奥方",null,"妻",null,null,null,null,1440,"脂1440",null,null,null,"医保",null,null,null,null,null,2031]
[null,null,"息子",null,"息子",null,null,null,null,1600,"脂1600",null,null,null,"措置",null,null,null,null,null,2032]
[null,null,"娘",null,"娘",null,null,null,null,1800,"脂1800",null,null,null,"緊急措置",null,null,null,null,null,2033]
[null,null,"兄",null,"兄",null,null,null,"検査食",null,"検査",null,null,null,"応急",null,null,null,null,null,2034]
[null,null,"弟",null,"弟",null,null,null,"絶食",null,"絶食",null,null,null,null,null,null,null,null,null,2035]
[null,null,"姉",null,"姉",null,null,null,"通風食",null,"通風",null,null,null,null,null,null,null,null,null,2036]
[null,null,"妹",null,"妹",null,null,null,null,null,null,null,null,"⑩","行動",null,null,null,null,null,2037]
[null,null,"孫",null,"孫",null,null,null,null,null,null,null,null,null,null,null,null,null,null,null,2038]
[null,null,"友人知人",null,"知人",null,null,null,null,null,null,null,null,null,"外出",null,null,null,null,null,2039]
[null,null,"子の夫",null,"子夫",null,null,"⑦","     食事形態",null,null,null,null,null,"他科受診",null,null,null,null,null,2040]
[null,null,"子の妻",null,"子妻",null,null,null,null,null,null,null,null,null,"外泊",null,null,null,null,null,2041]
[null,null,"祖母",null,"祖母",null,null,null,"常食",null,"常食",null,null,null,"帰院",null,null,null,null,null,2042]
[null,null,"祖父",null,"祖父",null,null,null,"常+一口大",null,"一口",null,null,null,"2F転棟",null,null,null,null,null,2043]
[null,null,"従兄弟の父",null,"叔父",null,null,null,"常+キザミ",null,"常キ",null,null,null,"3F転棟",null,null,null,null,null,2044]
[null,null,"従兄弟の母",null,"叔母",null,null,null,"軟飯",null,"軟飯",null,null,null,"4F転棟",null,null,null,null,null,2045]
[null,null,"従兄弟",null,"ｲﾄｺ",null,null,null,"軟+キザミ",null,"軟キ",null,null,null,"入院",null,null,null,null,null,2046]
[null,null,"義理の母",null,"義母",null,null,null,"粥食",null,"粥",null,null,null,"退院",null,null,null,null,null,2047]
[null,null,"義理の父",null,"義父",null,null,null,"粥+キザミ",null,"粥キ",null,null,null,"仮退院",null,null,null,null,null,2048]
[null,null,"その他親類",null,"親類",null,null,null,"ミキサ－",null,"ミキ",null,null,null,"無断退去",null,null,null,null,null,2049]
[null,null,"福祉職員",null,"福祉",null,null,null,"普通流動",null,"普流",null,null,null,"死亡",null,null,null,null,null,2050]
[null,null,"施設職員",null,"施設",null,null,{"$f":"TODAY()","v":"2016-06-08"},"濃厚流動",null,"濃流"]
[]
[]
[]
[]
[]
[]
[]
[]
[]
[]
[]
[]
[]
[]
[]
[]
[]
[]
[]
[]
[]
[]
[]
[]
[]
[]
[]
[]
[]
[]
[]
[]
[]
[]
[]
[]
[]
[]
[]
[]
[]
[]
[]
[]
[]
[]
[]
[]
[]
[]
[]
[]
[]
[]
[]
[]
[]
[]
[]
[]
[]
[]
[]
[]
[]
[]
[]
[]
[]
[]
[]
[]
[]
[]
[]
[]
[]
[]
[]
[]
[]
[]
[]
[]
[null,null,null,null,null,null,null,{"$f":"MONTH(V1)","v":2}]